{"text_format":"3","workbook":"xlsx","n_sheets":15,"sheets":["Пн День 1 Нед 1","Вт День 2 Нед 1","Ср День 3 Нед 1","Чт День 4 Нед 1","Пт День 5 Нед 1","Сб День 6 Нед 1","Итого за 1 нед","Пн 1 день нед 2","Вт День 2 Нед 2","Ср День 3 Нед 2","Чт День 4 Нед 2","Пт День 5 Нед 2","Сб День 6 Нед 2","Итого 6 дней 2 нед","Итого за 12 дней"],"not_rendered":{"defined_names":1},"read":"whole","date_system":"1900"}

{"sheet":"Пн День 1 Нед 1","index":0,"n_rows":148,"n_cols":28,"rows_kept":148,"merged":[[0,0,0,26],[1,5,1,8],[1,9,3,9],[1,10,1,13],[1,14,3,14],[1,15,1,16],[1,17,2,17],[1,18,1,20],[1,21,3,21],[1,22,1,24],[1,25,3,25],[1,26,3,26],[1,27,2,27],[130,0,130,1]]}
["Расход продуктов питания в образовательных учереждениях  "]
[{"$nulls":5},"Меню с 1 по 4 класс   69,43 РУБ",{"$nulls":3},"ИТОГО","Меню с 5 по 11 класс  69,43  РУБ ",{"$nulls":3},"ИТОГО","Меню на сумму         9,60  РУБ",null,"ИТОГО","Меню КАШИ  НА молоке                          ",null,null,"ИТОГО","Меню   СУПА  ",null,null,"ИТОГО","ВСЕГО ЗА ДЕНЬ расход продуктов по всем рационам","остаток на конец"]
[null,"ДЕНЬ 1 неделя 1",null,"остаток на начало","приход","яблоко свежее","Сырники с кашей \"Дружба\" с маслом сливочным","чай с сахаром","Хлеб пшеничн /ржаной",null,"яблоко свежее","Сырники из творога с кашей молочной \"Дружба\" с масло сливочным ","Чай с сахаром","Хлеб пшеничн /ржаной",null,"Печенье","компот из с/ф",null,"каша вязкая гречневая с масл слив","кисель","Хлеб ржаной ",null,"Рассольник ленин с куриными фрикадель ками  со сметаной","компот из св яблок и изюма","Хлеб ржаной "]
[null,"КОЛИЧЕСТВО ДЕТЕЙ",{"$nulls":3},"7-11","7-11","7-11","7-11",null,"12-18","12-18","12-18","7-11",null,"12-18","12-18",null,"12-18","12-18","12-18",null,"12-18","12-18","12-18"]
[null,"Выход,гр",{"$nulls":3},"100","60/150/5","200","0/25","1","100","60/180/3","200","0/30","1","20","200",1,"150/3","200","30",0,"250/10/5","200","30","1",{"$f":"J5+O5+R5+Z5","v":4}]
[null,"Хлеб"]
[1,"батон ","кг",{"$nulls":6},{"$f":"(F7+G7+H7+I7)*$J$5","v":{"v":0,"d":"0.0000"}},{"$nulls":4},{"$f":"(K7+L7+M7+N7)*$O$5","v":{"v":0,"d":"0.0000"}},null,null,{"$f":"(P7+Q7)*$R$5","v":{"v":0,"d":"0.0000"}},{"$nulls":3},{"$f":"(U7+T7+S7)*V$5","v":{"v":0,"d":"0.0000"}},{"$nulls":3},{"$f":"(W7+X7+Y7)*$Z$5","v":{"v":0,"d":"0.0000"}},{"$f":"J7+O7+R7+Z7","v":{"v":0,"d":"0.000"}},{"$f":"(D7+E7)-AA7","v":{"v":0,"d":"0.000"}}]
[2,"хлеб пшеничный ","кг",{"$nulls":6},{"$f":"(F8+G8+H8+I8)*$J$5","v":{"v":0,"d":"0.0000"}},{"$nulls":4},{"$f":"(K8+L8+M8+N8)*$O$5","v":{"v":0,"d":"0.0000"}},null,null,{"$f":"(P8+Q8)*$R$5","v":{"v":0,"d":"0.0000"}},{"$nulls":3},{"$f":"(U8+T8+S8)*V$5","v":{"v":0,"d":"0.0000"}},{"$nulls":3},{"v":0,"d":"0.0000"},{"$f":"J8+O8+R8+Z8","v":{"v":0,"d":"0.000"}},{"$f":"(D8+E8)-AA8","v":{"v":0,"d":"0.000"}}]
[3,"хлеб ржаной","кг",{"$nulls":5},{"v":0.025,"d":"0.0250"},{"$f":"(F9+G9+H9+I9)*$J$5","v":{"v":0.025,"d":"0.0250"}},{"$nulls":3},{"v":0.03,"d":"0.0300"},{"$f":"(K9+L9+M9+N9)*$O$5","v":{"v":0.03,"d":"0.0300"}},null,null,{"v":0,"d":"0.0000"},null,null,{"v":0.03,"d":"0.0300"},{"v":0,"d":"0.0000"},null,null,{"v":0.03,"d":"0.0300"},{"v":0.03,"d":"0.0300"},{"v":0.08499999999999999,"d":"0.085"},{"$f":"(D9+E9)-AA9","v":{"v":-0.08499999999999999,"d":"-0.085"}}]
[4,"булоч/выпечка готов с х/ком","шт",{"$nulls":6},{"$f":"(F10+G10+H10+I10)*$J$5","v":{"v":0,"d":"0.0000"}},{"$nulls":4},{"$f":"(K10+L10+M10+N10)*$O$5","v":{"v":0,"d":"0.0000"}},null,null,{"v":0,"d":"0.0000"},{"$nulls":3},{"v":0,"d":"0.0000"},{"$nulls":3},{"v":0,"d":"0.0000"},{"v":0,"d":"0.000"},{"$f":"(D10+E10)-AA10","v":{"v":0,"d":"0.000"}}]
[null,"Молочка",{"$nulls":7},{"$f":"(F11+G11+H11+I11)*$J$5","v":{"v":0,"d":"0.0000"}},{"$nulls":4},{"$f":"(K11+L11+M11+N11)*$O$5","v":{"v":0,"d":"0.0000"}},null,null,{"v":0,"d":"0.0000"},{"$nulls":3},{"v":0,"d":"0.0000"},{"$nulls":3},{"v":0,"d":"0.0000"},{"v":0,"d":"0.000"},{"$f":"(D11+E11)-AA11","v":{"v":0,"d":"0.000"}}]
[5,"молоко 2,5%","кг",{"$nulls":3},{"v":0.065,"d":"0.0650"},null,null,{"$f":"(F12+G12+H12+I12)*$J$5","v":{"v":0.065,"d":"0.0650"}},null,{"v":0.09,"d":"0.0900"},null,null,{"$f":"(K12+L12+M12+N12)*$O$5","v":{"v":0.09,"d":"0.0900"}},null,null,{"v":0,"d":"0.0000"},{"$nulls":3},{"v":0,"d":"0.0000"},{"$nulls":3},{"v":0,"d":"0.0000"},0.155,{"$f":"(D12+E12)-AA12","v":-0.155}]
[6,"творог 5%","кг",{"$nulls":6},{"$f":"(F13+G13+H13+I13)*$J$5","v":{"v":0,"d":"0.0000"}},{"$nulls":4},{"$f":"(K13+L13+M13+N13)*$O$5","v":{"v":0,"d":"0.0000"}},null,null,{"v":0,"d":"0.0000"},{"$nulls":3},{"v":0,"d":"0.0000"},{"$nulls":3},{"v":0,"d":"0.0000"},{"v":0,"d":"0.000"},{"$f":"(D13+E13)-AA13","v":{"v":0,"d":"0.000"}}]
[7,"сметана 15%","кг",{"$nulls":6},{"$f":"(F14+G14+H14+I14)*$J$5","v":{"v":0,"d":"0.0000"}},{"$nulls":4},{"$f":"(K14+L14+M14+N14)*$O$5","v":{"v":0,"d":"0.0000"}},null,null,{"v":0,"d":"0.0000"},{"$nulls":3},{"v":0,"d":"0.0000"},{"v":0.005,"d":"0.0050"},null,null,{"v":0.005,"d":"0.0050"},0.005,{"$f":"(D14+E14)-AA14","v":-0.005}]
[8,"йогурт фруктов ","кг",{"$nulls":6},{"$f":"(F15+G15+H15+I15)*$J$5","v":{"v":0,"d":"0.0000"}},{"$nulls":4},{"$f":"(K15+L15+M15+N15)*$O$5","v":{"v":0,"d":"0.0000"}},null,null,{"v":0,"d":"0.0000"},{"$nulls":3},{"v":0,"d":"0.0000"},{"$nulls":3},{"v":0,"d":"0.0000"},{"v":0,"d":"0.000"},{"$f":"(D15+E15)-AA15","v":{"v":0,"d":"0.000"}}]
[9,"катык 2,5%","кг",{"$nulls":6},{"$f":"(F16+G16+H16+I16)*$J$5","v":{"v":0,"d":"0.0000"}},{"$nulls":4},{"$f":"(K16+L16+M16+N16)*$O$5","v":{"v":0,"d":"0.0000"}},null,null,{"v":0,"d":"0.0000"},{"$nulls":3},{"v":0,"d":"0.0000"},{"$nulls":3},{"v":0,"d":"0.0000"},{"v":0,"d":"0.000"},{"$f":"(D16+E16)-AA16","v":{"v":0,"d":"0.000"}}]
[10,"кефир 2,5%","кг",{"$nulls":6},{"$f":"(F17+G17+H17+I17)*$J$5","v":{"v":0,"d":"0.0000"}},{"$nulls":4},{"$f":"(K17+L17+M17+N17)*$O$5","v":{"v":0,"d":"0.0000"}},null,null,{"v":0,"d":"0.0000"},{"$nulls":3},{"v":0,"d":"0.0000"},{"$nulls":3},{"v":0,"d":"0.0000"},{"v":0,"d":"0.000"},{"$f":"(D17+E17)-AA17","v":{"v":0,"d":"0.000"}}]
[11,"ряженка 2,5%","кг",{"$nulls":6},{"$f":"(F18+G18+H18+I18)*$J$5","v":{"v":0,"d":"0.0000"}},{"$nulls":4},{"$f":"(K18+L18+M18+N18)*$O$5","v":{"v":0,"d":"0.0000"}},null,null,{"v":0,"d":"0.0000"},{"$nulls":3},{"v":0,"d":"0.0000"},{"$nulls":3},{"v":0,"d":"0.0000"},{"v":0,"d":"0.000"},{"$f":"(D18+E18)-AA18","v":{"v":0,"d":"0.000"}}]
[12,"напиток ацидофильный","кг",{"$nulls":6},{"$f":"(F19+G19+H19+I19)*$J$5","v":{"v":0,"d":"0.0000"}},{"$nulls":4},{"$f":"(K19+L19+M19+N19)*$O$5","v":{"v":0,"d":"0.0000"}},null,null,{"v":0,"d":"0.0000"},{"$nulls":3},{"v":0,"d":"0.0000"},{"$nulls":3},{"v":0,"d":"0.0000"},{"v":0,"d":"0.000"},{"$f":"(D19+E19)-AA19","v":{"v":0,"d":"0.000"}}]
[null,"Масло / сыр ",{"$nulls":7},{"$f":"(F20+G20+H20+I20)*$J$5","v":{"v":0,"d":"0.0000"}},{"$nulls":4},{"$f":"(K20+L20+M20+N20)*$O$5","v":{"v":0,"d":"0.0000"}},null,null,{"v":0,"d":"0.0000"},{"$nulls":3},{"v":0,"d":"0.0000"},{"$nulls":3},{"v":0,"d":"0.0000"},{"v":0,"d":"0.000"},{"$f":"(D20+E20)-AA20","v":{"v":0,"d":"0.000"}}]
[13,"масло растительное","кг",{"$nulls":3},{"v":1E-3,"d":"0.0010"},null,null,{"$f":"(F21+G21+H21+I21)*$J$5","v":{"v":1E-3,"d":"0.0010"}},null,{"v":1E-3,"d":"0.0010"},null,null,{"$f":"(K21+L21+M21+N21)*$O$5","v":{"v":1E-3,"d":"0.0010"}},null,null,{"v":0,"d":"0.0000"},{"$nulls":3},{"v":0,"d":"0.0000"},0.0005,null,null,0.0005,{"v":0.0025,"d":"0.003"},{"$f":"(D21+E21)-AA21","v":{"v":-0.0025,"d":"-0.003"}}]
[14,"масло сливочное","кг",{"$nulls":3},{"v":0.005,"d":"0.0050"},null,null,{"$f":"(F22+G22+H22+I22)*$J$5","v":{"v":0.005,"d":"0.0050"}},null,{"v":0.003,"d":"0.0030"},null,null,{"$f":"(K22+L22+M22+N22)*$O$5","v":{"v":0.003,"d":"0.0030"}},null,null,{"v":0,"d":"0.0000"},{"v":0.003,"d":"0.0030"},null,null,{"v":0,"d":"0.0000"},{"$nulls":3},{"v":0,"d":"0.0000"},0.008,{"$f":"(D22+E22)-AA22","v":-0.008}]
[15,"сыр голландский","кг",{"$nulls":6},{"$f":"(F23+G23+H23+I23)*$J$5","v":{"v":0,"d":"0.0000"}},{"$nulls":4},{"$f":"(K23+L23+M23+N23)*$O$5","v":{"v":0,"d":"0.0000"}},null,null,{"v":0,"d":"0.0000"},{"$nulls":3},{"v":0,"d":"0.0000"},{"$nulls":3},{"v":0,"d":"0.0000"},{"v":0,"d":"0.000"},{"$f":"(D23+E23)-AA23","v":{"v":0,"d":"0.000"}}]
[null,"Мясо",{"$nulls":7},{"$f":"(F24+G24+H24+I24)*$J$5","v":{"v":0,"d":"0.0000"}},{"$nulls":4},{"$f":"(K24+L24+M24+N24)*$O$5","v":{"v":0,"d":"0.0000"}},null,null,{"v":0,"d":"0.0000"},{"$nulls":3},{"v":0,"d":"0.0000"},{"$nulls":3},{"v":0,"d":"0.0000"},{"v":0,"d":"0.000"},{"$f":"(D24+E24)-AA24","v":{"v":0,"d":"0.000"}}]
[16,"говядина (котлетное мясо) ","кг",{"$nulls":6},{"$f":"(F25+G25+H25+I25)*$J$5","v":{"v":0,"d":"0.0000"}},{"$nulls":4},{"$f":"(K25+L25+M25+N25)*$O$5","v":{"v":0,"d":"0.0000"}},null,null,{"v":0,"d":"0.0000"},{"$nulls":3},{"v":0,"d":"0.0000"},{"$nulls":3},{"v":0,"d":"0.0000"},{"v":0,"d":"0.000"},{"$f":"(D25+E25)-AA25","v":{"v":0,"d":"0.000"}}]
[17,"фарш говяжий","кг",{"$nulls":6},{"$f":"(F26+G26+H26+I26)*$J$5","v":{"v":0,"d":"0.0000"}},{"$nulls":4},{"$f":"(K26+L26+M26+N26)*$O$5","v":{"v":0,"d":"0.0000"}},null,null,{"v":0,"d":"0.0000"},{"$nulls":3},{"v":0,"d":"0.0000"},{"$nulls":3},{"v":0,"d":"0.0000"},{"v":0,"d":"0.000"},{"$f":"(D26+E26)-AA26","v":{"v":0,"d":"0.000"}}]
[18,"говядина лопатка б/к","кг",{"$nulls":6},{"$f":"(F27+G27+H27+I27)*$J$5","v":{"v":0,"d":"0.0000"}},{"$nulls":4},{"$f":"(K27+L27+M27+N27)*$O$5","v":{"v":0,"d":"0.0000"}},null,null,{"v":0,"d":"0.0000"},{"$nulls":3},{"v":0,"d":"0.0000"},{"$nulls":3},{"v":0,"d":"0.0000"},{"v":0,"d":"0.000"},{"$f":"(D27+E27)-AA27","v":{"v":0,"d":"0.000"}}]
[19,"сосиски","кг",{"$nulls":6},{"$f":"(F28+G28+H28+I28)*$J$5","v":{"v":0,"d":"0.0000"}},{"$nulls":4},{"$f":"(K28+L28+M28+N28)*$O$5","v":{"v":0,"d":"0.0000"}},null,null,{"v":0,"d":"0.0000"},{"$nulls":3},{"v":0,"d":"0.0000"},{"$nulls":3},{"v":0,"d":"0.0000"},{"v":0,"d":"0.000"},{"$f":"(D28+E28)-AA28","v":{"v":0,"d":"0.000"}}]
[20,"колбаса п/к \"Халяль\"","кг",{"$nulls":6},{"$f":"(F29+G29+H29+I29)*$J$5","v":{"v":0,"d":"0.0000"}},{"$nulls":4},{"$f":"(K29+L29+M29+N29)*$O$5","v":{"v":0,"d":"0.0000"}},null,null,{"v":0,"d":"0.0000"},{"$nulls":3},{"v":0,"d":"0.0000"},{"$nulls":3},{"v":0,"d":"0.0000"},{"v":0,"d":"0.000"},{"$f":"(D29+E29)-AA29","v":{"v":0,"d":"0.000"}}]
[21,"куриное бедро","кг",{"$nulls":6},{"$f":"(F30+G30+H30+I30)*$J$5","v":{"v":0,"d":"0.0000"}},{"$nulls":4},{"$f":"(K30+L30+M30+N30)*$O$5","v":{"v":0,"d":"0.0000"}},null,null,{"v":0,"d":"0.0000"},{"$nulls":3},{"v":0,"d":"0.0000"},{"$nulls":3},{"v":0,"d":"0.0000"},{"v":0,"d":"0.000"},{"$f":"(D30+E30)-AA30","v":{"v":0,"d":"0.000"}}]
[22,"куриная грудка","кг",{"$nulls":6},{"$f":"(F31+G31+H31+I31)*$J$5","v":{"v":0,"d":"0.0000"}},{"$nulls":4},{"$f":"(K31+L31+M31+N31)*$O$5","v":{"v":0,"d":"0.0000"}},null,null,{"v":0,"d":"0.0000"},{"$nulls":3},{"v":0,"d":"0.0000"},{"v":0.01317,"d":"0.0132"},null,null,{"v":0.01317,"d":"0.0132"},{"v":0.01317,"d":"0.013"},{"$f":"(D31+E31)-AA31","v":{"v":-0.01317,"d":"-0.013"}}]
[23,"куры/цыплята потрош.","кг",{"$nulls":6},{"$f":"(F32+G32+H32+I32)*$J$5","v":{"v":0,"d":"0.0000"}},{"$nulls":4},{"$f":"(K32+L32+M32+N32)*$O$5","v":{"v":0,"d":"0.0000"}},null,null,{"v":0,"d":"0.0000"},{"$nulls":3},{"v":0,"d":"0.0000"},{"$nulls":3},{"v":0,"d":"0.0000"},{"v":0,"d":"0.000"},{"$f":"(D32+E32)-AA32","v":{"v":0,"d":"0.000"}}]
[24,"или фарш куриный","кг",{"$nulls":6},{"$f":"(F33+G33+H33+I33)*$J$5","v":{"v":0,"d":"0.0000"}},{"$nulls":4},{"$f":"(K33+L33+M33+N33)*$O$5","v":{"v":0,"d":"0.0000"}},null,null,{"v":0,"d":"0.0000"},{"$nulls":3},{"v":0,"d":"0.0000"},{"$nulls":3},{"v":0,"d":"0.0000"},{"v":0,"d":"0.000"},{"$f":"(D33+E33)-AA33","v":{"v":0,"d":"0.000"}}]
[25,"индейка бедро филе","кг",{"$nulls":6},{"$f":"(F34+G34+H34+I34)*$J$5","v":{"v":0,"d":"0.0000"}},{"$nulls":4},{"$f":"(K34+L34+M34+N34)*$O$5","v":{"v":0,"d":"0.0000"}},null,null,{"v":0,"d":"0.0000"},{"$nulls":3},{"v":0,"d":"0.0000"},{"$nulls":3},{"v":0,"d":"0.0000"},{"v":0,"d":"0.000"},{"$f":"(D34+E34)-AA34","v":{"v":0,"d":"0.000"}}]
[26,"индейка грудка филе","кг",{"$nulls":6},{"$f":"(F35+G35+H35+I35)*$J$5","v":{"v":0,"d":"0.0000"}},{"$nulls":4},{"$f":"(K35+L35+M35+N35)*$O$5","v":{"v":0,"d":"0.0000"}},null,null,{"v":0,"d":"0.0000"},{"$nulls":3},{"v":0,"d":"0.0000"},{"$nulls":3},{"v":0,"d":"0.0000"},{"v":0,"d":"0.000"},{"$f":"(D35+E35)-AA35","v":{"v":0,"d":"0.000"}}]
[null,"Рыба",{"$nulls":7},{"$f":"(F36+G36+H36+I36)*$J$5","v":{"v":0,"d":"0.0000"}},{"$nulls":4},{"$f":"(K36+L36+M36+N36)*$O$5","v":{"v":0,"d":"0.0000"}},null,null,{"v":0,"d":"0.0000"},{"$nulls":3},{"v":0,"d":"0.0000"},{"$nulls":3},{"v":0,"d":"0.0000"},{"v":0,"d":"0.000"},{"$f":"(D36+E36)-AA36","v":{"v":0,"d":"0.000"}}]
[27,"горбуша ПБГ с/м","кг",{"$nulls":6},{"$f":"(F37+G37+H37+I37)*$J$5","v":{"v":0,"d":"0.0000"}},{"$nulls":4},{"$f":"(K37+L37+M37+N37)*$O$5","v":{"v":0,"d":"0.0000"}},null,null,{"v":0,"d":"0.0000"},{"$nulls":3},{"v":0,"d":"0.0000"},{"$nulls":3},{"v":0,"d":"0.0000"},{"v":0,"d":"0.000"},{"$f":"(D37+E37)-AA37","v":{"v":0,"d":"0.000"}}]
[28,"минтай б/г с/м","кг",{"$nulls":6},{"$f":"(F38+G38+H38+I38)*$J$5","v":{"v":0,"d":"0.0000"}},{"$nulls":4},{"$f":"(K38+L38+M38+N38)*$O$5","v":{"v":0,"d":"0.0000"}},null,null,{"v":0,"d":"0.0000"},{"$nulls":3},{"v":0,"d":"0.0000"},{"$nulls":3},{"v":0,"d":"0.0000"},{"v":0,"d":"0.000"},{"$f":"(D38+E38)-AA38","v":{"v":0,"d":"0.000"}}]
[29,"фарш минтая","кг",{"$nulls":6},{"$f":"(F39+G39+H39+I39)*$J$5","v":{"v":0,"d":"0.0000"}},{"$nulls":4},{"$f":"(K39+L39+M39+N39)*$O$5","v":{"v":0,"d":"0.0000"}},null,null,{"$f":"(P39+Q39)*$R$5","v":{"v":0,"d":"0.0000"}},{"$nulls":3},{"v":0,"d":"0.0000"},{"$nulls":3},{"$f":"(W39+X39+Y39)*$Z$5","v":{"v":0,"d":"0.0000"}},{"v":0,"d":"0.000"},{"$f":"(D39+E39)-AA39","v":{"v":0,"d":"0.000"}}]
[null,"Сыпучка",{"$nulls":7},{"$f":"(F40+G40+H40+I40)*$J$5","v":{"v":0,"d":"0.0000"}},{"$nulls":4},{"$f":"(K40+L40+M40+N40)*$O$5","v":{"v":0,"d":"0.0000"}},null,null,{"v":0,"d":"0.0000"},{"$nulls":3},{"v":0,"d":"0.0000"},{"$nulls":3},{"v":0,"d":"0.0000"},{"v":0,"d":"0.000"},{"$f":"(D40+E40)-AA40","v":{"v":0,"d":"0.000"}}]
[30,"вермишель","кг",{"$nulls":6},{"$f":"(F41+G41+H41+I41)*$J$5","v":{"v":0,"d":"0.0000"}},{"$nulls":4},{"$f":"(K41+L41+M41+N41)*$O$5","v":{"v":0,"d":"0.0000"}},null,null,{"v":0,"d":"0.0000"},{"$nulls":3},{"v":0,"d":"0.0000"},{"$nulls":3},{"v":0,"d":"0.0000"},{"v":0,"d":"0.000"},{"$f":"(D41+E41)-AA41","v":{"v":0,"d":"0.000"}}]
[31,"геркулес","кг",{"$nulls":6},{"$f":"(F42+G42+H42+I42)*$J$5","v":{"v":0,"d":"0.0000"}},{"$nulls":4},{"$f":"(K42+L42+M42+N42)*$O$5","v":{"v":0,"d":"0.0000"}},null,null,{"v":0,"d":"0.0000"},{"$nulls":3},{"v":0,"d":"0.0000"},{"$nulls":3},{"v":0,"d":"0.0000"},{"v":0,"d":"0.000"},{"$f":"(D42+E42)-AA42","v":{"v":0,"d":"0.000"}}]
[32,"горох","кг",{"$nulls":6},{"$f":"(F43+G43+H43+I43)*$J$5","v":{"v":0,"d":"0.0000"}},{"$nulls":4},{"$f":"(K43+L43+M43+N43)*$O$5","v":{"v":0,"d":"0.0000"}},null,null,{"v":0,"d":"0.0000"},{"$nulls":3},{"v":0,"d":"0.0000"},{"$nulls":3},{"v":0,"d":"0.0000"},{"v":0,"d":"0.000"},{"$f":"(D43+E43)-AA43","v":{"v":0,"d":"0.000"}}]
[33,"гречневая крупа","кг",{"$nulls":6},{"$f":"(F44+G44+H44+I44)*$J$5","v":{"v":0,"d":"0.0000"}},{"$nulls":4},{"$f":"(K44+L44+M44+N44)*$O$5","v":{"v":0,"d":"0.0000"}},null,null,{"v":0,"d":"0.0000"},0.0375,null,null,{"v":0,"d":"0.0000"},{"$nulls":3},{"v":0,"d":"0.0000"},{"v":0,"d":"0.000"},{"$f":"(D44+E44)-AA44","v":{"v":0,"d":"0.000"}}]
[34,"кукурузная крупа","кг",{"$nulls":6},{"$f":"(F45+G45+H45+I45)*$J$5","v":{"v":0,"d":"0.0000"}},{"$nulls":4},{"$f":"(K45+L45+M45+N45)*$O$5","v":{"v":0,"d":"0.0000"}},null,null,{"v":0,"d":"0.0000"},{"$nulls":3},{"v":0,"d":"0.0000"},{"$nulls":3},{"v":0,"d":"0.0000"},{"v":0,"d":"0.000"},{"$f":"(D45+E45)-AA45","v":{"v":0,"d":"0.000"}}]
[35,"макаронные изделия","кг",{"$nulls":6},{"$f":"(F46+G46+H46+I46)*$J$5","v":{"v":0,"d":"0.0000"}},{"$nulls":4},{"$f":"(K46+L46+M46+N46)*$O$5","v":{"v":0,"d":"0.0000"}},null,null,{"v":0,"d":"0.0000"},{"$nulls":3},{"v":0,"d":"0.0000"},{"$nulls":3},{"v":0,"d":"0.0000"},{"v":0,"d":"0.000"},{"$f":"(D46+E46)-AA46","v":{"v":0,"d":"0.000"}}]
[36,"манная крупа","кг",{"$nulls":6},{"$f":"(F47+G47+H47+I47)*$J$5","v":{"v":0,"d":"0.0000"}},{"$nulls":4},{"$f":"(K47+L47+M47+N47)*$O$5","v":{"v":0,"d":"0.0000"}},null,null,{"v":0,"d":"0.0000"},{"$nulls":3},{"v":0,"d":"0.0000"},{"$nulls":3},{"v":0,"d":"0.0000"},{"v":0,"d":"0.000"},{"$f":"(D47+E47)-AA47","v":{"v":0,"d":"0.000"}}]
[37,"перловая крупа","кг",{"$nulls":6},{"$f":"(F48+G48+H48+I48)*$J$5","v":{"v":0,"d":"0.0000"}},{"$nulls":4},{"$f":"(K48+L48+M48+N48)*$O$5","v":{"v":0,"d":"0.0000"}},null,null,{"v":0,"d":"0.0000"},{"$nulls":3},{"v":0,"d":"0.0000"},{"v":0.005,"d":"0.0050"},null,null,{"v":0.005,"d":"0.0050"},0.005,{"$f":"(D48+E48)-AA48","v":-0.005}]
[38,"полбяная крупа","кг",{"$nulls":6},{"$f":"(F49+G49+H49+I49)*$J$5","v":{"v":0,"d":"0.0000"}},{"$nulls":4},{"$f":"(K49+L49+M49+N49)*$O$5","v":{"v":0,"d":"0.0000"}},null,null,{"v":0,"d":"0.0000"},{"$nulls":3},{"v":0,"d":"0.0000"},{"$nulls":3},{"v":0,"d":"0.0000"},{"v":0,"d":"0.000"},{"$f":"(D49+E49)-AA49","v":{"v":0,"d":"0.000"}}]
[39,"пшеничная крупа","кг",{"$nulls":6},{"$f":"(F50+G50+H50+I50)*$J$5","v":{"v":0,"d":"0.0000"}},{"$nulls":4},{"$f":"(K50+L50+M50+N50)*$O$5","v":{"v":0,"d":"0.0000"}},null,null,{"v":0,"d":"0.0000"},{"$nulls":3},{"v":0,"d":"0.0000"},{"$nulls":3},{"v":0,"d":"0.0000"},{"v":0,"d":"0.000"},{"$f":"(D50+E50)-AA50","v":{"v":0,"d":"0.000"}}]
[40,"пшено","кг",{"$nulls":3},0.0145,null,null,{"$f":"(F51+G51+H51+I51)*$J$5","v":0.0145},null,{"v":0.01,"d":"0.0100"},null,null,{"$f":"(K51+L51+M51+N51)*$O$5","v":{"v":0.01,"d":"0.0100"}},null,null,{"v":0,"d":"0.0000"},{"$nulls":3},{"v":0,"d":"0.0000"},{"$nulls":3},{"v":0,"d":"0.0000"},{"v":0.0245,"d":"0.025"},{"$f":"(D51+E51)-AA51","v":{"v":-0.0245,"d":"-0.025"}}]
[41,"рис","кг",{"$nulls":3},{"v":0.01,"d":"0.0100"},null,null,{"$f":"(F52+G52+H52+I52)*$J$5","v":{"v":0.01,"d":"0.0100"}},null,{"v":0.135,"d":"0.1350"},null,null,{"$f":"(K52+L52+M52+N52)*$O$5","v":{"v":0.135,"d":"0.1350"}},null,null,{"v":0,"d":"0.0000"},null,null," ",{"$f":"(S52+T52)*$V$5","v":{"v":0,"d":"0.0000"}},{"$nulls":3},{"v":0,"d":"0.0000"},{"v":0.14500000000000002,"d":"0.145"},{"$f":"(D52+E52)-AA52","v":{"v":-0.14500000000000002,"d":"-0.145"}}]
[42,"яневая крупа","кг",{"$nulls":6},{"$f":"(F53+G53+H53+I53)*$J$5","v":{"v":0,"d":"0.0000"}},{"$nulls":4},{"$f":"(K53+L53+M53+N53)*$O$5","v":{"v":0,"d":"0.0000"}},null,null,{"v":0,"d":"0.0000"},{"$nulls":3},{"v":0,"d":"0.0000"},{"$nulls":3},{"v":0,"d":"0.0000"},{"v":0,"d":"0.000"},{"$f":"(D53+E53)-AA53","v":{"v":0,"d":"0.000"}}]
[43,"лапша домашняя п/ф","кг",{"$nulls":6},{"$f":"(F54+G54+H54+I54)*$J$5","v":{"v":0,"d":"0.0000"}},{"$nulls":4},{"$f":"(K54+L54+M54+N54)*$O$5","v":{"v":0,"d":"0.0000"}},null,null,{"v":0,"d":"0.0000"},{"$nulls":3},{"v":0,"d":"0.0000"},{"$nulls":3},{"v":0,"d":"0.0000"},{"v":0,"d":"0.000"},{"$f":"(D54+E54)-AA54","v":{"v":0,"d":"0.000"}}]
[44,"мука пшеничная в/с","кг",{"$nulls":6},{"$f":"(F55+G55+H55+I55)*$J$5","v":{"v":0,"d":"0.0000"}},{"$nulls":4},{"$f":"(K55+L55+M55+N55)*$O$5","v":{"v":0,"d":"0.0000"}},null,null,{"v":0,"d":"0.0000"},{"$nulls":3},{"v":0,"d":"0.0000"},{"$nulls":3},{"v":0,"d":"0.0000"},{"v":0,"d":"0.000"},{"$f":"(D55+E55)-AA55","v":{"v":0,"d":"0.000"}}]
[45,"сахарный песок","кг",{"$nulls":3},0.0008,{"v":0.01,"d":"0.0100"},null,{"$f":"(F56+G56+H56+I56)*$J$5","v":0.0108},null,0.0005,{"v":0.01,"d":"0.0100"},null,{"$f":"(K56+L56+M56+N56)*$O$5","v":0.0105},null,{"v":0.01,"d":"0.0100"},{"v":0.01,"d":"0.0100"},null,{"v":0.01,"d":"0.0100"},null,{"v":0,"d":"0.0000"},null,{"v":0.006,"d":"0.0060"},null,{"v":0.006,"d":"0.0060"},{"v":0.0373,"d":"0.037"},{"$f":"(D56+E56)-AA56","v":{"v":-0.0373,"d":"-0.037"}}]
[46,"соль","кг",{"$nulls":3},0.0003,null,null,{"$f":"(F57+G57+H57+I57)*$J$5","v":0.0003},null,0.0003,null,null,{"$f":"(K57+L57+M57+N57)*$O$5","v":0.0003},null,null,{"v":0,"d":"0.0000"},0.0005,null,null,{"v":0,"d":"0.0000"},0.0009,null,null,0.0009,{"v":1.5E-3,"d":"0.002"},{"$f":"(D57+E57)-AA57","v":{"v":-1.5E-3,"d":"-0.002"}}]
[47,"сухари панировочные","кг",{"$nulls":6},{"$f":"(F58+G58+H58+I58)*$J$5","v":{"v":0,"d":"0.0000"}},{"$nulls":4},{"$f":"(K58+L58+M58+N58)*$O$5","v":{"v":0,"d":"0.0000"}},null,null,{"v":0,"d":"0.0000"},{"$nulls":3},{"v":0,"d":"0.0000"},{"$nulls":3},{"v":0,"d":"0.0000"},{"v":0,"d":"0.000"},{"$f":"(D58+E58)-AA58","v":{"v":0,"d":"0.000"}}]
[48,"дрожжи сухие","кг",{"$nulls":6},{"$f":"(F59+G59+H59+I59)*$J$5","v":{"v":0,"d":"0.0000"}},{"$nulls":4},{"$f":"(K59+L59+M59+N59)*$O$5","v":{"v":0,"d":"0.0000"}},null,null,{"v":0,"d":"0.0000"},{"$nulls":3},{"v":0,"d":"0.0000"},{"$nulls":3},{"v":0,"d":"0.0000"},{"v":0,"d":"0.000"},{"$f":"(D59+E59)-AA59","v":{"v":0,"d":"0.000"}}]
[49,"фасоль","кг",{"$nulls":6},{"$f":"(F60+G60+H60+I60)*$J$5","v":{"v":0,"d":"0.0000"}},{"$nulls":4},{"$f":"(K60+L60+M60+N60)*$O$5","v":{"v":0,"d":"0.0000"}},null,null,{"v":0,"d":"0.0000"},{"$nulls":3},{"v":0,"d":"0.0000"},{"$nulls":3},{"v":0,"d":"0.0000"},{"v":0,"d":"0.000"},{"$f":"(D60+E60)-AA60","v":{"v":0,"d":"0.000"}}]
[null,"Консервы",{"$nulls":7},{"$f":"(F61+G61+H61+I61)*$J$5","v":{"v":0,"d":"0.0000"}},{"$nulls":4},{"$f":"(K61+L61+M61+N61)*$O$5","v":{"v":0,"d":"0.0000"}},null,null,{"v":0,"d":"0.0000"},{"$nulls":3},{"v":0,"d":"0.0000"},{"$nulls":3},{"v":0,"d":"0.0000"},{"v":0,"d":"0.000"},{"$f":"(D61+E61)-AA61","v":{"v":0,"d":"0.000"}}]
[50,"зеленый горошек к/с","кг",{"$nulls":6},{"$f":"(F62+G62+H62+I62)*$J$5","v":{"v":0,"d":"0.0000"}},{"$nulls":4},{"$f":"(K62+L62+M62+N62)*$O$5","v":{"v":0,"d":"0.0000"}},null,null,{"v":0,"d":"0.0000"},{"$nulls":3},{"v":0,"d":"0.0000"},{"$nulls":3},{"v":0,"d":"0.0000"},{"v":0,"d":"0.000"},{"$f":"(D62+E62)-AA62","v":{"v":0,"d":"0.000"}}]
[51,"кукуруза к/с","кг",{"$nulls":6},{"$f":"(F63+G63+H63+I63)*$J$5","v":{"v":0,"d":"0.0000"}},{"$nulls":4},{"$f":"(K63+L63+M63+N63)*$O$5","v":{"v":0,"d":"0.0000"}},null,null,{"v":0,"d":"0.0000"},{"$nulls":3},{"v":0,"d":"0.0000"},{"$nulls":3},{"v":0,"d":"0.0000"},{"v":0,"d":"0.000"},{"$f":"(D63+E63)-AA63","v":{"v":0,"d":"0.000"}}]
[52,"фасоль к/с","кг",{"$nulls":6},{"$f":"(F64+G64+H64+I64)*$J$5","v":{"v":0,"d":"0.0000"}},{"$nulls":4},{"$f":"(K64+L64+M64+N64)*$O$5","v":{"v":0,"d":"0.0000"}},null,null,{"v":0,"d":"0.0000"},{"$nulls":3},{"v":0,"d":"0.0000"},{"$nulls":3},{"v":0,"d":"0.0000"},{"v":0,"d":"0.000"},{"$f":"(D64+E64)-AA64","v":{"v":0,"d":"0.000"}}]
[53,"икра кабачк/икра баклажан","кг",{"$nulls":6},{"$f":"(F65+G65+H65+I65)*$J$5","v":{"v":0,"d":"0.0000"}},{"$nulls":4},{"$f":"(K65+L65+M65+N65)*$O$5","v":{"v":0,"d":"0.0000"}},null,null,{"v":0,"d":"0.0000"},{"$nulls":3},{"v":0,"d":"0.0000"},{"$nulls":3},{"v":0,"d":"0.0000"},{"v":0,"d":"0.000"},{"$f":"(D65+E65)-AA65","v":{"v":0,"d":"0.000"}}]
[54,"капуста морская сушеная","кг",{"$nulls":6},{"$f":"(F66+G66+H66+I66)*$J$5","v":{"v":0,"d":"0.0000"}},{"$nulls":4},{"$f":"(K66+L66+M66+N66)*$O$5","v":{"v":0,"d":"0.0000"}},null,null,{"v":0,"d":"0.0000"},{"$nulls":3},{"v":0,"d":"0.0000"},{"$nulls":3},{"v":0,"d":"0.0000"},{"v":0,"d":"0.000"},{"$f":"(D66+E66)-AA66","v":{"v":0,"d":"0.000"}}]
[55,"квашеная капуста ","кг",{"$nulls":6},{"$f":"(F67+G67+H67+I67)*$J$5","v":{"v":0,"d":"0.0000"}},{"$nulls":4},{"$f":"(K67+L67+M67+N67)*$O$5","v":{"v":0,"d":"0.0000"}},null,null,{"v":0,"d":"0.0000"},{"$nulls":3},{"v":0,"d":"0.0000"},{"$nulls":3},{"v":0,"d":"0.0000"},{"v":0,"d":"0.000"},{"$f":"(D67+E67)-AA67","v":{"v":0,"d":"0.000"}}]
[56,"молоко сгущенное  ","кг",{"$nulls":6},{"$f":"(F68+G68+H68+I68)*$J$5","v":{"v":0,"d":"0.0000"}},{"$nulls":4},{"$f":"(K68+L68+M68+N68)*$O$5","v":{"v":0,"d":"0.0000"}},null,null,{"v":0,"d":"0.0000"},{"$nulls":3},{"v":0,"d":"0.0000"},{"$nulls":3},{"v":0,"d":"0.0000"},{"v":0,"d":"0.000"},{"$f":"(D68+E68)-AA68","v":{"v":0,"d":"0.000"}}]
[57,"огурцы соленые","кг",{"$nulls":6},{"$f":"(F69+G69+H69+I69)*$J$5","v":{"v":0,"d":"0.0000"}},{"$nulls":4},{"$f":"(K69+L69+M69+N69)*$O$5","v":{"v":0,"d":"0.0000"}},null,null,{"v":0,"d":"0.0000"},{"$nulls":3},{"v":0,"d":"0.0000"},0.0273,null,null,0.0273,{"v":0.0273,"d":"0.027"},{"$f":"(D69+E69)-AA69","v":{"v":-0.0273,"d":"-0.027"}}]
[58,"повидло","кг",{"$nulls":6},{"$f":"(F70+G70+H70+I70)*$J$5","v":{"v":0,"d":"0.0000"}},{"$nulls":4},{"$f":"(K70+L70+M70+N70)*$O$5","v":{"v":0,"d":"0.0000"}},null,null,{"v":0,"d":"0.0000"},{"$nulls":3},{"v":0,"d":"0.0000"},{"$nulls":3},{"v":0,"d":"0.0000"},{"v":0,"d":"0.000"},{"$f":"(D70+E70)-AA70","v":{"v":0,"d":"0.000"}}]
[59,"томатная паста","кг",{"$nulls":6},{"$f":"(F71+G71+H71+I71)*$J$5","v":{"v":0,"d":"0.0000"}},{"$nulls":4},{"$f":"(K71+L71+M71+N71)*$O$5","v":{"v":0,"d":"0.0000"}},null,null,{"$f":"(P71+Q71)*$R$5","v":{"v":0,"d":"0.0000"}},{"$nulls":3},{"v":0,"d":"0.0000"},{"$nulls":3},{"$f":"(W71+X71+Y71)*$Z$5","v":{"v":0,"d":"0.0000"}},{"v":0,"d":"0.000"},{"$f":"(D71+E71)-AA71","v":{"v":0,"d":"0.000"}}]
[60,"рыбные консервы","кг",{"$nulls":6},{"$f":"(F72+G72+H72+I72)*$J$5","v":{"v":0,"d":"0.0000"}},{"$nulls":4},{"$f":"(K72+L72+M72+N72)*$O$5","v":{"v":0,"d":"0.0000"}},null,null,{"v":0,"d":"0.0000"},{"$nulls":3},{"$f":"(U72+T72+S72)*V$5","v":{"v":0,"d":"0.0000"}},{"$nulls":3},{"v":0,"d":"0.0000"},{"$f":"J72+O72+R72+Z72","v":{"v":0,"d":"0.000"}},{"$f":"(D72+E72)-AA72","v":{"v":0,"d":"0.000"}}]
[null,"Напитки",{"$nulls":7},{"$f":"(F73+G73+H73+I73)*$J$5","v":{"v":0,"d":"0.0000"}},{"$nulls":4},{"$f":"(K73+L73+M73+N73)*$O$5","v":{"v":0,"d":"0.0000"}},null,null,{"v":0,"d":"0.0000"},{"$nulls":3},{"v":0,"d":"0.0000"},{"$nulls":3},{"v":0,"d":"0.0000"},{"v":0,"d":"0.000"},{"$f":"(D73+E73)-AA73","v":{"v":0,"d":"0.000"}}]
[61,"чай весовой ","кг",{"$nulls":4},0.0005,null,{"$f":"(F74+G74+H74+I74)*$J$5","v":0.0005},null,null,0.0005,null,{"$f":"(K74+L74+M74+N74)*$O$5","v":0.0005},null,null,{"v":0,"d":"0.0000"},{"$nulls":3},{"v":0,"d":"0.0000"},{"$nulls":3},{"v":0,"d":"0.0000"},{"v":1E-3,"d":"0.001"},{"$f":"(D74+E74)-AA74","v":{"v":-1E-3,"d":"-0.001"}}]
[62,"какао","кг",{"$nulls":6},{"$f":"(F75+G75+H75+I75)*$J$5","v":{"v":0,"d":"0.0000"}},{"$nulls":4},{"$f":"(K75+L75+M75+N75)*$O$5","v":{"v":0,"d":"0.0000"}},null,null,{"v":0,"d":"0.0000"},{"$nulls":3},{"v":0,"d":"0.0000"},{"$nulls":3},{"v":0,"d":"0.0000"},{"v":0,"d":"0.000"},{"$f":"(D75+E75)-AA75","v":{"v":0,"d":"0.000"}}]
[63,"кисель","кг",{"$nulls":6},{"$f":"(F76+G76+H76+I76)*$J$5","v":{"v":0,"d":"0.0000"}},{"$nulls":4},{"$f":"(K76+L76+M76+N76)*$O$5","v":{"v":0,"d":"0.0000"}},null,null,{"v":0,"d":"0.0000"},null,{"v":0.024,"d":"0.0240"},null,{"v":0,"d":"0.0000"},{"$nulls":3},{"v":0,"d":"0.0000"},{"v":0,"d":"0.000"},{"$f":"(D76+E76)-AA76","v":{"v":0,"d":"0.000"}}]
[64,"кофейный напиток","кг",{"$nulls":6},{"$f":"(F77+G77+H77+I77)*$J$5","v":{"v":0,"d":"0.0000"}},{"$nulls":4},{"$f":"(K77+L77+M77+N77)*$O$5","v":{"v":0,"d":"0.0000"}},null,null,{"v":0,"d":"0.0000"},{"$nulls":3},{"v":0,"d":"0.0000"},{"$nulls":3},{"v":0,"d":"0.0000"},{"v":0,"d":"0.000"},{"$f":"(D77+E77)-AA77","v":{"v":0,"d":"0.000"}}]
[65,"цикорий","кг",{"$nulls":6},{"$f":"(F78+G78+H78+I78)*$J$5","v":{"v":0,"d":"0.0000"}},{"$nulls":4},{"$f":"(K78+L78+M78+N78)*$O$5","v":{"v":0,"d":"0.0000"}},null,null,{"v":0,"d":"0.0000"},{"$nulls":3},{"v":0,"d":"0.0000"},{"$nulls":3},{"v":0,"d":"0.0000"},{"v":0,"d":"0.000"},{"$f":"(D78+E78)-AA78","v":{"v":0,"d":"0.000"}}]
[null,"Сухофрукты",{"$nulls":7},{"$f":"(F79+G79+H79+I79)*$J$5","v":{"v":0,"d":"0.0000"}},{"$nulls":4},{"$f":"(K79+L79+M79+N79)*$O$5","v":{"v":0,"d":"0.0000"}},null,null,{"v":0,"d":"0.0000"},{"$nulls":3},{"v":0,"d":"0.0000"},{"$nulls":3},{"v":0,"d":"0.0000"},{"v":0,"d":"0.000"},{"$f":"(D79+E79)-AA79","v":{"v":0,"d":"0.000"}}]
[66,"ассорти для компота (сухофрукты)","кг",{"$nulls":6},{"$f":"(F80+G80+H80+I80)*$J$5","v":{"v":0,"d":"0.0000"}},{"$nulls":4},{"$f":"(K80+L80+M80+N80)*$O$5","v":{"v":0,"d":"0.0000"}},null,0.0204,0.0204,{"$nulls":3},{"v":0,"d":"0.0000"},{"$nulls":3},{"v":0,"d":"0.0000"},{"v":0.0204,"d":"0.020"},{"$f":"(D80+E80)-AA80","v":{"v":-0.0204,"d":"-0.020"}}]
[67,"изюм","кг",{"$nulls":6},{"$f":"(F81+G81+H81+I81)*$J$5","v":{"v":0,"d":"0.0000"}},{"$nulls":4},{"$f":"(K81+L81+M81+N81)*$O$5","v":{"v":0,"d":"0.0000"}},null,null,{"v":0,"d":"0.0000"},{"$nulls":3},{"v":0,"d":"0.0000"},null,0.0102,null,0.0102,{"v":0.0102,"d":"0.010"},{"$f":"(D81+E81)-AA81","v":{"v":-0.0102,"d":"-0.010"}}]
[68,"курага","кг",{"$nulls":6},{"$f":"(F82+G82+H82+I82)*$J$5","v":{"v":0,"d":"0.0000"}},{"$nulls":4},{"$f":"(K82+L82+M82+N82)*$O$5","v":{"v":0,"d":"0.0000"}},null,null,{"v":0,"d":"0.0000"},{"$nulls":3},{"v":0,"d":"0.0000"},{"$nulls":3},{"v":0,"d":"0.0000"},{"v":0,"d":"0.000"},{"$f":"(D82+E82)-AA82","v":{"v":0,"d":"0.000"}}]
[69,"урюк","кг",{"$nulls":6},{"$f":"(F83+G83+H83+I83)*$J$5","v":{"v":0,"d":"0.0000"}},{"$nulls":4},{"$f":"(K83+L83+M83+N83)*$O$5","v":{"v":0,"d":"0.0000"}},null,null,{"v":0,"d":"0.0000"},{"$nulls":3},{"v":0,"d":"0.0000"},{"$nulls":3},{"v":0,"d":"0.0000"},{"v":0,"d":"0.000"},{"$f":"(D83+E83)-AA83","v":{"v":0,"d":"0.000"}}]
[70,"шиповник","кг",{"$nulls":6},{"$f":"(F84+G84+H84+I84)*$J$5","v":{"v":0,"d":"0.0000"}},{"$nulls":4},{"$f":"(K84+L84+M84+N84)*$O$5","v":{"v":0,"d":"0.0000"}},null,null,{"v":0,"d":"0.0000"},{"$nulls":3},{"v":0,"d":"0.0000"},{"$nulls":3},{"v":0,"d":"0.0000"},{"v":0,"d":"0.000"},{"$f":"(D84+E84)-AA84","v":{"v":0,"d":"0.000"}}]
[71,"компотная смесь с/м","кг",{"$nulls":6},{"$f":"(F85+G85+H85+I85)*$J$5","v":{"v":0,"d":"0.0000"}},{"$nulls":4},{"$f":"(K85+L85+M85+N85)*$O$5","v":{"v":0,"d":"0.0000"}},null,null,{"v":0,"d":"0.0000"},{"$nulls":3},{"v":0,"d":"0.0000"},{"$nulls":3},{"v":0,"d":"0.0000"},{"v":0,"d":"0.000"},{"$f":"(D85+E85)-AA85","v":{"v":0,"d":"0.000"}}]
[72,"вишня с/м","кг",{"$nulls":6},{"$f":"(F86+G86+H86+I86)*$J$5","v":{"v":0,"d":"0.0000"}},{"$nulls":4},{"$f":"(K86+L86+M86+N86)*$O$5","v":{"v":0,"d":"0.0000"}},null,null,{"v":0,"d":"0.0000"},{"$nulls":3},{"v":0,"d":"0.0000"},{"$nulls":3},{"v":0,"d":"0.0000"},{"v":0,"d":"0.000"},{"$f":"(D86+E86)-AA86","v":{"v":0,"d":"0.000"}}]
[73,"клюква с/м","кг",{"$nulls":6},{"$f":"(F87+G87+H87+I87)*$J$5","v":{"v":0,"d":"0.0000"}},{"$nulls":4},{"$f":"(K87+L87+M87+N87)*$O$5","v":{"v":0,"d":"0.0000"}},null,null,{"v":0,"d":"0.0000"},{"$nulls":3},{"v":0,"d":"0.0000"},{"$nulls":3},{"v":0,"d":"0.0000"},{"v":0,"d":"0.000"},{"$f":"(D87+E87)-AA87","v":{"v":0,"d":"0.000"}}]
[74,"смородина в ассорт с/м","кг",{"$nulls":6},{"$f":"(F88+G88+H88+I88)*$J$5","v":{"v":0,"d":"0.0000"}},{"$nulls":4},{"$f":"(K88+L88+M88+N88)*$O$5","v":{"v":0,"d":"0.0000"}},null,null,{"v":0,"d":"0.0000"},{"$nulls":3},{"v":0,"d":"0.0000"},{"$nulls":3},{"v":0,"d":"0.0000"},{"v":0,"d":"0.000"},{"$f":"(D88+E88)-AA88","v":{"v":0,"d":"0.000"}}]
[75,"облепиха с/м","кг",{"$nulls":6},{"$f":"(F89+G89+H89+I89)*$J$5","v":{"v":0,"d":"0.0000"}},{"$nulls":4},{"$f":"(K89+L89+M89+N89)*$O$5","v":{"v":0,"d":"0.0000"}},null,null,{"v":0,"d":"0.0000"},{"$nulls":3},{"v":0,"d":"0.0000"},{"$nulls":3},{"v":0,"d":"0.0000"},{"v":0,"d":"0.000"},{"$f":"(D89+E89)-AA89","v":{"v":0,"d":"0.000"}}]
[null,"Сок",{"$nulls":7},{"$f":"(F90+G90+H90+I90)*$J$5","v":{"v":0,"d":"0.0000"}},{"$nulls":4},{"$f":"(K90+L90+M90+N90)*$O$5","v":{"v":0,"d":"0.0000"}},null,null,{"v":0,"d":"0.0000"},{"$nulls":3},{"v":0,"d":"0.0000"},{"$nulls":3},{"v":0,"d":"0.0000"},{"v":0,"d":"0.000"},{"$f":"(D90+E90)-AA90","v":{"v":0,"d":"0.000"}}]
[76,"сок 0,125л или 0,2л","л",{"$nulls":6},{"$f":"(F91+G91+H91+I91)*$J$5","v":{"v":0,"d":"0.0000"}},{"$nulls":4},{"$f":"(K91+L91+M91+N91)*$O$5","v":{"v":0,"d":"0.0000"}},null,null,{"v":0,"d":"0.0000"},{"$nulls":3},{"v":0,"d":"0.0000"},{"$nulls":3},{"v":0,"d":"0.0000"},{"v":0,"d":"0.000"},{"$f":"(D91+E91)-AA91","v":{"v":0,"d":"0.000"}}]
[77,"нектоар плодовый","л",{"$nulls":6},{"$f":"(F92+G92+H92+I92)*$J$5","v":{"v":0,"d":"0.0000"}},{"$nulls":4},{"$f":"(K92+L92+M92+N92)*$O$5","v":{"v":0,"d":"0.0000"}},null,null,{"v":0,"d":"0.0000"},{"$nulls":3},{"v":0,"d":"0.0000"},{"$nulls":3},{"v":0,"d":"0.0000"},{"v":0,"d":"0.000"},{"$f":"(D92+E92)-AA92","v":{"v":0,"d":"0.000"}}]
[null,"Кондитерка",{"$nulls":7},{"$f":"(F93+G93+H93+I93)*$J$5","v":{"v":0,"d":"0.0000"}},{"$nulls":4},{"$f":"(K93+L93+M93+N93)*$O$5","v":{"v":0,"d":"0.0000"}},null,null,{"v":0,"d":"0.0000"},{"$nulls":3},{"v":0,"d":"0.0000"},{"$nulls":3},{"v":0,"d":"0.0000"},{"v":0,"d":"0.000"},{"$f":"(D93+E93)-AA93","v":{"v":0,"d":"0.000"}}]
[78,"батончик злаковый","шт",{"$nulls":6},{"$f":"(F94+G94+H94+I94)*$J$5","v":{"v":0,"d":"0.0000"}},{"$nulls":4},{"$f":"(K94+L94+M94+N94)*$O$5","v":{"v":0,"d":"0.0000"}},null,null,{"v":0,"d":"0.0000"},{"$nulls":3},{"v":0,"d":"0.0000"},{"$nulls":3},{"v":0,"d":"0.0000"},{"v":0,"d":"0.000"},{"$f":"(D94+E94)-AA94","v":{"v":0,"d":"0.000"}}]
[79,"пряник","кг",{"$nulls":6},{"$f":"(F95+G95+H95+I95)*$J$5","v":{"v":0,"d":"0.0000"}},{"$nulls":4},{"$f":"(K95+L95+M95+N95)*$O$5","v":{"v":0,"d":"0.0000"}},null,null,{"v":0,"d":"0.0000"},{"$nulls":3},{"v":0,"d":"0.0000"},{"$nulls":3},{"v":0,"d":"0.0000"},{"v":0,"d":"0.000"},{"$f":"(D95+E95)-AA95","v":{"v":0,"d":"0.000"}}]
[80,"вафли ","кг",{"$nulls":6},{"$f":"(F96+G96+H96+I96)*$J$5","v":{"v":0,"d":"0.0000"}},{"$nulls":4},{"$f":"(K96+L96+M96+N96)*$O$5","v":{"v":0,"d":"0.0000"}},null,null,{"v":0,"d":"0.0000"},{"$nulls":3},{"v":0,"d":"0.0000"},{"$nulls":3},{"v":0,"d":"0.0000"},{"v":0,"d":"0.000"},{"$f":"(D96+E96)-AA96","v":{"v":0,"d":"0.000"}}]
[81,"печенье","кг",{"$nulls":6},{"$f":"(F97+G97+H97+I97)*$J$5","v":{"v":0,"d":"0.0000"}},{"$nulls":4},{"$f":"(K97+L97+M97+N97)*$O$5","v":{"v":0,"d":"0.0000"}},{"v":0.02,"d":"0.0200"},null,{"v":0.02,"d":"0.0200"},{"$nulls":3},{"v":0,"d":"0.0000"},{"$nulls":3},{"v":0,"d":"0.0000"},{"v":0.02,"d":"0.020"},{"$f":"(D97+E97)-AA97","v":{"v":-0.02,"d":"-0.020"}}]
[82,"крекер","кг",{"$nulls":6},{"$f":"(F98+G98+H98+I98)*$J$5","v":{"v":0,"d":"0.0000"}},{"$nulls":4},{"$f":"(K98+L98+M98+N98)*$O$5","v":{"v":0,"d":"0.0000"}},null,null,{"v":0,"d":"0.0000"},{"$nulls":3},{"v":0,"d":"0.0000"},{"$nulls":3},{"v":0,"d":"0.0000"},{"v":0,"d":"0.000"},{"$f":"(D98+E98)-AA98","v":{"v":0,"d":"0.000"}}]
[83,"сушки","кг",{"$nulls":6},{"$f":"(F99+G99+H99+I99)*$J$5","v":{"v":0,"d":"0.0000"}},{"$nulls":4},{"$f":"(K99+L99+M99+N99)*$O$5","v":{"v":0,"d":"0.0000"}},null,null,{"v":0,"d":"0.0000"},{"$nulls":3},{"v":0,"d":"0.0000"},{"$nulls":3},{"v":0,"d":"0.0000"},{"v":0,"d":"0.000"},{"$f":"(D99+E99)-AA99","v":{"v":0,"d":"0.000"}}]
[84,"мармелад","кг",{"$nulls":6},{"$f":"(F100+G100+H100+I100)*$J$5","v":{"v":0,"d":"0.0000"}},{"$nulls":4},{"$f":"(K100+L100+M100+N100)*$O$5","v":{"v":0,"d":"0.0000"}},null,null,{"v":0,"d":"0.0000"},{"$nulls":3},{"v":0,"d":"0.0000"},{"$nulls":3},{"v":0,"d":"0.0000"},{"v":0,"d":"0.000"},{"$f":"(D100+E100)-AA100","v":{"v":0,"d":"0.000"}}]
[85,"блины п/ф","кг",{"$nulls":6},{"$f":"(F101+G101+H101+I101)*$J$5","v":{"v":0,"d":"0.0000"}},{"$nulls":4},{"$f":"(K101+L101+M101+N101)*$O$5","v":{"v":0,"d":"0.0000"}},null,null,{"v":0,"d":"0.0000"},{"$nulls":3},{"v":0,"d":"0.0000"},{"$nulls":3},{"v":0,"d":"0.0000"},{"v":0,"d":"0.000"},{"$f":"(D101+E101)-AA101","v":{"v":0,"d":"0.000"}}]
[86,"выпечка п/ф со склада","шт",{"$nulls":6},{"$f":"(F102+G102+H102+I102)*$J$5","v":{"v":0,"d":"0.0000"}},{"$nulls":4},{"$f":"(K102+L102+M102+N102)*$O$5","v":{"v":0,"d":"0.0000"}},null,null,{"v":0,"d":"0.0000"},{"$nulls":3},{"v":0,"d":"0.0000"},{"$nulls":3},{"v":0,"d":"0.0000"},{"v":0,"d":"0.000"},{"$f":"(D102+E102)-AA102","v":{"v":0,"d":"0.000"}}]
[null,"Яйцо",{"$nulls":7},{"$f":"(F103+G103+H103+I103)*$J$5","v":{"v":0,"d":"0.0000"}},{"$nulls":4},{"$f":"(K103+L103+M103+N103)*$O$5","v":{"v":0,"d":"0.0000"}},null,null,{"$f":"(P103+Q103)*$R$5","v":{"v":0,"d":"0.0000"}},{"$nulls":3},{"v":0,"d":"0.0000"},{"$nulls":3},{"$f":"(W103+X103+Y103)*$Z$5","v":{"v":0,"d":"0.0000"}},{"v":0,"d":"0.000"},{"$f":"(D103+E103)-AA103","v":{"v":0,"d":"0.000"}}]
[87,"яйцо куриное","кг",{"$nulls":6},{"$f":"(F104+G104+H104+I104)*$J$5","v":{"v":0,"d":"0.0000"}},{"$nulls":4},{"$f":"(K104+L104+M104+N104)*$O$5","v":{"v":0,"d":"0.0000"}},null,null,{"v":0,"d":"0.0000"},{"$nulls":3},{"v":0,"d":"0.0000"},{"v":0.00096,"d":"0.0010"},null,null,{"v":0.00096,"d":"0.0010"},{"v":0.00096,"d":"0.001"},{"$f":"(D104+E104)-AA104","v":{"v":-0.00096,"d":"-0.001"}}]
[null,0.048,"шт",{"$nulls":6},{"$f":"(F105+G105+H105+I105)*$J$5","v":{"v":0,"d":"0.0000"}},{"$nulls":4},{"$f":"(K105+L105+M105+N105)*$O$5","v":{"v":0,"d":"0.0000"}},null,null,{"v":0,"d":"0.0000"},{"$nulls":3},{"v":0,"d":"0.0000"},{"$nulls":3},{"v":0,"d":"0.0000"},{"v":0,"d":"0.000"},{"$f":"(D105+E105)-AA105","v":{"v":0,"d":"0.000"}}]
[null,"Овощи заморозка",{"$nulls":7},{"$f":"(F106+G106+H106+I106)*$J$5","v":{"v":0,"d":"0.0000"}},{"$nulls":4},{"$f":"(K106+L106+M106+N106)*$O$5","v":{"v":0,"d":"0.0000"}},null,null,{"v":0,"d":"0.0000"},{"$nulls":3},{"v":0,"d":"0.0000"},{"$nulls":3},{"v":0,"d":"0.0000"},{"v":0,"d":"0.000"},{"$f":"(D106+E106)-AA106","v":{"v":0,"d":"0.000"}}]
[88,"зеленый горошек с/м","кг",{"$nulls":6},{"$f":"(F107+G107+H107+I107)*$J$5","v":{"v":0,"d":"0.0000"}},{"$nulls":4},{"$f":"(K107+L107+M107+N107)*$O$5","v":{"v":0,"d":"0.0000"}},null,null,{"v":0,"d":"0.0000"},{"$nulls":3},{"v":0,"d":"0.0000"},{"$nulls":3},{"v":0,"d":"0.0000"},{"v":0,"d":"0.000"},{"$f":"(D107+E107)-AA107","v":{"v":0,"d":"0.000"}}]
[89,"кабачки с/м","кг",{"$nulls":6},{"$f":"(F108+G108+H108+I108)*$J$5","v":{"v":0,"d":"0.0000"}},{"$nulls":4},{"$f":"(K108+L108+M108+N108)*$O$5","v":{"v":0,"d":"0.0000"}},null,null,{"v":0,"d":"0.0000"},{"$nulls":3},{"v":0,"d":"0.0000"},{"$nulls":3},{"v":0,"d":"0.0000"},{"v":0,"d":"0.000"},{"$f":"(D108+E108)-AA108","v":{"v":0,"d":"0.000"}}]
[90,"мексиканс смесь с/м","кг",{"$nulls":6},{"$f":"(F109+G109+H109+I109)*$J$5","v":{"v":0,"d":"0.0000"}},{"$nulls":4},{"$f":"(K109+L109+M109+N109)*$O$5","v":{"v":0,"d":"0.0000"}},null,null,{"v":0,"d":"0.0000"},{"$nulls":3},{"v":0,"d":"0.0000"},{"$nulls":3},{"v":0,"d":"0.0000"},{"v":0,"d":"0.000"},{"$f":"(D109+E109)-AA109","v":{"v":0,"d":"0.000"}}]
[91,"капуста цветная с/м","кг",{"$nulls":6},{"$f":"(F110+G110+H110+I110)*$J$5","v":{"v":0,"d":"0.0000"}},{"$nulls":4},{"$f":"(K110+L110+M110+N110)*$O$5","v":{"v":0,"d":"0.0000"}},null,null,{"v":0,"d":"0.0000"},{"$nulls":3},{"v":0,"d":"0.0000"},{"$nulls":3},{"v":0,"d":"0.0000"},{"v":0,"d":"0.000"},{"$f":"(D110+E110)-AA110","v":{"v":0,"d":"0.000"}}]
[92,"брокколи с/м","кг",{"$nulls":6},{"$f":"(F111+G111+H111+I111)*$J$5","v":{"v":0,"d":"0.0000"}},{"$nulls":4},{"$f":"(K111+L111+M111+N111)*$O$5","v":{"v":0,"d":"0.0000"}},null,null,{"v":0,"d":"0.0000"},{"$nulls":3},{"v":0,"d":"0.0000"},{"$nulls":3},{"v":0,"d":"0.0000"},{"v":0,"d":"0.000"},{"$f":"(D111+E111)-AA111","v":{"v":0,"d":"0.000"}}]
[93,"кукуруза с/м","кг",{"$nulls":6},{"$f":"(F112+G112+H112+I112)*$J$5","v":{"v":0,"d":"0.0000"}},{"$nulls":4},{"$f":"(K112+L112+M112+N112)*$O$5","v":{"v":0,"d":"0.0000"}},null,null,{"v":0,"d":"0.0000"},{"$nulls":3},{"v":0,"d":"0.0000"},{"$nulls":3},{"v":0,"d":"0.0000"},{"v":0,"d":"0.000"},{"$f":"(D112+E112)-AA112","v":{"v":0,"d":"0.000"}}]
[94,"фасоль стручковая с/м","кг",{"$nulls":6},{"$f":"(F113+G113+H113+I113)*$J$5","v":{"v":0,"d":"0.0000"}},{"$nulls":4},{"$f":"(K113+L113+M113+N113)*$O$5","v":{"v":0,"d":"0.0000"}},null,null,{"v":0,"d":"0.0000"},{"$nulls":3},{"v":0,"d":"0.0000"},{"$nulls":3},{"v":0,"d":"0.0000"},{"v":0,"d":"0.000"},{"$f":"(D113+E113)-AA113","v":{"v":0,"d":"0.000"}}]
[null,"Фрукты",{"$nulls":7},{"$f":"(F114+G114+H114+I114)*$J$5","v":{"v":0,"d":"0.0000"}},{"$nulls":4},{"$f":"(K114+L114+M114+N114)*$O$5","v":{"v":0,"d":"0.0000"}},null,null,{"v":0,"d":"0.0000"},{"$nulls":3},{"v":0,"d":"0.0000"},{"$nulls":3},{"v":0,"d":"0.0000"},{"v":0,"d":"0.000"},{"$f":"(D114+E114)-AA114","v":{"v":0,"d":"0.000"}}]
[95,"апельсин","кг",{"$nulls":6},{"$f":"(F115+G115+H115+I115)*$J$5","v":{"v":0,"d":"0.0000"}},{"$nulls":4},{"$f":"(K115+L115+M115+N115)*$O$5","v":{"v":0,"d":"0.0000"}},null,null,{"v":0,"d":"0.0000"},{"$nulls":3},{"v":0,"d":"0.0000"},{"$nulls":3},{"v":0,"d":"0.0000"},{"v":0,"d":"0.000"},{"$f":"(D115+E115)-AA115","v":{"v":0,"d":"0.000"}}]
[96,"банан","кг",{"$nulls":6},{"$f":"(F116+G116+H116+I116)*$J$5","v":{"v":0,"d":"0.0000"}},{"$nulls":4},{"$f":"(K116+L116+M116+N116)*$O$5","v":{"v":0,"d":"0.0000"}},null,null,{"v":0,"d":"0.0000"},{"$nulls":3},{"v":0,"d":"0.0000"},{"$nulls":3},{"v":0,"d":"0.0000"},{"v":0,"d":"0.000"},{"$f":"(D116+E116)-AA116","v":{"v":0,"d":"0.000"}}]
[97,"груши","кг",{"$nulls":6},{"$f":"(F117+G117+H117+I117)*$J$5","v":{"v":0,"d":"0.0000"}},{"$nulls":4},{"$f":"(K117+L117+M117+N117)*$O$5","v":{"v":0,"d":"0.0000"}},null,null,{"v":0,"d":"0.0000"},{"$nulls":3},{"v":0,"d":"0.0000"},{"$nulls":3},{"v":0,"d":"0.0000"},{"v":0,"d":"0.000"},{"$f":"(D117+E117)-AA117","v":{"v":0,"d":"0.000"}}]
[98,"мандарины","кг",{"$nulls":6},{"$f":"(F118+G118+H118+I118)*$J$5","v":{"v":0,"d":"0.0000"}},{"$nulls":4},{"$f":"(K118+L118+M118+N118)*$O$5","v":{"v":0,"d":"0.0000"}},null,null,{"v":0,"d":"0.0000"},{"$nulls":3},{"v":0,"d":"0.0000"},{"$nulls":3},{"v":0,"d":"0.0000"},{"v":0,"d":"0.000"},{"$f":"(D118+E118)-AA118","v":{"v":0,"d":"0.000"}}]
[99,"лимон","кг",{"$nulls":6},{"$f":"(F119+G119+H119+I119)*$J$5","v":{"v":0,"d":"0.0000"}},{"$nulls":4},{"$f":"(K119+L119+M119+N119)*$O$5","v":{"v":0,"d":"0.0000"}},null,null,{"v":0,"d":"0.0000"},{"$nulls":3},{"v":0,"d":"0.0000"},{"$nulls":3},{"v":0,"d":"0.0000"},{"v":0,"d":"0.000"},{"$f":"(D119+E119)-AA119","v":{"v":0,"d":"0.000"}}]
[100,"яблоки свежие","кг",null,null,{"v":0.1,"d":"0.1000"},{"$nulls":3},{"$f":"(F120+G120+H120+I120)*$J$5","v":{"v":0.1,"d":"0.1000"}},{"v":0.1,"d":"0.1000"},{"$nulls":3},{"$f":"(K120+L120+M120+N120)*$O$5","v":{"v":0.1,"d":"0.1000"}},null,null,{"v":0,"d":"0.0000"},{"$nulls":3},{"v":0,"d":"0.0000"},null,0.0228,null,0.0228,{"v":0.2228,"d":"0.223"},{"$f":"(D120+E120)-AA120","v":{"v":-0.2228,"d":"-0.223"}}]
[null,"Овощи / зелень ",{"$nulls":7},{"$f":"(F121+G121+H121+I121)*$J$5","v":{"v":0,"d":"0.0000"}},{"$nulls":4},{"$f":"(K121+L121+M121+N121)*$O$5","v":{"v":0,"d":"0.0000"}},null,null,{"v":0,"d":"0.0000"},{"$nulls":3},{"v":0,"d":"0.0000"},{"$nulls":3},{"v":0,"d":"0.0000"},{"v":0,"d":"0.000"},{"$f":"(D121+E121)-AA121","v":{"v":0,"d":"0.000"}}]
[101,"капуста свежая","кг",{"$nulls":6},{"$f":"(F122+G122+H122+I122)*$J$5","v":{"v":0,"d":"0.0000"}},{"$nulls":4},{"$f":"(K122+L122+M122+N122)*$O$5","v":{"v":0,"d":"0.0000"}},null,null,{"v":0,"d":"0.0000"},{"$nulls":3},{"v":0,"d":"0.0000"},{"$nulls":3},{"v":0,"d":"0.0000"},{"v":0,"d":"0.000"},{"$f":"(D122+E122)-AA122","v":{"v":0,"d":"0.000"}}]
[102,"картофель","кг",{"$nulls":6},{"$f":"(F123+G123+H123+I123)*$J$5","v":{"v":0,"d":"0.0000"}},{"$nulls":4},{"$f":"(K123+L123+M123+N123)*$O$5","v":{"v":0,"d":"0.0000"}},null,null,{"v":0,"d":"0.0000"},{"$nulls":3},{"v":0,"d":"0.0000"},{"v":0.1,"d":"0.1000"},null,null,{"v":0.1,"d":"0.1000"},{"v":0.1,"d":"0.100"},{"$f":"(D123+E123)-AA123","v":{"v":-0.1,"d":"-0.100"}}]
[103,"лук репчатый","кг",{"$nulls":6},{"$f":"(F124+G124+H124+I124)*$J$5","v":{"v":0,"d":"0.0000"}},{"$nulls":4},{"$f":"(K124+L124+M124+N124)*$O$5","v":{"v":0,"d":"0.0000"}},null,null,{"v":0,"d":"0.0000"},{"$nulls":3},{"v":0,"d":"0.0000"},0.0072,null,null,0.0072,{"v":0.0072,"d":"0.007"},{"$f":"(D124+E124)-AA124","v":{"v":-0.0072,"d":"-0.007"}}]
[104,"морковь","кг",{"$nulls":6},{"$f":"(F125+G125+H125+I125)*$J$5","v":{"v":0,"d":"0.0000"}},{"$nulls":4},{"$f":"(K125+L125+M125+N125)*$O$5","v":{"v":0,"d":"0.0000"}},null,null,{"v":0,"d":"0.0000"},{"$nulls":3},{"v":0,"d":"0.0000"},0.0125,null,null,0.0125,{"v":0.0125,"d":"0.013"},{"$f":"(D125+E125)-AA125","v":{"v":-0.0125,"d":"-0.013"}}]
[105,"свекла","кг",{"$nulls":6},{"$f":"(F126+G126+H126+I126)*$J$5","v":{"v":0,"d":"0.0000"}},{"$nulls":4},{"$f":"(K126+L126+M126+N126)*$O$5","v":{"v":0,"d":"0.0000"}},null,null,{"v":0,"d":"0.0000"},{"$nulls":3},{"v":0,"d":"0.0000"},{"$nulls":3},{"v":0,"d":"0.0000"},{"v":0,"d":"0.000"},{"$f":"(D126+E126)-AA126","v":{"v":0,"d":"0.000"}}]
[106,"огурцы св.","кг",{"$nulls":6},{"$f":"(F127+G127+H127+I127)*$J$5","v":{"v":0,"d":"0.0000"}},{"$nulls":4},{"$f":"(K127+L127+M127+N127)*$O$5","v":{"v":0,"d":"0.0000"}},null,null,{"v":0,"d":"0.0000"},{"$nulls":3},{"v":0,"d":"0.0000"},{"$nulls":3},{"v":0,"d":"0.0000"},{"v":0,"d":"0.000"},{"$f":"(D127+E127)-AA127","v":{"v":0,"d":"0.000"}}]
[107,"томаты св.","кг",{"$nulls":6},{"$f":"(F128+G128+H128+I128)*$J$5","v":{"v":0,"d":"0.0000"}},{"$nulls":4},{"$f":"(K128+L128+M128+N128)*$O$5","v":{"v":0,"d":"0.0000"}},null,null,{"v":0,"d":"0.0000"},{"$nulls":3},{"v":0,"d":"0.0000"},{"$nulls":3},{"v":0,"d":"0.0000"},{"v":0,"d":"0.000"},{"$f":"(D128+E128)-AA128","v":{"v":0,"d":"0.000"}}]
[108,"перец болг.красный","кг",{"$nulls":6},{"$f":"(F129+G129+H129+I129)*$J$5","v":{"v":0,"d":"0.0000"}},{"$nulls":4},{"$f":"(K129+L129+M129+N129)*$O$5","v":{"v":0,"d":"0.0000"}},null,null,{"v":0,"d":"0.0000"},{"$nulls":3},{"v":0,"d":"0.0000"},{"$nulls":3},{"v":0,"d":"0.0000"},{"v":0,"d":"0.000"},{"$f":"(D129+E129)-AA129","v":{"v":0,"d":"0.000"}}]
[109,"тыква","кг",{"$nulls":6},{"$f":"(F130+G130+H130+I130)*$J$5","v":{"v":0,"d":"0.0000"}},{"$nulls":4},{"$f":"(K130+L130+M130+N130)*$O$5","v":{"v":0,"d":"0.0000"}},null,null,{"v":0,"d":"0.0000"},{"$nulls":3},{"v":0,"d":"0.0000"},{"$nulls":3},{"v":0,"d":"0.0000"},{"v":0,"d":"0.000"},{"$f":"(D130+E130)-AA130","v":{"v":0,"d":"0.000"}}]
["Овощи очищ ПФ",{"$nulls":8},{"$f":"(F131+G131+H131+I131)*$J$5","v":{"v":0,"d":"0.0000"}},{"$nulls":4},{"$f":"(K131+L131+M131+N131)*$O$5","v":{"v":0,"d":"0.0000"}},null,null,{"v":0,"d":"0.0000"},{"$nulls":3},{"v":0,"d":"0.0000"},{"$nulls":3},{"v":0,"d":"0.0000"},{"v":0,"d":"0.000"},{"$f":"(D131+E131)-AA131","v":{"v":0,"d":"0.000"}}]
[110,"капуста св.очищенная","кг",{"$nulls":6},{"$f":"(F132+G132+H132+I132)*$J$5","v":{"v":0,"d":"0.0000"}},{"$nulls":4},{"$f":"(K132+L132+M132+N132)*$O$5","v":{"v":0,"d":"0.0000"}},null,null,{"v":0,"d":"0.0000"},{"$nulls":3},{"v":0,"d":"0.0000"},{"$nulls":3},{"v":0,"d":"0.0000"},{"v":0,"d":"0.000"},{"$f":"(D132+E132)-AA132","v":{"v":0,"d":"0.000"}}]
[111,"картофель св. очищенный","кг",{"$nulls":6},{"$f":"(F133+G133+H133+I133)*$J$5","v":{"v":0,"d":"0.0000"}},{"$nulls":4},{"$f":"(K133+L133+M133+N133)*$O$5","v":{"v":0,"d":"0.0000"}},null,null,{"v":0,"d":"0.0000"},{"$nulls":3},{"v":0,"d":"0.0000"},{"$nulls":3},{"v":0,"d":"0.0000"},{"v":0,"d":"0.000"},{"$f":"(D133+E133)-AA133","v":{"v":0,"d":"0.000"}}]
[112,"лук репчатый св.очищенный","кг",{"$nulls":6},{"$f":"(F134+G134+H134+I134)*$J$5","v":{"v":0,"d":"0.0000"}},{"$nulls":4},{"$f":"(K134+L134+M134+N134)*$O$5","v":{"v":0,"d":"0.0000"}},null,null,{"v":0,"d":"0.0000"},{"$nulls":3},{"v":0,"d":"0.0000"},{"$nulls":3},{"v":0,"d":"0.0000"},{"v":0,"d":"0.000"},{"$f":"(D134+E134)-AA134","v":{"v":0,"d":"0.000"}}]
[113,"морковь св.очищенная","кг",{"$nulls":6},{"$f":"(F135+G135+H135+I135)*$J$5","v":{"v":0,"d":"0.0000"}},{"$nulls":4},{"$f":"(K135+L135+M135+N135)*$O$5","v":{"v":0,"d":"0.0000"}},null,null,{"$f":"(P135+Q135)*$R$5","v":{"v":0,"d":"0.0000"}},{"$nulls":3},{"v":0,"d":"0.0000"},{"$nulls":3},{"$f":"(W135+X135+Y135)*$Z$5","v":{"v":0,"d":"0.0000"}},{"v":0,"d":"0.000"},{"$f":"(D135+E135)-AA135","v":{"v":0,"d":"0.000"}}]
[114,"свекла св.очищенная","кг",{"$nulls":6},{"$f":"(F136+G136+H136+I136)*$J$5","v":{"v":0,"d":"0.0000"}},{"$nulls":4},{"$f":"(K136+L136+M136+N136)*$O$5","v":{"v":0,"d":"0.0000"}},null,null,{"v":0,"d":"0.0000"},{"$nulls":3},{"$f":"(U136+T136+S136)*V$5","v":{"v":0,"d":"0.0000"}},{"$nulls":3},{"v":0,"d":"0.0000"},{"$f":"J136+O136+R136+Z136","v":{"v":0,"d":"0.000"}},{"$f":"(D136+E136)-AA136","v":{"v":0,"d":"0.000"}}]
[null,"Полуфабрикаты",{"$nulls":7},{"$f":"(F137+G137+H137+I137)*$J$5","v":{"v":0,"d":"0.0000"}},{"$nulls":4},{"$f":"(K137+L137+M137+N137)*$O$5","v":{"v":0,"d":"0.0000"}},null,null,{"v":0,"d":"0.0000"},{"$nulls":3},{"v":0,"d":"0.0000"},{"$nulls":3},{"v":0,"d":"0.0000"},{"v":0,"d":"0.000"},{"$f":"(D137+E137)-AA137","v":{"v":0,"d":"0.000"}}]
[115,"сырники ПФ","шт",{"$nulls":3},{"v":1,"d":"1.0000"},null,null,{"$f":"(F138+G138+H138+I138)*$J$5","v":{"v":1,"d":"1.0000"}},null,{"v":1,"d":"1.0000"},null,null,{"$f":"(K138+L138+M138+N138)*$O$5","v":{"v":1,"d":"1.0000"}},{"$nulls":11},{"v":2,"d":"2.000"},{"$f":"(D138+E138)-AA138","v":{"v":-2,"d":"-2.000"}}]
[116,"пельмени ПФ","кг",{"$nulls":6},{"$f":"(F139+G139+H139+I139)*$J$5","v":{"v":0,"d":"0.0000"}},{"$nulls":4},{"$f":"(K139+L139+M139+N139)*$O$5","v":{"v":0,"d":"0.0000"}},null,null,{"v":0,"d":"0.0000"},{"$nulls":3},{"v":0,"d":"0.0000"},{"$nulls":3},{"v":0,"d":"0.0000"},{"v":0,"d":"0.000"},{"$f":"(D139+E139)-AA139","v":{"v":0,"d":"0.000"}}]
[117,"биточки рыбные","шт",{"$nulls":6},{"$f":"(F140+G140+H140+I140)*$J$5","v":{"v":0,"d":"0.0000"}},{"$nulls":4},{"$f":"(K140+L140+M140+N140)*$O$5","v":{"v":0,"d":"0.0000"}},null,null,{"v":0,"d":"0.0000"},{"$nulls":3},{"v":0,"d":"0.0000"},{"$nulls":3},{"v":0,"d":"0.0000"},{"v":0,"d":"0.000"},{"$f":"(D140+E140)-AA140","v":{"v":0,"d":"0.000"}}]
[118,"фрикадельки мясные ","кг",{"$nulls":6},{"$f":"(F141+G141+H141+I141)*$J$5","v":{"v":0,"d":"0.0000"}},{"$nulls":4},{"$f":"(K141+L141+M141+N141)*$O$5","v":{"v":0,"d":"0.0000"}},null,null,{"v":0,"d":"0.0000"},{"$nulls":3},{"v":0,"d":"0.0000"},{"$nulls":3},{"v":0,"d":"0.0000"},{"v":0,"d":"0.000"},{"$f":"(D141+E141)-AA141","v":{"v":0,"d":"0.000"}}]
[119,"фрикадельки куриные","кг",{"$nulls":6},{"$f":"(F142+G142+H142+I142)*$J$5","v":{"v":0,"d":"0.0000"}},{"$nulls":4},{"$f":"(K142+L142+M142+N142)*$O$5","v":{"v":0,"d":"0.0000"}},null,null,{"v":0,"d":"0.0000"},{"$nulls":3},{"v":0,"d":"0.0000"},{"$nulls":3},{"v":0,"d":"0.0000"},{"v":0,"d":"0.000"},{"$f":"(D142+E142)-AA142","v":{"v":0,"d":"0.000"}}]
[120,"хинкали п/ф из говядины","кг",{"$nulls":6},{"$f":"(F143+G143+H143+I143)*$J$5","v":{"v":0,"d":"0.0000"}},{"$nulls":4},{"$f":"(K143+L143+M143+N143)*$O$5","v":{"v":0,"d":"0.0000"}},null,null,{"v":0,"d":"0.0000"},{"$nulls":3},{"v":0,"d":"0.0000"},{"$nulls":3},{"v":0,"d":"0.0000"},{"v":0,"d":"0.000"},{"$f":"(D143+E143)-AA143","v":{"v":0,"d":"0.000"}}]
[121,"котлеты из говядины \"Домашние\"  ","шт",{"$nulls":6},{"$f":"(F144+G144+H144+I144)*$J$5","v":{"v":0,"d":"0.0000"}},{"$nulls":4},{"$f":"(K144+L144+M144+N144)*$O$5","v":{"v":0,"d":"0.0000"}},null,null,{"v":0,"d":"0.0000"},{"$nulls":3},{"v":0,"d":"0.0000"},{"$nulls":3},{"v":0,"d":"0.0000"},{"v":0,"d":"0.000"},{"$f":"(D144+E144)-AA144","v":{"v":0,"d":"0.000"}}]
[122,"бифштекс из говядины","шт",{"$nulls":6},{"$f":"(F145+G145+H145+I145)*$J$5","v":{"v":0,"d":"0.0000"}},{"$nulls":4},{"$f":"(K145+L145+M145+N145)*$O$5","v":{"v":0,"d":"0.0000"}},null,null,{"v":0,"d":"0.0000"},{"$nulls":3},{"v":0,"d":"0.0000"},{"$nulls":3},{"v":0,"d":"0.0000"},{"v":0,"d":"0.000"},{"$f":"(D145+E145)-AA145","v":{"v":0,"d":"0.000"}}]
[123,"котлеты из мяса кур","шт",{"$nulls":6},{"$f":"(F146+G146+H146+I146)*$J$5","v":{"v":0,"d":"0.0000"}},{"$nulls":4},{"$f":"(K146+L146+M146+N146)*$O$5","v":{"v":0,"d":"0.0000"}},null,null,{"v":0,"d":"0.0000"},{"$nulls":3},{"v":0,"d":"0.0000"},{"$nulls":3},{"v":0,"d":"0.0000"},{"v":0,"d":"0.000"},{"$f":"(D146+E146)-AA146","v":{"v":0,"d":"0.000"}}]
[124,"котлеты \"Аппетитные\" мясо-куриные  ","шт",{"$nulls":6},{"$f":"(F147+G147+H147+I147)*$J$5","v":{"v":0,"d":"0.0000"}},{"$nulls":4},{"$f":"(K147+L147+M147+N147)*$O$5","v":{"v":0,"d":"0.0000"}},null,null,{"v":0,"d":"0.0000"},{"$nulls":3},{"v":0,"d":"0.0000"},{"$nulls":3},{"v":0,"d":"0.0000"},{"v":0,"d":"0.000"},{"$f":"(D147+E147)-AA147","v":{"v":0,"d":"0.000"}}]
[125,"ежики мясные с рисом ","шт",{"$nulls":6},{"$f":"(F148+G148+H148+I148)*$J$5","v":{"v":0,"d":"0.0000"}},{"$nulls":4},{"$f":"(K148+L148+M148+N148)*$O$5","v":{"v":0,"d":"0.0000"}},null,null,{"v":0,"d":"0.0000"},{"$nulls":3},{"v":0,"d":"0.0000"},{"$nulls":3},{"v":0,"d":"0.0000"},{"v":0,"d":"0.000"},{"$f":"(D148+E148)-AA148","v":{"v":0,"d":"0.000"}}]

{"sheet":"Вт День 2 Нед 1","index":1,"n_rows":148,"n_cols":33,"rows_kept":148,"merged":[[0,0,0,31],[1,5,1,10],[1,11,3,11],[1,12,1,18],[1,19,3,19],[1,20,1,21],[1,22,3,22],[1,23,1,25],[1,26,3,26],[1,27,1,29],[1,30,3,30],[1,31,3,31],[1,32,2,32]]}
["Расход продуктов питания в образовательных учереждениях  "]
[{"$nulls":5},"Меню с 1 по 4 класс  69,43 РУБ",{"$nulls":5},"ВСЕГО","Меню с 5 по 11 класс 69,43  РУБ",{"$nulls":6},"ВСЕГО","Меню на сумму         9,60  РУБ",null,"ИТОГО","Меню КАШИ  НА молоке                          ",null,null,"ИТОГО","Меню   СУПА  ",null,null,"ИТОГО","ВСЕГО ЗА ДЕНЬ расход продуктов по всем рационам","остаток на конец"]
[null,"ДЕНЬ 2 неделя 1",null,"остаток на начало ","приход",null,"Тефтели мясные запеченые в сметанно-томатном соусе",null,"Макароны отварные с маслом сливочным","чай с сахаром. С лимоном ","Хлеб пшенич ",null,null,"Ежики мясные запеченные в сметанно-томатном соусе","Макароные изделия отварные",null,"чай с сахаром, с лимоном ","Хлеб пшенич ",null,null,"вафли","чай с сахаром, с лимоном ",null,"каша  ячневая с масл слив","чай с сахаром с лимоном","хлеб ржаной",null,"Суп лапша ПФ дом с мясом пицы","напиток из шиповника","Хлеб ржаной "]
[null,"КОЛИЧЕСТВО ДЕТЕЙ",{"$nulls":4},"7-11",null,"7-11","7-11","7-11",null,null,"12-18","12-18",null,"12-18","12-18",null,null,"12-18","12-18",null,"12-18","12-18","12-18",null,"12-18","12-18","12-18"]
[null,"Выход,гр",{"$nulls":4},"60/40",null,"150/3","185/10/5","30/30","1",null,"60/40","200",null,"185/10/5","20/30",null,"1","20","190/10/5",1,"150/3","185/10/5","30",0,"250/10","200","30","1",{"$f":"L5+T5+W5+AE5","v":4}]
[null,"Хлеб"]
[1,"батон ","кг",{"$f":"'Пн День 1 Нед 1'!AB7","v":0},{"$nulls":7},{"$f":"(G7+I7+J7+K7)*$L$5","v":{"v":0,"d":"0.0000"}},{"$nulls":7},{"$f":"(N7+O7+Q7+R7)*$T$5","v":{"v":0,"d":"0.0000"}},null,null,{"$f":"(U7+V7)*$W$5","v":{"v":0,"d":"0.0000"}},{"$nulls":3},{"$f":"(X7+Y7+Z7)*$AA$5","v":{"v":0,"d":"0.0000"}},{"$nulls":3},{"$f":"(AB7+AC7+AD7)*$AE$5","v":{"v":0,"d":"0.0000"}},{"$f":"L7+T7+W7+AE7","v":{"v":0,"d":"0.000"}},{"$f":"(D7+E7)-AF7","v":{"v":0,"d":"0.000"}}]
[2,"хлеб пшеничный ","кг",{"$f":"'Пн День 1 Нед 1'!AB8","v":0},{"$nulls":6},{"v":0.03,"d":"0.0300"},{"$f":"(G8+I8+J8+K8)*$L$5","v":{"v":0.03,"d":"0.0300"}},{"$nulls":5},{"v":0.02,"d":"0.0200"},null,{"$f":"(N8+O8+Q8+R8)*$T$5","v":{"v":0.02,"d":"0.0200"}},null,null,{"$f":"(U8+V8)*$W$5","v":{"v":0,"d":"0.0000"}},{"$nulls":3},{"$f":"(X8+Y8+Z8)*$AA$5","v":{"v":0,"d":"0.0000"}},{"$nulls":3},{"$f":"(AB8+AC8+AD8)*$AE$5","v":{"v":0,"d":"0.0000"}},{"v":0.05,"d":"0.050"},{"v":-0.05,"d":"-0.050"}]
[3,"хлеб ржаной","кг",{"$f":"'Пн День 1 Нед 1'!AB9","v":-0.08499999999999999},{"$nulls":6},{"v":0.03,"d":"0.0300"},{"v":0.03,"d":"0.0300"},{"$nulls":5},{"v":0.03,"d":"0.0300"},null,{"v":0.03,"d":"0.0300"},null,null,{"v":0,"d":"0.0000"},null,null,{"v":0.03,"d":"0.0300"},{"v":0,"d":"0.0000"},null,null,{"v":0.03,"d":"0.0300"},{"v":0.03,"d":"0.0300"},{"v":0.09,"d":"0.090"},-0.175]
[4,"булоч/выпечка готов с х/ком","шт",{"$f":"'Пн День 1 Нед 1'!AB10","v":0},{"$nulls":7},{"v":0,"d":"0.0000"},{"$nulls":7},{"v":0,"d":"0.0000"},null,null,{"v":0,"d":"0.0000"},{"$nulls":3},{"v":0,"d":"0.0000"},{"$nulls":3},{"v":0,"d":"0.0000"},{"v":0,"d":"0.000"},{"v":0,"d":"0.000"}]
[null,"Молочка",null,{"$f":"'Пн День 1 Нед 1'!AB11","v":0},{"$nulls":7},{"v":0,"d":"0.0000"},{"$nulls":7},{"v":0,"d":"0.0000"},null,null,{"v":0,"d":"0.0000"},{"$nulls":3},{"v":0,"d":"0.0000"},{"$nulls":3},{"v":0,"d":"0.0000"},{"v":0,"d":"0.000"},{"v":0,"d":"0.000"}]
[5,"молоко 2,5%","кг",{"$f":"'Пн День 1 Нед 1'!AB12","v":-0.155},{"$nulls":7},{"v":0,"d":"0.0000"},{"$nulls":7},{"v":0,"d":"0.0000"},null,null,{"v":0,"d":"0.0000"},{"v":0.075,"d":"0.0750"},null,null,{"v":0,"d":"0.0000"},{"$nulls":3},{"v":0,"d":"0.0000"},{"v":0,"d":"0.000"},-0.155]
[6,"творог 5%","кг",{"$f":"'Пн День 1 Нед 1'!AB13","v":0},{"$nulls":7},{"v":0,"d":"0.0000"},{"$nulls":7},{"v":0,"d":"0.0000"},null,null,{"v":0,"d":"0.0000"},{"$nulls":3},{"v":0,"d":"0.0000"},{"$nulls":3},{"v":0,"d":"0.0000"},{"v":0,"d":"0.000"},{"v":0,"d":"0.000"}]
[7,"сметана 15%","кг",{"$f":"'Пн День 1 Нед 1'!AB14","v":-0.005},null,null,{"v":0.01,"d":"0.0100"},{"$nulls":4},{"v":0.01,"d":"0.0100"},null,{"v":0.01,"d":"0.0100"},{"$nulls":5},{"v":0.01,"d":"0.0100"},null,null,{"v":0,"d":"0.0000"},{"$nulls":3},{"v":0,"d":"0.0000"},{"$nulls":3},{"v":0,"d":"0.0000"},{"v":0.02,"d":"0.020"},-0.025]
[8,"йогурт фруктов ","кг",{"$f":"'Пн День 1 Нед 1'!AB15","v":0},{"$nulls":7},{"v":0,"d":"0.0000"},{"$nulls":7},{"v":0,"d":"0.0000"},null,null,{"v":0,"d":"0.0000"},{"$nulls":3},{"v":0,"d":"0.0000"},{"$nulls":3},{"v":0,"d":"0.0000"},{"v":0,"d":"0.000"},{"v":0,"d":"0.000"}]
[9,"катык 2,5%","кг",{"$f":"'Пн День 1 Нед 1'!AB16","v":0},{"$nulls":7},{"v":0,"d":"0.0000"},{"$nulls":7},{"v":0,"d":"0.0000"},null,null,{"v":0,"d":"0.0000"},{"$nulls":3},{"v":0,"d":"0.0000"},{"$nulls":3},{"v":0,"d":"0.0000"},{"v":0,"d":"0.000"},{"v":0,"d":"0.000"}]
[10,"кефир 2,5%","кг",{"$f":"'Пн День 1 Нед 1'!AB17","v":0},{"$nulls":7},{"v":0,"d":"0.0000"},{"$nulls":7},{"v":0,"d":"0.0000"},null,null,{"v":0,"d":"0.0000"},{"$nulls":3},{"v":0,"d":"0.0000"},{"$nulls":3},{"v":0,"d":"0.0000"},{"v":0,"d":"0.000"},{"v":0,"d":"0.000"}]
[11,"ряженка 2,5%","кг",{"$f":"'Пн День 1 Нед 1'!AB18","v":0},{"$nulls":7},{"v":0,"d":"0.0000"},{"$nulls":7},{"v":0,"d":"0.0000"},null,null,{"v":0,"d":"0.0000"},{"$nulls":3},{"v":0,"d":"0.0000"},{"$nulls":3},{"v":0,"d":"0.0000"},{"v":0,"d":"0.000"},{"v":0,"d":"0.000"}]
[12,"напиток ацидофильный","шт",{"$f":"'Пн День 1 Нед 1'!AB19","v":0},{"$nulls":7},{"v":0,"d":"0.0000"},{"$nulls":7},{"v":0,"d":"0.0000"},null,null,{"v":0,"d":"0.0000"},{"$nulls":3},{"v":0,"d":"0.0000"},{"$nulls":3},{"v":0,"d":"0.0000"},{"v":0,"d":"0.000"},{"v":0,"d":"0.000"}]
[null,"Масло / сыр ",null,{"$f":"'Пн День 1 Нед 1'!AB20","v":0},{"$nulls":7},{"v":0,"d":"0.0000"},{"$nulls":7},{"v":0,"d":"0.0000"},null,null,{"v":0,"d":"0.0000"},{"$nulls":3},{"v":0,"d":"0.0000"},{"$nulls":3},{"v":0,"d":"0.0000"},{"v":0,"d":"0.000"},{"v":0,"d":"0.000"}]
[13,"масло растительное","кг",{"$f":"'Пн День 1 Нед 1'!AB21","v":-0.0025},null,null,{"v":0.005,"d":"0.0050"},{"$nulls":4},{"v":0.005,"d":"0.0050"},null,{"v":0.005,"d":"0.0050"},{"$nulls":5},{"v":0.005,"d":"0.0050"},null,null,{"v":0,"d":"0.0000"},{"$nulls":3},{"v":0,"d":"0.0000"},{"v":0.005,"d":"0.0050"},null,null,{"v":0.005,"d":"0.0050"},0.015,{"v":-0.017499999999999998,"d":"-0.018"}]
[14,"масло сливочное","кг",{"$f":"'Пн День 1 Нед 1'!AB22","v":-0.008},{"$nulls":7},{"v":0,"d":"0.0000"},{"$nulls":7},{"v":0,"d":"0.0000"},null,null,{"v":0,"d":"0.0000"},{"v":0.003,"d":"0.0030"},null,null,{"v":0,"d":"0.0000"},{"$nulls":3},{"v":0,"d":"0.0000"},{"v":0,"d":"0.000"},-0.008]
[15,"сыр голландский","кг",{"$f":"'Пн День 1 Нед 1'!AB23","v":0},{"$nulls":7},{"v":0,"d":"0.0000"},{"$nulls":7},{"v":0,"d":"0.0000"},null,null,{"v":0,"d":"0.0000"},{"$nulls":3},{"v":0,"d":"0.0000"},{"$nulls":3},{"v":0,"d":"0.0000"},{"v":0,"d":"0.000"},{"v":0,"d":"0.000"}]
[null,"Мясо",null,{"$f":"'Пн День 1 Нед 1'!AB24","v":0},{"$nulls":7},{"v":0,"d":"0.0000"},{"$nulls":7},{"v":0,"d":"0.0000"},null,null,{"v":0,"d":"0.0000"},{"$nulls":3},{"v":0,"d":"0.0000"},{"$nulls":3},{"v":0,"d":"0.0000"},{"v":0,"d":"0.000"},{"v":0,"d":"0.000"}]
[16,"говядина (котлетное мясо) ","кг",{"$f":"'Пн День 1 Нед 1'!AB25","v":0},{"$nulls":7},{"v":0,"d":"0.0000"},{"$nulls":7},{"v":0,"d":"0.0000"},null,null,{"v":0,"d":"0.0000"},{"$nulls":3},{"v":0,"d":"0.0000"},{"$nulls":3},{"v":0,"d":"0.0000"},{"v":0,"d":"0.000"},{"v":0,"d":"0.000"}]
[17,"фарш говяжий","кг",{"$f":"'Пн День 1 Нед 1'!AB26","v":0},null,null,{"v":0.038,"d":"0.0380"},{"$nulls":4},{"v":0.038,"d":"0.0380"},null,{"v":0.038,"d":"0.0380"},{"$nulls":5},{"v":0.038,"d":"0.0380"},null,null,{"v":0,"d":"0.0000"},{"$nulls":3},{"v":0,"d":"0.0000"},{"$nulls":3},{"v":0,"d":"0.0000"},0.076,-0.076]
[18,"говядина лопатка б/к","кг",{"$f":"'Пн День 1 Нед 1'!AB27","v":0},{"$nulls":7},{"v":0,"d":"0.0000"},{"$nulls":7},{"v":0,"d":"0.0000"},null,null,{"v":0,"d":"0.0000"},{"$nulls":3},{"v":0,"d":"0.0000"},{"$nulls":3},{"v":0,"d":"0.0000"},{"v":0,"d":"0.000"},{"v":0,"d":"0.000"}]
[19,"сосиски","кг",{"$f":"'Пн День 1 Нед 1'!AB28","v":0},{"$nulls":7},{"v":0,"d":"0.0000"},{"$nulls":7},{"v":0,"d":"0.0000"},null,null,{"v":0,"d":"0.0000"},{"$nulls":3},{"v":0,"d":"0.0000"},{"$nulls":3},{"v":0,"d":"0.0000"},{"v":0,"d":"0.000"},{"v":0,"d":"0.000"}]
[20,"колбаса п/к \"Халяль\"","кг",{"$f":"'Пн День 1 Нед 1'!AB29","v":0},{"$nulls":7},{"v":0,"d":"0.0000"},{"$nulls":7},{"v":0,"d":"0.0000"},null,null,{"v":0,"d":"0.0000"},{"$nulls":3},{"v":0,"d":"0.0000"},{"$nulls":3},{"v":0,"d":"0.0000"},{"v":0,"d":"0.000"},{"v":0,"d":"0.000"}]
[21,"куриное бедро","кг",{"$f":"'Пн День 1 Нед 1'!AB30","v":0},{"$nulls":7},{"v":0,"d":"0.0000"},{"$nulls":7},{"v":0,"d":"0.0000"},null,null,{"v":0,"d":"0.0000"},{"$nulls":3},{"v":0,"d":"0.0000"},{"$nulls":3},{"v":0,"d":"0.0000"},{"v":0,"d":"0.000"},{"v":0,"d":"0.000"}]
[22,"куриная грудка","кг",{"$f":"'Пн День 1 Нед 1'!AB31","v":-0.01317},{"$nulls":7},{"v":0,"d":"0.0000"},{"$nulls":7},{"v":0,"d":"0.0000"},null,null,{"v":0,"d":"0.0000"},{"$nulls":3},{"v":0,"d":"0.0000"},{"v":0.01624,"d":"0.0162"},null,null,{"v":0.01624,"d":"0.0162"},{"v":0.01624,"d":"0.016"},{"v":-0.02941,"d":"-0.029"}]
[23,"куры/цыплята потрош.","кг",{"$f":"'Пн День 1 Нед 1'!AB32","v":0},{"$nulls":7},{"v":0,"d":"0.0000"},{"$nulls":7},{"v":0,"d":"0.0000"},null,null,{"v":0,"d":"0.0000"},{"$nulls":3},{"v":0,"d":"0.0000"},{"$nulls":3},{"v":0,"d":"0.0000"},{"v":0,"d":"0.000"},{"v":0,"d":"0.000"}]
[24,"фарш куриный","кг",{"$f":"'Пн День 1 Нед 1'!AB33","v":0},{"$nulls":7},{"v":0,"d":"0.0000"},{"$nulls":7},{"v":0,"d":"0.0000"},null,null,{"v":0,"d":"0.0000"},{"$nulls":3},{"v":0,"d":"0.0000"},{"$nulls":3},{"v":0,"d":"0.0000"},{"v":0,"d":"0.000"},{"v":0,"d":"0.000"}]
[25,"индейка бедро филе","кг",{"$f":"'Пн День 1 Нед 1'!AB34","v":0},{"$nulls":7},{"v":0,"d":"0.0000"},{"$nulls":7},{"v":0,"d":"0.0000"},null,null,{"v":0,"d":"0.0000"},{"$nulls":3},{"v":0,"d":"0.0000"},{"$nulls":3},{"v":0,"d":"0.0000"},{"v":0,"d":"0.000"},{"v":0,"d":"0.000"}]
[26,"индейка грудка филе","кг",{"$f":"'Пн День 1 Нед 1'!AB35","v":0},{"$nulls":7},{"v":0,"d":"0.0000"},{"$nulls":7},{"v":0,"d":"0.0000"},null,null,{"v":0,"d":"0.0000"},{"$nulls":3},{"v":0,"d":"0.0000"},{"$nulls":3},{"v":0,"d":"0.0000"},{"v":0,"d":"0.000"},{"v":0,"d":"0.000"}]
[null,"Рыба",null,{"$f":"'Пн День 1 Нед 1'!AB36","v":0},{"$nulls":7},{"v":0,"d":"0.0000"},{"$nulls":7},{"v":0,"d":"0.0000"},null,null,{"v":0,"d":"0.0000"},{"$nulls":3},{"v":0,"d":"0.0000"},{"$nulls":3},{"v":0,"d":"0.0000"},{"v":0,"d":"0.000"},{"v":0,"d":"0.000"}]
[27,"горбуша ПБГ с/м","кг",{"$f":"'Пн День 1 Нед 1'!AB37","v":0},{"$nulls":7},{"v":0,"d":"0.0000"},{"$nulls":7},{"v":0,"d":"0.0000"},null,null,{"v":0,"d":"0.0000"},{"$nulls":3},{"v":0,"d":"0.0000"},{"$nulls":3},{"v":0,"d":"0.0000"},{"v":0,"d":"0.000"},{"v":0,"d":"0.000"}]
[28,"минтай б/г с/м","кг",{"$f":"'Пн День 1 Нед 1'!AB38","v":0},{"$nulls":7},{"v":0,"d":"0.0000"},{"$nulls":7},{"v":0,"d":"0.0000"},null,null,{"v":0,"d":"0.0000"},{"$nulls":3},{"v":0,"d":"0.0000"},{"$nulls":3},{"v":0,"d":"0.0000"},{"v":0,"d":"0.000"},{"v":0,"d":"0.000"}]
[29,"фарш минтая","кг",{"$f":"'Пн День 1 Нед 1'!AB39","v":0},{"$nulls":7},{"v":0,"d":"0.0000"},{"$nulls":7},{"v":0,"d":"0.0000"},null,null,{"v":0,"d":"0.0000"},{"$nulls":3},{"v":0,"d":"0.0000"},{"$nulls":3},{"v":0,"d":"0.0000"},{"$f":"L39+T39+W39+AE39","v":{"v":0,"d":"0.000"}},{"$f":"(D39+E39)-AF39","v":{"v":0,"d":"0.000"}}]
[null,"Сыпучка",null,{"$f":"'Пн День 1 Нед 1'!AB40","v":0},{"$nulls":7},{"v":0,"d":"0.0000"},{"$nulls":7},{"v":0,"d":"0.0000"},null,null,{"v":0,"d":"0.0000"},{"$nulls":3},{"v":0,"d":"0.0000"},{"$nulls":3},{"v":0,"d":"0.0000"},{"v":0,"d":"0.000"},{"v":0,"d":"0.000"}]
[30,"вермишель","кг",{"$f":"'Пн День 1 Нед 1'!AB41","v":0},{"$nulls":7},{"v":0,"d":"0.0000"},{"$nulls":7},{"v":0,"d":"0.0000"},null,null,{"v":0,"d":"0.0000"},{"$nulls":3},{"v":0,"d":"0.0000"},{"$nulls":3},{"v":0,"d":"0.0000"},{"v":0,"d":"0.000"},{"v":0,"d":"0.000"}]
[31,"геркулес","кг",{"$f":"'Пн День 1 Нед 1'!AB42","v":0},{"$nulls":7},{"v":0,"d":"0.0000"},{"$nulls":7},{"v":0,"d":"0.0000"},null,null,{"v":0,"d":"0.0000"},{"$nulls":3},{"v":0,"d":"0.0000"},{"$nulls":3},{"v":0,"d":"0.0000"},{"v":0,"d":"0.000"},{"v":0,"d":"0.000"}]
[32,"горох","кг",{"$f":"'Пн День 1 Нед 1'!AB43","v":0},{"$nulls":7},{"v":0,"d":"0.0000"},{"$nulls":7},{"v":0,"d":"0.0000"},null,null,{"v":0,"d":"0.0000"},{"$nulls":3},{"v":0,"d":"0.0000"},{"$nulls":3},{"v":0,"d":"0.0000"},{"v":0,"d":"0.000"},{"v":0,"d":"0.000"}]
[33,"гречневая крупа","кг",{"$f":"'Пн День 1 Нед 1'!AB44","v":0},{"$nulls":7},{"v":0,"d":"0.0000"},{"$nulls":7},{"v":0,"d":"0.0000"},null,null,{"v":0,"d":"0.0000"},{"$nulls":3},{"v":0,"d":"0.0000"},{"$nulls":3},{"v":0,"d":"0.0000"},{"v":0,"d":"0.000"},{"v":0,"d":"0.000"}]
[34,"кукурузная крупа","кг",{"$f":"'Пн День 1 Нед 1'!AB45","v":0},{"$nulls":7},{"v":0,"d":"0.0000"},{"$nulls":7},{"v":0,"d":"0.0000"},null,null,{"v":0,"d":"0.0000"},{"$nulls":3},{"v":0,"d":"0.0000"},{"$nulls":3},{"v":0,"d":"0.0000"},{"v":0,"d":"0.000"},{"v":0,"d":"0.000"}]
[35,"макаронные изделия","кг",{"$f":"'Пн День 1 Нед 1'!AB46","v":0},{"$nulls":7},{"v":0,"d":"0.0000"},null,null,{"v":0.071,"d":"0.0710"},{"$nulls":4},{"v":0.071,"d":"0.0710"},null,null,{"v":0,"d":"0.0000"},{"$nulls":3},{"v":0,"d":"0.0000"},{"$nulls":3},{"v":0,"d":"0.0000"},0.071,-0.071]
[36,"манная крупа","кг",{"$f":"'Пн День 1 Нед 1'!AB47","v":0},{"$nulls":7},{"v":0,"d":"0.0000"},{"$nulls":7},{"v":0,"d":"0.0000"},null,null,{"v":0,"d":"0.0000"},{"$nulls":3},{"v":0,"d":"0.0000"},{"$nulls":3},{"v":0,"d":"0.0000"},{"v":0,"d":"0.000"},{"v":0,"d":"0.000"}]
[37,"перловая крупа","кг",{"$f":"'Пн День 1 Нед 1'!AB48","v":-0.005},{"$nulls":7},{"v":0,"d":"0.0000"},{"$nulls":7},{"v":0,"d":"0.0000"},null,null,{"v":0,"d":"0.0000"},{"$nulls":3},{"v":0,"d":"0.0000"},{"$nulls":3},{"v":0,"d":"0.0000"},{"v":0,"d":"0.000"},-0.005]
[38,"полбяная крупа","кг",{"$f":"'Пн День 1 Нед 1'!AB49","v":0},{"$nulls":7},{"v":0,"d":"0.0000"},{"$nulls":7},{"v":0,"d":"0.0000"},null,null,{"v":0,"d":"0.0000"},{"$nulls":3},{"v":0,"d":"0.0000"},{"$nulls":3},{"v":0,"d":"0.0000"},{"v":0,"d":"0.000"},{"v":0,"d":"0.000"}]
[39,"пшеничная крупа","кг",{"$f":"'Пн День 1 Нед 1'!AB50","v":0},{"$nulls":7},{"v":0,"d":"0.0000"},{"$nulls":7},{"v":0,"d":"0.0000"},null,null,{"v":0,"d":"0.0000"},{"$nulls":3},{"v":0,"d":"0.0000"},{"$nulls":3},{"v":0,"d":"0.0000"},{"v":0,"d":"0.000"},{"v":0,"d":"0.000"}]
[40,"пшено","кг",{"$f":"'Пн День 1 Нед 1'!AB51","v":-0.0245},{"$nulls":7},{"v":0,"d":"0.0000"},{"$nulls":7},{"v":0,"d":"0.0000"},null,null,{"v":0,"d":"0.0000"},{"$nulls":3},{"v":0,"d":"0.0000"},{"$nulls":3},{"v":0,"d":"0.0000"},{"v":0,"d":"0.000"},{"v":-0.0245,"d":"-0.025"}]
[41,"рис","кг",{"$f":"'Пн День 1 Нед 1'!AB52","v":-0.14500000000000002},null,null,{"v":0.005,"d":"0.0050"},{"$nulls":4},{"v":0.005,"d":"0.0050"},null,{"v":0.005,"d":"0.0050"},{"$nulls":5},{"v":0.005,"d":"0.0050"},null,null,{"v":0,"d":"0.0000"},{"$nulls":3},{"v":0,"d":"0.0000"},{"$nulls":3},{"v":0,"d":"0.0000"},{"v":0.01,"d":"0.010"},{"v":-0.15500000000000003,"d":"-0.155"}]
[42,"ячневая крупа","кг",{"$f":"'Пн День 1 Нед 1'!AB53","v":0},{"$nulls":7},{"v":0,"d":"0.0000"},{"$nulls":7},{"v":0,"d":"0.0000"},null,null,{"v":0,"d":"0.0000"},0.0283,null,null,{"v":0,"d":"0.0000"},{"$nulls":3},{"v":0,"d":"0.0000"},{"v":0,"d":"0.000"},{"v":0,"d":"0.000"}]
[43,"лапша доиашняя п/ф","кг",{"$f":"'Пн День 1 Нед 1'!AB54","v":0},{"$nulls":7},{"v":0,"d":"0.0000"},{"$nulls":7},{"v":0,"d":"0.0000"},null,null,{"v":0,"d":"0.0000"},{"$nulls":3},{"v":0,"d":"0.0000"},{"v":0.02,"d":"0.0200"},null,null,{"v":0.02,"d":"0.0200"},{"v":0.02,"d":"0.020"},{"v":-0.02,"d":"-0.020"}]
[44,"мука пшеничная в/с","кг",{"$f":"'Пн День 1 Нед 1'!AB55","v":0},null,null,{"v":0.007,"d":"0.0070"},{"$nulls":4},{"v":0.007,"d":"0.0070"},null,{"v":0.007,"d":"0.0070"},{"$nulls":5},{"v":0.007,"d":"0.0070"},null,null,{"v":0,"d":"0.0000"},{"$nulls":3},{"v":0,"d":"0.0000"},{"$nulls":3},{"v":0,"d":"0.0000"},0.014,-0.014]
[45,"сахарный песок","кг",{"$f":"'Пн День 1 Нед 1'!AB56","v":-0.0373},{"$nulls":5},{"v":0.01,"d":"0.0100"},null,{"v":0.01,"d":"0.0100"},{"$nulls":4},{"v":0.01,"d":"0.0100"},null,null,{"v":0.01,"d":"0.0100"},null,{"v":0.01,"d":"0.0100"},{"v":0.01,"d":"0.0100"},0.0008,{"v":0.01,"d":"0.0100"},null,{"v":0,"d":"0.0000"},null,{"v":0.01,"d":"0.0100"},null,{"v":0.01,"d":"0.0100"},{"v":0.04,"d":"0.040"},{"v":-0.07730000000000001,"d":"-0.077"}]
[46,"соль","кг",{"$f":"'Пн День 1 Нед 1'!AB57","v":-1.5E-3},null,null,0.0004,{"$nulls":4},0.0004,null,0.0004,{"v":2E-3,"d":"0.0020"},{"$nulls":4},{"v":2.4000000000000002E-3,"d":"0.0024"},null,null,{"v":0,"d":"0.0000"},0.0004,null,null,{"v":0,"d":"0.0000"},0.0009,null,null,0.0009,{"v":0.0037,"d":"0.004"},{"v":-0.0052,"d":"-0.005"}]
[47,"сухари панировочные","кг",{"$f":"'Пн День 1 Нед 1'!AB58","v":0},{"$nulls":7},{"v":0,"d":"0.0000"},{"$nulls":7},{"v":0,"d":"0.0000"},null,null,{"v":0,"d":"0.0000"},{"$nulls":3},{"v":0,"d":"0.0000"},{"$nulls":3},{"v":0,"d":"0.0000"},{"v":0,"d":"0.000"},{"v":0,"d":"0.000"}]
[48,"дрожжи сухие","кг",{"$f":"'Пн День 1 Нед 1'!AB59","v":0},{"$nulls":7},{"v":0,"d":"0.0000"},{"$nulls":7},{"v":0,"d":"0.0000"},null,null,{"v":0,"d":"0.0000"},{"$nulls":3},{"v":0,"d":"0.0000"},{"$nulls":3},{"v":0,"d":"0.0000"},{"v":0,"d":"0.000"},{"v":0,"d":"0.000"}]
[49,"фасоль","кг",{"$f":"'Пн День 1 Нед 1'!AB60","v":0},{"$nulls":7},{"v":0,"d":"0.0000"},{"$nulls":7},{"v":0,"d":"0.0000"},null,null,{"v":0,"d":"0.0000"},{"$nulls":3},{"v":0,"d":"0.0000"},{"$nulls":3},{"v":0,"d":"0.0000"},{"v":0,"d":"0.000"},{"v":0,"d":"0.000"}]
[null,"Консервы",null,{"$f":"'Пн День 1 Нед 1'!AB61","v":0},{"$nulls":7},{"v":0,"d":"0.0000"},{"$nulls":7},{"v":0,"d":"0.0000"},null,null,{"v":0,"d":"0.0000"},{"$nulls":3},{"v":0,"d":"0.0000"},{"$nulls":3},{"v":0,"d":"0.0000"},{"v":0,"d":"0.000"},{"v":0,"d":"0.000"}]
[50,"зеленый горошек к/с","кг",{"$f":"'Пн День 1 Нед 1'!AB62","v":0},{"$nulls":7},{"v":0,"d":"0.0000"},{"$nulls":7},{"v":0,"d":"0.0000"},null,null,{"v":0,"d":"0.0000"},{"$nulls":3},{"v":0,"d":"0.0000"},{"$nulls":3},{"v":0,"d":"0.0000"},{"v":0,"d":"0.000"},{"v":0,"d":"0.000"}]
[51,"кукуруза к/с","кг",{"$f":"'Пн День 1 Нед 1'!AB63","v":0},{"$nulls":7},{"v":0,"d":"0.0000"},{"$nulls":7},{"v":0,"d":"0.0000"},null,null,{"v":0,"d":"0.0000"},{"$nulls":3},{"v":0,"d":"0.0000"},{"$nulls":3},{"v":0,"d":"0.0000"},{"v":0,"d":"0.000"},{"v":0,"d":"0.000"}]
[52,"фасоль к/с","кг",{"$f":"'Пн День 1 Нед 1'!AB64","v":0},{"$nulls":7},{"v":0,"d":"0.0000"},{"$nulls":7},{"v":0,"d":"0.0000"},null,null,{"v":0,"d":"0.0000"},{"$nulls":3},{"v":0,"d":"0.0000"},{"$nulls":3},{"v":0,"d":"0.0000"},{"v":0,"d":"0.000"},{"v":0,"d":"0.000"}]
[53,"икра кабачк/икра баклажан","кг",{"$f":"'Пн День 1 Нед 1'!AB65","v":0},{"$nulls":7},{"v":0,"d":"0.0000"},{"$nulls":7},{"v":0,"d":"0.0000"},null,null,{"v":0,"d":"0.0000"},{"$nulls":3},{"v":0,"d":"0.0000"},{"$nulls":3},{"v":0,"d":"0.0000"},{"v":0,"d":"0.000"},{"v":0,"d":"0.000"}]
[54,"капуста морская сушеная","кг",{"$f":"'Пн День 1 Нед 1'!AB66","v":0},{"$nulls":7},{"v":0,"d":"0.0000"},{"$nulls":7},{"v":0,"d":"0.0000"},null,null,{"v":0,"d":"0.0000"},{"$nulls":3},{"v":0,"d":"0.0000"},{"$nulls":3},{"v":0,"d":"0.0000"},{"v":0,"d":"0.000"},{"v":0,"d":"0.000"}]
[55,"капуста квашеная","кг",{"$f":"'Пн День 1 Нед 1'!AB67","v":0},{"$nulls":7},{"v":0,"d":"0.0000"},{"$nulls":7},{"v":0,"d":"0.0000"},null,null,{"v":0,"d":"0.0000"},{"$nulls":3},{"v":0,"d":"0.0000"},{"$nulls":3},{"v":0,"d":"0.0000"},{"v":0,"d":"0.000"},{"v":0,"d":"0.000"}]
[56,"молоко сгущенное  ","кг",{"$f":"'Пн День 1 Нед 1'!AB68","v":0},{"$nulls":7},{"v":0,"d":"0.0000"},{"$nulls":7},{"v":0,"d":"0.0000"},null,null,{"v":0,"d":"0.0000"},{"$nulls":3},{"v":0,"d":"0.0000"},{"$nulls":3},{"v":0,"d":"0.0000"},{"v":0,"d":"0.000"},{"v":0,"d":"0.000"}]
[57,"огурцы соленые","кг",{"$f":"'Пн День 1 Нед 1'!AB69","v":-0.0273},{"$nulls":7},{"v":0,"d":"0.0000"},{"$nulls":7},{"v":0,"d":"0.0000"},null,null,{"v":0,"d":"0.0000"},{"$nulls":3},{"v":0,"d":"0.0000"},{"$nulls":3},{"v":0,"d":"0.0000"},{"v":0,"d":"0.000"},{"v":-0.0273,"d":"-0.027"}]
[58,"повидло","кг",{"$f":"'Пн День 1 Нед 1'!AB70","v":0},{"$nulls":7},{"v":0,"d":"0.0000"},{"$nulls":7},{"v":0,"d":"0.0000"},null,null,{"v":0,"d":"0.0000"},{"$nulls":3},{"v":0,"d":"0.0000"},{"$nulls":3},{"v":0,"d":"0.0000"},{"v":0,"d":"0.000"},{"v":0,"d":"0.000"}]
[59,"томатная паста","кг",{"$f":"'Пн День 1 Нед 1'!AB71","v":0},null,null,0.0016,{"$nulls":4},0.0016,null,0.0016,{"$nulls":5},0.0016,null,null,{"v":0,"d":"0.0000"},{"$nulls":3},{"v":0,"d":"0.0000"},{"$nulls":3},{"v":0,"d":"0.0000"},{"$f":"L71+T71+W71+AE71","v":{"v":0.0032,"d":"0.003"}},{"$f":"(D71+E71)-AF71","v":{"v":-0.0032,"d":"-0.003"}}]
[60,"рыбные консервы","кг",{"$f":"'Пн День 1 Нед 1'!AB72","v":0},{"$nulls":7},{"$f":"(G72+I72+J72+K72)*$L$5","v":{"v":0,"d":"0.0000"}},{"$nulls":7},{"$f":"(N72+O72+Q72+R72)*$T$5","v":{"v":0,"d":"0.0000"}},null,null,{"$f":"(U72+V72)*$W$5","v":{"v":0,"d":"0.0000"}},{"$nulls":3},{"$f":"(X72+Y72+Z72)*$AA$5","v":{"v":0,"d":"0.0000"}},{"$nulls":3},{"$f":"(AB72+AC72+AD72)*$AE$5","v":{"v":0,"d":"0.0000"}},{"v":0,"d":"0.000"},{"v":0,"d":"0.000"}]
[null,"Напитки",null,{"$f":"'Пн День 1 Нед 1'!AB73","v":0},{"$nulls":7},{"v":0,"d":"0.0000"},{"$nulls":7},{"v":0,"d":"0.0000"},null,null,{"v":0,"d":"0.0000"},{"$nulls":3},{"v":0,"d":"0.0000"},{"$nulls":3},{"v":0,"d":"0.0000"},{"v":0,"d":"0.000"},{"v":0,"d":"0.000"}]
[61,"чай весовой ","кг",{"$f":"'Пн День 1 Нед 1'!AB74","v":-1E-3},{"$nulls":5},0.0005,null,0.0005,{"$nulls":4},0.0005,null,null,0.0005,null,0.0005,0.0005,null,{"v":1E-3,"d":"0.0010"},null,{"v":0,"d":"0.0000"},{"$nulls":3},{"v":0,"d":"0.0000"},{"v":1.5E-3,"d":"0.002"},{"v":-0.0025,"d":"-0.003"}]
[62,"какао","кг",{"$f":"'Пн День 1 Нед 1'!AB75","v":0},{"$nulls":7},{"v":0,"d":"0.0000"},{"$nulls":7},{"v":0,"d":"0.0000"},null,null,{"v":0,"d":"0.0000"},{"$nulls":3},{"v":0,"d":"0.0000"},{"$nulls":3},{"v":0,"d":"0.0000"},{"v":0,"d":"0.000"},{"v":0,"d":"0.000"}]
[63,"кисель","кг",{"$f":"'Пн День 1 Нед 1'!AB76","v":0},{"$nulls":7},{"v":0,"d":"0.0000"},{"$nulls":7},{"v":0,"d":"0.0000"},null,null,{"v":0,"d":"0.0000"},{"$nulls":3},{"v":0,"d":"0.0000"},{"$nulls":3},{"v":0,"d":"0.0000"},{"v":0,"d":"0.000"},{"v":0,"d":"0.000"}]
[64,"кофейный напиток","кг",{"$f":"'Пн День 1 Нед 1'!AB77","v":0},{"$nulls":7},{"v":0,"d":"0.0000"},{"$nulls":7},{"v":0,"d":"0.0000"},null,null,{"v":0,"d":"0.0000"},{"$nulls":3},{"v":0,"d":"0.0000"},{"$nulls":3},{"v":0,"d":"0.0000"},{"v":0,"d":"0.000"},{"v":0,"d":"0.000"}]
[65,"цикорий","кг",{"$f":"'Пн День 1 Нед 1'!AB78","v":0},{"$nulls":7},{"v":0,"d":"0.0000"},{"$nulls":7},{"v":0,"d":"0.0000"},null,null,{"v":0,"d":"0.0000"},{"$nulls":3},{"v":0,"d":"0.0000"},{"$nulls":3},{"v":0,"d":"0.0000"},{"v":0,"d":"0.000"},{"v":0,"d":"0.000"}]
[null,"Сухофрукты",null,{"$f":"'Пн День 1 Нед 1'!AB79","v":0},{"$nulls":7},{"v":0,"d":"0.0000"},{"$nulls":7},{"v":0,"d":"0.0000"},null,null,{"v":0,"d":"0.0000"},{"$nulls":3},{"v":0,"d":"0.0000"},{"$nulls":3},{"v":0,"d":"0.0000"},{"v":0,"d":"0.000"},{"v":0,"d":"0.000"}]
[66,"ассорти для компота (сухофрукты)","кг",{"$f":"'Пн День 1 Нед 1'!AB80","v":-0.0204},{"$nulls":7},{"v":0,"d":"0.0000"},{"$nulls":7},{"v":0,"d":"0.0000"},null,null,{"v":0,"d":"0.0000"},{"$nulls":3},{"v":0,"d":"0.0000"},{"$nulls":3},{"v":0,"d":"0.0000"},{"v":0,"d":"0.000"},{"v":-0.0204,"d":"-0.020"}]
[67,"изюм","кг",{"$f":"'Пн День 1 Нед 1'!AB81","v":-0.0102},{"$nulls":7},{"v":0,"d":"0.0000"},{"$nulls":7},{"v":0,"d":"0.0000"},null,null,{"v":0,"d":"0.0000"},{"$nulls":3},{"v":0,"d":"0.0000"},{"$nulls":3},{"v":0,"d":"0.0000"},{"v":0,"d":"0.000"},{"v":-0.0102,"d":"-0.010"}]
[68,"курага","кг",{"$f":"'Пн День 1 Нед 1'!AB82","v":0},{"$nulls":7},{"v":0,"d":"0.0000"},{"$nulls":7},{"v":0,"d":"0.0000"},null,null,{"v":0,"d":"0.0000"},{"$nulls":3},{"v":0,"d":"0.0000"},{"$nulls":3},{"v":0,"d":"0.0000"},{"v":0,"d":"0.000"},{"v":0,"d":"0.000"}]
[69,"урюк","кг",{"$f":"'Пн День 1 Нед 1'!AB83","v":0},{"$nulls":7},{"v":0,"d":"0.0000"},{"$nulls":7},{"v":0,"d":"0.0000"},null,null,{"v":0,"d":"0.0000"},{"$nulls":3},{"v":0,"d":"0.0000"},{"$nulls":3},{"v":0,"d":"0.0000"},{"v":0,"d":"0.000"},{"v":0,"d":"0.000"}]
[70,"шиповник","кг",{"$f":"'Пн День 1 Нед 1'!AB84","v":0},{"$nulls":7},{"v":0,"d":"0.0000"},{"$nulls":7},{"v":0,"d":"0.0000"},null,null,{"v":0,"d":"0.0000"},{"$nulls":3},{"v":0,"d":"0.0000"},null,0.0153,null,0.0153,{"v":0.0153,"d":"0.015"},{"v":-0.0153,"d":"-0.015"}]
[71,"компотная смесь с/м","кг",{"$f":"'Пн День 1 Нед 1'!AB85","v":0},{"$nulls":7},{"v":0,"d":"0.0000"},{"$nulls":7},{"v":0,"d":"0.0000"},null,null,{"v":0,"d":"0.0000"},{"$nulls":3},{"v":0,"d":"0.0000"},{"$nulls":3},{"v":0,"d":"0.0000"},{"v":0,"d":"0.000"},{"v":0,"d":"0.000"}]
[72,"вишня с/м","кг",{"$f":"'Пн День 1 Нед 1'!AB86","v":0},{"$nulls":7},{"v":0,"d":"0.0000"},{"$nulls":7},{"v":0,"d":"0.0000"},null,null,{"v":0,"d":"0.0000"},{"$nulls":3},{"v":0,"d":"0.0000"},{"$nulls":3},{"v":0,"d":"0.0000"},{"v":0,"d":"0.000"},{"v":0,"d":"0.000"}]
[73,"клюква с/м","кг",{"$f":"'Пн День 1 Нед 1'!AB87","v":0},{"$nulls":7},{"v":0,"d":"0.0000"},{"$nulls":7},{"v":0,"d":"0.0000"},null,null,{"v":0,"d":"0.0000"},{"$nulls":3},{"v":0,"d":"0.0000"},{"$nulls":3},{"v":0,"d":"0.0000"},{"v":0,"d":"0.000"},{"v":0,"d":"0.000"}]
[74,"смородина в ассорт с/м","кг",{"$f":"'Пн День 1 Нед 1'!AB88","v":0},{"$nulls":7},{"v":0,"d":"0.0000"},{"$nulls":7},{"v":0,"d":"0.0000"},null,null,{"v":0,"d":"0.0000"},{"$nulls":3},{"v":0,"d":"0.0000"},{"$nulls":3},{"v":0,"d":"0.0000"},{"v":0,"d":"0.000"},{"v":0,"d":"0.000"}]
[75,"облепиха с/м","кг",{"$f":"'Пн День 1 Нед 1'!AB89","v":0},{"$nulls":7},{"v":0,"d":"0.0000"},{"$nulls":7},{"v":0,"d":"0.0000"},null,null,{"v":0,"d":"0.0000"},{"$nulls":3},{"v":0,"d":"0.0000"},{"$nulls":3},{"v":0,"d":"0.0000"},{"v":0,"d":"0.000"},{"v":0,"d":"0.000"}]
[null,"Сок ",null,{"$f":"'Пн День 1 Нед 1'!AB90","v":0},{"$nulls":7},{"v":0,"d":"0.0000"},{"$nulls":7},{"v":0,"d":"0.0000"},null,null,{"v":0,"d":"0.0000"},{"$nulls":3},{"v":0,"d":"0.0000"},{"$nulls":3},{"v":0,"d":"0.0000"},{"v":0,"d":"0.000"},{"v":0,"d":"0.000"}]
[76,"сок 0,125л или 0,2л","л",{"$f":"'Пн День 1 Нед 1'!AB91","v":0},{"$nulls":7},{"v":0,"d":"0.0000"},{"$nulls":7},{"v":0,"d":"0.0000"},null,null,{"v":0,"d":"0.0000"},{"$nulls":3},{"v":0,"d":"0.0000"},{"$nulls":3},{"v":0,"d":"0.0000"},{"v":0,"d":"0.000"},{"v":0,"d":"0.000"}]
[77,"нектар плодовый","л",{"$f":"'Пн День 1 Нед 1'!AB92","v":0},{"$nulls":7},{"v":0,"d":"0.0000"},{"$nulls":7},{"v":0,"d":"0.0000"},null,null,{"v":0,"d":"0.0000"},{"$nulls":3},{"v":0,"d":"0.0000"},{"$nulls":3},{"v":0,"d":"0.0000"},{"v":0,"d":"0.000"},{"v":0,"d":"0.000"}]
[null,"Кондитерка",null,{"$f":"'Пн День 1 Нед 1'!AB93","v":0},{"$nulls":7},{"v":0,"d":"0.0000"},{"$nulls":7},{"v":0,"d":"0.0000"},null,null,{"v":0,"d":"0.0000"},{"$nulls":3},{"v":0,"d":"0.0000"},{"$nulls":3},{"v":0,"d":"0.0000"},{"v":0,"d":"0.000"},{"v":0,"d":"0.000"}]
[78,"батончик злаковый","шт",{"$f":"'Пн День 1 Нед 1'!AB94","v":0},{"$nulls":7},{"v":0,"d":"0.0000"},{"$nulls":7},{"v":0,"d":"0.0000"},null,null,{"v":0,"d":"0.0000"},{"$nulls":3},{"v":0,"d":"0.0000"},{"$nulls":3},{"v":0,"d":"0.0000"},{"v":0,"d":"0.000"},{"v":0,"d":"0.000"}]
[79,"пряник","кг",{"$f":"'Пн День 1 Нед 1'!AB95","v":0},{"$nulls":7},{"v":0,"d":"0.0000"},{"$nulls":7},{"v":0,"d":"0.0000"},null,null,{"v":0,"d":"0.0000"},{"$nulls":3},{"v":0,"d":"0.0000"},{"$nulls":3},{"v":0,"d":"0.0000"},{"v":0,"d":"0.000"},{"v":0,"d":"0.000"}]
[80,"вафли ","кг",{"$f":"'Пн День 1 Нед 1'!AB96","v":0},{"$nulls":7},{"v":0,"d":"0.0000"},{"$nulls":7},{"v":0,"d":"0.0000"},{"v":0.2,"d":"0.2000"},null,{"v":0.2,"d":"0.2000"},{"$nulls":3},{"v":0,"d":"0.0000"},{"$nulls":3},{"v":0,"d":"0.0000"},{"v":0.2,"d":"0.200"},{"v":-0.2,"d":"-0.200"}]
[81,"печенье","кг",{"$f":"'Пн День 1 Нед 1'!AB97","v":-0.02},{"$nulls":7},{"v":0,"d":"0.0000"},{"$nulls":7},{"v":0,"d":"0.0000"},null,null,{"v":0,"d":"0.0000"},{"$nulls":3},{"v":0,"d":"0.0000"},{"$nulls":3},{"v":0,"d":"0.0000"},{"v":0,"d":"0.000"},{"v":-0.02,"d":"-0.020"}]
[82,"крекер","кг",{"$f":"'Пн День 1 Нед 1'!AB98","v":0},{"$nulls":7},{"v":0,"d":"0.0000"},{"$nulls":7},{"v":0,"d":"0.0000"},null,null,{"v":0,"d":"0.0000"},{"$nulls":3},{"v":0,"d":"0.0000"},{"$nulls":3},{"v":0,"d":"0.0000"},{"v":0,"d":"0.000"},{"v":0,"d":"0.000"}]
[83,"сушки","кг",{"$f":"'Пн День 1 Нед 1'!AB99","v":0},{"$nulls":7},{"v":0,"d":"0.0000"},{"$nulls":7},{"v":0,"d":"0.0000"},null,null,{"v":0,"d":"0.0000"},{"$nulls":3},{"v":0,"d":"0.0000"},{"$nulls":3},{"v":0,"d":"0.0000"},{"v":0,"d":"0.000"},{"v":0,"d":"0.000"}]
[84,"мармелад","кг",{"$f":"'Пн День 1 Нед 1'!AB100","v":0},{"$nulls":7},{"v":0,"d":"0.0000"},{"$nulls":7},{"v":0,"d":"0.0000"},null,null,{"v":0,"d":"0.0000"},{"$nulls":3},{"v":0,"d":"0.0000"},{"$nulls":3},{"v":0,"d":"0.0000"},{"v":0,"d":"0.000"},{"v":0,"d":"0.000"}]
[85,"блины п/ф","кг",{"$f":"'Пн День 1 Нед 1'!AB101","v":0},{"$nulls":7},{"v":0,"d":"0.0000"},{"$nulls":7},{"v":0,"d":"0.0000"},null,null,{"v":0,"d":"0.0000"},{"$nulls":3},{"v":0,"d":"0.0000"},{"$nulls":3},{"v":0,"d":"0.0000"},{"v":0,"d":"0.000"},{"v":0,"d":"0.000"}]
[86,"выпечка п/ф со склада","шт",{"$f":"'Пн День 1 Нед 1'!AB102","v":0},{"$nulls":7},{"v":0,"d":"0.0000"},{"$nulls":7},{"v":0,"d":"0.0000"},null,null,{"v":0,"d":"0.0000"},{"$nulls":3},{"v":0,"d":"0.0000"},{"$nulls":3},{"v":0,"d":"0.0000"},{"v":0,"d":"0.000"},{"v":0,"d":"0.000"}]
[null,"Яйцо",null,{"$f":"'Пн День 1 Нед 1'!AB103","v":0},{"$nulls":7},{"v":0,"d":"0.0000"},{"$nulls":7},{"v":0,"d":"0.0000"},null,null,{"v":0,"d":"0.0000"},{"$nulls":3},{"v":0,"d":"0.0000"},{"$nulls":3},{"v":0,"d":"0.0000"},{"$f":"L103+T103+W103+AE103","v":{"v":0,"d":"0.000"}},{"$f":"(D103+E103)-AF103","v":{"v":0,"d":"0.000"}}]
[87,"яйцо куриное","кг",{"$f":"'Пн День 1 Нед 1'!AB104","v":-0.00096},{"$nulls":7},{"v":0,"d":"0.0000"},{"$nulls":7},{"v":0,"d":"0.0000"},null,null,{"v":0,"d":"0.0000"},{"$nulls":3},{"v":0,"d":"0.0000"},{"$nulls":3},{"v":0,"d":"0.0000"},{"v":0,"d":"0.000"},{"v":-0.00096,"d":"-0.001"}]
[null,0.048,"шт",{"$f":"'Пн День 1 Нед 1'!AB105","v":0},{"$nulls":7},{"v":0,"d":"0.0000"},{"$nulls":7},{"v":0,"d":"0.0000"},null,null,{"v":0,"d":"0.0000"},{"$nulls":3},{"v":0,"d":"0.0000"},{"$nulls":3},{"v":0,"d":"0.0000"},{"v":0,"d":"0.000"},{"v":0,"d":"0.000"}]
[null,"Овощи заморозка",null,{"$f":"'Пн День 1 Нед 1'!AB106","v":0},{"$nulls":7},{"v":0,"d":"0.0000"},{"$nulls":7},{"v":0,"d":"0.0000"},null,null,{"v":0,"d":"0.0000"},{"$nulls":3},{"v":0,"d":"0.0000"},{"$nulls":3},{"v":0,"d":"0.0000"},{"v":0,"d":"0.000"},{"v":0,"d":"0.000"}]
[88,"зеленый горошек с/м","кг",{"$f":"'Пн День 1 Нед 1'!AB107","v":0},{"$nulls":7},{"v":0,"d":"0.0000"},{"$nulls":7},{"v":0,"d":"0.0000"},null,null,{"v":0,"d":"0.0000"},{"$nulls":3},{"v":0,"d":"0.0000"},{"$nulls":3},{"v":0,"d":"0.0000"},{"v":0,"d":"0.000"},{"v":0,"d":"0.000"}]
[89,"кабачки с/м","кг",{"$f":"'Пн День 1 Нед 1'!AB108","v":0},{"$nulls":7},{"v":0,"d":"0.0000"},{"$nulls":7},{"v":0,"d":"0.0000"},null,null,{"v":0,"d":"0.0000"},{"$nulls":3},{"v":0,"d":"0.0000"},{"$nulls":3},{"v":0,"d":"0.0000"},{"v":0,"d":"0.000"},{"v":0,"d":"0.000"}]
[90,"мексиканс смесь с/м","кг",{"$f":"'Пн День 1 Нед 1'!AB109","v":0},{"$nulls":7},{"v":0,"d":"0.0000"},{"$nulls":7},{"v":0,"d":"0.0000"},null,null,{"v":0,"d":"0.0000"},{"$nulls":3},{"v":0,"d":"0.0000"},{"$nulls":3},{"v":0,"d":"0.0000"},{"v":0,"d":"0.000"},{"v":0,"d":"0.000"}]
[91,"капуста цветная с/м","кг",{"$f":"'Пн День 1 Нед 1'!AB110","v":0},{"$nulls":7},{"v":0,"d":"0.0000"},{"$nulls":7},{"v":0,"d":"0.0000"},null,null,{"v":0,"d":"0.0000"},{"$nulls":3},{"v":0,"d":"0.0000"},{"$nulls":3},{"v":0,"d":"0.0000"},{"v":0,"d":"0.000"},{"v":0,"d":"0.000"}]
[92,"брокколи с/м","кг",{"$f":"'Пн День 1 Нед 1'!AB111","v":0},{"$nulls":7},{"v":0,"d":"0.0000"},{"$nulls":7},{"v":0,"d":"0.0000"},null,null,{"v":0,"d":"0.0000"},{"$nulls":3},{"v":0,"d":"0.0000"},{"$nulls":3},{"v":0,"d":"0.0000"},{"v":0,"d":"0.000"},{"v":0,"d":"0.000"}]
[93,"кукуруза с/м","кг",{"$f":"'Пн День 1 Нед 1'!AB112","v":0},{"$nulls":7},{"v":0,"d":"0.0000"},{"$nulls":7},{"v":0,"d":"0.0000"},null,null,{"v":0,"d":"0.0000"},{"$nulls":3},{"v":0,"d":"0.0000"},{"$nulls":3},{"v":0,"d":"0.0000"},{"v":0,"d":"0.000"},{"v":0,"d":"0.000"}]
[94,"фасоль стручковая с/м","кг",{"$f":"'Пн День 1 Нед 1'!AB113","v":0},{"$nulls":7},{"v":0,"d":"0.0000"},{"$nulls":7},{"v":0,"d":"0.0000"},null,null,{"v":0,"d":"0.0000"},{"$nulls":3},{"v":0,"d":"0.0000"},{"$nulls":3},{"v":0,"d":"0.0000"},{"v":0,"d":"0.000"},{"v":0,"d":"0.000"}]
[null,"Фрукты",null,{"$f":"'Пн День 1 Нед 1'!AB114","v":0},{"$nulls":7},{"v":0,"d":"0.0000"},{"$nulls":7},{"v":0,"d":"0.0000"},null,null,{"v":0,"d":"0.0000"},{"$nulls":3},{"v":0,"d":"0.0000"},{"$nulls":3},{"v":0,"d":"0.0000"},{"v":0,"d":"0.000"},{"v":0,"d":"0.000"}]
[95,"апельсин","кг",{"$f":"'Пн День 1 Нед 1'!AB115","v":0},{"$nulls":7},{"v":0,"d":"0.0000"},{"$nulls":7},{"v":0,"d":"0.0000"},null,null,{"v":0,"d":"0.0000"},{"$nulls":3},{"v":0,"d":"0.0000"},{"$nulls":3},{"v":0,"d":"0.0000"},{"v":0,"d":"0.000"},{"v":0,"d":"0.000"}]
[96,"банан","кг",{"$f":"'Пн День 1 Нед 1'!AB116","v":0},{"$nulls":7},{"v":0,"d":"0.0000"},{"$nulls":7},{"v":0,"d":"0.0000"},null,null,{"v":0,"d":"0.0000"},{"$nulls":3},{"v":0,"d":"0.0000"},{"$nulls":3},{"v":0,"d":"0.0000"},{"v":0,"d":"0.000"},{"v":0,"d":"0.000"}]
[97,"груши","кг",{"$f":"'Пн День 1 Нед 1'!AB117","v":0},{"$nulls":7},{"v":0,"d":"0.0000"},{"$nulls":7},{"v":0,"d":"0.0000"},null,null,{"v":0,"d":"0.0000"},{"$nulls":3},{"v":0,"d":"0.0000"},{"$nulls":3},{"v":0,"d":"0.0000"},{"v":0,"d":"0.000"},{"v":0,"d":"0.000"}]
[98,"мандарины","кг",{"$f":"'Пн День 1 Нед 1'!AB118","v":0},{"$nulls":7},{"v":0,"d":"0.0000"},{"$nulls":7},{"v":0,"d":"0.0000"},null,null,{"v":0,"d":"0.0000"},{"$nulls":3},{"v":0,"d":"0.0000"},{"$nulls":3},{"v":0,"d":"0.0000"},{"v":0,"d":"0.000"},{"v":0,"d":"0.000"}]
[99,"лимон","кг",{"$f":"'Пн День 1 Нед 1'!AB119","v":0},{"$nulls":5},0.005,null,{"v":0.005,"d":"0.0050"},{"$nulls":7},{"v":0,"d":"0.0000"},null,0.007,{"v":0.007,"d":"0.0070"},null,0.0056,null,{"v":0,"d":"0.0000"},{"$nulls":3},{"v":0,"d":"0.0000"},0.012,-0.012]
[100,"яблоки свежие","кг",{"$f":"'Пн День 1 Нед 1'!AB120","v":-0.2228},{"$nulls":7},{"v":0,"d":"0.0000"},{"$nulls":7},{"v":0,"d":"0.0000"},null,null,{"v":0,"d":"0.0000"},{"$nulls":3},{"v":0,"d":"0.0000"},{"$nulls":3},{"v":0,"d":"0.0000"},{"v":0,"d":"0.000"},{"v":-0.2228,"d":"-0.223"}]
[null,"Овощи / зелень",null,{"$f":"'Пн День 1 Нед 1'!AB121","v":0},{"$nulls":7},{"v":0,"d":"0.0000"},{"$nulls":7},{"v":0,"d":"0.0000"},null,null,{"v":0,"d":"0.0000"},{"$nulls":3},{"v":0,"d":"0.0000"},{"$nulls":3},{"v":0,"d":"0.0000"},{"v":0,"d":"0.000"},{"v":0,"d":"0.000"}]
[101,"капуста свежая","кг",{"$f":"'Пн День 1 Нед 1'!AB122","v":0},{"$nulls":7},{"v":0,"d":"0.0000"},{"$nulls":7},{"v":0,"d":"0.0000"},null,null,{"v":0,"d":"0.0000"},{"$nulls":3},{"v":0,"d":"0.0000"},{"$nulls":3},{"v":0,"d":"0.0000"},{"v":0,"d":"0.000"},{"v":0,"d":"0.000"}]
[102,"картофель","кг",{"$f":"'Пн День 1 Нед 1'!AB123","v":-0.1},{"$nulls":7},{"v":0,"d":"0.0000"},{"$nulls":7},{"v":0,"d":"0.0000"},null,null,{"v":0,"d":"0.0000"},{"$nulls":3},{"v":0,"d":"0.0000"},{"$nulls":3},{"v":0,"d":"0.0000"},{"v":0,"d":"0.000"},{"v":-0.1,"d":"-0.100"}]
[103,"лук репчатый","кг",{"$f":"'Пн День 1 Нед 1'!AB124","v":-0.0072},null,null,0.0216,{"$nulls":4},0.0216,null,0.0216,{"$nulls":5},0.0216,null,null,{"v":0,"d":"0.0000"},{"$nulls":3},{"v":0,"d":"0.0000"},{"v":0.006,"d":"0.0060"},null,null,{"v":0.006,"d":"0.0060"},{"v":0.0492,"d":"0.049"},{"v":-0.0564,"d":"-0.056"}]
[104,"морковь","кг",{"$f":"'Пн День 1 Нед 1'!AB125","v":-0.0125},{"$nulls":7},{"v":0,"d":"0.0000"},{"$nulls":7},{"v":0,"d":"0.0000"},null,null,{"v":0,"d":"0.0000"},{"$nulls":3},{"v":0,"d":"0.0000"},{"v":0.00625,"d":"0.0063"},null,null,{"v":0.00625,"d":"0.0063"},{"v":0.00625,"d":"0.006"},{"v":-0.018750000000000003,"d":"-0.019"}]
[105,"свекла","кг",{"$f":"'Пн День 1 Нед 1'!AB126","v":0},{"$nulls":7},{"v":0,"d":"0.0000"},{"$nulls":7},{"v":0,"d":"0.0000"},null,null,{"v":0,"d":"0.0000"},{"$nulls":3},{"v":0,"d":"0.0000"},{"$nulls":3},{"v":0,"d":"0.0000"},{"v":0,"d":"0.000"},{"v":0,"d":"0.000"}]
[106,"огурцы св.","кг",{"$f":"'Пн День 1 Нед 1'!AB127","v":0},{"$nulls":7},{"v":0,"d":"0.0000"},{"$nulls":7},{"v":0,"d":"0.0000"},null,null,{"v":0,"d":"0.0000"},{"$nulls":3},{"v":0,"d":"0.0000"},{"$nulls":3},{"v":0,"d":"0.0000"},{"v":0,"d":"0.000"},{"v":0,"d":"0.000"}]
[107,"томаты св.","кг",{"$f":"'Пн День 1 Нед 1'!AB128","v":0},{"$nulls":7},{"v":0,"d":"0.0000"},{"$nulls":7},{"v":0,"d":"0.0000"},null,null,{"v":0,"d":"0.0000"},{"$nulls":3},{"v":0,"d":"0.0000"},{"$nulls":3},{"v":0,"d":"0.0000"},{"v":0,"d":"0.000"},{"v":0,"d":"0.000"}]
[108,"перец болг.красный","кг",{"$f":"'Пн День 1 Нед 1'!AB129","v":0},{"$nulls":7},{"v":0,"d":"0.0000"},{"$nulls":7},{"v":0,"d":"0.0000"},null,null,{"v":0,"d":"0.0000"},{"$nulls":3},{"v":0,"d":"0.0000"},{"$nulls":3},{"v":0,"d":"0.0000"},{"v":0,"d":"0.000"},{"v":0,"d":"0.000"}]
[109,"тыква","кг",{"$f":"'Пн День 1 Нед 1'!AB130","v":0},{"$nulls":7},{"v":0,"d":"0.0000"},{"$nulls":7},{"v":0,"d":"0.0000"},null,null,{"v":0,"d":"0.0000"},{"$nulls":3},{"v":0,"d":"0.0000"},{"$nulls":3},{"v":0,"d":"0.0000"},{"v":0,"d":"0.000"},{"v":0,"d":"0.000"}]
[null,"Овощи очищенные",null,{"$f":"'Пн День 1 Нед 1'!AB131","v":0},{"$nulls":7},{"v":0,"d":"0.0000"},{"$nulls":7},{"v":0,"d":"0.0000"},null,null,{"v":0,"d":"0.0000"},{"$nulls":3},{"v":0,"d":"0.0000"},{"$nulls":3},{"v":0,"d":"0.0000"},{"v":0,"d":"0.000"},{"v":0,"d":"0.000"}]
[110,"капуста св.очищенная","кг",{"$f":"'Пн День 1 Нед 1'!AB132","v":0},{"$nulls":7},{"v":0,"d":"0.0000"},{"$nulls":7},{"v":0,"d":"0.0000"},null,null,{"v":0,"d":"0.0000"},{"$nulls":3},{"v":0,"d":"0.0000"},{"$nulls":3},{"v":0,"d":"0.0000"},{"v":0,"d":"0.000"},{"v":0,"d":"0.000"}]
[111,"картофель св. очищенный","кг",{"$f":"'Пн День 1 Нед 1'!AB133","v":0},{"$nulls":7},{"v":0,"d":"0.0000"},{"$nulls":7},{"v":0,"d":"0.0000"},null,null,{"v":0,"d":"0.0000"},{"$nulls":3},{"v":0,"d":"0.0000"},{"$nulls":3},{"v":0,"d":"0.0000"},{"v":0,"d":"0.000"},{"v":0,"d":"0.000"}]
[112,"лук репчатый св.очищенный","кг",{"$f":"'Пн День 1 Нед 1'!AB134","v":0},{"$nulls":7},{"v":0,"d":"0.0000"},{"$nulls":7},{"v":0,"d":"0.0000"},null,null,{"v":0,"d":"0.0000"},{"$nulls":3},{"v":0,"d":"0.0000"},{"$nulls":3},{"v":0,"d":"0.0000"},{"v":0,"d":"0.000"},{"v":0,"d":"0.000"}]
[113,"морковь св.очищенная","кг",{"$f":"'Пн День 1 Нед 1'!AB135","v":0},{"$nulls":7},{"v":0,"d":"0.0000"},{"$nulls":7},{"v":0,"d":"0.0000"},null,null,{"v":0,"d":"0.0000"},{"$nulls":3},{"v":0,"d":"0.0000"},{"$nulls":3},{"v":0,"d":"0.0000"},{"$f":"L135+T135+W135+AE135","v":{"v":0,"d":"0.000"}},{"$f":"(D135+E135)-AF135","v":{"v":0,"d":"0.000"}}]
[114,"свекла св.очищенная","кг",{"$f":"'Пн День 1 Нед 1'!AB136","v":0},{"$nulls":7},{"$f":"(G136+I136+J136+K136)*$L$5","v":{"v":0,"d":"0.0000"}},{"$nulls":7},{"$f":"(N136+O136+Q136+R136)*$T$5","v":{"v":0,"d":"0.0000"}},null,null,{"$f":"(U136+V136)*$W$5","v":{"v":0,"d":"0.0000"}},{"$nulls":3},{"$f":"(X136+Y136+Z136)*$AA$5","v":{"v":0,"d":"0.0000"}},{"$nulls":3},{"$f":"(AB136+AC136+AD136)*$AE$5","v":{"v":0,"d":"0.0000"}},{"v":0,"d":"0.000"},{"v":0,"d":"0.000"}]
[null,"Полуфабрикаты",null,{"$f":"'Пн День 1 Нед 1'!AB137","v":0},{"$nulls":7},{"v":0,"d":"0.0000"},{"$nulls":7},{"v":0,"d":"0.0000"},null,null,{"v":0,"d":"0.0000"},{"$nulls":3},{"v":0,"d":"0.0000"},{"$nulls":3},{"v":0,"d":"0.0000"},{"v":0,"d":"0.000"},{"v":0,"d":"0.000"}]
[115,"сырники ПФ","шт",{"$f":"'Пн День 1 Нед 1'!AB138","v":-2},{"$nulls":7},{"v":0,"d":"0.0000"},{"$nulls":7},{"v":0,"d":"0.0000"},{"$nulls":11},{"v":0,"d":"0.000"},{"v":-2,"d":"-2.000"}]
[116,"пельмени ПФ","кг",{"$f":"'Пн День 1 Нед 1'!AB139","v":0},{"$nulls":7},{"v":0,"d":"0.0000"},{"$nulls":7},{"v":0,"d":"0.0000"},null,null,{"v":0,"d":"0.0000"},{"$nulls":3},{"v":0,"d":"0.0000"},{"$nulls":3},{"v":0,"d":"0.0000"},{"v":0,"d":"0.000"},{"v":0,"d":"0.000"}]
[117,"биточки рыбные","шт",{"$f":"'Пн День 1 Нед 1'!AB140","v":0},{"$nulls":7},{"v":0,"d":"0.0000"},{"$nulls":7},{"v":0,"d":"0.0000"},null,null,{"v":0,"d":"0.0000"},{"$nulls":3},{"v":0,"d":"0.0000"},{"$nulls":3},{"v":0,"d":"0.0000"},{"v":0,"d":"0.000"},{"v":0,"d":"0.000"}]
[118,"фрикадельки мясные ","кг",{"$f":"'Пн День 1 Нед 1'!AB141","v":0},{"$nulls":7},{"v":0,"d":"0.0000"},{"$nulls":7},{"v":0,"d":"0.0000"},null,null,{"v":0,"d":"0.0000"},{"$nulls":3},{"v":0,"d":"0.0000"},{"$nulls":3},{"v":0,"d":"0.0000"},{"v":0,"d":"0.000"},{"v":0,"d":"0.000"}]
[119,"фрикадельки куриные","кг",{"$f":"'Пн День 1 Нед 1'!AB142","v":0},{"$nulls":7},{"v":0,"d":"0.0000"},{"$nulls":7},{"v":0,"d":"0.0000"},null,null,{"v":0,"d":"0.0000"},{"$nulls":3},{"v":0,"d":"0.0000"},{"$nulls":3},{"v":0,"d":"0.0000"},{"v":0,"d":"0.000"},{"v":0,"d":"0.000"}]
[120,"хинкали п/ф из говядины","кг",{"$f":"'Пн День 1 Нед 1'!AB143","v":0},{"$nulls":7},{"v":0,"d":"0.0000"},{"$nulls":7},{"v":0,"d":"0.0000"},null,null,{"v":0,"d":"0.0000"},{"$nulls":3},{"v":0,"d":"0.0000"},{"$nulls":3},{"v":0,"d":"0.0000"},{"v":0,"d":"0.000"},{"v":0,"d":"0.000"}]
[121,"котлеты из говядины \"Домашние\"  ","шт",{"$f":"'Пн День 1 Нед 1'!AB144","v":0},{"$nulls":7},{"v":0,"d":"0.0000"},{"$nulls":7},{"v":0,"d":"0.0000"},null,null,{"v":0,"d":"0.0000"},{"$nulls":3},{"v":0,"d":"0.0000"},{"$nulls":3},{"v":0,"d":"0.0000"},{"v":0,"d":"0.000"},{"v":0,"d":"0.000"}]
[122,"бифштекс из говядины","шт",{"$f":"'Пн День 1 Нед 1'!AB145","v":0},{"$nulls":7},{"v":0,"d":"0.0000"},{"$nulls":7},{"v":0,"d":"0.0000"},null,null,{"v":0,"d":"0.0000"},{"$nulls":3},{"v":0,"d":"0.0000"},{"$nulls":3},{"v":0,"d":"0.0000"},{"v":0,"d":"0.000"},{"v":0,"d":"0.000"}]
[123,"котлеты из мяса кур","шт",{"$f":"'Пн День 1 Нед 1'!AB146","v":0},{"$nulls":7},{"v":0,"d":"0.0000"},{"$nulls":7},{"v":0,"d":"0.0000"},null,null,{"v":0,"d":"0.0000"},{"$nulls":3},{"v":0,"d":"0.0000"},{"$nulls":3},{"v":0,"d":"0.0000"},{"v":0,"d":"0.000"},{"v":0,"d":"0.000"}]
[124,"котлеты \"Аппетитные\" мясо-куриные  ","шт",{"$f":"'Пн День 1 Нед 1'!AB147","v":0},{"$nulls":7},{"v":0,"d":"0.0000"},{"$nulls":7},{"v":0,"d":"0.0000"},null,null,{"v":0,"d":"0.0000"},{"$nulls":3},{"v":0,"d":"0.0000"},{"$nulls":3},{"v":0,"d":"0.0000"},{"v":0,"d":"0.000"},{"v":0,"d":"0.000"}]
[125,"ежики мясные с рисом ","шт",{"$f":"'Пн День 1 Нед 1'!AB148","v":0},{"$nulls":7},{"v":0,"d":"0.0000"},{"$nulls":7},{"v":0,"d":"0.0000"},null,null,{"v":0,"d":"0.0000"},{"$nulls":3},{"v":0,"d":"0.0000"},{"$nulls":3},{"v":0,"d":"0.0000"},{"v":0,"d":"0.000"},{"v":0,"d":"0.000"}]

{"sheet":"Ср День 3 Нед 1","index":2,"n_rows":148,"n_cols":31,"rows_kept":148,"merged":[[0,0,0,28],[1,5,1,10],[1,11,3,11],[1,12,1,16],[1,17,3,17],[1,18,1,19],[1,20,3,20],[1,21,1,23],[1,24,3,24],[1,25,1,27],[1,28,3,28],[1,29,3,29],[1,30,3,30]]}
["Расход продуктов питания в образовательных учереждениях  "]
[{"$nulls":5},"Меню с 1 по 4 класс  69,43 РУБ",{"$nulls":5},"ВСЕГО","Меню с 5 по 11 класс  69,43 РУБ",{"$nulls":4},"ВСЕГО","Меню на сумму         9,60  РУБ",null,"ИТОГО","Меню КАШИ  НА молоке                          ",null,null,"ИТОГО","Меню   СУПА  ",null,null,"ИТОГО","ВСЕГО ЗА ДЕНЬ расход продуктов по всем рационам","остаток на конец"]
[null,"ДЕНЬ 3 неделя 1",null,"остаток на начало","приход","Фрикассе из куриной грудки","Картофельное пюре с маслом сливочным","Капуста тушеная (доп.гарнир)","Чай с сахаром с яблоком",null,"Хлеб пшеничн /ржаной",null,"Фрикассе из куриной грудки","Картофельное пюре","Капуста тушенная (доп.гарнир)","чай с сахаром с яблоком","Хлеб пшеничный /ржаной",null,"пряники","Чай с сахаром",null,"макарон изд  отварн с  маслом слив","Компот из сухофруктов","хлеб ржаной ",null,"Борщ из св.капусты с мясными фрикаделькаими","Компот из урюка","хлеб ржаной "]
[null,"КОЛИЧЕСТВО ДЕТЕЙ",{"$nulls":3},"7-11","7-11","7-11","7-11",null,"7-11",null,"12-18","12-18","12-18","12-18","12-18",null,"12-18","12-18",null,"12-18","12-18","12-18",null,"12-18","12-18","12-18"]
[null,"Выход,гр",{"$nulls":3},"50/50","150/3","50","180/10/10",null,"25/30",1,"50/50","180","50","180/10/10","25/40","1","35","190/10",1,"150/3","200","30",0,"250/10/5","200","30","1",{"$f":"L5+R5+U5+AC5","v":4}]
[null,"Хлеб"]
[1,"батон ","кг",{"$f":"'Вт День 2 Нед 1'!AG7","v":0},{"$nulls":7},{"$f":"(F7+G7+H7+I7+K7)*$L$5","v":{"v":0,"d":"0.0000"}},{"$nulls":5},{"$f":"(M7+N7+O7+P7+Q7)*$R$5","v":{"v":0,"d":"0.0000"}},null,null,{"$f":"(T7+S7)*$U$5","v":{"v":0,"d":"0.0000"}},{"$nulls":3},{"$f":"(X7+W7+V7)*$Y$5","v":{"v":0,"d":"0.0000"}},{"$nulls":3},{"$f":"(Z7+AA7+AB7)*$AC$5","v":{"v":0,"d":"0.0000"}},{"$f":"L7+R7+U7+AC7","v":{"v":0,"d":"0.000"}},{"$f":"(D7+E7)-AD7","v":{"v":0,"d":"0.000"}}]
[2,"хлеб пшеничный ","кг",{"$f":"'Вт День 2 Нед 1'!AG8","v":-0.05},{"$nulls":6},{"v":0.025,"d":"0.0250"},{"$f":"(F8+G8+H8+I8+K8)*$L$5","v":{"v":0.025,"d":"0.0250"}},{"$nulls":4},{"v":0.025,"d":"0.0250"},{"$f":"(M8+N8+O8+P8+Q8)*$R$5","v":{"v":0.025,"d":"0.0250"}},null,null,{"$f":"(T8+S8)*$U$5","v":{"v":0,"d":"0.0000"}},{"$nulls":3},{"$f":"(X8+W8+V8)*$Y$5","v":{"v":0,"d":"0.0000"}},{"$nulls":3},{"$f":"(Z8+AA8+AB8)*$AC$5","v":{"v":0,"d":"0.0000"}},{"v":0.05,"d":"0.050"},{"v":-0.1,"d":"-0.100"}]
[3,"хлеб ржаной","кг",{"$f":"'Вт День 2 Нед 1'!AG9","v":-0.175},{"$nulls":6},{"v":0.05,"d":"0.0500"},{"v":0.05,"d":"0.0500"},{"$nulls":4},{"v":0.04,"d":"0.0400"},{"v":0.04,"d":"0.0400"},null,null,{"v":0,"d":"0.0000"},null,null,{"v":0.03,"d":"0.0300"},{"v":0,"d":"0.0000"},null,null,{"v":0.03,"d":"0.0300"},{"v":0.03,"d":"0.0300"},{"v":0.12,"d":"0.120"},-0.295]
[4,"булоч/выпечка готов с х/ком","кг",{"$f":"'Вт День 2 Нед 1'!AG10","v":0},{"$nulls":7},{"v":0,"d":"0.0000"},{"$nulls":5},{"v":0,"d":"0.0000"},null,null,{"v":0,"d":"0.0000"},{"$nulls":3},{"v":0,"d":"0.0000"},{"$nulls":3},{"v":0,"d":"0.0000"},{"v":0,"d":"0.000"},{"v":0,"d":"0.000"}]
[null,"Молочка",null,{"$f":"'Вт День 2 Нед 1'!AG11","v":0},{"$nulls":7},{"v":0,"d":"0.0000"},{"$nulls":5},{"v":0,"d":"0.0000"},null,null,{"v":0,"d":"0.0000"},{"$nulls":3},{"v":0,"d":"0.0000"},{"$nulls":3},{"v":0,"d":"0.0000"},{"v":0,"d":"0.000"},{"v":0,"d":"0.000"}]
[5,"молоко 2,5%","кг",{"$f":"'Вт День 2 Нед 1'!AG12","v":-0.155},null,{"v":0.025,"d":"0.0250"},0.0237,{"$nulls":4},0.0487,{"v":0.025,"d":"0.0250"},0.0284,{"$nulls":3},0.0534,null,null,{"v":0,"d":"0.0000"},{"$nulls":3},{"v":0,"d":"0.0000"},{"$nulls":3},{"v":0,"d":"0.0000"},{"v":0.1021,"d":"0.102"},{"v":-0.2571,"d":"-0.257"}]
[6,"творог 5%","кг",{"$f":"'Вт День 2 Нед 1'!AG13","v":0},{"$nulls":7},{"v":0,"d":"0.0000"},{"$nulls":5},{"v":0,"d":"0.0000"},null,null,{"v":0,"d":"0.0000"},{"$nulls":3},{"v":0,"d":"0.0000"},{"$nulls":3},{"v":0,"d":"0.0000"},{"v":0,"d":"0.000"},{"v":0,"d":"0.000"}]
[7,"сметана 15%","кг",{"$f":"'Вт День 2 Нед 1'!AG14","v":-0.025},{"$nulls":7},{"v":0,"d":"0.0000"},{"$nulls":5},{"v":0,"d":"0.0000"},null,null,{"v":0,"d":"0.0000"},{"$nulls":3},{"v":0,"d":"0.0000"},{"v":0.005,"d":"0.0050"},null,null,{"v":0.005,"d":"0.0050"},0.005,{"v":-0.030000000000000002,"d":"-0.030"}]
[8,"йогурт фруктов ","кг",{"$f":"'Вт День 2 Нед 1'!AG15","v":0},{"$nulls":7},{"v":0,"d":"0.0000"},{"$nulls":5},{"v":0,"d":"0.0000"},null,null,{"v":0,"d":"0.0000"},{"$nulls":3},{"v":0,"d":"0.0000"},{"$nulls":3},{"v":0,"d":"0.0000"},{"v":0,"d":"0.000"},{"v":0,"d":"0.000"}]
[9,"катык 2,5%","кг",{"$f":"'Вт День 2 Нед 1'!AG16","v":0},{"$nulls":7},{"v":0,"d":"0.0000"},{"$nulls":5},{"v":0,"d":"0.0000"},null,null,{"v":0,"d":"0.0000"},{"$nulls":3},{"v":0,"d":"0.0000"},{"$nulls":3},{"v":0,"d":"0.0000"},{"v":0,"d":"0.000"},{"v":0,"d":"0.000"}]
[10,"кефир 2,5%","кг",{"$f":"'Вт День 2 Нед 1'!AG17","v":0},{"$nulls":7},{"v":0,"d":"0.0000"},{"$nulls":5},{"v":0,"d":"0.0000"},null,null,{"v":0,"d":"0.0000"},{"$nulls":3},{"v":0,"d":"0.0000"},{"$nulls":3},{"v":0,"d":"0.0000"},{"v":0,"d":"0.000"},{"v":0,"d":"0.000"}]
[11,"ряженка 2,5%","кг",{"$f":"'Вт День 2 Нед 1'!AG18","v":0},{"$nulls":7},{"v":0,"d":"0.0000"},{"$nulls":5},{"v":0,"d":"0.0000"},null,null,{"v":0,"d":"0.0000"},{"$nulls":3},{"v":0,"d":"0.0000"},{"$nulls":3},{"v":0,"d":"0.0000"},{"v":0,"d":"0.000"},{"v":0,"d":"0.000"}]
[12,"напиток ацидофильный","кг",{"$f":"'Вт День 2 Нед 1'!AG19","v":0},{"$nulls":7},{"v":0,"d":"0.0000"},{"$nulls":5},{"v":0,"d":"0.0000"},null,null,{"v":0,"d":"0.0000"},{"$nulls":3},{"v":0,"d":"0.0000"},{"$nulls":3},{"v":0,"d":"0.0000"},{"v":0,"d":"0.000"},{"v":0,"d":"0.000"}]
[null,"Масло / сыр ",null,{"$f":"'Вт День 2 Нед 1'!AG20","v":0},{"$nulls":7},{"v":0,"d":"0.0000"},{"$nulls":5},{"v":0,"d":"0.0000"},null,null,{"v":0,"d":"0.0000"},{"$nulls":3},{"v":0,"d":"0.0000"},{"$nulls":3},{"v":0,"d":"0.0000"},{"v":0,"d":"0.000"},{"v":0,"d":"0.000"}]
[13,"масло растительное","кг",{"$f":"'Вт День 2 Нед 1'!AG21","v":-0.017499999999999998},null,{"v":2E-3,"d":"0.0020"},{"$nulls":5},{"v":2E-3,"d":"0.0020"},{"v":2E-3,"d":"0.0020"},{"$nulls":4},{"v":2E-3,"d":"0.0020"},null,null,{"v":0,"d":"0.0000"},{"$nulls":3},{"v":0,"d":"0.0000"},{"v":0.005,"d":"0.0050"},null,null,{"v":0.005,"d":"0.0050"},{"v":0.009000000000000001,"d":"0.009"},{"v":-0.0265,"d":"-0.027"}]
[14,"масло сливочное","кг",{"$f":"'Вт День 2 Нед 1'!AG22","v":-0.008},null,0.0055,{"v":0.007,"d":"0.0070"},{"$nulls":4},0.0125,0.0055,{"v":0.005,"d":"0.0050"},{"$nulls":3},{"v":0.010499999999999999,"d":"0.0105"},null,null,{"v":0,"d":"0.0000"},{"v":0.003,"d":"0.0030"},null,null,{"v":0,"d":"0.0000"},{"$nulls":3},{"v":0,"d":"0.0000"},0.023,-0.031]
[15,"сыр голландский","кг",{"$f":"'Вт День 2 Нед 1'!AG23","v":0},{"$nulls":7},{"v":0,"d":"0.0000"},{"$nulls":5},{"v":0,"d":"0.0000"},null,null,{"v":0,"d":"0.0000"},{"$nulls":3},{"v":0,"d":"0.0000"},{"$nulls":3},{"v":0,"d":"0.0000"},{"v":0,"d":"0.000"},{"v":0,"d":"0.000"}]
[null,"Мясо",null,{"$f":"'Вт День 2 Нед 1'!AG24","v":0},{"$nulls":7},{"v":0,"d":"0.0000"},{"$nulls":5},{"v":0,"d":"0.0000"},null,null,{"v":0,"d":"0.0000"},{"$nulls":3},{"v":0,"d":"0.0000"},{"$nulls":3},{"v":0,"d":"0.0000"},{"v":0,"d":"0.000"},{"v":0,"d":"0.000"}]
[16,"говядина (котлетное мясо) ","кг",{"$f":"'Вт День 2 Нед 1'!AG25","v":0},{"$nulls":7},{"v":0,"d":"0.0000"},{"$nulls":5},{"v":0,"d":"0.0000"},null,null,{"v":0,"d":"0.0000"},{"$nulls":3},{"v":0,"d":"0.0000"},{"$nulls":3},{"v":0,"d":"0.0000"},{"v":0,"d":"0.000"},{"v":0,"d":"0.000"}]
[17,"фарш говяжий","кг",{"$f":"'Вт День 2 Нед 1'!AG26","v":-0.076},{"$nulls":7},{"v":0,"d":"0.0000"},{"$nulls":5},{"v":0,"d":"0.0000"},null,null,{"v":0,"d":"0.0000"},{"$nulls":3},{"v":0,"d":"0.0000"},{"v":0.01197,"d":"0.0120"},null,null,{"v":0.01197,"d":"0.0120"},{"v":0.01197,"d":"0.012"},{"v":-0.08796999999999999,"d":"-0.088"}]
[18,"говядина лопатка б/к","кг",{"$f":"'Вт День 2 Нед 1'!AG27","v":0},{"$nulls":7},{"v":0,"d":"0.0000"},{"$nulls":5},{"v":0,"d":"0.0000"},null,null,{"v":0,"d":"0.0000"},{"$nulls":3},{"v":0,"d":"0.0000"},{"$nulls":3},{"v":0,"d":"0.0000"},{"v":0,"d":"0.000"},{"v":0,"d":"0.000"}]
[19,"сосиски","кг",{"$f":"'Вт День 2 Нед 1'!AG28","v":0},{"$nulls":7},{"v":0,"d":"0.0000"},{"$nulls":5},{"v":0,"d":"0.0000"},null,null,{"v":0,"d":"0.0000"},{"$nulls":3},{"v":0,"d":"0.0000"},{"$nulls":3},{"v":0,"d":"0.0000"},{"v":0,"d":"0.000"},{"v":0,"d":"0.000"}]
[20,"колбаса п/к \"Халяль\"","кг",{"$f":"'Вт День 2 Нед 1'!AG29","v":0},{"$nulls":7},{"v":0,"d":"0.0000"},{"$nulls":5},{"v":0,"d":"0.0000"},null,null,{"v":0,"d":"0.0000"},{"$nulls":3},{"v":0,"d":"0.0000"},{"$nulls":3},{"v":0,"d":"0.0000"},{"v":0,"d":"0.000"},{"v":0,"d":"0.000"}]
[21,"куриное бедро","кг",{"$f":"'Вт День 2 Нед 1'!AG30","v":0},{"$nulls":7},{"v":0,"d":"0.0000"},{"$nulls":5},{"v":0,"d":"0.0000"},null,null,{"v":0,"d":"0.0000"},{"$nulls":3},{"v":0,"d":"0.0000"},{"$nulls":3},{"v":0,"d":"0.0000"},{"v":0,"d":"0.000"},{"v":0,"d":"0.000"}]
[22,"куриная грудка","кг",{"$f":"'Вт День 2 Нед 1'!AG31","v":-0.02941},null,0.0812,{"$nulls":5},0.0812,0.0812,{"$nulls":4},0.0812,null,null,{"v":0,"d":"0.0000"},{"$nulls":3},{"v":0,"d":"0.0000"},{"$nulls":3},{"v":0,"d":"0.0000"},{"v":0.1624,"d":"0.162"},{"v":-0.19180999999999998,"d":"-0.192"}]
[23,"куры/цыплята потрош","кг",{"$f":"'Вт День 2 Нед 1'!AG32","v":0},{"$nulls":7},{"v":0,"d":"0.0000"},{"$nulls":5},{"v":0,"d":"0.0000"},null,null,{"v":0,"d":"0.0000"},{"$nulls":3},{"v":0,"d":"0.0000"},{"$nulls":3},{"v":0,"d":"0.0000"},{"v":0,"d":"0.000"},{"v":0,"d":"0.000"}]
[24,"фарш куриный","кг",{"$f":"'Вт День 2 Нед 1'!AG33","v":0},{"$nulls":7},{"v":0,"d":"0.0000"},{"$nulls":5},{"v":0,"d":"0.0000"},null,null,{"v":0,"d":"0.0000"},{"$nulls":3},{"v":0,"d":"0.0000"},{"$nulls":3},{"v":0,"d":"0.0000"},{"v":0,"d":"0.000"},{"v":0,"d":"0.000"}]
[25,"индейка бедро филе","кг",{"$f":"'Вт День 2 Нед 1'!AG34","v":0},{"$nulls":7},{"v":0,"d":"0.0000"},{"$nulls":5},{"v":0,"d":"0.0000"},null,null,{"v":0,"d":"0.0000"},{"$nulls":3},{"v":0,"d":"0.0000"},{"$nulls":3},{"v":0,"d":"0.0000"},{"v":0,"d":"0.000"},{"v":0,"d":"0.000"}]
[26,"индейка грудка филе","кг",{"$f":"'Вт День 2 Нед 1'!AG35","v":0},{"$nulls":7},{"v":0,"d":"0.0000"},{"$nulls":5},{"v":0,"d":"0.0000"},null,null,{"v":0,"d":"0.0000"},{"$nulls":3},{"v":0,"d":"0.0000"},{"$nulls":3},{"v":0,"d":"0.0000"},{"v":0,"d":"0.000"},{"v":0,"d":"0.000"}]
[null,"Рыба",null,{"$f":"'Вт День 2 Нед 1'!AG36","v":0},{"$nulls":7},{"v":0,"d":"0.0000"},{"$nulls":5},{"v":0,"d":"0.0000"},null,null,{"v":0,"d":"0.0000"},{"$nulls":3},{"v":0,"d":"0.0000"},{"$nulls":3},{"v":0,"d":"0.0000"},{"v":0,"d":"0.000"},{"v":0,"d":"0.000"}]
[27,"горбуша ПБГ с/м","кг",{"$f":"'Вт День 2 Нед 1'!AG37","v":0},{"$nulls":7},{"v":0,"d":"0.0000"},{"$nulls":5},{"v":0,"d":"0.0000"},null,null,{"v":0,"d":"0.0000"},{"$nulls":3},{"v":0,"d":"0.0000"},{"$nulls":3},{"v":0,"d":"0.0000"},{"v":0,"d":"0.000"},{"v":0,"d":"0.000"}]
[28,"минтай б/г с/м","кг",{"$f":"'Вт День 2 Нед 1'!AG38","v":0},{"$nulls":7},{"v":0,"d":"0.0000"},{"$nulls":5},{"v":0,"d":"0.0000"},null,null,{"v":0,"d":"0.0000"},{"$nulls":3},{"v":0,"d":"0.0000"},{"$nulls":3},{"v":0,"d":"0.0000"},{"v":0,"d":"0.000"},{"v":0,"d":"0.000"}]
[29,"фарш минтая","кг",{"$f":"'Вт День 2 Нед 1'!AG39","v":0},{"$nulls":7},{"v":0,"d":"0.0000"},{"$nulls":5},{"v":0,"d":"0.0000"},null,null,{"v":0,"d":"0.0000"},{"$nulls":3},{"v":0,"d":"0.0000"},{"$nulls":3},{"v":0,"d":"0.0000"},{"$f":"L39+R39+U39+AC39","v":{"v":0,"d":"0.000"}},{"$f":"(D39+E39)-AD39","v":{"v":0,"d":"0.000"}}]
[null,"Сыпучка",null,{"$f":"'Вт День 2 Нед 1'!AG40","v":0},{"$nulls":7},{"v":0,"d":"0.0000"},{"$nulls":5},{"v":0,"d":"0.0000"},null,null,{"v":0,"d":"0.0000"},{"$nulls":3},{"v":0,"d":"0.0000"},{"$nulls":3},{"v":0,"d":"0.0000"},{"v":0,"d":"0.000"},{"v":0,"d":"0.000"}]
[30,"вермишель","кг",{"$f":"'Вт День 2 Нед 1'!AG41","v":0},{"$nulls":7},{"v":0,"d":"0.0000"},{"$nulls":5},{"v":0,"d":"0.0000"},null,null,{"v":0,"d":"0.0000"},{"$nulls":3},{"v":0,"d":"0.0000"},{"$nulls":3},{"v":0,"d":"0.0000"},{"v":0,"d":"0.000"},{"v":0,"d":"0.000"}]
[31,"геркулес","кг",{"$f":"'Вт День 2 Нед 1'!AG42","v":0},{"$nulls":7},{"v":0,"d":"0.0000"},{"$nulls":5},{"v":0,"d":"0.0000"},null,null,{"v":0,"d":"0.0000"},{"$nulls":3},{"v":0,"d":"0.0000"},{"$nulls":3},{"v":0,"d":"0.0000"},{"v":0,"d":"0.000"},{"v":0,"d":"0.000"}]
[32,"горох","кг",{"$f":"'Вт День 2 Нед 1'!AG43","v":0},{"$nulls":7},{"v":0,"d":"0.0000"},{"$nulls":5},{"v":0,"d":"0.0000"},null,null,{"v":0,"d":"0.0000"},{"$nulls":3},{"v":0,"d":"0.0000"},{"$nulls":3},{"v":0,"d":"0.0000"},{"v":0,"d":"0.000"},{"v":0,"d":"0.000"}]
[33,"гречневая крупа","кг",{"$f":"'Вт День 2 Нед 1'!AG44","v":0},{"$nulls":7},{"v":0,"d":"0.0000"},{"$nulls":5},{"v":0,"d":"0.0000"},null,null,{"v":0,"d":"0.0000"},{"$nulls":3},{"v":0,"d":"0.0000"},{"$nulls":3},{"v":0,"d":"0.0000"},{"v":0,"d":"0.000"},{"v":0,"d":"0.000"}]
[34,"кукурузная крупа","кг",{"$f":"'Вт День 2 Нед 1'!AG45","v":0},{"$nulls":7},{"v":0,"d":"0.0000"},{"$nulls":5},{"v":0,"d":"0.0000"},null,null,{"v":0,"d":"0.0000"},{"$nulls":3},{"v":0,"d":"0.0000"},{"$nulls":3},{"v":0,"d":"0.0000"},{"v":0,"d":"0.000"},{"v":0,"d":"0.000"}]
[35,"макаронные изделия","кг",{"$f":"'Вт День 2 Нед 1'!AG46","v":-0.071},{"$nulls":7},{"v":0,"d":"0.0000"},{"$nulls":5},{"v":0,"d":"0.0000"},null,null,{"v":0,"d":"0.0000"},{"v":0.061,"d":"0.0610"},null,null,{"v":0,"d":"0.0000"},{"$nulls":3},{"v":0,"d":"0.0000"},{"v":0,"d":"0.000"},-0.071]
[36,"манная крупа","кг",{"$f":"'Вт День 2 Нед 1'!AG47","v":0},{"$nulls":7},{"v":0,"d":"0.0000"},{"$nulls":5},{"v":0,"d":"0.0000"},null,null,{"v":0,"d":"0.0000"},{"$nulls":3},{"v":0,"d":"0.0000"},{"$nulls":3},{"v":0,"d":"0.0000"},{"v":0,"d":"0.000"},{"v":0,"d":"0.000"}]
[37,"перловая крупа","кг",{"$f":"'Вт День 2 Нед 1'!AG48","v":-0.005},{"$nulls":7},{"v":0,"d":"0.0000"},{"$nulls":5},{"v":0,"d":"0.0000"},null,null,{"v":0,"d":"0.0000"},{"$nulls":3},{"v":0,"d":"0.0000"},{"$nulls":3},{"v":0,"d":"0.0000"},{"v":0,"d":"0.000"},-0.005]
[38,"полбяная крупа","кг",{"$f":"'Вт День 2 Нед 1'!AG49","v":0},{"$nulls":7},{"v":0,"d":"0.0000"},{"$nulls":5},{"v":0,"d":"0.0000"},null,null,{"v":0,"d":"0.0000"},{"$nulls":3},{"v":0,"d":"0.0000"},{"$nulls":3},{"v":0,"d":"0.0000"},{"v":0,"d":"0.000"},{"v":0,"d":"0.000"}]
[39,"пшеничная крупа","кг",{"$f":"'Вт День 2 Нед 1'!AG50","v":0},{"$nulls":7},{"v":0,"d":"0.0000"},{"$nulls":5},{"v":0,"d":"0.0000"},null,null,{"v":0,"d":"0.0000"},{"$nulls":3},{"v":0,"d":"0.0000"},{"$nulls":3},{"v":0,"d":"0.0000"},{"v":0,"d":"0.000"},{"v":0,"d":"0.000"}]
[40,"пшено","кг",{"$f":"'Вт День 2 Нед 1'!AG51","v":-0.0245},{"$nulls":7},{"v":0,"d":"0.0000"},{"$nulls":5},{"v":0,"d":"0.0000"},null,null,{"v":0,"d":"0.0000"},{"$nulls":3},{"v":0,"d":"0.0000"},{"$nulls":3},{"v":0,"d":"0.0000"},{"v":0,"d":"0.000"},{"v":-0.0245,"d":"-0.025"}]
[41,"рис","кг",{"$f":"'Вт День 2 Нед 1'!AG52","v":-0.15500000000000003},{"$nulls":7},{"v":0,"d":"0.0000"},{"$nulls":5},{"v":0,"d":"0.0000"},null,null,{"v":0,"d":"0.0000"},{"$nulls":3},{"v":0,"d":"0.0000"},{"$nulls":3},{"v":0,"d":"0.0000"},{"v":0,"d":"0.000"},{"v":-0.15500000000000003,"d":"-0.155"}]
[42,"ячневая крупа","кг",{"$f":"'Вт День 2 Нед 1'!AG53","v":0},{"$nulls":7},{"v":0,"d":"0.0000"},{"$nulls":5},{"v":0,"d":"0.0000"},null,null,{"v":0,"d":"0.0000"},{"$nulls":3},{"v":0,"d":"0.0000"},{"$nulls":3},{"v":0,"d":"0.0000"},{"v":0,"d":"0.000"},{"v":0,"d":"0.000"}]
[43,"лапша домашняя п/ф","кг",{"$f":"'Вт День 2 Нед 1'!AG54","v":-0.02},{"$nulls":7},{"v":0,"d":"0.0000"},{"$nulls":5},{"v":0,"d":"0.0000"},null,null,{"v":0,"d":"0.0000"},{"$nulls":3},{"v":0,"d":"0.0000"},{"$nulls":3},{"v":0,"d":"0.0000"},{"v":0,"d":"0.000"},{"v":-0.02,"d":"-0.020"}]
[44,"мука пшеничная в/с","кг",{"$f":"'Вт День 2 Нед 1'!AG55","v":-0.014},null,0.0055,null,0.0005,{"$nulls":3},{"v":0.006,"d":"0.0060"},0.0055,null,0.0005,null,null,{"v":0.006,"d":"0.0060"},null,null,{"v":0,"d":"0.0000"},{"$nulls":3},{"v":0,"d":"0.0000"},{"$nulls":3},{"v":0,"d":"0.0000"},0.012,{"v":-0.026000000000000002,"d":"-0.026"}]
[45,"сахарный песок","кг",{"$f":"'Вт День 2 Нед 1'!AG56","v":-0.07730000000000001},{"$nulls":3},{"v":1.5E-3,"d":"0.0015"},{"v":0.01,"d":"0.0100"},null,null,0.0115,null,null,{"v":1.5E-3,"d":"0.0015"},{"v":0.01,"d":"0.0100"},null,0.0115,null,{"v":0.01,"d":"0.0100"},{"v":0.01,"d":"0.0100"},null,{"v":0.01,"d":"0.0100"},null,{"v":0,"d":"0.0000"},0.0025,{"v":0.01,"d":"0.0100"},null,0.0125,{"v":0.0455,"d":"0.046"},{"v":-0.1228,"d":"-0.123"}]
[46,"соль","кг",{"$f":"'Вт День 2 Нед 1'!AG57","v":-0.0052},null,{"$f":"0.0007+0.0004","v":0.0011},0.0005,0.0003,{"$nulls":3},{"v":1.9E-3,"d":"0.0019"},{"$f":"0.0007+0.0004","v":0.0011},0.0006,0.0003,null,null,{"v":2E-3,"d":"0.0020"},null,null,{"v":0,"d":"0.0000"},0.0005,null,null,{"v":0,"d":"0.0000"},0.0011,null,null,0.0011,0.005,{"v":-0.0102,"d":"-0.010"}]
[47,"сухари панировочные","кг",{"$f":"'Вт День 2 Нед 1'!AG58","v":0},{"$nulls":7},{"v":0,"d":"0.0000"},{"$nulls":5},{"v":0,"d":"0.0000"},null,null,{"v":0,"d":"0.0000"},{"$nulls":3},{"v":0,"d":"0.0000"},{"$nulls":3},{"v":0,"d":"0.0000"},{"v":0,"d":"0.000"},{"v":0,"d":"0.000"}]
[48,"дрожжи сухие","кг",{"$f":"'Вт День 2 Нед 1'!AG59","v":0},{"$nulls":7},{"v":0,"d":"0.0000"},{"$nulls":5},{"v":0,"d":"0.0000"},null,null,{"v":0,"d":"0.0000"},{"$nulls":3},{"v":0,"d":"0.0000"},{"$nulls":3},{"v":0,"d":"0.0000"},{"v":0,"d":"0.000"},{"v":0,"d":"0.000"}]
[49,"фасоль","кг",{"$f":"'Вт День 2 Нед 1'!AG60","v":0},{"$nulls":7},{"v":0,"d":"0.0000"},{"$nulls":5},{"v":0,"d":"0.0000"},null,null,{"v":0,"d":"0.0000"},{"$nulls":3},{"v":0,"d":"0.0000"},{"$nulls":3},{"v":0,"d":"0.0000"},{"v":0,"d":"0.000"},{"v":0,"d":"0.000"}]
[null,"Консервы",null,{"$f":"'Вт День 2 Нед 1'!AG61","v":0},{"$nulls":7},{"v":0,"d":"0.0000"},{"$nulls":5},{"v":0,"d":"0.0000"},null,null,{"v":0,"d":"0.0000"},{"$nulls":3},{"v":0,"d":"0.0000"},{"$nulls":3},{"v":0,"d":"0.0000"},{"v":0,"d":"0.000"},{"v":0,"d":"0.000"}]
[50,"зеленый горошек к/с","кг",{"$f":"'Вт День 2 Нед 1'!AG62","v":0},{"$nulls":7},{"v":0,"d":"0.0000"},{"$nulls":5},{"v":0,"d":"0.0000"},null,null,{"v":0,"d":"0.0000"},{"$nulls":3},{"v":0,"d":"0.0000"},{"$nulls":3},{"v":0,"d":"0.0000"},{"v":0,"d":"0.000"},{"v":0,"d":"0.000"}]
[51,"кукуруза к/с","кг",{"$f":"'Вт День 2 Нед 1'!AG63","v":0},{"$nulls":7},{"v":0,"d":"0.0000"},{"$nulls":5},{"v":0,"d":"0.0000"},null,null,{"v":0,"d":"0.0000"},{"$nulls":3},{"v":0,"d":"0.0000"},{"$nulls":3},{"v":0,"d":"0.0000"},{"v":0,"d":"0.000"},{"v":0,"d":"0.000"}]
[52,"фасоль к/с","кг",{"$f":"'Вт День 2 Нед 1'!AG64","v":0},{"$nulls":7},{"v":0,"d":"0.0000"},{"$nulls":5},{"v":0,"d":"0.0000"},null,null,{"v":0,"d":"0.0000"},{"$nulls":3},{"v":0,"d":"0.0000"},{"$nulls":3},{"v":0,"d":"0.0000"},{"v":0,"d":"0.000"},{"v":0,"d":"0.000"}]
[53,"икра кабачк/икра баклаж","кг",{"$f":"'Вт День 2 Нед 1'!AG65","v":0},{"$nulls":7},{"v":0,"d":"0.0000"},{"$nulls":5},{"v":0,"d":"0.0000"},null,null,{"v":0,"d":"0.0000"},{"$nulls":3},{"v":0,"d":"0.0000"},{"$nulls":3},{"v":0,"d":"0.0000"},{"v":0,"d":"0.000"},{"v":0,"d":"0.000"}]
[54,"капуста морская сушеная","кг",{"$f":"'Вт День 2 Нед 1'!AG66","v":0},{"$nulls":7},{"v":0,"d":"0.0000"},{"$nulls":5},{"v":0,"d":"0.0000"},null,null,{"v":0,"d":"0.0000"},{"$nulls":3},{"v":0,"d":"0.0000"},{"$nulls":3},{"v":0,"d":"0.0000"},{"v":0,"d":"0.000"},{"v":0,"d":"0.000"}]
[55,"капуста квашеная","кг",{"$f":"'Вт День 2 Нед 1'!AG67","v":0},{"$nulls":7},{"v":0,"d":"0.0000"},{"$nulls":5},{"v":0,"d":"0.0000"},null,null,{"v":0,"d":"0.0000"},{"$nulls":3},{"v":0,"d":"0.0000"},{"$nulls":3},{"v":0,"d":"0.0000"},{"v":0,"d":"0.000"},{"v":0,"d":"0.000"}]
[56,"молоко сгущенное  ","кг",{"$f":"'Вт День 2 Нед 1'!AG68","v":0},{"$nulls":7},{"v":0,"d":"0.0000"},{"$nulls":5},{"v":0,"d":"0.0000"},null,null,{"v":0,"d":"0.0000"},{"$nulls":3},{"v":0,"d":"0.0000"},{"$nulls":3},{"v":0,"d":"0.0000"},{"v":0,"d":"0.000"},{"v":0,"d":"0.000"}]
[57,"огурцы соленые","кг",{"$f":"'Вт День 2 Нед 1'!AG69","v":-0.0273},{"$nulls":7},{"v":0,"d":"0.0000"},{"$nulls":5},{"v":0,"d":"0.0000"},null,null,{"v":0,"d":"0.0000"},{"$nulls":3},{"v":0,"d":"0.0000"},{"$nulls":3},{"v":0,"d":"0.0000"},{"v":0,"d":"0.000"},{"v":-0.0273,"d":"-0.027"}]
[58,"повидло","кг",{"$f":"'Вт День 2 Нед 1'!AG70","v":0},{"$nulls":7},{"v":0,"d":"0.0000"},{"$nulls":5},{"v":0,"d":"0.0000"},null,null,{"v":0,"d":"0.0000"},{"$nulls":3},{"v":0,"d":"0.0000"},{"$nulls":3},{"v":0,"d":"0.0000"},{"v":0,"d":"0.000"},{"v":0,"d":"0.000"}]
[59,"томатная паста","кг",{"$f":"'Вт День 2 Нед 1'!AG71","v":-0.0032},{"$nulls":3},0.0012,{"$nulls":3},0.0012,null,null,0.0012,null,null,0.0012,null,null,{"v":0,"d":"0.0000"},{"$nulls":3},{"v":0,"d":"0.0000"},{"v":0.003,"d":"0.0030"},null,null,{"v":0.003,"d":"0.0030"},{"$f":"L71+R71+U71+AC71","v":{"v":0.0054,"d":"0.005"}},{"$f":"(D71+E71)-AD71","v":{"v":-8.6E-3,"d":"-0.009"}}]
[60,"рыбные консервы","кг",{"$f":"'Вт День 2 Нед 1'!AG72","v":0},{"$nulls":7},{"$f":"(F72+G72+H72+I72+K72)*$L$5","v":{"v":0,"d":"0.0000"}},{"$nulls":5},{"$f":"(M72+N72+O72+P72+Q72)*$R$5","v":{"v":0,"d":"0.0000"}},null,null,{"$f":"(T72+S72)*$U$5","v":{"v":0,"d":"0.0000"}},{"$nulls":3},{"$f":"(X72+W72+V72)*$Y$5","v":{"v":0,"d":"0.0000"}},{"$nulls":3},{"$f":"(Z72+AA72+AB72)*$AC$5","v":{"v":0,"d":"0.0000"}},{"v":0,"d":"0.000"},{"v":0,"d":"0.000"}]
[null,"Напитки",null,{"$f":"'Вт День 2 Нед 1'!AG73","v":0},{"$nulls":7},{"v":0,"d":"0.0000"},{"$nulls":5},{"v":0,"d":"0.0000"},null,null,{"v":0,"d":"0.0000"},{"$nulls":3},{"v":0,"d":"0.0000"},{"$nulls":3},{"v":0,"d":"0.0000"},{"v":0,"d":"0.000"},{"v":0,"d":"0.000"}]
[61,"чай весовой ","кг",{"$f":"'Вт День 2 Нед 1'!AG74","v":-0.0025},{"$nulls":4},0.0005,null,null,0.0005,{"$nulls":3},0.0005,null,0.0005,null,0.0005,0.0005,{"$nulls":3},{"v":0,"d":"0.0000"},{"$nulls":3},{"v":0,"d":"0.0000"},{"v":1.5E-3,"d":"0.002"},-0.004]
[62,"какао","кг",{"$f":"'Вт День 2 Нед 1'!AG75","v":0},{"$nulls":7},{"v":0,"d":"0.0000"},{"$nulls":5},{"v":0,"d":"0.0000"},null,null,{"v":0,"d":"0.0000"},{"$nulls":3},{"v":0,"d":"0.0000"},{"$nulls":3},{"v":0,"d":"0.0000"},{"v":0,"d":"0.000"},{"v":0,"d":"0.000"}]
[63,"кисель","кг",{"$f":"'Вт День 2 Нед 1'!AG76","v":0},{"$nulls":7},{"v":0,"d":"0.0000"},{"$nulls":5},{"v":0,"d":"0.0000"},null,null,{"v":0,"d":"0.0000"},{"$nulls":3},{"v":0,"d":"0.0000"},{"$nulls":3},{"v":0,"d":"0.0000"},{"v":0,"d":"0.000"},{"v":0,"d":"0.000"}]
[64,"кофейный напиток","кг",{"$f":"'Вт День 2 Нед 1'!AG77","v":0},{"$nulls":7},{"v":0,"d":"0.0000"},{"$nulls":5},{"v":0,"d":"0.0000"},null,null,{"v":0,"d":"0.0000"},{"$nulls":3},{"v":0,"d":"0.0000"},{"$nulls":3},{"v":0,"d":"0.0000"},{"v":0,"d":"0.000"},{"v":0,"d":"0.000"}]
[65,"цикорий","кг",{"$f":"'Вт День 2 Нед 1'!AG78","v":0},{"$nulls":7},{"v":0,"d":"0.0000"},{"$nulls":5},{"v":0,"d":"0.0000"},null,null,{"v":0,"d":"0.0000"},{"$nulls":3},{"v":0,"d":"0.0000"},{"$nulls":3},{"v":0,"d":"0.0000"},{"v":0,"d":"0.000"},{"v":0,"d":"0.000"}]
[null,"Сухофрукты",null,{"$f":"'Вт День 2 Нед 1'!AG79","v":0},{"$nulls":7},{"v":0,"d":"0.0000"},{"$nulls":5},{"v":0,"d":"0.0000"},null,null,{"v":0,"d":"0.0000"},{"$nulls":3},{"v":0,"d":"0.0000"},{"$nulls":3},{"v":0,"d":"0.0000"},{"v":0,"d":"0.000"},{"v":0,"d":"0.000"}]
[66,"ассорти для компота (сухофрукты)","кг",{"$f":"'Вт День 2 Нед 1'!AG80","v":-0.0204},{"$nulls":7},{"v":0,"d":"0.0000"},{"$nulls":5},{"v":0,"d":"0.0000"},null,null,{"v":0,"d":"0.0000"},null,0.0204,null,{"v":0,"d":"0.0000"},{"$nulls":3},{"v":0,"d":"0.0000"},{"v":0,"d":"0.000"},{"v":-0.0204,"d":"-0.020"}]
[67,"изюм","кг",{"$f":"'Вт День 2 Нед 1'!AG81","v":-0.0102},{"$nulls":7},{"v":0,"d":"0.0000"},{"$nulls":5},{"v":0,"d":"0.0000"},null,null,{"v":0,"d":"0.0000"},{"$nulls":3},{"v":0,"d":"0.0000"},{"$nulls":3},{"v":0,"d":"0.0000"},{"v":0,"d":"0.000"},{"v":-0.0102,"d":"-0.010"}]
[68,"курага","кг",{"$f":"'Вт День 2 Нед 1'!AG82","v":0},{"$nulls":7},{"v":0,"d":"0.0000"},{"$nulls":5},{"v":0,"d":"0.0000"},null,null,{"v":0,"d":"0.0000"},{"$nulls":3},{"v":0,"d":"0.0000"},{"$nulls":3},{"v":0,"d":"0.0000"},{"v":0,"d":"0.000"},{"v":0,"d":"0.000"}]
[69,"урюк","кг",{"$f":"'Вт День 2 Нед 1'!AG83","v":0},{"$nulls":7},{"v":0,"d":"0.0000"},{"$nulls":5},{"v":0,"d":"0.0000"},null,null,{"v":0,"d":"0.0000"},{"$nulls":3},{"v":0,"d":"0.0000"},null,0.0204,null,0.0204,{"v":0.0204,"d":"0.020"},{"v":-0.0204,"d":"-0.020"}]
[70,"шиповник","кг",{"$f":"'Вт День 2 Нед 1'!AG84","v":-0.0153},{"$nulls":7},{"v":0,"d":"0.0000"},{"$nulls":5},{"v":0,"d":"0.0000"},null,null,{"v":0,"d":"0.0000"},{"$nulls":3},{"v":0,"d":"0.0000"},{"$nulls":3},{"v":0,"d":"0.0000"},{"v":0,"d":"0.000"},{"v":-0.0153,"d":"-0.015"}]
[71,"компотная смесь с/м","кг",{"$f":"'Вт День 2 Нед 1'!AG85","v":0},{"$nulls":7},{"v":0,"d":"0.0000"},{"$nulls":5},{"v":0,"d":"0.0000"},null,null,{"v":0,"d":"0.0000"},{"$nulls":3},{"v":0,"d":"0.0000"},{"$nulls":3},{"v":0,"d":"0.0000"},{"v":0,"d":"0.000"},{"v":0,"d":"0.000"}]
[72,"вишня с/м","кг",{"$f":"'Вт День 2 Нед 1'!AG86","v":0},{"$nulls":7},{"v":0,"d":"0.0000"},{"$nulls":5},{"v":0,"d":"0.0000"},null,null,{"v":0,"d":"0.0000"},{"$nulls":3},{"v":0,"d":"0.0000"},{"$nulls":3},{"v":0,"d":"0.0000"},{"v":0,"d":"0.000"},{"v":0,"d":"0.000"}]
[73,"клюква с/м","кг",{"$f":"'Вт День 2 Нед 1'!AG87","v":0},{"$nulls":7},{"v":0,"d":"0.0000"},{"$nulls":5},{"v":0,"d":"0.0000"},null,null,{"v":0,"d":"0.0000"},{"$nulls":3},{"v":0,"d":"0.0000"},{"$nulls":3},{"v":0,"d":"0.0000"},{"v":0,"d":"0.000"},{"v":0,"d":"0.000"}]
[74,"смородина в ассорт с/м","кг",{"$f":"'Вт День 2 Нед 1'!AG88","v":0},{"$nulls":7},{"v":0,"d":"0.0000"},{"$nulls":5},{"v":0,"d":"0.0000"},null,null,{"v":0,"d":"0.0000"},{"$nulls":3},{"v":0,"d":"0.0000"},{"$nulls":3},{"v":0,"d":"0.0000"},{"v":0,"d":"0.000"},{"v":0,"d":"0.000"}]
[75,"облепиха с/м","кг",{"$f":"'Вт День 2 Нед 1'!AG89","v":0},{"$nulls":7},{"v":0,"d":"0.0000"},{"$nulls":5},{"v":0,"d":"0.0000"},null,null,{"v":0,"d":"0.0000"},{"$nulls":3},{"v":0,"d":"0.0000"},{"$nulls":3},{"v":0,"d":"0.0000"},{"v":0,"d":"0.000"},{"v":0,"d":"0.000"}]
[null,"Сок",null,{"$f":"'Вт День 2 Нед 1'!AG90","v":0},{"$nulls":7},{"v":0,"d":"0.0000"},{"$nulls":5},{"v":0,"d":"0.0000"},null,null,{"v":0,"d":"0.0000"},{"$nulls":3},{"v":0,"d":"0.0000"},{"$nulls":3},{"v":0,"d":"0.0000"},{"v":0,"d":"0.000"},{"v":0,"d":"0.000"}]
[76,"сок 0,125л или 0,2л","л",{"$f":"'Вт День 2 Нед 1'!AG91","v":0},{"$nulls":7},{"v":0,"d":"0.0000"},{"$nulls":5},{"v":0,"d":"0.0000"},null,null,{"v":0,"d":"0.0000"},{"$nulls":3},{"v":0,"d":"0.0000"},{"$nulls":3},{"v":0,"d":"0.0000"},{"v":0,"d":"0.000"},{"v":0,"d":"0.000"}]
[77,"нектар плодовый","л",{"$f":"'Вт День 2 Нед 1'!AG92","v":0},{"$nulls":7},{"v":0,"d":"0.0000"},{"$nulls":5},{"v":0,"d":"0.0000"},null,null,{"v":0,"d":"0.0000"},{"$nulls":3},{"v":0,"d":"0.0000"},{"$nulls":3},{"v":0,"d":"0.0000"},{"v":0,"d":"0.000"},{"v":0,"d":"0.000"}]
[null,"Кондитерка",null,{"$f":"'Вт День 2 Нед 1'!AG93","v":0},{"$nulls":7},{"v":0,"d":"0.0000"},{"$nulls":5},{"v":0,"d":"0.0000"},null,null,{"v":0,"d":"0.0000"},{"$nulls":3},{"v":0,"d":"0.0000"},{"$nulls":3},{"v":0,"d":"0.0000"},{"v":0,"d":"0.000"},{"v":0,"d":"0.000"}]
[78,"батончик злаковый","шт",{"$f":"'Вт День 2 Нед 1'!AG94","v":0},{"$nulls":7},{"v":0,"d":"0.0000"},{"$nulls":5},{"v":0,"d":"0.0000"},null,null,{"v":0,"d":"0.0000"},{"$nulls":3},{"v":0,"d":"0.0000"},{"$nulls":3},{"v":0,"d":"0.0000"},{"v":0,"d":"0.000"},{"v":0,"d":"0.000"}]
[79,"пряник","кг",{"$f":"'Вт День 2 Нед 1'!AG95","v":0},{"$nulls":7},{"v":0,"d":"0.0000"},{"$nulls":5},{"v":0,"d":"0.0000"},{"v":0.035,"d":"0.0350"},null,{"v":0.035,"d":"0.0350"},{"$nulls":3},{"v":0,"d":"0.0000"},{"$nulls":3},{"v":0,"d":"0.0000"},0.035,-0.035]
[80,"вафли ","кг",{"$f":"'Вт День 2 Нед 1'!AG96","v":-0.2},{"$nulls":7},{"v":0,"d":"0.0000"},{"$nulls":5},{"v":0,"d":"0.0000"},null,null,{"v":0,"d":"0.0000"},{"$nulls":3},{"v":0,"d":"0.0000"},{"$nulls":3},{"v":0,"d":"0.0000"},{"v":0,"d":"0.000"},{"v":-0.2,"d":"-0.200"}]
[81,"печенье","кг",{"$f":"'Вт День 2 Нед 1'!AG97","v":-0.02},{"$nulls":7},{"v":0,"d":"0.0000"},{"$nulls":5},{"v":0,"d":"0.0000"},null,null,{"v":0,"d":"0.0000"},{"$nulls":3},{"v":0,"d":"0.0000"},{"$nulls":3},{"v":0,"d":"0.0000"},{"v":0,"d":"0.000"},{"v":-0.02,"d":"-0.020"}]
[82,"крекер","кг",{"$f":"'Вт День 2 Нед 1'!AG98","v":0},{"$nulls":7},{"v":0,"d":"0.0000"},{"$nulls":5},{"v":0,"d":"0.0000"},null,null,{"v":0,"d":"0.0000"},{"$nulls":3},{"v":0,"d":"0.0000"},{"$nulls":3},{"v":0,"d":"0.0000"},{"v":0,"d":"0.000"},{"v":0,"d":"0.000"}]
[83,"сушки","кг",{"$f":"'Вт День 2 Нед 1'!AG99","v":0},{"$nulls":7},{"v":0,"d":"0.0000"},{"$nulls":5},{"v":0,"d":"0.0000"},null,null,{"v":0,"d":"0.0000"},{"$nulls":3},{"v":0,"d":"0.0000"},{"$nulls":3},{"v":0,"d":"0.0000"},{"v":0,"d":"0.000"},{"v":0,"d":"0.000"}]
[84,"мармелад","кг",{"$f":"'Вт День 2 Нед 1'!AG100","v":0},{"$nulls":7},{"v":0,"d":"0.0000"},{"$nulls":5},{"v":0,"d":"0.0000"},null,null,{"v":0,"d":"0.0000"},{"$nulls":3},{"v":0,"d":"0.0000"},{"$nulls":3},{"v":0,"d":"0.0000"},{"v":0,"d":"0.000"},{"v":0,"d":"0.000"}]
[85,"блины п/ф","кг",{"$f":"'Вт День 2 Нед 1'!AG101","v":0},{"$nulls":7},{"v":0,"d":"0.0000"},{"$nulls":5},{"v":0,"d":"0.0000"},null,null,{"v":0,"d":"0.0000"},{"$nulls":3},{"v":0,"d":"0.0000"},{"$nulls":3},{"v":0,"d":"0.0000"},{"v":0,"d":"0.000"},{"v":0,"d":"0.000"}]
[86,"выпечка п/ф со склада","шт",{"$f":"'Вт День 2 Нед 1'!AG102","v":0},{"$nulls":7},{"v":0,"d":"0.0000"},{"$nulls":5},{"v":0,"d":"0.0000"},null,null,{"v":0,"d":"0.0000"},{"$nulls":3},{"v":0,"d":"0.0000"},{"$nulls":3},{"v":0,"d":"0.0000"},{"v":0,"d":"0.000"},{"v":0,"d":"0.000"}]
[null,"Яйцо",null,{"$f":"'Вт День 2 Нед 1'!AG103","v":0},{"$nulls":7},{"v":0,"d":"0.0000"},{"$nulls":5},{"v":0,"d":"0.0000"},null,null,{"v":0,"d":"0.0000"},{"$nulls":3},{"v":0,"d":"0.0000"},{"$nulls":3},{"v":0,"d":"0.0000"},{"$f":"L103+R103+U103+AC103","v":{"v":0,"d":"0.000"}},{"$f":"(D103+E103)-AD103","v":{"v":0,"d":"0.000"}}]
[87,"яйцо куриное","кг",{"$f":"'Вт День 2 Нед 1'!AG104","v":-0.00096},{"$nulls":7},{"v":0,"d":"0.0000"},{"$nulls":5},{"v":0,"d":"0.0000"},null,null,{"v":0,"d":"0.0000"},{"$nulls":3},{"v":0,"d":"0.0000"},{"v":0.00096,"d":"0.0010"},null,null,{"v":0.00096,"d":"0.0010"},{"v":0.00096,"d":"0.001"},{"v":-1.92E-3,"d":"-0.002"}]
[null,0.048,"шт",{"$f":"'Вт День 2 Нед 1'!AG105","v":0},{"$nulls":7},{"v":0,"d":"0.0000"},{"$nulls":5},{"v":0,"d":"0.0000"},null,null,{"v":0,"d":"0.0000"},{"$nulls":3},{"v":0,"d":"0.0000"},{"$nulls":3},{"v":0,"d":"0.0000"},{"v":0,"d":"0.000"},{"v":0,"d":"0.000"}]
[null,"Овощи заморозка",null,{"$f":"'Вт День 2 Нед 1'!AG106","v":0},{"$nulls":7},{"v":0,"d":"0.0000"},{"$nulls":5},{"v":0,"d":"0.0000"},null,null,{"v":0,"d":"0.0000"},{"$nulls":3},{"v":0,"d":"0.0000"},{"$nulls":3},{"v":0,"d":"0.0000"},{"v":0,"d":"0.000"},{"v":0,"d":"0.000"}]
[88,"зеленый горошек с/м","кг",{"$f":"'Вт День 2 Нед 1'!AG107","v":0},{"$nulls":7},{"v":0,"d":"0.0000"},{"$nulls":5},{"v":0,"d":"0.0000"},null,null,{"v":0,"d":"0.0000"},{"$nulls":3},{"v":0,"d":"0.0000"},{"$nulls":3},{"v":0,"d":"0.0000"},{"v":0,"d":"0.000"},{"v":0,"d":"0.000"}]
[89,"кабачки с/м","кг",{"$f":"'Вт День 2 Нед 1'!AG108","v":0},{"$nulls":7},{"v":0,"d":"0.0000"},{"$nulls":5},{"v":0,"d":"0.0000"},null,null,{"v":0,"d":"0.0000"},{"$nulls":3},{"v":0,"d":"0.0000"},{"$nulls":3},{"v":0,"d":"0.0000"},{"v":0,"d":"0.000"},{"v":0,"d":"0.000"}]
[90,"мексиканс смесь с/м","кг",{"$f":"'Вт День 2 Нед 1'!AG109","v":0},{"$nulls":7},{"v":0,"d":"0.0000"},{"$nulls":5},{"v":0,"d":"0.0000"},null,null,{"v":0,"d":"0.0000"},{"$nulls":3},{"v":0,"d":"0.0000"},{"$nulls":3},{"v":0,"d":"0.0000"},{"v":0,"d":"0.000"},{"v":0,"d":"0.000"}]
[91,"капуста цветная с/м","кг",{"$f":"'Вт День 2 Нед 1'!AG110","v":0},{"$nulls":7},{"v":0,"d":"0.0000"},{"$nulls":5},{"v":0,"d":"0.0000"},null,null,{"v":0,"d":"0.0000"},{"$nulls":3},{"v":0,"d":"0.0000"},{"$nulls":3},{"v":0,"d":"0.0000"},{"v":0,"d":"0.000"},{"v":0,"d":"0.000"}]
[92,"брокколи с/м","кг",{"$f":"'Вт День 2 Нед 1'!AG111","v":0},{"$nulls":7},{"v":0,"d":"0.0000"},{"$nulls":5},{"v":0,"d":"0.0000"},null,null,{"v":0,"d":"0.0000"},{"$nulls":3},{"v":0,"d":"0.0000"},{"$nulls":3},{"v":0,"d":"0.0000"},{"v":0,"d":"0.000"},{"v":0,"d":"0.000"}]
[93,"кукуруза с/м","кг",{"$f":"'Вт День 2 Нед 1'!AG112","v":0},{"$nulls":7},{"v":0,"d":"0.0000"},{"$nulls":5},{"v":0,"d":"0.0000"},null,null,{"v":0,"d":"0.0000"},{"$nulls":3},{"v":0,"d":"0.0000"},{"$nulls":3},{"v":0,"d":"0.0000"},{"v":0,"d":"0.000"},{"v":0,"d":"0.000"}]
[94,"фасоль стручковая с/м","кг",{"$f":"'Вт День 2 Нед 1'!AG113","v":0},{"$nulls":7},{"v":0,"d":"0.0000"},{"$nulls":5},{"v":0,"d":"0.0000"},null,null,{"v":0,"d":"0.0000"},{"$nulls":3},{"v":0,"d":"0.0000"},{"$nulls":3},{"v":0,"d":"0.0000"},{"v":0,"d":"0.000"},{"v":0,"d":"0.000"}]
[null,"Фрукты",null,{"$f":"'Вт День 2 Нед 1'!AG114","v":0},{"$nulls":7},{"v":0,"d":"0.0000"},{"$nulls":5},{"v":0,"d":"0.0000"},null,null,{"v":0,"d":"0.0000"},{"$nulls":3},{"v":0,"d":"0.0000"},{"$nulls":3},{"v":0,"d":"0.0000"},{"v":0,"d":"0.000"},{"v":0,"d":"0.000"}]
[95,"апельсин","кг",{"$f":"'Вт День 2 Нед 1'!AG115","v":0},{"$nulls":7},{"v":0,"d":"0.0000"},{"$nulls":5},{"v":0,"d":"0.0000"},null,null,{"v":0,"d":"0.0000"},{"$nulls":3},{"v":0,"d":"0.0000"},{"$nulls":3},{"v":0,"d":"0.0000"},{"v":0,"d":"0.000"},{"v":0,"d":"0.000"}]
[96,"банан","кг",{"$f":"'Вт День 2 Нед 1'!AG116","v":0},{"$nulls":7},{"v":0,"d":"0.0000"},{"$nulls":5},{"v":0,"d":"0.0000"},null,null,{"v":0,"d":"0.0000"},{"$nulls":3},{"v":0,"d":"0.0000"},{"$nulls":3},{"v":0,"d":"0.0000"},{"v":0,"d":"0.000"},{"v":0,"d":"0.000"}]
[97,"груши","кг",{"$f":"'Вт День 2 Нед 1'!AG117","v":0},{"$nulls":7},{"v":0,"d":"0.0000"},{"$nulls":5},{"v":0,"d":"0.0000"},null,null,{"v":0,"d":"0.0000"},{"$nulls":3},{"v":0,"d":"0.0000"},{"$nulls":3},{"v":0,"d":"0.0000"},{"v":0,"d":"0.000"},{"v":0,"d":"0.000"}]
[98,"мандарины","кг",{"$f":"'Вт День 2 Нед 1'!AG118","v":0},{"$nulls":7},{"v":0,"d":"0.0000"},{"$nulls":5},{"v":0,"d":"0.0000"},null,null,{"v":0,"d":"0.0000"},{"$nulls":3},{"v":0,"d":"0.0000"},{"$nulls":3},{"v":0,"d":"0.0000"},{"v":0,"d":"0.000"},{"v":0,"d":"0.000"}]
[99,"лимон","кг",{"$f":"'Вт День 2 Нед 1'!AG119","v":-0.012},{"$nulls":7},{"v":0,"d":"0.0000"},{"$nulls":5},{"v":0,"d":"0.0000"},null,null,{"v":0,"d":"0.0000"},{"$nulls":3},{"v":0,"d":"0.0000"},{"$nulls":3},{"v":0,"d":"0.0000"},{"v":0,"d":"0.000"},-0.012]
[100,"яблоки свежие","кг",{"$f":"'Вт День 2 Нед 1'!AG120","v":-0.2228},{"$nulls":4},0.0114,null,null,0.0114,{"$nulls":3},0.0114,null,0.0114,null,null,{"v":0,"d":"0.0000"},{"$nulls":3},{"v":0,"d":"0.0000"},{"$nulls":3},{"v":0,"d":"0.0000"},{"v":0.0228,"d":"0.023"},{"v":-0.24559999999999998,"d":"-0.246"}]
[null,"Овощи / зелень ",null,{"$f":"'Вт День 2 Нед 1'!AG121","v":0},{"$nulls":7},{"v":0,"d":"0.0000"},{"$nulls":5},{"v":0,"d":"0.0000"},null,null,{"v":0,"d":"0.0000"},{"$nulls":3},{"v":0,"d":"0.0000"},{"$nulls":3},{"v":0,"d":"0.0000"},{"v":0,"d":"0.000"},{"v":0,"d":"0.000"}]
[101,"капуста свежая","кг",{"$f":"'Вт День 2 Нед 1'!AG122","v":0},{"$nulls":3},{"v":0.07125,"d":"0.0713"},{"$nulls":3},{"v":0.07125,"d":"0.0713"},null,null,{"v":0.07125,"d":"0.0713"},null,null,{"v":0.07125,"d":"0.0713"},null,null,{"v":0,"d":"0.0000"},{"$nulls":3},{"v":0,"d":"0.0000"},{"v":0.025,"d":"0.0250"},null,null,{"v":0.025,"d":"0.0250"},{"v":0.16749999999999998,"d":"0.168"},{"v":-0.16749999999999998,"d":"-0.168"}]
[102,"картофель","кг",{"$f":"'Вт День 2 Нед 1'!AG123","v":-0.1},null,null,{"v":0.171,"d":"0.1710"},{"$nulls":4},{"v":0.171,"d":"0.1710"},null,0.2052,{"$nulls":3},0.2052,null,null,{"v":0,"d":"0.0000"},{"$nulls":3},{"v":0,"d":"0.0000"},0.0268,null,null,0.0268,{"v":0.40299999999999997,"d":"0.403"},-0.503]
[103,"лук репчатый","кг",{"$f":"'Вт День 2 Нед 1'!AG124","v":-0.0564},null,0.0108,null,0.0048,{"$nulls":3},0.0156,0.0108,null,0.0048,null,null,0.0156,null,null,{"v":0,"d":"0.0000"},{"$nulls":3},{"v":0,"d":"0.0000"},{"v":0.012,"d":"0.0120"},null,null,{"v":0.012,"d":"0.0120"},{"v":0.0432,"d":"0.043"},{"v":-0.0996,"d":"-0.100"}]
[104,"морковь","кг",{"$f":"'Вт День 2 Нед 1'!AG125","v":-0.018750000000000003},null,0.0125,null,{"v":0.00375,"d":"0.0038"},{"$nulls":3},{"v":0.01625,"d":"0.0163"},0.0125,null,{"v":0.00375,"d":"0.0038"},null,null,{"v":0.01625,"d":"0.0163"},null,null,{"v":0,"d":"0.0000"},{"$nulls":3},{"v":0,"d":"0.0000"},0.0125,null,null,0.0125,0.045,{"v":-0.06375,"d":"-0.064"}]
[105,"свекла","кг",{"$f":"'Вт День 2 Нед 1'!AG126","v":0},{"$nulls":7},{"v":0,"d":"0.0000"},{"$nulls":5},{"v":0,"d":"0.0000"},null,null,{"v":0,"d":"0.0000"},{"$nulls":3},{"v":0,"d":"0.0000"},{"v":0.05,"d":"0.0500"},null,null,{"v":0.05,"d":"0.0500"},{"v":0.05,"d":"0.050"},{"v":-0.05,"d":"-0.050"}]
[106,"огурцы св.","кг",{"$f":"'Вт День 2 Нед 1'!AG127","v":0},{"$nulls":7},{"v":0,"d":"0.0000"},{"$nulls":5},{"v":0,"d":"0.0000"},null,null,{"v":0,"d":"0.0000"},{"$nulls":3},{"v":0,"d":"0.0000"},{"$nulls":3},{"v":0,"d":"0.0000"},{"v":0,"d":"0.000"},{"v":0,"d":"0.000"}]
[107,"томаты св.","кг",{"$f":"'Вт День 2 Нед 1'!AG128","v":0},{"$nulls":7},{"v":0,"d":"0.0000"},{"$nulls":5},{"v":0,"d":"0.0000"},null,null,{"v":0,"d":"0.0000"},{"$nulls":3},{"v":0,"d":"0.0000"},{"$nulls":3},{"v":0,"d":"0.0000"},{"v":0,"d":"0.000"},{"v":0,"d":"0.000"}]
[108,"перец болг.красный","кг",{"$f":"'Вт День 2 Нед 1'!AG129","v":0},{"$nulls":7},{"v":0,"d":"0.0000"},{"$nulls":5},{"v":0,"d":"0.0000"},null,null,{"v":0,"d":"0.0000"},{"$nulls":3},{"v":0,"d":"0.0000"},{"$nulls":3},{"v":0,"d":"0.0000"},{"v":0,"d":"0.000"},{"v":0,"d":"0.000"}]
[109,"тыква","кг",{"$f":"'Вт День 2 Нед 1'!AG130","v":0},{"$nulls":7},{"v":0,"d":"0.0000"},{"$nulls":5},{"v":0,"d":"0.0000"},null,null,{"v":0,"d":"0.0000"},{"$nulls":3},{"v":0,"d":"0.0000"},{"$nulls":3},{"v":0,"d":"0.0000"},{"v":0,"d":"0.000"},{"v":0,"d":"0.000"}]
[null,"Овощи очищенные ",null,{"$f":"'Вт День 2 Нед 1'!AG131","v":0},{"$nulls":7},{"v":0,"d":"0.0000"},{"$nulls":5},{"v":0,"d":"0.0000"},null,null,{"v":0,"d":"0.0000"},{"$nulls":3},{"v":0,"d":"0.0000"},{"$nulls":3},{"v":0,"d":"0.0000"},{"v":0,"d":"0.000"},{"v":0,"d":"0.000"}]
[110,"капуста св.очищенная","кг",{"$f":"'Вт День 2 Нед 1'!AG132","v":0},{"$nulls":7},{"v":0,"d":"0.0000"},{"$nulls":5},{"v":0,"d":"0.0000"},null,null,{"v":0,"d":"0.0000"},{"$nulls":3},{"v":0,"d":"0.0000"},{"$nulls":3},{"v":0,"d":"0.0000"},{"v":0,"d":"0.000"},{"v":0,"d":"0.000"}]
[111,"картофель св. очищенный","кг",{"$f":"'Вт День 2 Нед 1'!AG133","v":0},{"$nulls":7},{"v":0,"d":"0.0000"},{"$nulls":5},{"v":0,"d":"0.0000"},null,null,{"v":0,"d":"0.0000"},{"$nulls":3},{"v":0,"d":"0.0000"},{"$nulls":3},{"v":0,"d":"0.0000"},{"v":0,"d":"0.000"},{"v":0,"d":"0.000"}]
[112,"лук репчатый св.очищенный","кг",{"$f":"'Вт День 2 Нед 1'!AG134","v":0},{"$nulls":7},{"v":0,"d":"0.0000"},{"$nulls":5},{"v":0,"d":"0.0000"},null,null,{"v":0,"d":"0.0000"},{"$nulls":3},{"v":0,"d":"0.0000"},{"$nulls":3},{"v":0,"d":"0.0000"},{"v":0,"d":"0.000"},{"v":0,"d":"0.000"}]
[113,"морковь св.очищенная","кг",{"$f":"'Вт День 2 Нед 1'!AG135","v":0},{"$nulls":7},{"v":0,"d":"0.0000"},{"$nulls":5},{"v":0,"d":"0.0000"},null,null,{"v":0,"d":"0.0000"},{"$nulls":3},{"v":0,"d":"0.0000"},{"$nulls":3},{"v":0,"d":"0.0000"},{"$f":"L135+R135+U135+AC135","v":{"v":0,"d":"0.000"}},{"$f":"(D135+E135)-AD135","v":{"v":0,"d":"0.000"}}]
[114,"свекла св.очищенная","кг",{"$f":"'Вт День 2 Нед 1'!AG136","v":0},{"$nulls":7},{"$f":"(F136+G136+H136+I136+K136)*$L$5","v":{"v":0,"d":"0.0000"}},{"$nulls":5},{"$f":"(M136+N136+O136+P136+Q136)*$R$5","v":{"v":0,"d":"0.0000"}},null,null,{"$f":"(T136+S136)*$U$5","v":{"v":0,"d":"0.0000"}},{"$nulls":3},{"$f":"(X136+W136+V136)*$Y$5","v":{"v":0,"d":"0.0000"}},{"$nulls":3},{"$f":"(Z136+AA136+AB136)*$AC$5","v":{"v":0,"d":"0.0000"}},{"v":0,"d":"0.000"},{"v":0,"d":"0.000"}]
[null,"Полуфабрикаты",null,{"$f":"'Вт День 2 Нед 1'!AG137","v":0},{"$nulls":7},{"v":0,"d":"0.0000"},{"$nulls":5},{"v":0,"d":"0.0000"},null,null,{"v":0,"d":"0.0000"},{"$nulls":3},{"v":0,"d":"0.0000"},{"$nulls":3},{"v":0,"d":"0.0000"},{"v":0,"d":"0.000"},{"v":0,"d":"0.000"}]
[115,"сырники ПФ","шт",{"$f":"'Вт День 2 Нед 1'!AG138","v":-2},{"$nulls":7},{"v":0,"d":"0.0000"},{"$nulls":5},{"v":0,"d":"0.0000"},{"$nulls":11},{"v":0,"d":"0.000"},{"v":-2,"d":"-2.000"}]
[116,"пельмени ПФ","кг",{"$f":"'Вт День 2 Нед 1'!AG139","v":0},{"$nulls":7},{"v":0,"d":"0.0000"},{"$nulls":5},{"v":0,"d":"0.0000"},null,null,{"v":0,"d":"0.0000"},{"$nulls":3},{"v":0,"d":"0.0000"},{"$nulls":3},{"v":0,"d":"0.0000"},{"v":0,"d":"0.000"},{"v":0,"d":"0.000"}]
[117,"биточки рыбные","шт",{"$f":"'Вт День 2 Нед 1'!AG140","v":0},{"$nulls":7},{"v":0,"d":"0.0000"},{"$nulls":5},{"v":0,"d":"0.0000"},null,null,{"v":0,"d":"0.0000"},{"$nulls":3},{"v":0,"d":"0.0000"},{"$nulls":3},{"v":0,"d":"0.0000"},{"v":0,"d":"0.000"},{"v":0,"d":"0.000"}]
[118,"фрикадельки мясные ","кг",{"$f":"'Вт День 2 Нед 1'!AG141","v":0},{"$nulls":7},{"v":0,"d":"0.0000"},{"$nulls":5},{"v":0,"d":"0.0000"},null,null,{"v":0,"d":"0.0000"},{"$nulls":3},{"v":0,"d":"0.0000"},{"$nulls":3},{"v":0,"d":"0.0000"},{"v":0,"d":"0.000"},{"v":0,"d":"0.000"}]
[119,"фрикадельки куриные","кг",{"$f":"'Вт День 2 Нед 1'!AG142","v":0},{"$nulls":7},{"v":0,"d":"0.0000"},{"$nulls":5},{"v":0,"d":"0.0000"},null,null,{"v":0,"d":"0.0000"},{"$nulls":3},{"v":0,"d":"0.0000"},{"$nulls":3},{"v":0,"d":"0.0000"},{"v":0,"d":"0.000"},{"v":0,"d":"0.000"}]
[120,"хинкали п/ф из говядины","кг",{"$f":"'Вт День 2 Нед 1'!AG143","v":0},{"$nulls":7},{"v":0,"d":"0.0000"},{"$nulls":5},{"v":0,"d":"0.0000"},null,null,{"v":0,"d":"0.0000"},{"$nulls":3},{"v":0,"d":"0.0000"},{"$nulls":3},{"v":0,"d":"0.0000"},{"v":0,"d":"0.000"},{"v":0,"d":"0.000"}]
[121,"котлеты из говядины \"Домашние\"  ","шт",{"$f":"'Вт День 2 Нед 1'!AG144","v":0},{"$nulls":7},{"v":0,"d":"0.0000"},{"$nulls":5},{"v":0,"d":"0.0000"},null,null,{"v":0,"d":"0.0000"},{"$nulls":3},{"v":0,"d":"0.0000"},{"$nulls":3},{"v":0,"d":"0.0000"},{"v":0,"d":"0.000"},{"v":0,"d":"0.000"}]
[122,"бифштекс из говядины","шт",{"$f":"'Вт День 2 Нед 1'!AG145","v":0},{"$nulls":7},{"v":0,"d":"0.0000"},{"$nulls":5},{"v":0,"d":"0.0000"},null,null,{"v":0,"d":"0.0000"},{"$nulls":3},{"v":0,"d":"0.0000"},{"$nulls":3},{"v":0,"d":"0.0000"},{"v":0,"d":"0.000"},{"v":0,"d":"0.000"}]
[123,"котлеты из мяса кур","шт",{"$f":"'Вт День 2 Нед 1'!AG146","v":0},{"$nulls":7},{"v":0,"d":"0.0000"},{"$nulls":5},{"v":0,"d":"0.0000"},null,null,{"v":0,"d":"0.0000"},{"$nulls":3},{"v":0,"d":"0.0000"},{"$nulls":3},{"v":0,"d":"0.0000"},{"v":0,"d":"0.000"},{"v":0,"d":"0.000"}]
[124,"котлеты \"Аппетитные\" мясо-куриные  ","шт",{"$f":"'Вт День 2 Нед 1'!AG147","v":0},{"$nulls":7},{"v":0,"d":"0.0000"},{"$nulls":5},{"v":0,"d":"0.0000"},null,null,{"v":0,"d":"0.0000"},{"$nulls":3},{"v":0,"d":"0.0000"},{"$nulls":3},{"v":0,"d":"0.0000"},{"v":0,"d":"0.000"},{"v":0,"d":"0.000"}]
[125,"ежики мясные с рисом ","шт",{"$f":"'Вт День 2 Нед 1'!AG148","v":0},{"$nulls":7},{"v":0,"d":"0.0000"},{"$nulls":5},{"v":0,"d":"0.0000"},null,null,{"v":0,"d":"0.0000"},{"$nulls":3},{"v":0,"d":"0.0000"},{"$nulls":3},{"v":0,"d":"0.0000"},{"v":0,"d":"0.000"},{"v":0,"d":"0.000"}]

{"sheet":"Чт День 4 Нед 1","index":3,"n_rows":148,"n_cols":34,"rows_kept":148,"merged":[[0,0,0,31],[1,5,1,10],[1,11,3,11],[1,12,3,12],[1,13,1,18],[1,19,3,19],[1,20,3,20],[1,21,1,22],[1,23,3,23],[1,24,1,26],[1,27,3,27],[1,28,1,30],[1,31,3,31],[1,32,3,32],[1,33,3,33]]}
["Расход продуктов питания в образовательных учереждениях  "]
[{"$nulls":5},"Меню с 1 по 4 класс  69,43 РУБ",{"$nulls":5},"ИТОГО с сосисками, с чаем","ИТОГО с котлетой","Меню с 5 по 11 класс  69,43  РУБ ",{"$nulls":5},"ИТОГО с сосисками с чаем","ИТОГО с котлетой","Меню на сумму         9,60  РУБ",null,"ИТОГО","Меню КАШИ  НА молоке                          ",null,null,"ИТОГО","Меню   СУПА  ",null,null,"ИТОГО","ВСЕГО ЗА ДЕНЬ расход продуктов по всем рационам","остаток на конец"]
[null,"ДЕНЬ 4 неделя 1",null,"остаток на начало","приход","яблоко свежее","Котлета домашняя из говядины с кашей гречневой рассыпчатой с маслом сливочным","ИЛИ сосиски с кашей гречневой","Кофейный напиток с молоком","Чай Витаминный с шиповником","Хлеб ржаной",null,null,"яблоко свежее","Котлета домашняя из говядины с кашей гречневой рассыпчатой с маслом сливочным","ИЛИ сосиски с кашей гречневой","Кофейный напиток с молоком","Чай Витаминный с шиповником","Хлеб пшеничный/ржаной",null,null,"булочка готов с х/к","Компот из св яблок",null,"каша  геркулес с маслом слив","напиток из шиповника","Хлеб ржаной ",null,"Суп крест с крупой /пшено/ с кур фрик, с смет","Чай с сахаром","Хлеб ржаной"]
[null,"КОЛИЧЕСТВО ДЕТЕЙ",{"$nulls":3},"7-11","7-11","7-11","7-11","200","7-11",null,null,"12-18","12-18",null,"12-18",null,"12-18",null,null,"12-18","12-18",null,"12-18","12-18","12-18",null,"12-18","12-18","12-18"]
[null,"Выход,гр",{"$nulls":3},"100","75/150/3","90/150/3","200","200","30","1","1","100","75/150/3",null,"200",null,"20/30","1","1","50","200",1,"150/3","200","30",0,"250/10/5","190/10","30","1",{"$f":"M5+T5+X5+AF5","v":4}]
[null,"Хлеб"]
[1,"батон ","кг",{"$f":"'Ср День 3 Нед 1'!AE7","v":0},{"$nulls":7},{"$f":"(F7+H7+J7+K7)*$L$5","v":{"v":0,"d":"0.0000"}},{"$f":"(F7+G7+I7+K7)*$M$5","v":{"v":0,"d":"0.0000"}},{"$nulls":6},{"$f":"(N7+P7+R7+S7)*$T$5","v":{"v":0,"d":"0.0000"}},{"$f":"(N7+O7+Q7+S7)*$U$5","v":{"v":0,"d":"0.0000"}},null,null,{"$f":"(W7+V7)*$X$5","v":{"v":0,"d":"0.0000"}},{"$nulls":3},{"$f":"(AA7+Z7+Y7)*$AB$5","v":{"v":0,"d":"0.0000"}},{"$nulls":3},{"$f":"(AC7+AD7+AE7)*$AF$5","v":{"v":0,"d":"0.0000"}},{"$f":"L7+M7+T7+U7+X7+AF7","v":{"v":0,"d":"0.000"}},{"$f":"(D7+E7)-AG7","v":{"v":0,"d":"0.000"}}]
[2,"хлеб пшеничный ","кг",{"$f":"'Ср День 3 Нед 1'!AE8","v":-0.1},{"$nulls":7},{"$f":"(F8+H8+J8+K8)*$L$5","v":{"v":0,"d":"0.0000"}},{"$f":"(F8+G8+I8+K8)*$M$5","v":{"v":0,"d":"0.0000"}},{"$nulls":5},{"v":0.02,"d":"0.0200"},{"$f":"(N8+P8+R8+S8)*$T$5","v":{"v":0.02,"d":"0.0200"}},{"$f":"(N8+O8+Q8+S8)*$U$5","v":{"v":0.02,"d":"0.0200"}},null,null,{"$f":"(W8+V8)*$X$5","v":{"v":0,"d":"0.0000"}},{"$nulls":3},{"$f":"(AA8+Z8+Y8)*$AB$5","v":{"v":0,"d":"0.0000"}},{"$nulls":3},{"$f":"(AC8+AD8+AE8)*$AF$5","v":{"v":0,"d":"0.0000"}},{"$f":"L8+M8+T8+U8+X8+AF8","v":{"v":0.04,"d":"0.040"}},{"v":-0.14,"d":"-0.140"}]
[3,"хлеб ржаной","кг",{"$f":"'Ср День 3 Нед 1'!AE9","v":-0.295},{"$nulls":6},{"v":0.03,"d":"0.0300"},{"v":0.03,"d":"0.0300"},{"v":0.03,"d":"0.0300"},{"$nulls":5},{"v":0.03,"d":"0.0300"},{"v":0.03,"d":"0.0300"},{"v":0.03,"d":"0.0300"},null,null,{"v":0,"d":"0.0000"},null,null,{"v":0.03,"d":"0.0300"},{"v":0,"d":"0.0000"},null,null,{"v":0.03,"d":"0.0300"},{"v":0.03,"d":"0.0300"},{"v":0.15,"d":"0.150"},{"v":-0.44499999999999995,"d":"-0.445"}]
[4,"булоч/выпечка готов с х/ком","кг",{"$f":"'Ср День 3 Нед 1'!AE10","v":0},{"$nulls":7},{"v":0,"d":"0.0000"},{"v":0,"d":"0.0000"},{"$nulls":6},{"v":0,"d":"0.0000"},{"v":0,"d":"0.0000"},{"v":1,"d":"1.0000"},null,{"v":1,"d":"1.0000"},{"$nulls":3},{"v":0,"d":"0.0000"},{"$nulls":3},{"v":0,"d":"0.0000"},{"v":1,"d":"1.000"},{"v":-1,"d":"-1.000"}]
[null,"Молочка",null,{"$f":"'Ср День 3 Нед 1'!AE11","v":0},{"$nulls":7},{"v":0,"d":"0.0000"},{"v":0,"d":"0.0000"},{"$nulls":6},{"v":0,"d":"0.0000"},{"v":0,"d":"0.0000"},null,null,{"v":0,"d":"0.0000"},{"$nulls":3},{"v":0,"d":"0.0000"},{"$nulls":3},{"v":0,"d":"0.0000"},{"v":0,"d":"0.000"},{"v":0,"d":"0.000"}]
[5,"молоко 2,5%","кг",{"$f":"'Ср День 3 Нед 1'!AE12","v":-0.2571},{"$nulls":4},{"v":0.1,"d":"0.1000"},null,null,{"v":0,"d":"0.0000"},{"v":0.1,"d":"0.1000"},{"$nulls":3},{"v":0.1,"d":"0.1000"},null,null,{"v":0,"d":"0.0000"},{"v":0.1,"d":"0.1000"},null,null,{"v":0,"d":"0.0000"},{"v":0.075,"d":"0.0750"},null,null,{"v":0,"d":"0.0000"},{"$nulls":3},{"v":0,"d":"0.0000"},{"v":0.2,"d":"0.200"},{"v":-0.4571,"d":"-0.457"}]
[6,"творог 5%","кг",{"$f":"'Ср День 3 Нед 1'!AE13","v":0},{"$nulls":7},{"v":0,"d":"0.0000"},{"v":0,"d":"0.0000"},{"$nulls":6},{"v":0,"d":"0.0000"},{"v":0,"d":"0.0000"},null,null,{"v":0,"d":"0.0000"},{"$nulls":3},{"v":0,"d":"0.0000"},{"$nulls":3},{"v":0,"d":"0.0000"},{"v":0,"d":"0.000"},{"v":0,"d":"0.000"}]
[7,"сметана 15%","кг",{"$f":"'Ср День 3 Нед 1'!AE14","v":-0.030000000000000002},{"$nulls":7},{"v":0,"d":"0.0000"},{"v":0,"d":"0.0000"},{"$nulls":6},{"v":0,"d":"0.0000"},{"v":0,"d":"0.0000"},null,null,{"v":0,"d":"0.0000"},{"$nulls":3},{"v":0,"d":"0.0000"},{"v":0.005,"d":"0.0050"},null,null,{"v":0.005,"d":"0.0050"},0.005,-0.035]
[8,"йогурт фруктов ","кг",{"$f":"'Ср День 3 Нед 1'!AE15","v":0},{"$nulls":7},{"v":0,"d":"0.0000"},{"v":0,"d":"0.0000"},{"$nulls":6},{"v":0,"d":"0.0000"},{"v":0,"d":"0.0000"},null,null,{"v":0,"d":"0.0000"},{"$nulls":3},{"v":0,"d":"0.0000"},{"$nulls":3},{"v":0,"d":"0.0000"},{"v":0,"d":"0.000"},{"v":0,"d":"0.000"}]
[9,"катык 2,5%","кг",{"$f":"'Ср День 3 Нед 1'!AE16","v":0},{"$nulls":7},{"v":0,"d":"0.0000"},{"v":0,"d":"0.0000"},{"$nulls":6},{"v":0,"d":"0.0000"},{"v":0,"d":"0.0000"},null,null,{"v":0,"d":"0.0000"},{"$nulls":3},{"v":0,"d":"0.0000"},{"$nulls":3},{"v":0,"d":"0.0000"},{"v":0,"d":"0.000"},{"v":0,"d":"0.000"}]
[10,"кефир 2,5%","кг",{"$f":"'Ср День 3 Нед 1'!AE17","v":0},{"$nulls":7},{"v":0,"d":"0.0000"},{"v":0,"d":"0.0000"},{"$nulls":6},{"v":0,"d":"0.0000"},{"v":0,"d":"0.0000"},null,null,{"v":0,"d":"0.0000"},{"$nulls":3},{"v":0,"d":"0.0000"},{"$nulls":3},{"v":0,"d":"0.0000"},{"v":0,"d":"0.000"},{"v":0,"d":"0.000"}]
[11,"ряженка 2,5%","кг",{"$f":"'Ср День 3 Нед 1'!AE18","v":0},{"$nulls":7},{"v":0,"d":"0.0000"},{"v":0,"d":"0.0000"},{"$nulls":6},{"v":0,"d":"0.0000"},{"v":0,"d":"0.0000"},null,null,{"v":0,"d":"0.0000"},{"$nulls":3},{"v":0,"d":"0.0000"},{"$nulls":3},{"v":0,"d":"0.0000"},{"v":0,"d":"0.000"},{"v":0,"d":"0.000"}]
[12,"напиток ацидофильный","кг",{"$f":"'Ср День 3 Нед 1'!AE19","v":0},{"$nulls":7},{"v":0,"d":"0.0000"},{"v":0,"d":"0.0000"},{"$nulls":6},{"v":0,"d":"0.0000"},{"v":0,"d":"0.0000"},null,null,{"v":0,"d":"0.0000"},{"$nulls":3},{"v":0,"d":"0.0000"},{"$nulls":3},{"v":0,"d":"0.0000"},{"v":0,"d":"0.000"},{"v":0,"d":"0.000"}]
[null,"Масло / сыр ",null,{"$f":"'Ср День 3 Нед 1'!AE20","v":0},{"$nulls":7},{"v":0,"d":"0.0000"},{"v":0,"d":"0.0000"},{"$nulls":6},{"v":0,"d":"0.0000"},{"v":0,"d":"0.0000"},null,null,{"v":0,"d":"0.0000"},{"$nulls":3},{"v":0,"d":"0.0000"},{"$nulls":3},{"v":0,"d":"0.0000"},{"v":0,"d":"0.000"},{"v":0,"d":"0.000"}]
[13,"масло растительное","кг",{"$f":"'Ср День 3 Нед 1'!AE21","v":-0.0265},null,null,0.0025,{"$nulls":4},{"v":0,"d":"0.0000"},0.0025,null,0.0025,{"$nulls":4},{"v":0,"d":"0.0000"},0.0025,null,null,{"v":0,"d":"0.0000"},{"$nulls":3},{"v":0,"d":"0.0000"},{"v":0.005,"d":"0.0050"},null,null,{"v":0.005,"d":"0.0050"},{"v":0.01,"d":"0.010"},{"v":-0.0365,"d":"-0.037"}]
[14,"масло сливочное","кг",{"$f":"'Ср День 3 Нед 1'!AE22","v":-0.031},null,null,{"v":0.003,"d":"0.0030"},{"v":0.003,"d":"0.0030"},{"$nulls":3},{"v":0.003,"d":"0.0030"},{"v":0.003,"d":"0.0030"},null,{"v":0.003,"d":"0.0030"},{"v":0.003,"d":"0.0030"},{"$nulls":3},{"v":0.003,"d":"0.0030"},{"v":0.003,"d":"0.0030"},null,null,{"v":0,"d":"0.0000"},{"v":0.003,"d":"0.0030"},null,null,{"v":0,"d":"0.0000"},{"$nulls":3},{"v":0,"d":"0.0000"},0.012,-0.043]
[15,"сыр голландский","кг",{"$f":"'Ср День 3 Нед 1'!AE23","v":0},{"$nulls":7},{"v":0,"d":"0.0000"},{"v":0,"d":"0.0000"},{"$nulls":6},{"v":0,"d":"0.0000"},{"v":0,"d":"0.0000"},null,null,{"v":0,"d":"0.0000"},{"$nulls":3},{"v":0,"d":"0.0000"},{"$nulls":3},{"v":0,"d":"0.0000"},{"v":0,"d":"0.000"},{"v":0,"d":"0.000"}]
[null,"Мясо",null,{"$f":"'Ср День 3 Нед 1'!AE24","v":0},{"$nulls":7},{"v":0,"d":"0.0000"},{"v":0,"d":"0.0000"},{"$nulls":6},{"v":0,"d":"0.0000"},{"v":0,"d":"0.0000"},null,null,{"v":0,"d":"0.0000"},{"$nulls":3},{"v":0,"d":"0.0000"},{"$nulls":3},{"v":0,"d":"0.0000"},{"v":0,"d":"0.000"},{"v":0,"d":"0.000"}]
[16,"говядина (котлетное мясо) ","кг",{"$f":"'Ср День 3 Нед 1'!AE25","v":0},{"$nulls":7},{"v":0,"d":"0.0000"},{"v":0,"d":"0.0000"},{"$nulls":6},{"v":0,"d":"0.0000"},{"v":0,"d":"0.0000"},null,null,{"v":0,"d":"0.0000"},{"$nulls":3},{"v":0,"d":"0.0000"},{"$nulls":3},{"v":0,"d":"0.0000"},{"v":0,"d":"0.000"},{"v":0,"d":"0.000"}]
[17,"фарш говяжий","кг",{"$f":"'Ср День 3 Нед 1'!AE26","v":-0.08796999999999999},{"$nulls":7},{"v":0,"d":"0.0000"},{"v":0,"d":"0.0000"},{"$nulls":6},{"v":0,"d":"0.0000"},{"v":0,"d":"0.0000"},null,null,{"v":0,"d":"0.0000"},{"$nulls":3},{"v":0,"d":"0.0000"},{"$nulls":3},{"v":0,"d":"0.0000"},{"v":0,"d":"0.000"},{"v":-0.08796999999999999,"d":"-0.088"}]
[18,"говядина лопатка б/к","кг",{"$f":"'Ср День 3 Нед 1'!AE27","v":0},{"$nulls":7},{"v":0,"d":"0.0000"},{"v":0,"d":"0.0000"},{"$nulls":6},{"v":0,"d":"0.0000"},{"v":0,"d":"0.0000"},null,null,{"v":0,"d":"0.0000"},{"$nulls":3},{"v":0,"d":"0.0000"},{"$nulls":3},{"v":0,"d":"0.0000"},{"v":0,"d":"0.000"},{"v":0,"d":"0.000"}]
[19,"сосиски","кг",{"$f":"'Ср День 3 Нед 1'!AE28","v":0},{"$nulls":3},{"v":0.102,"d":"0.1020"},{"$nulls":3},{"v":0.102,"d":"0.1020"},{"v":0,"d":"0.0000"},null,null,{"v":0.102,"d":"0.1020"},{"$nulls":3},{"v":0.102,"d":"0.1020"},{"v":0,"d":"0.0000"},null,null,{"v":0,"d":"0.0000"},{"$nulls":3},{"v":0,"d":"0.0000"},{"$nulls":3},{"v":0,"d":"0.0000"},0.204,-0.204]
[20,"колбаса п/к \"Халяль\"","кг",{"$f":"'Ср День 3 Нед 1'!AE29","v":0},{"$nulls":7},{"v":0,"d":"0.0000"},{"v":0,"d":"0.0000"},{"$nulls":6},{"v":0,"d":"0.0000"},{"v":0,"d":"0.0000"},null,null,{"v":0,"d":"0.0000"},{"$nulls":3},{"v":0,"d":"0.0000"},{"$nulls":3},{"v":0,"d":"0.0000"},{"v":0,"d":"0.000"},{"v":0,"d":"0.000"}]
[21,"куриное бедро","кг",{"$f":"'Ср День 3 Нед 1'!AE30","v":0},{"$nulls":7},{"v":0,"d":"0.0000"},{"v":0,"d":"0.0000"},{"$nulls":6},{"v":0,"d":"0.0000"},{"v":0,"d":"0.0000"},null,null,{"v":0,"d":"0.0000"},{"$nulls":3},{"v":0,"d":"0.0000"},{"$nulls":3},{"v":0,"d":"0.0000"},{"v":0,"d":"0.000"},{"v":0,"d":"0.000"}]
[22,"куриная грудка","кг",{"$f":"'Ср День 3 Нед 1'!AE31","v":-0.19180999999999998},{"$nulls":7},{"v":0,"d":"0.0000"},{"v":0,"d":"0.0000"},{"$nulls":6},{"v":0,"d":"0.0000"},{"v":0,"d":"0.0000"},null,null,{"v":0,"d":"0.0000"},{"$nulls":3},{"v":0,"d":"0.0000"},{"v":0.01317,"d":"0.0132"},null,null,{"v":0.01317,"d":"0.0132"},{"v":0.01317,"d":"0.013"},{"v":-0.20497999999999997,"d":"-0.205"}]
[23,"куры/цыплята потрош.","кг",{"$f":"'Ср День 3 Нед 1'!AE32","v":0},{"$nulls":7},{"v":0,"d":"0.0000"},{"v":0,"d":"0.0000"},{"$nulls":6},{"v":0,"d":"0.0000"},{"v":0,"d":"0.0000"},null,null,{"v":0,"d":"0.0000"},{"$nulls":3},{"v":0,"d":"0.0000"},{"$nulls":3},{"v":0,"d":"0.0000"},{"v":0,"d":"0.000"},{"v":0,"d":"0.000"}]
[24," или фарш куриный","кг",{"$f":"'Ср День 3 Нед 1'!AE33","v":0},{"$nulls":7},{"v":0,"d":"0.0000"},{"v":0,"d":"0.0000"},{"$nulls":6},{"v":0,"d":"0.0000"},{"v":0,"d":"0.0000"},null,null,{"v":0,"d":"0.0000"},{"$nulls":3},{"v":0,"d":"0.0000"},{"$nulls":3},{"v":0,"d":"0.0000"},{"v":0,"d":"0.000"},{"v":0,"d":"0.000"}]
[25,"индека бедро филе","кг",{"$f":"'Ср День 3 Нед 1'!AE34","v":0},{"$nulls":7},{"v":0,"d":"0.0000"},{"v":0,"d":"0.0000"},{"$nulls":6},{"v":0,"d":"0.0000"},{"v":0,"d":"0.0000"},null,null,{"v":0,"d":"0.0000"},{"$nulls":3},{"v":0,"d":"0.0000"},{"$nulls":3},{"v":0,"d":"0.0000"},{"v":0,"d":"0.000"},{"v":0,"d":"0.000"}]
[26,"индейка грудка филе","кг",{"$f":"'Ср День 3 Нед 1'!AE35","v":0},{"$nulls":7},{"v":0,"d":"0.0000"},{"v":0,"d":"0.0000"},{"$nulls":6},{"v":0,"d":"0.0000"},{"v":0,"d":"0.0000"},null,null,{"v":0,"d":"0.0000"},{"$nulls":3},{"v":0,"d":"0.0000"},{"$nulls":3},{"v":0,"d":"0.0000"},{"v":0,"d":"0.000"},{"v":0,"d":"0.000"}]
[null,"Рыба",null,{"$f":"'Ср День 3 Нед 1'!AE36","v":0},{"$nulls":7},{"v":0,"d":"0.0000"},{"v":0,"d":"0.0000"},{"$nulls":6},{"v":0,"d":"0.0000"},{"v":0,"d":"0.0000"},null,null,{"v":0,"d":"0.0000"},{"$nulls":3},{"v":0,"d":"0.0000"},{"$nulls":3},{"v":0,"d":"0.0000"},{"v":0,"d":"0.000"},{"v":0,"d":"0.000"}]
[27,"горбуша ПБГ с/м","кг",{"$f":"'Ср День 3 Нед 1'!AE37","v":0},{"$nulls":7},{"v":0,"d":"0.0000"},{"v":0,"d":"0.0000"},{"$nulls":6},{"v":0,"d":"0.0000"},{"v":0,"d":"0.0000"},null,null,{"v":0,"d":"0.0000"},{"$nulls":3},{"v":0,"d":"0.0000"},{"$nulls":3},{"v":0,"d":"0.0000"},{"v":0,"d":"0.000"},{"v":0,"d":"0.000"}]
[28,"минтай б/г с/м","кг",{"$f":"'Ср День 3 Нед 1'!AE38","v":0},{"$nulls":7},{"v":0,"d":"0.0000"},{"v":0,"d":"0.0000"},{"$nulls":6},{"v":0,"d":"0.0000"},{"v":0,"d":"0.0000"},null,null,{"v":0,"d":"0.0000"},{"$nulls":3},{"v":0,"d":"0.0000"},{"$nulls":3},{"v":0,"d":"0.0000"},{"v":0,"d":"0.000"},{"v":0,"d":"0.000"}]
[29,"фарш минтая","кг",{"$f":"'Ср День 3 Нед 1'!AE39","v":0},{"$nulls":7},{"v":0,"d":"0.0000"},{"v":0,"d":"0.0000"},{"$nulls":6},{"v":0,"d":"0.0000"},{"v":0,"d":"0.0000"},null,null,{"v":0,"d":"0.0000"},{"$nulls":3},{"v":0,"d":"0.0000"},{"$nulls":3},{"v":0,"d":"0.0000"},{"v":0,"d":"0.000"},{"$f":"(D39+E39)-AG39","v":{"v":0,"d":"0.000"}}]
[null,"Сыпучка",null,{"$f":"'Ср День 3 Нед 1'!AE40","v":0},{"$nulls":7},{"v":0,"d":"0.0000"},{"v":0,"d":"0.0000"},{"$nulls":6},{"v":0,"d":"0.0000"},{"v":0,"d":"0.0000"},null,null,{"v":0,"d":"0.0000"},{"$nulls":3},{"v":0,"d":"0.0000"},{"$nulls":3},{"v":0,"d":"0.0000"},{"v":0,"d":"0.000"},{"v":0,"d":"0.000"}]
[30,"вермишель","кг",{"$f":"'Ср День 3 Нед 1'!AE41","v":0},{"$nulls":7},{"v":0,"d":"0.0000"},{"v":0,"d":"0.0000"},{"$nulls":6},{"v":0,"d":"0.0000"},{"v":0,"d":"0.0000"},null,null,{"v":0,"d":"0.0000"},{"$nulls":3},{"v":0,"d":"0.0000"},{"$nulls":3},{"v":0,"d":"0.0000"},{"v":0,"d":"0.000"},{"v":0,"d":"0.000"}]
[31,"геркулес","кг",{"$f":"'Ср День 3 Нед 1'!AE42","v":0},{"$nulls":7},{"v":0,"d":"0.0000"},{"v":0,"d":"0.0000"},{"$nulls":6},{"v":0,"d":"0.0000"},{"v":0,"d":"0.0000"},null,null,{"v":0,"d":"0.0000"},{"v":0.028,"d":"0.0280"},null,null,{"v":0,"d":"0.0000"},{"$nulls":3},{"v":0,"d":"0.0000"},{"v":0,"d":"0.000"},{"v":0,"d":"0.000"}]
[32,"горох","кг",{"$f":"'Ср День 3 Нед 1'!AE43","v":0},{"$nulls":7},{"v":0,"d":"0.0000"},{"v":0,"d":"0.0000"},{"$nulls":6},{"v":0,"d":"0.0000"},{"v":0,"d":"0.0000"},null,null,{"v":0,"d":"0.0000"},{"$nulls":3},{"v":0,"d":"0.0000"},{"$nulls":3},{"v":0,"d":"0.0000"},{"v":0,"d":"0.000"},{"v":0,"d":"0.000"}]
[33,"гречневая крупа","кг",{"$f":"'Ср День 3 Нед 1'!AE44","v":0},null,null,{"v":0.072,"d":"0.0720"},{"v":0.072,"d":"0.0720"},{"$nulls":3},{"v":0.072,"d":"0.0720"},{"v":0.072,"d":"0.0720"},null,{"v":0.072,"d":"0.0720"},{"v":0.072,"d":"0.0720"},{"$nulls":3},{"v":0.072,"d":"0.0720"},{"v":0.072,"d":"0.0720"},null,null,{"v":0,"d":"0.0000"},{"$nulls":3},{"v":0,"d":"0.0000"},{"$nulls":3},{"v":0,"d":"0.0000"},0.288,-0.288]
[34,"кукурузная крупа","кг",{"$f":"'Ср День 3 Нед 1'!AE45","v":0},{"$nulls":7},{"v":0,"d":"0.0000"},{"v":0,"d":"0.0000"},{"$nulls":6},{"v":0,"d":"0.0000"},{"v":0,"d":"0.0000"},null,null,{"v":0,"d":"0.0000"},{"$nulls":3},{"v":0,"d":"0.0000"},{"$nulls":3},{"v":0,"d":"0.0000"},{"v":0,"d":"0.000"},{"v":0,"d":"0.000"}]
[35,"макаронные изделия","кг",{"$f":"'Ср День 3 Нед 1'!AE46","v":-0.071},{"$nulls":7},{"v":0,"d":"0.0000"},{"v":0,"d":"0.0000"},{"$nulls":6},{"v":0,"d":"0.0000"},{"v":0,"d":"0.0000"},null,null,{"v":0,"d":"0.0000"},{"$nulls":3},{"v":0,"d":"0.0000"},{"$nulls":3},{"v":0,"d":"0.0000"},{"v":0,"d":"0.000"},-0.071]
[36,"манная крупа","кг",{"$f":"'Ср День 3 Нед 1'!AE47","v":0},{"$nulls":7},{"v":0,"d":"0.0000"},{"v":0,"d":"0.0000"},{"$nulls":6},{"v":0,"d":"0.0000"},{"v":0,"d":"0.0000"},null,null,{"v":0,"d":"0.0000"},{"$nulls":3},{"v":0,"d":"0.0000"},{"$nulls":3},{"v":0,"d":"0.0000"},{"v":0,"d":"0.000"},{"v":0,"d":"0.000"}]
[37,"перловая крупа","кг",{"$f":"'Ср День 3 Нед 1'!AE48","v":-0.005},{"$nulls":7},{"v":0,"d":"0.0000"},{"v":0,"d":"0.0000"},{"$nulls":6},{"v":0,"d":"0.0000"},{"v":0,"d":"0.0000"},null,null,{"v":0,"d":"0.0000"},{"$nulls":3},{"v":0,"d":"0.0000"},{"$nulls":3},{"v":0,"d":"0.0000"},{"v":0,"d":"0.000"},-0.005]
[38,"полбяная крупа","кг",{"$f":"'Ср День 3 Нед 1'!AE49","v":0},{"$nulls":7},{"v":0,"d":"0.0000"},{"v":0,"d":"0.0000"},{"$nulls":6},{"v":0,"d":"0.0000"},{"v":0,"d":"0.0000"},null,null,{"v":0,"d":"0.0000"},{"$nulls":3},{"v":0,"d":"0.0000"},{"$nulls":3},{"v":0,"d":"0.0000"},{"v":0,"d":"0.000"},{"v":0,"d":"0.000"}]
[39,"пшеничная крупа","кг",{"$f":"'Ср День 3 Нед 1'!AE50","v":0},{"$nulls":7},{"v":0,"d":"0.0000"},{"v":0,"d":"0.0000"},{"$nulls":6},{"v":0,"d":"0.0000"},{"v":0,"d":"0.0000"},null,null,{"v":0,"d":"0.0000"},{"$nulls":3},{"v":0,"d":"0.0000"},{"$nulls":3},{"v":0,"d":"0.0000"},{"v":0,"d":"0.000"},{"v":0,"d":"0.000"}]
[40,"пшено","кг",{"$f":"'Ср День 3 Нед 1'!AE51","v":-0.0245},{"$nulls":7},{"v":0,"d":"0.0000"},{"v":0,"d":"0.0000"},{"$nulls":6},{"v":0,"d":"0.0000"},{"v":0,"d":"0.0000"},null,null,{"v":0,"d":"0.0000"},{"$nulls":3},{"v":0,"d":"0.0000"},{"v":0.005,"d":"0.0050"},null,null,{"v":0.005,"d":"0.0050"},0.005,{"v":-0.029500000000000002,"d":"-0.030"}]
[41,"рис","кг",{"$f":"'Ср День 3 Нед 1'!AE52","v":-0.15500000000000003},{"$nulls":7},{"v":0,"d":"0.0000"},{"v":0,"d":"0.0000"},{"$nulls":6},{"v":0,"d":"0.0000"},{"v":0,"d":"0.0000"},null,null,{"v":0,"d":"0.0000"},{"$nulls":3},{"v":0,"d":"0.0000"},{"$nulls":3},{"v":0,"d":"0.0000"},{"v":0,"d":"0.000"},{"v":-0.15500000000000003,"d":"-0.155"}]
[42,"ячневая крупа","кг",{"$f":"'Ср День 3 Нед 1'!AE53","v":0},{"$nulls":7},{"v":0,"d":"0.0000"},{"v":0,"d":"0.0000"},{"$nulls":6},{"v":0,"d":"0.0000"},{"v":0,"d":"0.0000"},null,null,{"v":0,"d":"0.0000"},{"$nulls":3},{"v":0,"d":"0.0000"},{"$nulls":3},{"v":0,"d":"0.0000"},{"v":0,"d":"0.000"},{"v":0,"d":"0.000"}]
[43,"лапша домашняя п/ф","кг",{"$f":"'Ср День 3 Нед 1'!AE54","v":-0.02},{"$nulls":7},{"v":0,"d":"0.0000"},{"v":0,"d":"0.0000"},{"$nulls":6},{"v":0,"d":"0.0000"},{"v":0,"d":"0.0000"},null,null,{"v":0,"d":"0.0000"},{"$nulls":3},{"v":0,"d":"0.0000"},{"$nulls":3},{"v":0,"d":"0.0000"},{"v":0,"d":"0.000"},{"v":-0.02,"d":"-0.020"}]
[44,"мука пшеничная в/с","кг",{"$f":"'Ср День 3 Нед 1'!AE55","v":-0.026000000000000002},{"$nulls":7},{"v":0,"d":"0.0000"},{"v":0,"d":"0.0000"},{"$nulls":6},{"v":0,"d":"0.0000"},{"v":0,"d":"0.0000"},null,null,{"v":0,"d":"0.0000"},{"$nulls":3},{"v":0,"d":"0.0000"},{"$nulls":3},{"v":0,"d":"0.0000"},{"v":0,"d":"0.000"},{"v":-0.026000000000000002,"d":"-0.026"}]
[45,"сахарный песок","кг",{"$f":"'Ср День 3 Нед 1'!AE56","v":-0.1228},{"$nulls":4},{"v":0.01,"d":"0.0100"},{"v":0.01,"d":"0.0100"},null,{"v":0.01,"d":"0.0100"},{"v":0.01,"d":"0.0100"},{"$nulls":3},{"v":0.01,"d":"0.0100"},{"v":0.01,"d":"0.0100"},null,{"v":0.01,"d":"0.0100"},{"v":0.01,"d":"0.0100"},null,{"v":0.01,"d":"0.0100"},{"v":0.01,"d":"0.0100"},0.0008,{"v":0.01,"d":"0.0100"},null,{"v":0,"d":"0.0000"},null,{"v":0.01,"d":"0.0100"},null,{"v":0.01,"d":"0.0100"},{"v":0.060000000000000005,"d":"0.060"},{"v":-0.18280000000000002,"d":"-0.183"}]
[46,"соль","кг",{"$f":"'Ср День 3 Нед 1'!AE57","v":-0.0102},null,null,0.0005,0.0005,{"$nulls":3},0.0005,0.0005,null,0.0005,0.0005,{"$nulls":3},0.0005,0.0005,null,null,{"v":0,"d":"0.0000"},0.0004,null,null,{"v":0,"d":"0.0000"},{"v":1E-3,"d":"0.0010"},null,null,{"v":1E-3,"d":"0.0010"},0.003,{"v":-0.0132,"d":"-0.013"}]
[47,"сухари панировочные","кг",{"$f":"'Ср День 3 Нед 1'!AE58","v":0},{"$nulls":7},{"v":0,"d":"0.0000"},{"v":0,"d":"0.0000"},{"$nulls":6},{"v":0,"d":"0.0000"},{"v":0,"d":"0.0000"},null,null,{"v":0,"d":"0.0000"},{"$nulls":3},{"v":0,"d":"0.0000"},{"$nulls":3},{"v":0,"d":"0.0000"},{"v":0,"d":"0.000"},{"v":0,"d":"0.000"}]
[48,"дрожжи сухие","кг",{"$f":"'Ср День 3 Нед 1'!AE59","v":0},{"$nulls":7},{"v":0,"d":"0.0000"},{"v":0,"d":"0.0000"},{"$nulls":6},{"v":0,"d":"0.0000"},{"v":0,"d":"0.0000"},null,null,{"v":0,"d":"0.0000"},{"$nulls":3},{"v":0,"d":"0.0000"},{"$nulls":3},{"v":0,"d":"0.0000"},{"v":0,"d":"0.000"},{"v":0,"d":"0.000"}]
[49,"фасоль","кг",{"$f":"'Ср День 3 Нед 1'!AE60","v":0},{"$nulls":7},{"v":0,"d":"0.0000"},{"v":0,"d":"0.0000"},{"$nulls":6},{"v":0,"d":"0.0000"},{"v":0,"d":"0.0000"},null,null,{"v":0,"d":"0.0000"},{"$nulls":3},{"v":0,"d":"0.0000"},{"$nulls":3},{"v":0,"d":"0.0000"},{"v":0,"d":"0.000"},{"v":0,"d":"0.000"}]
[null,"Консервы",null,{"$f":"'Ср День 3 Нед 1'!AE61","v":0},{"$nulls":7},{"v":0,"d":"0.0000"},{"v":0,"d":"0.0000"},{"$nulls":6},{"v":0,"d":"0.0000"},{"v":0,"d":"0.0000"},null,null,{"v":0,"d":"0.0000"},{"$nulls":3},{"v":0,"d":"0.0000"},{"$nulls":3},{"v":0,"d":"0.0000"},{"v":0,"d":"0.000"},{"v":0,"d":"0.000"}]
[50,"зеленый горошек к/с","кг",{"$f":"'Ср День 3 Нед 1'!AE62","v":0},{"$nulls":7},{"v":0,"d":"0.0000"},{"v":0,"d":"0.0000"},{"$nulls":6},{"v":0,"d":"0.0000"},{"v":0,"d":"0.0000"},null,null,{"v":0,"d":"0.0000"},{"$nulls":3},{"v":0,"d":"0.0000"},{"$nulls":3},{"v":0,"d":"0.0000"},{"v":0,"d":"0.000"},{"v":0,"d":"0.000"}]
[51,"кукуруза к/с","кг",{"$f":"'Ср День 3 Нед 1'!AE63","v":0},{"$nulls":7},{"v":0,"d":"0.0000"},{"v":0,"d":"0.0000"},{"$nulls":6},{"v":0,"d":"0.0000"},{"v":0,"d":"0.0000"},null,null,{"v":0,"d":"0.0000"},{"$nulls":3},{"v":0,"d":"0.0000"},{"$nulls":3},{"v":0,"d":"0.0000"},{"v":0,"d":"0.000"},{"v":0,"d":"0.000"}]
[52,"фасоль к/с","кг",{"$f":"'Ср День 3 Нед 1'!AE64","v":0},{"$nulls":7},{"v":0,"d":"0.0000"},{"v":0,"d":"0.0000"},{"$nulls":6},{"v":0,"d":"0.0000"},{"v":0,"d":"0.0000"},null,null,{"v":0,"d":"0.0000"},{"$nulls":3},{"v":0,"d":"0.0000"},{"$nulls":3},{"v":0,"d":"0.0000"},{"v":0,"d":"0.000"},{"v":0,"d":"0.000"}]
[53,"икра кабачк/ икра баклажан","кг",{"$f":"'Ср День 3 Нед 1'!AE65","v":0},{"$nulls":7},{"v":0,"d":"0.0000"},{"v":0,"d":"0.0000"},{"$nulls":6},{"v":0,"d":"0.0000"},{"v":0,"d":"0.0000"},null,null,{"v":0,"d":"0.0000"},{"$nulls":3},{"v":0,"d":"0.0000"},{"$nulls":3},{"v":0,"d":"0.0000"},{"v":0,"d":"0.000"},{"v":0,"d":"0.000"}]
[54,"капуста морская сушеная","кг",{"$f":"'Ср День 3 Нед 1'!AE66","v":0},{"$nulls":7},{"v":0,"d":"0.0000"},{"v":0,"d":"0.0000"},{"$nulls":6},{"v":0,"d":"0.0000"},{"v":0,"d":"0.0000"},null,null,{"v":0,"d":"0.0000"},{"$nulls":3},{"v":0,"d":"0.0000"},{"$nulls":3},{"v":0,"d":"0.0000"},{"v":0,"d":"0.000"},{"v":0,"d":"0.000"}]
[55,"капуста квашеная ","кг",{"$f":"'Ср День 3 Нед 1'!AE67","v":0},{"$nulls":7},{"v":0,"d":"0.0000"},{"v":0,"d":"0.0000"},{"$nulls":6},{"v":0,"d":"0.0000"},{"v":0,"d":"0.0000"},null,null,{"v":0,"d":"0.0000"},{"$nulls":3},{"v":0,"d":"0.0000"},{"$nulls":3},{"v":0,"d":"0.0000"},{"v":0,"d":"0.000"},{"v":0,"d":"0.000"}]
[56,"молоко сгущенное  ","кг",{"$f":"'Ср День 3 Нед 1'!AE68","v":0},{"$nulls":7},{"v":0,"d":"0.0000"},{"v":0,"d":"0.0000"},{"$nulls":6},{"v":0,"d":"0.0000"},{"v":0,"d":"0.0000"},null,null,{"v":0,"d":"0.0000"},{"$nulls":3},{"v":0,"d":"0.0000"},{"$nulls":3},{"v":0,"d":"0.0000"},{"v":0,"d":"0.000"},{"v":0,"d":"0.000"}]
[57,"огурцы соленые","кг",{"$f":"'Ср День 3 Нед 1'!AE69","v":-0.0273},{"$nulls":7},{"v":0,"d":"0.0000"},{"v":0,"d":"0.0000"},{"$nulls":6},{"v":0,"d":"0.0000"},{"v":0,"d":"0.0000"},null,null,{"v":0,"d":"0.0000"},{"$nulls":3},{"v":0,"d":"0.0000"},{"$nulls":3},{"v":0,"d":"0.0000"},{"v":0,"d":"0.000"},{"v":-0.0273,"d":"-0.027"}]
[58,"повидло","кг",{"$f":"'Ср День 3 Нед 1'!AE70","v":0},{"$nulls":7},{"v":0,"d":"0.0000"},{"v":0,"d":"0.0000"},{"$nulls":6},{"v":0,"d":"0.0000"},{"v":0,"d":"0.0000"},null,null,{"v":0,"d":"0.0000"},{"$nulls":3},{"v":0,"d":"0.0000"},{"$nulls":3},{"v":0,"d":"0.0000"},{"v":0,"d":"0.000"},{"v":0,"d":"0.000"}]
[59,"томатная паста","кг",{"$f":"'Ср День 3 Нед 1'!AE71","v":-8.6E-3},{"$nulls":7},{"v":0,"d":"0.0000"},{"v":0,"d":"0.0000"},{"$nulls":6},{"v":0,"d":"0.0000"},{"v":0,"d":"0.0000"},null,null,{"v":0,"d":"0.0000"},{"$nulls":3},{"v":0,"d":"0.0000"},{"$nulls":3},{"v":0,"d":"0.0000"},{"v":0,"d":"0.000"},{"$f":"(D71+E71)-AG71","v":{"v":-8.6E-3,"d":"-0.009"}}]
[60,"рыбные консервы","кг",{"$f":"'Ср День 3 Нед 1'!AE72","v":0},{"$nulls":7},{"$f":"(F72+H72+J72+K72)*$L$5","v":{"v":0,"d":"0.0000"}},{"$f":"(F72+G72+I72+K72)*$M$5","v":{"v":0,"d":"0.0000"}},{"$nulls":6},{"$f":"(N72+P72+R72+S72)*$T$5","v":{"v":0,"d":"0.0000"}},{"$f":"(N72+O72+Q72+S72)*$U$5","v":{"v":0,"d":"0.0000"}},null,null,{"$f":"(W72+V72)*$X$5","v":{"v":0,"d":"0.0000"}},{"$nulls":3},{"$f":"(AA72+Z72+Y72)*$AB$5","v":{"v":0,"d":"0.0000"}},{"$nulls":3},{"$f":"(AC72+AD72+AE72)*$AF$5","v":{"v":0,"d":"0.0000"}},{"$f":"L72+M72+T72+U72+X72+AF72","v":{"v":0,"d":"0.000"}},{"v":0,"d":"0.000"}]
[null,"Напитки",null,{"$f":"'Ср День 3 Нед 1'!AE73","v":0},{"$nulls":7},{"v":0,"d":"0.0000"},{"v":0,"d":"0.0000"},{"$nulls":6},{"v":0,"d":"0.0000"},{"v":0,"d":"0.0000"},null,null,{"v":0,"d":"0.0000"},{"$nulls":3},{"v":0,"d":"0.0000"},{"$nulls":3},{"v":0,"d":"0.0000"},{"v":0,"d":"0.000"},{"v":0,"d":"0.000"}]
[61,"чай весовой ","кг",{"$f":"'Ср День 3 Нед 1'!AE74","v":-0.004},{"$nulls":5},0.0005,null,0.0005,{"v":0,"d":"0.0000"},{"$nulls":4},0.0005,null,0.0005,{"v":0,"d":"0.0000"},null,null,{"v":0,"d":"0.0000"},{"$nulls":3},{"v":0,"d":"0.0000"},null,0.0005,null,0.0005,{"v":1.5E-3,"d":"0.002"},{"v":-0.0055,"d":"-0.006"}]
[62,"какао","кг",{"$f":"'Ср День 3 Нед 1'!AE75","v":0},{"$nulls":7},{"v":0,"d":"0.0000"},{"v":0,"d":"0.0000"},{"$nulls":6},{"v":0,"d":"0.0000"},{"v":0,"d":"0.0000"},null,null,{"v":0,"d":"0.0000"},{"$nulls":3},{"v":0,"d":"0.0000"},{"$nulls":3},{"v":0,"d":"0.0000"},{"v":0,"d":"0.000"},{"v":0,"d":"0.000"}]
[63,"кисель","кг",{"$f":"'Ср День 3 Нед 1'!AE76","v":0},{"$nulls":7},{"v":0,"d":"0.0000"},{"v":0,"d":"0.0000"},{"$nulls":6},{"v":0,"d":"0.0000"},{"v":0,"d":"0.0000"},null,null,{"v":0,"d":"0.0000"},{"$nulls":3},{"v":0,"d":"0.0000"},{"$nulls":3},{"v":0,"d":"0.0000"},{"v":0,"d":"0.000"},{"v":0,"d":"0.000"}]
[64,"кофейный напиток","кг",{"$f":"'Ср День 3 Нед 1'!AE77","v":0},{"$nulls":4},{"v":0.005,"d":"0.0050"},null,null,{"v":0,"d":"0.0000"},{"v":0.005,"d":"0.0050"},{"$nulls":3},{"v":0.005,"d":"0.0050"},null,null,{"v":0,"d":"0.0000"},{"v":0.005,"d":"0.0050"},null,null,{"v":0,"d":"0.0000"},{"$nulls":3},{"v":0,"d":"0.0000"},{"$nulls":3},{"v":0,"d":"0.0000"},{"v":0.01,"d":"0.010"},{"v":-0.01,"d":"-0.010"}]
[65,"цикорий","кг",{"$f":"'Ср День 3 Нед 1'!AE78","v":0},{"$nulls":7},{"v":0,"d":"0.0000"},{"v":0,"d":"0.0000"},{"$nulls":6},{"v":0,"d":"0.0000"},{"v":0,"d":"0.0000"},null,null,{"v":0,"d":"0.0000"},{"$nulls":3},{"v":0,"d":"0.0000"},{"$nulls":3},{"v":0,"d":"0.0000"},{"v":0,"d":"0.000"},{"v":0,"d":"0.000"}]
[null,"Сухофрукты",null,{"$f":"'Ср День 3 Нед 1'!AE79","v":0},{"$nulls":7},{"v":0,"d":"0.0000"},{"v":0,"d":"0.0000"},{"$nulls":6},{"v":0,"d":"0.0000"},{"v":0,"d":"0.0000"},null,null,{"v":0,"d":"0.0000"},{"$nulls":3},{"v":0,"d":"0.0000"},{"$nulls":3},{"v":0,"d":"0.0000"},{"v":0,"d":"0.000"},{"v":0,"d":"0.000"}]
[66,"ассорти для компота (сухофрукты)","кг",{"$f":"'Ср День 3 Нед 1'!AE80","v":-0.0204},{"$nulls":7},{"v":0,"d":"0.0000"},{"v":0,"d":"0.0000"},{"$nulls":6},{"v":0,"d":"0.0000"},{"v":0,"d":"0.0000"},null,null,{"v":0,"d":"0.0000"},{"$nulls":3},{"v":0,"d":"0.0000"},{"$nulls":3},{"v":0,"d":"0.0000"},{"v":0,"d":"0.000"},{"v":-0.0204,"d":"-0.020"}]
[67,"изюм","кг",{"$f":"'Ср День 3 Нед 1'!AE81","v":-0.0102},{"$nulls":7},{"v":0,"d":"0.0000"},{"v":0,"d":"0.0000"},{"$nulls":6},{"v":0,"d":"0.0000"},{"v":0,"d":"0.0000"},null,null,{"v":0,"d":"0.0000"},{"$nulls":3},{"v":0,"d":"0.0000"},{"$nulls":3},{"v":0,"d":"0.0000"},{"v":0,"d":"0.000"},{"v":-0.0102,"d":"-0.010"}]
[68,"курага","кг",{"$f":"'Ср День 3 Нед 1'!AE82","v":0},{"$nulls":7},{"v":0,"d":"0.0000"},{"v":0,"d":"0.0000"},{"$nulls":6},{"v":0,"d":"0.0000"},{"v":0,"d":"0.0000"},null,null,{"v":0,"d":"0.0000"},{"$nulls":3},{"v":0,"d":"0.0000"},{"$nulls":3},{"v":0,"d":"0.0000"},{"v":0,"d":"0.000"},{"v":0,"d":"0.000"}]
[69,"урюк","кг",{"$f":"'Ср День 3 Нед 1'!AE83","v":-0.0204},{"$nulls":7},{"v":0,"d":"0.0000"},{"v":0,"d":"0.0000"},{"$nulls":6},{"v":0,"d":"0.0000"},{"v":0,"d":"0.0000"},null,null,{"v":0,"d":"0.0000"},{"$nulls":3},{"v":0,"d":"0.0000"},{"$nulls":3},{"v":0,"d":"0.0000"},{"v":0,"d":"0.000"},{"v":-0.0204,"d":"-0.020"}]
[70,"шиповник","кг",{"$f":"'Ср День 3 Нед 1'!AE84","v":-0.0153},{"$nulls":5},{"v":0.005,"d":"0.0050"},null,{"v":0.005,"d":"0.0050"},{"v":0,"d":"0.0000"},{"$nulls":4},{"v":0.005,"d":"0.0050"},null,{"v":0.005,"d":"0.0050"},{"v":0,"d":"0.0000"},null,null,{"v":0,"d":"0.0000"},null,0.0153,null,{"v":0,"d":"0.0000"},{"$nulls":3},{"v":0,"d":"0.0000"},{"v":0.01,"d":"0.010"},{"v":-0.0253,"d":"-0.025"}]
[71,"компотная смесь с/м","кг",{"$f":"'Ср День 3 Нед 1'!AE85","v":0},{"$nulls":7},{"v":0,"d":"0.0000"},{"v":0,"d":"0.0000"},{"$nulls":6},{"v":0,"d":"0.0000"},{"v":0,"d":"0.0000"},null,null,{"v":0,"d":"0.0000"},{"$nulls":3},{"v":0,"d":"0.0000"},{"$nulls":3},{"v":0,"d":"0.0000"},{"v":0,"d":"0.000"},{"v":0,"d":"0.000"}]
[72,"вишня с/м","кг",{"$f":"'Ср День 3 Нед 1'!AE86","v":0},{"$nulls":7},{"v":0,"d":"0.0000"},{"v":0,"d":"0.0000"},{"$nulls":6},{"v":0,"d":"0.0000"},{"v":0,"d":"0.0000"},null,null,{"v":0,"d":"0.0000"},{"$nulls":3},{"v":0,"d":"0.0000"},{"$nulls":3},{"v":0,"d":"0.0000"},{"v":0,"d":"0.000"},{"v":0,"d":"0.000"}]
[73,"клюква с/м","кг",{"$f":"'Ср День 3 Нед 1'!AE87","v":0},{"$nulls":7},{"v":0,"d":"0.0000"},{"v":0,"d":"0.0000"},{"$nulls":6},{"v":0,"d":"0.0000"},{"v":0,"d":"0.0000"},null,null,{"v":0,"d":"0.0000"},{"$nulls":3},{"v":0,"d":"0.0000"},{"$nulls":3},{"v":0,"d":"0.0000"},{"v":0,"d":"0.000"},{"v":0,"d":"0.000"}]
[74,"смородина в ассорт с/м","кг",{"$f":"'Ср День 3 Нед 1'!AE88","v":0},{"$nulls":7},{"v":0,"d":"0.0000"},{"v":0,"d":"0.0000"},{"$nulls":6},{"v":0,"d":"0.0000"},{"v":0,"d":"0.0000"},null,null,{"v":0,"d":"0.0000"},{"$nulls":3},{"v":0,"d":"0.0000"},{"$nulls":3},{"v":0,"d":"0.0000"},{"v":0,"d":"0.000"},{"v":0,"d":"0.000"}]
[75,"облепиха с/м","кг",{"$f":"'Ср День 3 Нед 1'!AE89","v":0},{"$nulls":7},{"v":0,"d":"0.0000"},{"v":0,"d":"0.0000"},{"$nulls":6},{"v":0,"d":"0.0000"},{"v":0,"d":"0.0000"},null,null,{"v":0,"d":"0.0000"},{"$nulls":3},{"v":0,"d":"0.0000"},{"$nulls":3},{"v":0,"d":"0.0000"},{"v":0,"d":"0.000"},{"v":0,"d":"0.000"}]
[null,"Сок",null,{"$f":"'Ср День 3 Нед 1'!AE90","v":0},{"$nulls":7},{"v":0,"d":"0.0000"},{"v":0,"d":"0.0000"},{"$nulls":6},{"v":0,"d":"0.0000"},{"v":0,"d":"0.0000"},null,null,{"v":0,"d":"0.0000"},{"$nulls":3},{"v":0,"d":"0.0000"},{"$nulls":3},{"v":0,"d":"0.0000"},{"v":0,"d":"0.000"},{"v":0,"d":"0.000"}]
[76,"сок 0,125л или 0,2л","л",{"$f":"'Ср День 3 Нед 1'!AE91","v":0},{"$nulls":7},{"v":0,"d":"0.0000"},{"v":0,"d":"0.0000"},{"$nulls":6},{"v":0,"d":"0.0000"},{"v":0,"d":"0.0000"},null,null,{"v":0,"d":"0.0000"},{"$nulls":3},{"v":0,"d":"0.0000"},{"$nulls":3},{"v":0,"d":"0.0000"},{"v":0,"d":"0.000"},{"v":0,"d":"0.000"}]
[77,"нектар плодовый","л",{"$f":"'Ср День 3 Нед 1'!AE92","v":0},{"$nulls":7},{"v":0,"d":"0.0000"},{"v":0,"d":"0.0000"},{"$nulls":6},{"v":0,"d":"0.0000"},{"v":0,"d":"0.0000"},null,null,{"v":0,"d":"0.0000"},{"$nulls":3},{"v":0,"d":"0.0000"},{"$nulls":3},{"v":0,"d":"0.0000"},{"v":0,"d":"0.000"},{"v":0,"d":"0.000"}]
[null,"Кондитерка",null,{"$f":"'Ср День 3 Нед 1'!AE93","v":0},{"$nulls":7},{"v":0,"d":"0.0000"},{"v":0,"d":"0.0000"},{"$nulls":6},{"v":0,"d":"0.0000"},{"v":0,"d":"0.0000"},null,null,{"v":0,"d":"0.0000"},{"$nulls":3},{"v":0,"d":"0.0000"},{"$nulls":3},{"v":0,"d":"0.0000"},{"v":0,"d":"0.000"},{"v":0,"d":"0.000"}]
[78,"батончик злаковый","шт",{"$f":"'Ср День 3 Нед 1'!AE94","v":0},{"$nulls":7},{"v":0,"d":"0.0000"},{"v":0,"d":"0.0000"},{"$nulls":6},{"v":0,"d":"0.0000"},{"v":0,"d":"0.0000"},null,null,{"v":0,"d":"0.0000"},{"$nulls":3},{"v":0,"d":"0.0000"},{"$nulls":3},{"v":0,"d":"0.0000"},{"v":0,"d":"0.000"},{"v":0,"d":"0.000"}]
[79,"пряник","кг",{"$f":"'Ср День 3 Нед 1'!AE95","v":-0.035},{"$nulls":7},{"v":0,"d":"0.0000"},{"v":0,"d":"0.0000"},{"$nulls":6},{"v":0,"d":"0.0000"},{"v":0,"d":"0.0000"},null,null,{"v":0,"d":"0.0000"},{"$nulls":3},{"v":0,"d":"0.0000"},{"$nulls":3},{"v":0,"d":"0.0000"},{"v":0,"d":"0.000"},-0.035]
[80,"вафли ","кг",{"$f":"'Ср День 3 Нед 1'!AE96","v":-0.2},{"$nulls":7},{"v":0,"d":"0.0000"},{"v":0,"d":"0.0000"},{"$nulls":6},{"v":0,"d":"0.0000"},{"v":0,"d":"0.0000"},null,null,{"v":0,"d":"0.0000"},{"$nulls":3},{"v":0,"d":"0.0000"},{"$nulls":3},{"v":0,"d":"0.0000"},{"v":0,"d":"0.000"},{"v":-0.2,"d":"-0.200"}]
[81,"печенье","кг",{"$f":"'Ср День 3 Нед 1'!AE97","v":-0.02},{"$nulls":7},{"v":0,"d":"0.0000"},{"v":0,"d":"0.0000"},{"$nulls":6},{"v":0,"d":"0.0000"},{"v":0,"d":"0.0000"},null,null,{"v":0,"d":"0.0000"},{"$nulls":3},{"v":0,"d":"0.0000"},{"$nulls":3},{"v":0,"d":"0.0000"},{"v":0,"d":"0.000"},{"v":-0.02,"d":"-0.020"}]
[82,"крекер","кг",{"$f":"'Ср День 3 Нед 1'!AE98","v":0},{"$nulls":7},{"v":0,"d":"0.0000"},{"v":0,"d":"0.0000"},{"$nulls":6},{"v":0,"d":"0.0000"},{"v":0,"d":"0.0000"},null,null,{"v":0,"d":"0.0000"},{"$nulls":3},{"v":0,"d":"0.0000"},{"$nulls":3},{"v":0,"d":"0.0000"},{"v":0,"d":"0.000"},{"v":0,"d":"0.000"}]
[83,"сушки","кг",{"$f":"'Ср День 3 Нед 1'!AE99","v":0},{"$nulls":7},{"v":0,"d":"0.0000"},{"v":0,"d":"0.0000"},{"$nulls":6},{"v":0,"d":"0.0000"},{"v":0,"d":"0.0000"},null,null,{"v":0,"d":"0.0000"},{"$nulls":3},{"v":0,"d":"0.0000"},{"$nulls":3},{"v":0,"d":"0.0000"},{"v":0,"d":"0.000"},{"v":0,"d":"0.000"}]
[84,"мармелад","кг",{"$f":"'Ср День 3 Нед 1'!AE100","v":0},{"$nulls":7},{"v":0,"d":"0.0000"},{"v":0,"d":"0.0000"},{"$nulls":6},{"v":0,"d":"0.0000"},{"v":0,"d":"0.0000"},null,null,{"v":0,"d":"0.0000"},{"$nulls":3},{"v":0,"d":"0.0000"},{"$nulls":3},{"v":0,"d":"0.0000"},{"v":0,"d":"0.000"},{"v":0,"d":"0.000"}]
[85,"блины с/м","кг",{"$f":"'Ср День 3 Нед 1'!AE101","v":0},{"$nulls":7},{"v":0,"d":"0.0000"},{"v":0,"d":"0.0000"},{"$nulls":6},{"v":0,"d":"0.0000"},{"v":0,"d":"0.0000"},null,null,{"v":0,"d":"0.0000"},{"$nulls":3},{"v":0,"d":"0.0000"},{"$nulls":3},{"v":0,"d":"0.0000"},{"v":0,"d":"0.000"},{"v":0,"d":"0.000"}]
[86,"выпечка п/ф со склада","шт",{"$f":"'Ср День 3 Нед 1'!AE102","v":0},{"$nulls":7},{"v":0,"d":"0.0000"},{"v":0,"d":"0.0000"},{"$nulls":6},{"v":0,"d":"0.0000"},{"v":0,"d":"0.0000"},null,null,{"v":0,"d":"0.0000"},{"$nulls":3},{"v":0,"d":"0.0000"},{"$nulls":3},{"v":0,"d":"0.0000"},{"v":0,"d":"0.000"},{"v":0,"d":"0.000"}]
[null,"Яйцо",null,{"$f":"'Ср День 3 Нед 1'!AE103","v":0},{"$nulls":7},{"v":0,"d":"0.0000"},{"v":0,"d":"0.0000"},{"$nulls":6},{"v":0,"d":"0.0000"},{"v":0,"d":"0.0000"},null,null,{"v":0,"d":"0.0000"},{"$nulls":3},{"v":0,"d":"0.0000"},{"$nulls":3},{"v":0,"d":"0.0000"},{"v":0,"d":"0.000"},{"$f":"(D103+E103)-AG103","v":{"v":0,"d":"0.000"}}]
[87,"яйцо куриное","кг",{"$f":"'Ср День 3 Нед 1'!AE104","v":-1.92E-3},{"$nulls":7},{"v":0,"d":"0.0000"},{"v":0,"d":"0.0000"},{"$nulls":6},{"v":0,"d":"0.0000"},{"v":0,"d":"0.0000"},null,null,{"v":0,"d":"0.0000"},{"$nulls":3},{"v":0,"d":"0.0000"},{"v":0.00096,"d":"0.0010"},null,null,{"v":0.00096,"d":"0.0010"},{"v":0.00096,"d":"0.001"},{"v":-0.00288,"d":"-0.003"}]
[null,0.048,"шт",{"$f":"'Ср День 3 Нед 1'!AE105","v":0},{"$nulls":7},{"v":0,"d":"0.0000"},{"v":0,"d":"0.0000"},{"$nulls":6},{"v":0,"d":"0.0000"},{"v":0,"d":"0.0000"},null,null,{"v":0,"d":"0.0000"},{"$nulls":3},{"v":0,"d":"0.0000"},{"$nulls":3},{"v":0,"d":"0.0000"},{"v":0,"d":"0.000"},{"v":0,"d":"0.000"}]
[null,"Овощи заморозка",null,{"$f":"'Ср День 3 Нед 1'!AE106","v":0},{"$nulls":7},{"v":0,"d":"0.0000"},{"v":0,"d":"0.0000"},{"$nulls":6},{"v":0,"d":"0.0000"},{"v":0,"d":"0.0000"},null,null,{"v":0,"d":"0.0000"},{"$nulls":3},{"v":0,"d":"0.0000"},{"$nulls":3},{"v":0,"d":"0.0000"},{"v":0,"d":"0.000"},{"v":0,"d":"0.000"}]
[88,"зеленый горошек с/м","кг",{"$f":"'Ср День 3 Нед 1'!AE107","v":0},{"$nulls":7},{"v":0,"d":"0.0000"},{"v":0,"d":"0.0000"},{"$nulls":6},{"v":0,"d":"0.0000"},{"v":0,"d":"0.0000"},null,null,{"v":0,"d":"0.0000"},{"$nulls":3},{"v":0,"d":"0.0000"},{"$nulls":3},{"v":0,"d":"0.0000"},{"v":0,"d":"0.000"},{"v":0,"d":"0.000"}]
[89,"кабачки с/м","кг",{"$f":"'Ср День 3 Нед 1'!AE108","v":0},{"$nulls":7},{"v":0,"d":"0.0000"},{"v":0,"d":"0.0000"},{"$nulls":6},{"v":0,"d":"0.0000"},{"v":0,"d":"0.0000"},null,null,{"v":0,"d":"0.0000"},{"$nulls":3},{"v":0,"d":"0.0000"},{"$nulls":3},{"v":0,"d":"0.0000"},{"v":0,"d":"0.000"},{"v":0,"d":"0.000"}]
[90,"мексиканс смесь с/м","кг",{"$f":"'Ср День 3 Нед 1'!AE109","v":0},{"$nulls":7},{"v":0,"d":"0.0000"},{"v":0,"d":"0.0000"},{"$nulls":6},{"v":0,"d":"0.0000"},{"v":0,"d":"0.0000"},null,null,{"v":0,"d":"0.0000"},{"$nulls":3},{"v":0,"d":"0.0000"},{"$nulls":3},{"v":0,"d":"0.0000"},{"v":0,"d":"0.000"},{"v":0,"d":"0.000"}]
[91,"капуста цветная с/м","кг",{"$f":"'Ср День 3 Нед 1'!AE110","v":0},{"$nulls":7},{"v":0,"d":"0.0000"},{"v":0,"d":"0.0000"},{"$nulls":6},{"v":0,"d":"0.0000"},{"v":0,"d":"0.0000"},null,null,{"v":0,"d":"0.0000"},{"$nulls":3},{"v":0,"d":"0.0000"},{"$nulls":3},{"v":0,"d":"0.0000"},{"v":0,"d":"0.000"},{"v":0,"d":"0.000"}]
[92,"брокколи с/м","кг",{"$f":"'Ср День 3 Нед 1'!AE111","v":0},{"$nulls":7},{"v":0,"d":"0.0000"},{"v":0,"d":"0.0000"},{"$nulls":6},{"v":0,"d":"0.0000"},{"v":0,"d":"0.0000"},null,null,{"v":0,"d":"0.0000"},{"$nulls":3},{"v":0,"d":"0.0000"},{"$nulls":3},{"v":0,"d":"0.0000"},{"v":0,"d":"0.000"},{"v":0,"d":"0.000"}]
[93,"кукуруза с/м","кг",{"$f":"'Ср День 3 Нед 1'!AE112","v":0},{"$nulls":7},{"v":0,"d":"0.0000"},{"v":0,"d":"0.0000"},{"$nulls":6},{"v":0,"d":"0.0000"},{"v":0,"d":"0.0000"},null,null,{"v":0,"d":"0.0000"},{"$nulls":3},{"v":0,"d":"0.0000"},{"$nulls":3},{"v":0,"d":"0.0000"},{"v":0,"d":"0.000"},{"v":0,"d":"0.000"}]
[94,"фасоль стручковая с/м","кг",{"$f":"'Ср День 3 Нед 1'!AE113","v":0},{"$nulls":7},{"v":0,"d":"0.0000"},{"v":0,"d":"0.0000"},{"$nulls":6},{"v":0,"d":"0.0000"},{"v":0,"d":"0.0000"},null,null,{"v":0,"d":"0.0000"},{"$nulls":3},{"v":0,"d":"0.0000"},{"$nulls":3},{"v":0,"d":"0.0000"},{"v":0,"d":"0.000"},{"v":0,"d":"0.000"}]
[null,"Фрукты",null,{"$f":"'Ср День 3 Нед 1'!AE114","v":0},{"$nulls":7},{"v":0,"d":"0.0000"},{"v":0,"d":"0.0000"},{"$nulls":6},{"v":0,"d":"0.0000"},{"v":0,"d":"0.0000"},null,null,{"v":0,"d":"0.0000"},{"$nulls":3},{"v":0,"d":"0.0000"},{"$nulls":3},{"v":0,"d":"0.0000"},{"v":0,"d":"0.000"},{"v":0,"d":"0.000"}]
[95,"апельсин","кг",{"$f":"'Ср День 3 Нед 1'!AE115","v":0},{"$nulls":7},{"v":0,"d":"0.0000"},{"v":0,"d":"0.0000"},{"$nulls":6},{"v":0,"d":"0.0000"},{"v":0,"d":"0.0000"},null,null,{"v":0,"d":"0.0000"},{"$nulls":3},{"v":0,"d":"0.0000"},{"$nulls":3},{"v":0,"d":"0.0000"},{"v":0,"d":"0.000"},{"v":0,"d":"0.000"}]
[96,"банан","кг",{"$f":"'Ср День 3 Нед 1'!AE116","v":0},{"$nulls":7},{"v":0,"d":"0.0000"},{"v":0,"d":"0.0000"},{"$nulls":6},{"v":0,"d":"0.0000"},{"v":0,"d":"0.0000"},null,null,{"v":0,"d":"0.0000"},{"$nulls":3},{"v":0,"d":"0.0000"},{"$nulls":3},{"v":0,"d":"0.0000"},{"v":0,"d":"0.000"},{"v":0,"d":"0.000"}]
[97,"груши","кг",{"$f":"'Ср День 3 Нед 1'!AE117","v":0},{"$nulls":7},{"v":0,"d":"0.0000"},{"v":0,"d":"0.0000"},{"$nulls":6},{"v":0,"d":"0.0000"},{"v":0,"d":"0.0000"},null,null,{"v":0,"d":"0.0000"},{"$nulls":3},{"v":0,"d":"0.0000"},{"$nulls":3},{"v":0,"d":"0.0000"},{"v":0,"d":"0.000"},{"v":0,"d":"0.000"}]
[98,"мандарины","кг",{"$f":"'Ср День 3 Нед 1'!AE118","v":0},{"$nulls":7},{"v":0,"d":"0.0000"},{"v":0,"d":"0.0000"},{"$nulls":6},{"v":0,"d":"0.0000"},{"v":0,"d":"0.0000"},null,null,{"v":0,"d":"0.0000"},{"$nulls":3},{"v":0,"d":"0.0000"},{"$nulls":3},{"v":0,"d":"0.0000"},{"v":0,"d":"0.000"},{"v":0,"d":"0.000"}]
[99,"лимон","кг",{"$f":"'Ср День 3 Нед 1'!AE119","v":-0.012},{"$nulls":7},{"v":0,"d":"0.0000"},{"v":0,"d":"0.0000"},{"$nulls":6},{"v":0,"d":"0.0000"},{"v":0,"d":"0.0000"},null,null,{"v":0,"d":"0.0000"},{"$nulls":3},{"v":0,"d":"0.0000"},{"$nulls":3},{"v":0,"d":"0.0000"},{"v":0,"d":"0.000"},-0.012]
[100,"яблоки свежие","кг",{"$f":"'Ср День 3 Нед 1'!AE120","v":-0.24559999999999998},null,{"v":0.1,"d":"0.1000"},{"$nulls":5},{"v":0.1,"d":"0.1000"},{"v":0.1,"d":"0.1000"},{"v":0.1,"d":"0.1000"},{"$nulls":5},{"v":0.1,"d":"0.1000"},{"v":0.1,"d":"0.1000"},null,0.0454,0.0454,{"$nulls":3},{"v":0,"d":"0.0000"},{"$nulls":3},{"v":0,"d":"0.0000"},{"v":0.4454,"d":"0.445"},{"v":-0.6910000000000001,"d":"-0.691"}]
[null,"Овощи / зелень ",null,{"$f":"'Ср День 3 Нед 1'!AE121","v":0},{"$nulls":7},{"v":0,"d":"0.0000"},{"v":0,"d":"0.0000"},{"$nulls":6},{"v":0,"d":"0.0000"},{"v":0,"d":"0.0000"},null,null,{"v":0,"d":"0.0000"},{"$nulls":3},{"v":0,"d":"0.0000"},{"$nulls":3},{"v":0,"d":"0.0000"},{"v":0,"d":"0.000"},{"v":0,"d":"0.000"}]
[101,"капуста свежая","кг",{"$f":"'Ср День 3 Нед 1'!AE122","v":-0.16749999999999998},{"$nulls":7},{"v":0,"d":"0.0000"},{"v":0,"d":"0.0000"},{"$nulls":6},{"v":0,"d":"0.0000"},{"v":0,"d":"0.0000"},null,null,{"v":0,"d":"0.0000"},{"$nulls":3},{"v":0,"d":"0.0000"},0.0375,null,null,0.0375,{"v":0.0375,"d":"0.038"},-0.205]
[102,"картофель","кг",{"$f":"'Ср День 3 Нед 1'!AE123","v":-0.503},{"$nulls":7},{"v":0,"d":"0.0000"},{"v":0,"d":"0.0000"},{"$nulls":6},{"v":0,"d":"0.0000"},{"v":0,"d":"0.0000"},null,null,{"v":0,"d":"0.0000"},{"$nulls":3},{"v":0,"d":"0.0000"},{"v":0.03325,"d":"0.0333"},null,null,{"v":0.03325,"d":"0.0333"},{"v":0.03325,"d":"0.033"},{"v":-0.53625,"d":"-0.536"}]
[103,"лук репчатый","кг",{"$f":"'Ср День 3 Нед 1'!AE124","v":-0.0996},{"$nulls":7},{"v":0,"d":"0.0000"},{"v":0,"d":"0.0000"},{"$nulls":6},{"v":0,"d":"0.0000"},{"v":0,"d":"0.0000"},null,null,{"v":0,"d":"0.0000"},{"$nulls":3},{"v":0,"d":"0.0000"},0.0132,null,null,0.0132,{"v":0.0132,"d":"0.013"},{"v":-0.1128,"d":"-0.113"}]
[104,"морковь","кг",{"$f":"'Ср День 3 Нед 1'!AE125","v":-0.06375},{"$nulls":7},{"v":0,"d":"0.0000"},{"v":0,"d":"0.0000"},{"$nulls":6},{"v":0,"d":"0.0000"},{"v":0,"d":"0.0000"},null,null,{"v":0,"d":"0.0000"},{"$nulls":3},{"v":0,"d":"0.0000"},0.0125,null,null,0.0125,{"v":0.0125,"d":"0.013"},{"v":-0.07625,"d":"-0.076"}]
[105,"свекла","кг",{"$f":"'Ср День 3 Нед 1'!AE126","v":-0.05},{"$nulls":7},{"v":0,"d":"0.0000"},{"v":0,"d":"0.0000"},{"$nulls":6},{"v":0,"d":"0.0000"},{"v":0,"d":"0.0000"},null,null,{"v":0,"d":"0.0000"},{"$nulls":3},{"v":0,"d":"0.0000"},{"$nulls":3},{"v":0,"d":"0.0000"},{"v":0,"d":"0.000"},{"v":-0.05,"d":"-0.050"}]
[106,"огурцы св.","кг",{"$f":"'Ср День 3 Нед 1'!AE127","v":0},{"$nulls":7},{"v":0,"d":"0.0000"},{"v":0,"d":"0.0000"},{"$nulls":6},{"v":0,"d":"0.0000"},{"v":0,"d":"0.0000"},null,null,{"v":0,"d":"0.0000"},{"$nulls":3},{"v":0,"d":"0.0000"},{"$nulls":3},{"v":0,"d":"0.0000"},{"v":0,"d":"0.000"},{"v":0,"d":"0.000"}]
[107,"томаты св.","кг",{"$f":"'Ср День 3 Нед 1'!AE128","v":0},{"$nulls":7},{"v":0,"d":"0.0000"},{"v":0,"d":"0.0000"},{"$nulls":6},{"v":0,"d":"0.0000"},{"v":0,"d":"0.0000"},null,null,{"v":0,"d":"0.0000"},{"$nulls":3},{"v":0,"d":"0.0000"},{"$nulls":3},{"v":0,"d":"0.0000"},{"v":0,"d":"0.000"},{"v":0,"d":"0.000"}]
[108,"перец болг.красный","кг",{"$f":"'Ср День 3 Нед 1'!AE129","v":0},{"$nulls":7},{"v":0,"d":"0.0000"},{"v":0,"d":"0.0000"},{"$nulls":6},{"v":0,"d":"0.0000"},{"v":0,"d":"0.0000"},null,null,{"v":0,"d":"0.0000"},{"$nulls":3},{"v":0,"d":"0.0000"},{"$nulls":3},{"v":0,"d":"0.0000"},{"v":0,"d":"0.000"},{"v":0,"d":"0.000"}]
[109,"тыква","кг",{"$f":"'Ср День 3 Нед 1'!AE130","v":0},{"$nulls":7},{"v":0,"d":"0.0000"},{"v":0,"d":"0.0000"},{"$nulls":6},{"v":0,"d":"0.0000"},{"v":0,"d":"0.0000"},null,null,{"v":0,"d":"0.0000"},{"$nulls":3},{"v":0,"d":"0.0000"},{"$nulls":3},{"v":0,"d":"0.0000"},{"v":0,"d":"0.000"},{"v":0,"d":"0.000"}]
[null,"Овощи очищенные",null,{"$f":"'Ср День 3 Нед 1'!AE131","v":0},{"$nulls":7},{"v":0,"d":"0.0000"},{"v":0,"d":"0.0000"},{"$nulls":6},{"v":0,"d":"0.0000"},{"v":0,"d":"0.0000"},null,null,{"v":0,"d":"0.0000"},{"$nulls":3},{"v":0,"d":"0.0000"},{"$nulls":3},{"v":0,"d":"0.0000"},{"v":0,"d":"0.000"},{"v":0,"d":"0.000"}]
[110,"капуста св.очищенная","кг",{"$f":"'Ср День 3 Нед 1'!AE132","v":0},{"$nulls":7},{"v":0,"d":"0.0000"},{"v":0,"d":"0.0000"},{"$nulls":6},{"v":0,"d":"0.0000"},{"v":0,"d":"0.0000"},null,null,{"v":0,"d":"0.0000"},{"$nulls":3},{"v":0,"d":"0.0000"},{"$nulls":3},{"v":0,"d":"0.0000"},{"v":0,"d":"0.000"},{"v":0,"d":"0.000"}]
[111,"картофель св. очищенный","кг",{"$f":"'Ср День 3 Нед 1'!AE133","v":0},{"$nulls":7},{"v":0,"d":"0.0000"},{"v":0,"d":"0.0000"},{"$nulls":6},{"v":0,"d":"0.0000"},{"v":0,"d":"0.0000"},null,null,{"v":0,"d":"0.0000"},{"$nulls":3},{"v":0,"d":"0.0000"},{"$nulls":3},{"v":0,"d":"0.0000"},{"v":0,"d":"0.000"},{"v":0,"d":"0.000"}]
[112,"лук репчатый св.очищенный","кг",{"$f":"'Ср День 3 Нед 1'!AE134","v":0},{"$nulls":7},{"v":0,"d":"0.0000"},{"v":0,"d":"0.0000"},{"$nulls":6},{"v":0,"d":"0.0000"},{"v":0,"d":"0.0000"},null,null,{"v":0,"d":"0.0000"},{"$nulls":3},{"v":0,"d":"0.0000"},{"$nulls":3},{"v":0,"d":"0.0000"},{"v":0,"d":"0.000"},{"v":0,"d":"0.000"}]
[113,"морковь св.очищенная","кг",{"$f":"'Ср День 3 Нед 1'!AE135","v":0},{"$nulls":7},{"v":0,"d":"0.0000"},{"v":0,"d":"0.0000"},{"$nulls":6},{"v":0,"d":"0.0000"},{"v":0,"d":"0.0000"},null,null,{"v":0,"d":"0.0000"},{"$nulls":3},{"v":0,"d":"0.0000"},{"$nulls":3},{"v":0,"d":"0.0000"},{"v":0,"d":"0.000"},{"$f":"(D135+E135)-AG135","v":{"v":0,"d":"0.000"}}]
[114,"свекла св.очищенная","кг",{"$f":"'Ср День 3 Нед 1'!AE136","v":0},{"$nulls":7},{"$f":"(F136+H136+J136+K136)*$L$5","v":{"v":0,"d":"0.0000"}},{"$f":"(F136+G136+I136+K136)*$M$5","v":{"v":0,"d":"0.0000"}},{"$nulls":6},{"$f":"(N136+P136+R136+S136)*$T$5","v":{"v":0,"d":"0.0000"}},{"$f":"(N136+O136+Q136+S136)*$U$5","v":{"v":0,"d":"0.0000"}},null,null,{"$f":"(W136+V136)*$X$5","v":{"v":0,"d":"0.0000"}},{"$nulls":3},{"$f":"(AA136+Z136+Y136)*$AB$5","v":{"v":0,"d":"0.0000"}},{"$nulls":3},{"$f":"(AC136+AD136+AE136)*$AF$5","v":{"v":0,"d":"0.0000"}},{"$f":"L136+M136+T136+U136+X136+AF136","v":{"v":0,"d":"0.000"}},{"v":0,"d":"0.000"}]
[null,"Полуфабрикаты",null,{"$f":"'Ср День 3 Нед 1'!AE137","v":0},{"$nulls":7},{"v":0,"d":"0.0000"},{"v":0,"d":"0.0000"},{"$nulls":6},{"v":0,"d":"0.0000"},{"v":0,"d":"0.0000"},null,null,{"v":0,"d":"0.0000"},{"$nulls":3},{"v":0,"d":"0.0000"},{"$nulls":3},{"v":0,"d":"0.0000"},{"v":0,"d":"0.000"},{"v":0,"d":"0.000"}]
[115,"сырники ПФ","шт",{"$f":"'Ср День 3 Нед 1'!AE138","v":-2},{"$nulls":7},{"v":0,"d":"0.0000"},{"v":0,"d":"0.0000"},{"$nulls":6},{"v":0,"d":"0.0000"},{"v":0,"d":"0.0000"},{"$nulls":11},{"v":0,"d":"0.000"},{"v":-2,"d":"-2.000"}]
[116,"пельмени ПФ","кг",{"$f":"'Ср День 3 Нед 1'!AE139","v":0},{"$nulls":7},{"v":0,"d":"0.0000"},{"v":0,"d":"0.0000"},{"$nulls":6},{"v":0,"d":"0.0000"},{"v":0,"d":"0.0000"},null,null,{"v":0,"d":"0.0000"},{"$nulls":3},{"v":0,"d":"0.0000"},{"$nulls":3},{"v":0,"d":"0.0000"},{"v":0,"d":"0.000"},{"v":0,"d":"0.000"}]
[117,"биточки рыбные","шт",{"$f":"'Ср День 3 Нед 1'!AE140","v":0},{"$nulls":7},{"v":0,"d":"0.0000"},{"v":0,"d":"0.0000"},{"$nulls":6},{"v":0,"d":"0.0000"},{"v":0,"d":"0.0000"},null,null,{"v":0,"d":"0.0000"},{"$nulls":3},{"v":0,"d":"0.0000"},{"$nulls":3},{"v":0,"d":"0.0000"},{"v":0,"d":"0.000"},{"v":0,"d":"0.000"}]
[118,"фрикадельки мясные ","кг",{"$f":"'Ср День 3 Нед 1'!AE141","v":0},{"$nulls":7},{"v":0,"d":"0.0000"},{"v":0,"d":"0.0000"},{"$nulls":6},{"v":0,"d":"0.0000"},{"v":0,"d":"0.0000"},null,null,{"v":0,"d":"0.0000"},{"$nulls":3},{"v":0,"d":"0.0000"},{"$nulls":3},{"v":0,"d":"0.0000"},{"v":0,"d":"0.000"},{"v":0,"d":"0.000"}]
[119,"фрикадельки куриные","кг",{"$f":"'Ср День 3 Нед 1'!AE142","v":0},{"$nulls":7},{"v":0,"d":"0.0000"},{"v":0,"d":"0.0000"},{"$nulls":6},{"v":0,"d":"0.0000"},{"v":0,"d":"0.0000"},null,null,{"v":0,"d":"0.0000"},{"$nulls":3},{"v":0,"d":"0.0000"},{"$nulls":3},{"v":0,"d":"0.0000"},{"v":0,"d":"0.000"},{"v":0,"d":"0.000"}]
[120,"хинкали п/ф из говядины","кг",{"$f":"'Ср День 3 Нед 1'!AE143","v":0},{"$nulls":7},{"v":0,"d":"0.0000"},{"v":0,"d":"0.0000"},{"$nulls":6},{"v":0,"d":"0.0000"},{"v":0,"d":"0.0000"},null,null,{"v":0,"d":"0.0000"},{"$nulls":3},{"v":0,"d":"0.0000"},{"$nulls":3},{"v":0,"d":"0.0000"},{"v":0,"d":"0.000"},{"v":0,"d":"0.000"}]
[121,"котлеты из говядины \"Домашние\"  ","шт",{"$f":"'Ср День 3 Нед 1'!AE144","v":0},null,null,1,{"$nulls":4},{"v":0,"d":"0.0000"},{"v":1,"d":"1.0000"},null,1,{"$nulls":4},{"v":0,"d":"0.0000"},{"v":1,"d":"1.0000"},null,null,{"v":0,"d":"0.0000"},{"$nulls":3},{"v":0,"d":"0.0000"},{"$nulls":3},{"v":0,"d":"0.0000"},{"v":2,"d":"2.000"},{"v":-2,"d":"-2.000"}]
[122,"бифштекс из говядины","шт",{"$f":"'Ср День 3 Нед 1'!AE145","v":0},{"$nulls":7},{"v":0,"d":"0.0000"},{"v":0,"d":"0.0000"},{"$nulls":6},{"v":0,"d":"0.0000"},{"v":0,"d":"0.0000"},null,null,{"v":0,"d":"0.0000"},{"$nulls":3},{"v":0,"d":"0.0000"},{"$nulls":3},{"v":0,"d":"0.0000"},{"v":0,"d":"0.000"},{"v":0,"d":"0.000"}]
[123,"котлеты из мяса кур","шт",{"$f":"'Ср День 3 Нед 1'!AE146","v":0},{"$nulls":7},{"v":0,"d":"0.0000"},{"v":0,"d":"0.0000"},{"$nulls":6},{"v":0,"d":"0.0000"},{"v":0,"d":"0.0000"},null,null,{"v":0,"d":"0.0000"},{"$nulls":3},{"v":0,"d":"0.0000"},{"$nulls":3},{"v":0,"d":"0.0000"},{"v":0,"d":"0.000"},{"v":0,"d":"0.000"}]
[124,"котлеты \"Аппетитные\" мясо-куриные  ","шт",{"$f":"'Ср День 3 Нед 1'!AE147","v":0},{"$nulls":7},{"v":0,"d":"0.0000"},{"v":0,"d":"0.0000"},{"$nulls":6},{"v":0,"d":"0.0000"},{"v":0,"d":"0.0000"},null,null,{"v":0,"d":"0.0000"},{"$nulls":3},{"v":0,"d":"0.0000"},{"$nulls":3},{"v":0,"d":"0.0000"},{"v":0,"d":"0.000"},{"v":0,"d":"0.000"}]
[125,"ежики мясные с рисом ","шт",{"$f":"'Ср День 3 Нед 1'!AE148","v":0},{"$nulls":7},{"v":0,"d":"0.0000"},{"v":0,"d":"0.0000"},{"$nulls":6},{"v":0,"d":"0.0000"},{"v":0,"d":"0.0000"},null,null,{"v":0,"d":"0.0000"},{"$nulls":3},{"v":0,"d":"0.0000"},{"$nulls":3},{"v":0,"d":"0.0000"},{"v":0,"d":"0.000"},{"v":0,"d":"0.000"}]

{"sheet":"Пт День 5 Нед 1","index":4,"n_rows":148,"n_cols":28,"rows_kept":148,"merged":[[0,0,0,25],[1,5,1,8],[1,9,3,9],[1,10,1,13],[1,14,3,14],[1,15,1,16],[1,17,3,17],[1,18,1,20],[1,21,3,21],[1,22,1,24],[1,25,3,25],[1,26,3,26],[1,27,3,27]]}
["Расход продуктов питания в образовательных учереждениях  "]
[{"$nulls":5},"Меню с 1 по 4 класс  69,43  РУБ",{"$nulls":3},"ИТОГО","Меню с 5 по 11 класс  69,43  РУБ",{"$nulls":3},"ИТОГО","Меню на сумму         9,60  РУБ",null,"ИТОГО","Меню КАШИ  НА молоке                          ",null,null,"ИТОГО","Меню   СУПА  ",null,null,"ИТОГО","ВСЕГО ЗА ДЕНЬ расход продуктов по всем рационам","остаток на конец"]
[null,"ДЕНЬ 5 неделя 1",null,"остаток на начало","приход","Свекла отварная ","Жаркое по- домашнему с индейкой","Компот из с/ф (75 С)","Хлеб пшеничн /ржаной",null,"Свекла отварная ","Жаркое по- домашнему с индейкой","Компот из с/ф (75 С)","Хлеб пшеничн /ржаной",null,"печенье /крекер/","чай с сахаром",null,"Каша  манная с маслом слив","компот из св яблок","Хлеб ржаной",null,"суп Харчо с мясом птицы со смет","компот из сухофруктов","Хлеб ржаной"]
[null,"КОЛИЧЕСТВО ДЕТЕЙ",{"$nulls":3},"7-11","7-11","7-11","7-11",null,"12-18","12-18","12-18","12-18",null,"12-18","12-18",null,"12-18","12-18","12-18",null,"12-18","12-18","12-18"]
[null,"Выход,гр",{"$nulls":3},"60","50/150","200","20/30","1","100","50/150","200","25/40",1,"30","190/10",1,"150/3","200","30",0,"250/10/5","200","30","1",{"$f":"J5+O5+R5+Z5","v":4}]
[null,"Хлеб"]
[1,"батон ","кг",{"$f":"'Чт День 4 Нед 1'!AH7","v":0},{"$nulls":5},{"$f":"(F7+G7+H7+I7)*$J$5","v":{"v":0,"d":"0.0000"}},{"$nulls":4},{"$f":"(K7+L7+M7+N7)*$O$5","v":{"v":0,"d":"0.0000"}},null,null,{"$f":"(Q7+P7)*$R$5","v":{"v":0,"d":"0.0000"}},{"$nulls":3},{"$f":"(U7+T7+S7)*$V$5","v":{"v":0,"d":"0.0000"}},{"$nulls":3},{"$f":"(X7+W7+Y7)*$Z$5","v":{"v":0,"d":"0.0000"}},{"$f":"J7+O7+R7+Z7","v":{"v":0,"d":"0.000"}},{"$f":"(D7+E70)-AA7","v":{"v":0,"d":"0.000"}}]
[2,"хлеб пшеничный ","кг",{"$f":"'Чт День 4 Нед 1'!AH8","v":-0.14},{"$nulls":4},{"v":0.02,"d":"0.0200"},{"$f":"(F8+G8+H8+I8)*$J$5","v":{"v":0.02,"d":"0.0200"}},{"$nulls":3},{"v":0.025,"d":"0.0250"},{"$f":"(K8+L8+M8+N8)*$O$5","v":{"v":0.025,"d":"0.0250"}},null,null,{"$f":"(Q8+P8)*$R$5","v":{"v":0,"d":"0.0000"}},{"$nulls":3},{"$f":"(U8+T8+S8)*$V$5","v":{"v":0,"d":"0.0000"}},{"$nulls":3},{"$f":"(X8+W8+Y8)*$Z$5","v":{"v":0,"d":"0.0000"}},{"$f":"J8+O8+R8+Z8","v":0.045},-0.185]
[3,"хлеб ржаной","кг",{"$f":"'Чт День 4 Нед 1'!AH9","v":-0.44499999999999995},{"$nulls":4},{"v":0.03,"d":"0.0300"},{"v":0.03,"d":"0.0300"},{"$nulls":3},{"v":0.04,"d":"0.0400"},{"v":0.04,"d":"0.0400"},null,null,{"v":0,"d":"0.0000"},null,null,{"v":0.03,"d":"0.0300"},{"v":0,"d":"0.0000"},null,null,{"v":0.03,"d":"0.0300"},{"v":0.03,"d":"0.0300"},{"v":0.1,"d":"0.100"},{"v":-0.5449999999999999,"d":"-0.545"}]
[4,"булоч/ выпечка готов с х/ком","шт",{"$f":"'Чт День 4 Нед 1'!AH10","v":-1},{"$nulls":5},{"v":0,"d":"0.0000"},{"$nulls":4},{"v":0,"d":"0.0000"},null,null,{"v":0,"d":"0.0000"},{"$nulls":3},{"v":0,"d":"0.0000"},{"$nulls":3},{"v":0,"d":"0.0000"},{"v":0,"d":"0.000"},{"v":-1,"d":"-1.000"}]
[null,"Молочка",null,{"$f":"'Чт День 4 Нед 1'!AH11","v":0},{"$nulls":5},{"v":0,"d":"0.0000"},{"$nulls":4},{"v":0,"d":"0.0000"},null,null,{"v":0,"d":"0.0000"},{"$nulls":3},{"v":0,"d":"0.0000"},{"$nulls":3},{"v":0,"d":"0.0000"},{"v":0,"d":"0.000"},{"v":0,"d":"0.000"}]
[5,"молоко 2,5%","кг",{"$f":"'Чт День 4 Нед 1'!AH12","v":-0.4571},{"$nulls":5},{"v":0,"d":"0.0000"},{"$nulls":4},{"v":0,"d":"0.0000"},null,null,{"v":0,"d":"0.0000"},{"v":0.075,"d":"0.0750"},null,null,{"v":0,"d":"0.0000"},{"$nulls":3},{"v":0,"d":"0.0000"},{"v":0,"d":"0.000"},{"v":-0.4571,"d":"-0.457"}]
[6,"творог 5%","кг",{"$f":"'Чт День 4 Нед 1'!AH13","v":0},{"$nulls":5},{"v":0,"d":"0.0000"},{"$nulls":4},{"v":0,"d":"0.0000"},null,null,{"v":0,"d":"0.0000"},{"$nulls":3},{"v":0,"d":"0.0000"},{"$nulls":3},{"v":0,"d":"0.0000"},{"v":0,"d":"0.000"},{"v":0,"d":"0.000"}]
[7,"сметана 15%","кг",{"$f":"'Чт День 4 Нед 1'!AH14","v":-0.035},{"$nulls":5},{"v":0,"d":"0.0000"},{"$nulls":4},{"v":0,"d":"0.0000"},null,null,{"v":0,"d":"0.0000"},{"$nulls":3},{"v":0,"d":"0.0000"},{"v":0.005,"d":"0.0050"},null,null,{"v":0.005,"d":"0.0050"},0.005,{"v":-0.04,"d":"-0.040"}]
[8,"йогурт фруктов ","кг",{"$f":"'Чт День 4 Нед 1'!AH15","v":0},{"$nulls":5},{"v":0,"d":"0.0000"},{"$nulls":4},{"v":0,"d":"0.0000"},null,null,{"v":0,"d":"0.0000"},{"$nulls":3},{"v":0,"d":"0.0000"},{"$nulls":3},{"v":0,"d":"0.0000"},{"v":0,"d":"0.000"},{"v":0,"d":"0.000"}]
[9,"катык 2,5%","кг",{"$f":"'Чт День 4 Нед 1'!AH16","v":0},{"$nulls":5},{"v":0,"d":"0.0000"},{"$nulls":4},{"v":0,"d":"0.0000"},null,null,{"v":0,"d":"0.0000"},{"$nulls":3},{"v":0,"d":"0.0000"},{"$nulls":3},{"v":0,"d":"0.0000"},{"v":0,"d":"0.000"},{"v":0,"d":"0.000"}]
[10,"кефир 2,5%","кг",{"$f":"'Чт День 4 Нед 1'!AH17","v":0},{"$nulls":5},{"v":0,"d":"0.0000"},{"$nulls":4},{"v":0,"d":"0.0000"},null,null,{"v":0,"d":"0.0000"},{"$nulls":3},{"v":0,"d":"0.0000"},{"$nulls":3},{"v":0,"d":"0.0000"},{"v":0,"d":"0.000"},{"v":0,"d":"0.000"}]
[11,"ряженка 2,5%","кг",{"$f":"'Чт День 4 Нед 1'!AH18","v":0},{"$nulls":5},{"v":0,"d":"0.0000"},{"$nulls":4},{"v":0,"d":"0.0000"},null,null,{"v":0,"d":"0.0000"},{"$nulls":3},{"v":0,"d":"0.0000"},{"$nulls":3},{"v":0,"d":"0.0000"},{"v":0,"d":"0.000"},{"v":0,"d":"0.000"}]
[12,"напиток ацидофильный","кг",{"$f":"'Чт День 4 Нед 1'!AH19","v":0},{"$nulls":5},{"v":0,"d":"0.0000"},{"$nulls":4},{"v":0,"d":"0.0000"},null,null,{"v":0,"d":"0.0000"},{"$nulls":3},{"v":0,"d":"0.0000"},{"$nulls":3},{"v":0,"d":"0.0000"},{"v":0,"d":"0.000"},{"v":0,"d":"0.000"}]
[null,"Масло / сыр ",null,{"$f":"'Чт День 4 Нед 1'!AH20","v":0},{"$nulls":5},{"v":0,"d":"0.0000"},{"$nulls":4},{"v":0,"d":"0.0000"},null,null,{"v":0,"d":"0.0000"},{"$nulls":3},{"v":0,"d":"0.0000"},{"$nulls":3},{"v":0,"d":"0.0000"},{"v":0,"d":"0.000"},{"v":0,"d":"0.000"}]
[13,"масло растительное","кг",{"$f":"'Чт День 4 Нед 1'!AH21","v":-0.0365},null,{"v":0.003,"d":"0.0030"},{"v":0.004,"d":"0.0040"},null,null,{"v":0.007,"d":"0.0070"},{"v":0.005,"d":"0.0050"},{"v":0.004,"d":"0.0040"},null,null,{"v":0.009000000000000001,"d":"0.0090"},null,null,{"v":0,"d":"0.0000"},{"$nulls":3},{"v":0,"d":"0.0000"},{"v":0.005,"d":"0.0050"},null,null,{"v":0.005,"d":"0.0050"},0.021,{"v":-0.057499999999999996,"d":"-0.058"}]
[14,"масло сливочное","кг",{"$f":"'Чт День 4 Нед 1'!AH22","v":-0.043},{"$nulls":5},{"v":0,"d":"0.0000"},{"$nulls":4},{"v":0,"d":"0.0000"},null,null,{"v":0,"d":"0.0000"},{"v":0.003,"d":"0.0030"},null,null,{"v":0,"d":"0.0000"},{"$nulls":3},{"v":0,"d":"0.0000"},{"v":0,"d":"0.000"},-0.043]
[15,"сыр голландский","кг",{"$f":"'Чт День 4 Нед 1'!AH23","v":0},{"$nulls":5},{"v":0,"d":"0.0000"},{"$nulls":4},{"v":0,"d":"0.0000"},null,null,{"v":0,"d":"0.0000"},{"$nulls":3},{"v":0,"d":"0.0000"},{"$nulls":3},{"v":0,"d":"0.0000"},{"v":0,"d":"0.000"},{"v":0,"d":"0.000"}]
[null,"Мясо",null,{"$f":"'Чт День 4 Нед 1'!AH24","v":0},{"$nulls":5},{"v":0,"d":"0.0000"},{"$nulls":4},{"v":0,"d":"0.0000"},null,null,{"v":0,"d":"0.0000"},{"$nulls":3},{"v":0,"d":"0.0000"},{"$nulls":3},{"v":0,"d":"0.0000"},{"v":0,"d":"0.000"},{"v":0,"d":"0.000"}]
[16,"говядина (котлетное мясо) ","кг",{"$f":"'Чт День 4 Нед 1'!AH25","v":0},{"$nulls":5},{"v":0,"d":"0.0000"},{"$nulls":4},{"v":0,"d":"0.0000"},null,null,{"v":0,"d":"0.0000"},{"$nulls":3},{"v":0,"d":"0.0000"},{"$nulls":3},{"v":0,"d":"0.0000"},{"v":0,"d":"0.000"},{"v":0,"d":"0.000"}]
[17,"фарш говяжий","кг",{"$f":"'Чт День 4 Нед 1'!AH26","v":-0.08796999999999999},{"$nulls":5},{"v":0,"d":"0.0000"},{"$nulls":4},{"v":0,"d":"0.0000"},null,null,{"v":0,"d":"0.0000"},{"$nulls":3},{"v":0,"d":"0.0000"},{"$nulls":3},{"v":0,"d":"0.0000"},{"v":0,"d":"0.000"},{"v":-0.08796999999999999,"d":"-0.088"}]
[18,"говядина лопатка б/к","кг",{"$f":"'Чт День 4 Нед 1'!AH27","v":0},{"$nulls":5},{"v":0,"d":"0.0000"},{"$nulls":4},{"v":0,"d":"0.0000"},null,null,{"v":0,"d":"0.0000"},{"$nulls":3},{"v":0,"d":"0.0000"},{"$nulls":3},{"v":0,"d":"0.0000"},{"v":0,"d":"0.000"},{"v":0,"d":"0.000"}]
[19,"сосиски","кг",{"$f":"'Чт День 4 Нед 1'!AH28","v":-0.204},{"$nulls":5},{"v":0,"d":"0.0000"},{"$nulls":4},{"v":0,"d":"0.0000"},null,null,{"v":0,"d":"0.0000"},{"$nulls":3},{"v":0,"d":"0.0000"},{"$nulls":3},{"v":0,"d":"0.0000"},{"v":0,"d":"0.000"},-0.204]
[20,"колбаса п/к \"Халяль\"","кг",{"$f":"'Чт День 4 Нед 1'!AH29","v":0},{"$nulls":5},{"v":0,"d":"0.0000"},{"$nulls":4},{"v":0,"d":"0.0000"},null,null,{"v":0,"d":"0.0000"},{"$nulls":3},{"v":0,"d":"0.0000"},{"$nulls":3},{"v":0,"d":"0.0000"},{"v":0,"d":"0.000"},{"v":0,"d":"0.000"}]
[21,"куриное бедро","кг",{"$f":"'Чт День 4 Нед 1'!AH30","v":0},{"$nulls":5},{"v":0,"d":"0.0000"},{"$nulls":4},{"v":0,"d":"0.0000"},null,null,{"v":0,"d":"0.0000"},{"$nulls":3},{"v":0,"d":"0.0000"},{"$nulls":3},{"v":0,"d":"0.0000"},{"v":0,"d":"0.000"},{"v":0,"d":"0.000"}]
[22,"куриная грудка","кг",{"$f":"'Чт День 4 Нед 1'!AH31","v":-0.20497999999999997},{"$nulls":5},{"v":0,"d":"0.0000"},{"$nulls":4},{"v":0,"d":"0.0000"},null,null,{"v":0,"d":"0.0000"},{"$nulls":3},{"v":0,"d":"0.0000"},{"v":0.01624,"d":"0.0162"},null,null,{"v":0.01624,"d":"0.0162"},{"v":0.01624,"d":"0.016"},{"v":-0.22121999999999997,"d":"-0.221"}]
[23,"куры/цыплята потрош.","кг",{"$f":"'Чт День 4 Нед 1'!AH32","v":0},{"$nulls":5},{"v":0,"d":"0.0000"},{"$nulls":4},{"v":0,"d":"0.0000"},null,null,{"v":0,"d":"0.0000"},{"$nulls":3},{"v":0,"d":"0.0000"},{"$nulls":3},{"v":0,"d":"0.0000"},{"v":0,"d":"0.000"},{"v":0,"d":"0.000"}]
[24,"фарш куриный","кг",{"$f":"'Чт День 4 Нед 1'!AH33","v":0},{"$nulls":5},{"v":0,"d":"0.0000"},{"$nulls":4},{"v":0,"d":"0.0000"},null,null,{"v":0,"d":"0.0000"},{"$nulls":3},{"v":0,"d":"0.0000"},{"$nulls":3},{"v":0,"d":"0.0000"},{"v":0,"d":"0.000"},{"v":0,"d":"0.000"}]
[25,"индейка бедро филе","кг",{"$f":"'Чт День 4 Нед 1'!AH34","v":0},null,null,0.0735,null,null,0.0735,null,0.0735,null,null,0.0735,null,null,{"v":0,"d":"0.0000"},{"$nulls":3},{"v":0,"d":"0.0000"},{"$nulls":3},{"v":0,"d":"0.0000"},0.147,-0.147]
[26,"индейка грудка филе","кг",{"$f":"'Чт День 4 Нед 1'!AH35","v":0},{"$nulls":5},{"v":0,"d":"0.0000"},{"$nulls":4},{"v":0,"d":"0.0000"},null,null,{"v":0,"d":"0.0000"},{"$nulls":3},{"v":0,"d":"0.0000"},{"$nulls":3},{"v":0,"d":"0.0000"},{"v":0,"d":"0.000"},{"v":0,"d":"0.000"}]
[null,"Рыба",null,{"$f":"'Чт День 4 Нед 1'!AH36","v":0},{"$nulls":5},{"v":0,"d":"0.0000"},{"$nulls":4},{"v":0,"d":"0.0000"},null,null,{"v":0,"d":"0.0000"},{"$nulls":3},{"v":0,"d":"0.0000"},{"$nulls":3},{"v":0,"d":"0.0000"},{"v":0,"d":"0.000"},{"v":0,"d":"0.000"}]
[27,"горбуша ПБГ с/м","кг",{"$f":"'Чт День 4 Нед 1'!AH37","v":0},{"$nulls":5},{"v":0,"d":"0.0000"},{"$nulls":4},{"v":0,"d":"0.0000"},null,null,{"v":0,"d":"0.0000"},{"$nulls":3},{"v":0,"d":"0.0000"},{"$nulls":3},{"v":0,"d":"0.0000"},{"v":0,"d":"0.000"},{"v":0,"d":"0.000"}]
[28,"минтай б/г с/м","кг",{"$f":"'Чт День 4 Нед 1'!AH38","v":0},{"$nulls":5},{"v":0,"d":"0.0000"},{"$nulls":4},{"v":0,"d":"0.0000"},null,null,{"v":0,"d":"0.0000"},{"$nulls":3},{"v":0,"d":"0.0000"},{"$nulls":3},{"v":0,"d":"0.0000"},{"v":0,"d":"0.000"},{"v":0,"d":"0.000"}]
[29,"фарш минтая","кг",{"$f":"'Чт День 4 Нед 1'!AH39","v":0},{"$nulls":5},{"v":0,"d":"0.0000"},{"$nulls":4},{"v":0,"d":"0.0000"},null,null,{"$f":"(Q39+P39)*$R$5","v":{"v":0,"d":"0.0000"}},{"$nulls":3},{"v":0,"d":"0.0000"},{"$nulls":3},{"$f":"(X39+W39+Y39)*$Z$5","v":{"v":0,"d":"0.0000"}},{"v":0,"d":"0.000"},{"$f":"(D39+E102)-AA39","v":{"v":0,"d":"0.000"}}]
[null,"Сыпучка",null,{"$f":"'Чт День 4 Нед 1'!AH40","v":0},{"$nulls":5},{"v":0,"d":"0.0000"},{"$nulls":4},{"v":0,"d":"0.0000"},null,null,{"v":0,"d":"0.0000"},{"$nulls":3},{"v":0,"d":"0.0000"},{"$nulls":3},{"v":0,"d":"0.0000"},{"v":0,"d":"0.000"},{"v":0,"d":"0.000"}]
[30,"вермишель","кг",{"$f":"'Чт День 4 Нед 1'!AH41","v":0},{"$nulls":5},{"v":0,"d":"0.0000"},{"$nulls":4},{"v":0,"d":"0.0000"},null,null,{"v":0,"d":"0.0000"},{"$nulls":3},{"v":0,"d":"0.0000"},{"$nulls":3},{"v":0,"d":"0.0000"},{"v":0,"d":"0.000"},{"v":0,"d":"0.000"}]
[31,"геркулес","кг",{"$f":"'Чт День 4 Нед 1'!AH42","v":0},{"$nulls":5},{"v":0,"d":"0.0000"},{"$nulls":4},{"v":0,"d":"0.0000"},null,null,{"v":0,"d":"0.0000"},{"$nulls":3},{"v":0,"d":"0.0000"},{"$nulls":3},{"v":0,"d":"0.0000"},{"v":0,"d":"0.000"},{"v":0,"d":"0.000"}]
[32,"горох","кг",{"$f":"'Чт День 4 Нед 1'!AH43","v":0},{"$nulls":5},{"v":0,"d":"0.0000"},{"$nulls":4},{"v":0,"d":"0.0000"},null,null,{"v":0,"d":"0.0000"},{"$nulls":3},{"v":0,"d":"0.0000"},{"$nulls":3},{"v":0,"d":"0.0000"},{"v":0,"d":"0.000"},{"v":0,"d":"0.000"}]
[33,"гречневая крупа","кг",{"$f":"'Чт День 4 Нед 1'!AH44","v":-0.288},{"$nulls":5},{"v":0,"d":"0.0000"},{"$nulls":4},{"v":0,"d":"0.0000"},null,null,{"v":0,"d":"0.0000"},{"$nulls":3},{"v":0,"d":"0.0000"},{"$nulls":3},{"v":0,"d":"0.0000"},{"v":0,"d":"0.000"},-0.288]
[34,"кукурузная крупа","кг",{"$f":"'Чт День 4 Нед 1'!AH45","v":0},{"$nulls":5},{"v":0,"d":"0.0000"},{"$nulls":4},{"v":0,"d":"0.0000"},null,null,{"v":0,"d":"0.0000"},{"$nulls":3},{"v":0,"d":"0.0000"},{"$nulls":3},{"v":0,"d":"0.0000"},{"v":0,"d":"0.000"},{"v":0,"d":"0.000"}]
[35,"макаронные изделия","кг",{"$f":"'Чт День 4 Нед 1'!AH46","v":-0.071},{"$nulls":5},{"v":0,"d":"0.0000"},{"$nulls":3},{"v":0.071,"d":"0.0710"},{"v":0.071,"d":"0.0710"},null,null,{"v":0,"d":"0.0000"},{"$nulls":3},{"v":0,"d":"0.0000"},{"$nulls":3},{"v":0,"d":"0.0000"},0.071,-0.142]
[36,"манная крупа","кг",{"$f":"'Чт День 4 Нед 1'!AH47","v":0},{"$nulls":5},{"v":0,"d":"0.0000"},{"$nulls":4},{"v":0,"d":"0.0000"},null,null,{"v":0,"d":"0.0000"},{"v":0.028,"d":"0.0280"},null,null,{"v":0,"d":"0.0000"},{"$nulls":3},{"v":0,"d":"0.0000"},{"v":0,"d":"0.000"},{"v":0,"d":"0.000"}]
[37,"перловая крупа","кг",{"$f":"'Чт День 4 Нед 1'!AH48","v":-0.005},{"$nulls":5},{"v":0,"d":"0.0000"},{"$nulls":4},{"v":0,"d":"0.0000"},null,null,{"v":0,"d":"0.0000"},{"$nulls":3},{"v":0,"d":"0.0000"},{"$nulls":3},{"v":0,"d":"0.0000"},{"v":0,"d":"0.000"},-0.005]
[38,"полбяная крупа","кг",{"$f":"'Чт День 4 Нед 1'!AH49","v":0},{"$nulls":5},{"v":0,"d":"0.0000"},{"$nulls":4},{"v":0,"d":"0.0000"},null,null,{"v":0,"d":"0.0000"},{"$nulls":3},{"v":0,"d":"0.0000"},{"$nulls":3},{"v":0,"d":"0.0000"},{"v":0,"d":"0.000"},{"v":0,"d":"0.000"}]
[39,"пшеничная крупа","кг",{"$f":"'Чт День 4 Нед 1'!AH50","v":0},{"$nulls":5},{"v":0,"d":"0.0000"},{"$nulls":4},{"v":0,"d":"0.0000"},null,null,{"v":0,"d":"0.0000"},{"$nulls":3},{"v":0,"d":"0.0000"},{"$nulls":3},{"v":0,"d":"0.0000"},{"v":0,"d":"0.000"},{"v":0,"d":"0.000"}]
[40,"пшено","кг",{"$f":"'Чт День 4 Нед 1'!AH51","v":-0.029500000000000002},{"$nulls":5},{"v":0,"d":"0.0000"},{"$nulls":4},{"v":0,"d":"0.0000"},null,null,{"v":0,"d":"0.0000"},{"$nulls":3},{"v":0,"d":"0.0000"},{"$nulls":3},{"v":0,"d":"0.0000"},{"v":0,"d":"0.000"},{"v":-0.029500000000000002,"d":"-0.030"}]
[41,"рис","кг",{"$f":"'Чт День 4 Нед 1'!AH52","v":-0.15500000000000003},{"$nulls":5},{"v":0,"d":"0.0000"},{"$nulls":4},{"v":0,"d":"0.0000"},null,null,{"v":0,"d":"0.0000"},{"$nulls":3},{"v":0,"d":"0.0000"},{"v":0.02,"d":"0.0200"},null,null,{"v":0.02,"d":"0.0200"},{"v":0.02,"d":"0.020"},{"v":-0.17500000000000002,"d":"-0.175"}]
[42,"ячневая крупа","кг",{"$f":"'Чт День 4 Нед 1'!AH53","v":0},{"$nulls":5},{"v":0,"d":"0.0000"},{"$nulls":4},{"v":0,"d":"0.0000"},null,null,{"v":0,"d":"0.0000"},{"$nulls":3},{"v":0,"d":"0.0000"},{"$nulls":3},{"v":0,"d":"0.0000"},{"v":0,"d":"0.000"},{"v":0,"d":"0.000"}]
[43,"лапша домашняя п/ф","кг",{"$f":"'Чт День 4 Нед 1'!AH54","v":-0.02},{"$nulls":5},{"v":0,"d":"0.0000"},{"$nulls":4},{"v":0,"d":"0.0000"},null,null,{"v":0,"d":"0.0000"},{"$nulls":3},{"v":0,"d":"0.0000"},{"$nulls":3},{"v":0,"d":"0.0000"},{"v":0,"d":"0.000"},{"v":-0.02,"d":"-0.020"}]
[44,"мука пшеничная в/с","кг",{"$f":"'Чт День 4 Нед 1'!AH55","v":-0.026000000000000002},{"$nulls":5},{"v":0,"d":"0.0000"},{"$nulls":4},{"v":0,"d":"0.0000"},null,null,{"v":0,"d":"0.0000"},{"$nulls":3},{"v":0,"d":"0.0000"},{"$nulls":3},{"v":0,"d":"0.0000"},{"v":0,"d":"0.000"},{"v":-0.026000000000000002,"d":"-0.026"}]
[45,"сахарный песок","кг",{"$f":"'Чт День 4 Нед 1'!AH56","v":-0.18280000000000002},{"$nulls":3},{"v":0.01,"d":"0.0100"},null,{"v":0.01,"d":"0.0100"},null,null,{"v":0.01,"d":"0.0100"},null,{"v":0.01,"d":"0.0100"},null,{"v":0.01,"d":"0.0100"},{"v":0.01,"d":"0.0100"},0.0005,{"v":0.01,"d":"0.0100"},null,{"v":0,"d":"0.0000"},null,{"v":0.01,"d":"0.0100"},null,{"v":0.01,"d":"0.0100"},{"v":0.04,"d":"0.040"},{"v":-0.22280000000000003,"d":"-0.223"}]
[46,"соль","кг",{"$f":"'Чт День 4 Нед 1'!AH57","v":-0.0132},null,null,0.0007,null,null,0.0007,null,0.0007,null,{"v":2E-3,"d":"0.0020"},0.0027,null,null,{"v":0,"d":"0.0000"},0.0003,null,null,{"v":0,"d":"0.0000"},0.0008,null,null,0.0008,{"v":0.004200000000000001,"d":"0.004"},{"v":-0.0174,"d":"-0.017"}]
[47,"сухари панировочные","кг",{"$f":"'Чт День 4 Нед 1'!AH58","v":0},{"$nulls":5},{"v":0,"d":"0.0000"},{"$nulls":4},{"v":0,"d":"0.0000"},null,null,{"v":0,"d":"0.0000"},{"$nulls":3},{"v":0,"d":"0.0000"},{"$nulls":3},{"v":0,"d":"0.0000"},{"v":0,"d":"0.000"},{"v":0,"d":"0.000"}]
[48,"дрожжи сухие","кг",{"$f":"'Чт День 4 Нед 1'!AH59","v":0},{"$nulls":5},{"v":0,"d":"0.0000"},{"$nulls":4},{"v":0,"d":"0.0000"},null,null,{"v":0,"d":"0.0000"},{"$nulls":3},{"v":0,"d":"0.0000"},{"$nulls":3},{"v":0,"d":"0.0000"},{"v":0,"d":"0.000"},{"v":0,"d":"0.000"}]
[49,"фасоль","кг",{"$f":"'Чт День 4 Нед 1'!AH60","v":0},{"$nulls":5},{"v":0,"d":"0.0000"},{"$nulls":4},{"v":0,"d":"0.0000"},null,null,{"v":0,"d":"0.0000"},{"$nulls":3},{"v":0,"d":"0.0000"},{"$nulls":3},{"v":0,"d":"0.0000"},{"v":0,"d":"0.000"},{"v":0,"d":"0.000"}]
[null,"Консервы",null,{"$f":"'Чт День 4 Нед 1'!AH61","v":0},{"$nulls":5},{"v":0,"d":"0.0000"},{"$nulls":4},{"v":0,"d":"0.0000"},null,null,{"v":0,"d":"0.0000"},{"$nulls":3},{"v":0,"d":"0.0000"},{"$nulls":3},{"v":0,"d":"0.0000"},{"v":0,"d":"0.000"},{"v":0,"d":"0.000"}]
[50,"зеленый горошек к/с","кг",{"$f":"'Чт День 4 Нед 1'!AH62","v":0},{"$nulls":5},{"v":0,"d":"0.0000"},{"$nulls":4},{"v":0,"d":"0.0000"},null,null,{"v":0,"d":"0.0000"},{"$nulls":3},{"v":0,"d":"0.0000"},{"$nulls":3},{"v":0,"d":"0.0000"},{"v":0,"d":"0.000"},{"v":0,"d":"0.000"}]
[51,"кукуруза к/с","кг",{"$f":"'Чт День 4 Нед 1'!AH63","v":0},{"$nulls":5},{"v":0,"d":"0.0000"},{"$nulls":4},{"v":0,"d":"0.0000"},null,null,{"v":0,"d":"0.0000"},{"$nulls":3},{"v":0,"d":"0.0000"},{"$nulls":3},{"v":0,"d":"0.0000"},{"v":0,"d":"0.000"},{"v":0,"d":"0.000"}]
[52,"фасоль к/с","кг",{"$f":"'Чт День 4 Нед 1'!AH64","v":0},{"$nulls":5},{"v":0,"d":"0.0000"},{"$nulls":4},{"v":0,"d":"0.0000"},null,null,{"v":0,"d":"0.0000"},{"$nulls":3},{"v":0,"d":"0.0000"},{"$nulls":3},{"v":0,"d":"0.0000"},{"v":0,"d":"0.000"},{"v":0,"d":"0.000"}]
[53,"икра кабач/икра баклаж","кг",{"$f":"'Чт День 4 Нед 1'!AH65","v":0},{"$nulls":5},{"v":0,"d":"0.0000"},{"$nulls":4},{"v":0,"d":"0.0000"},null,null,{"v":0,"d":"0.0000"},{"$nulls":3},{"v":0,"d":"0.0000"},{"$nulls":3},{"v":0,"d":"0.0000"},{"v":0,"d":"0.000"},{"v":0,"d":"0.000"}]
[54,"капуста морская сушеная","кг",{"$f":"'Чт День 4 Нед 1'!AH66","v":0},{"$nulls":5},{"v":0,"d":"0.0000"},{"$nulls":4},{"v":0,"d":"0.0000"},null,null,{"v":0,"d":"0.0000"},{"$nulls":3},{"v":0,"d":"0.0000"},{"$nulls":3},{"v":0,"d":"0.0000"},{"v":0,"d":"0.000"},{"v":0,"d":"0.000"}]
[55,"капуста квашеная ","кг",{"$f":"'Чт День 4 Нед 1'!AH67","v":0},{"$nulls":5},{"v":0,"d":"0.0000"},{"$nulls":4},{"v":0,"d":"0.0000"},null,null,{"v":0,"d":"0.0000"},{"$nulls":3},{"v":0,"d":"0.0000"},{"$nulls":3},{"v":0,"d":"0.0000"},{"v":0,"d":"0.000"},{"v":0,"d":"0.000"}]
[56,"молоко сгущенное  ","кг",{"$f":"'Чт День 4 Нед 1'!AH68","v":0},{"$nulls":5},{"v":0,"d":"0.0000"},{"$nulls":4},{"v":0,"d":"0.0000"},null,null,{"v":0,"d":"0.0000"},{"$nulls":3},{"v":0,"d":"0.0000"},{"$nulls":3},{"v":0,"d":"0.0000"},{"v":0,"d":"0.000"},{"v":0,"d":"0.000"}]
[57,"огурцы соленые","кг",{"$f":"'Чт День 4 Нед 1'!AH69","v":-0.0273},{"$nulls":5},{"v":0,"d":"0.0000"},{"$nulls":4},{"v":0,"d":"0.0000"},null,null,{"v":0,"d":"0.0000"},{"$nulls":3},{"v":0,"d":"0.0000"},{"$nulls":3},{"v":0,"d":"0.0000"},{"v":0,"d":"0.000"},{"v":-0.0273,"d":"-0.027"}]
[58,"повидло","кг",{"$f":"'Чт День 4 Нед 1'!AH70","v":0},{"$nulls":5},{"v":0,"d":"0.0000"},{"$nulls":4},{"v":0,"d":"0.0000"},null,null,{"v":0,"d":"0.0000"},{"$nulls":3},{"v":0,"d":"0.0000"},{"$nulls":3},{"v":0,"d":"0.0000"},{"v":0,"d":"0.000"},{"v":0,"d":"0.000"}]
[59,"томатная паста","кг",{"$f":"'Чт День 4 Нед 1'!AH71","v":-8.6E-3},null,null,{"v":1.8E-3,"d":"0.0018"},null,null,{"v":1.8E-3,"d":"0.0018"},null,{"v":1.8E-3,"d":"0.0018"},null,null,{"v":1.8E-3,"d":"0.0018"},null,null,{"$f":"(Q71+P71)*$R$5","v":{"v":0,"d":"0.0000"}},{"$nulls":3},{"v":0,"d":"0.0000"},{"v":0.003,"d":"0.0030"},null,null,{"$f":"(X71+W71+Y71)*$Z$5","v":{"v":0.003,"d":"0.0030"}},{"v":6.6E-3,"d":"0.007"},{"$f":"(D71+E134)-AA71","v":{"v":-0.0152,"d":"-0.015"}}]
[60,"рыбные консервы","кг",{"$f":"'Чт День 4 Нед 1'!AH72","v":0},{"$nulls":5},{"$f":"(F72+G72+H72+I72)*$J$5","v":{"v":0,"d":"0.0000"}},{"$nulls":4},{"$f":"(K72+L72+M72+N72)*$O$5","v":{"v":0,"d":"0.0000"}},null,null,{"v":0,"d":"0.0000"},{"$nulls":3},{"$f":"(U72+T72+S72)*$V$5","v":{"v":0,"d":"0.0000"}},{"$nulls":3},{"v":0,"d":"0.0000"},{"$f":"J72+O72+R72+Z72","v":{"v":0,"d":"0.000"}},{"v":0,"d":"0.000"}]
[null,"Напитки",null,{"$f":"'Чт День 4 Нед 1'!AH73","v":0},{"$nulls":5},{"v":0,"d":"0.0000"},{"$nulls":4},{"v":0,"d":"0.0000"},null,null,{"v":0,"d":"0.0000"},{"$nulls":3},{"v":0,"d":"0.0000"},{"$nulls":3},{"v":0,"d":"0.0000"},{"v":0,"d":"0.000"},{"v":0,"d":"0.000"}]
[61,"чай весовой ","кг",{"$f":"'Чт День 4 Нед 1'!AH74","v":-0.0055},{"$nulls":5},{"v":0,"d":"0.0000"},{"$nulls":4},{"v":0,"d":"0.0000"},null,0.0005,0.0005,{"$nulls":3},{"v":0,"d":"0.0000"},{"$nulls":3},{"v":0,"d":"0.0000"},{"v":0.0005,"d":"0.001"},-0.006]
[62,"какао","кг",{"$f":"'Чт День 4 Нед 1'!AH75","v":0},{"$nulls":5},{"v":0,"d":"0.0000"},{"$nulls":4},{"v":0,"d":"0.0000"},null,null,{"v":0,"d":"0.0000"},{"$nulls":3},{"v":0,"d":"0.0000"},{"$nulls":3},{"v":0,"d":"0.0000"},{"v":0,"d":"0.000"},{"v":0,"d":"0.000"}]
[63,"кисель","кг",{"$f":"'Чт День 4 Нед 1'!AH76","v":0},{"$nulls":5},{"v":0,"d":"0.0000"},{"$nulls":4},{"v":0,"d":"0.0000"},null,null,{"v":0,"d":"0.0000"},{"$nulls":3},{"v":0,"d":"0.0000"},{"$nulls":3},{"v":0,"d":"0.0000"},{"v":0,"d":"0.000"},{"v":0,"d":"0.000"}]
[64,"кофейный напиток","кг",{"$f":"'Чт День 4 Нед 1'!AH77","v":-0.01},{"$nulls":5},{"v":0,"d":"0.0000"},{"$nulls":4},{"v":0,"d":"0.0000"},null,null,{"v":0,"d":"0.0000"},{"$nulls":3},{"v":0,"d":"0.0000"},{"$nulls":3},{"v":0,"d":"0.0000"},{"v":0,"d":"0.000"},{"v":-0.01,"d":"-0.010"}]
[65,"цикорий","кг",{"$f":"'Чт День 4 Нед 1'!AH78","v":0},{"$nulls":5},{"v":0,"d":"0.0000"},{"$nulls":4},{"v":0,"d":"0.0000"},null,null,{"v":0,"d":"0.0000"},{"$nulls":3},{"v":0,"d":"0.0000"},{"$nulls":3},{"v":0,"d":"0.0000"},{"v":0,"d":"0.000"},{"v":0,"d":"0.000"}]
[null,"Сухофрукты",null,{"$f":"'Чт День 4 Нед 1'!AH79","v":0},{"$nulls":5},{"v":0,"d":"0.0000"},{"$nulls":4},{"v":0,"d":"0.0000"},null,null,{"v":0,"d":"0.0000"},{"$nulls":3},{"v":0,"d":"0.0000"},{"$nulls":3},{"v":0,"d":"0.0000"},{"v":0,"d":"0.000"},{"v":0,"d":"0.000"}]
[66,"ассорти для компота (сухофрукты)","кг",{"$f":"'Чт День 4 Нед 1'!AH80","v":-0.0204},{"$nulls":3},0.0204,null,0.0204,null,null,0.0204,null,0.0204,null,null,{"v":0,"d":"0.0000"},{"$nulls":3},{"v":0,"d":"0.0000"},null,0.0204,null,0.0204,{"v":0.061200000000000004,"d":"0.061"},{"v":-0.0816,"d":"-0.082"}]
[67,"изюм","кг",{"$f":"'Чт День 4 Нед 1'!AH81","v":-0.0102},{"$nulls":5},{"v":0,"d":"0.0000"},{"$nulls":4},{"v":0,"d":"0.0000"},null,null,{"v":0,"d":"0.0000"},{"$nulls":3},{"v":0,"d":"0.0000"},{"$nulls":3},{"v":0,"d":"0.0000"},{"v":0,"d":"0.000"},{"v":-0.0102,"d":"-0.010"}]
[68,"курага","кг",{"$f":"'Чт День 4 Нед 1'!AH82","v":0},{"$nulls":5},{"v":0,"d":"0.0000"},{"$nulls":4},{"v":0,"d":"0.0000"},null,null,{"v":0,"d":"0.0000"},{"$nulls":3},{"v":0,"d":"0.0000"},{"$nulls":3},{"v":0,"d":"0.0000"},{"v":0,"d":"0.000"},{"v":0,"d":"0.000"}]
[69,"урюк","кг",{"$f":"'Чт День 4 Нед 1'!AH83","v":-0.0204},{"$nulls":5},{"v":0,"d":"0.0000"},{"$nulls":4},{"v":0,"d":"0.0000"},null,null,{"v":0,"d":"0.0000"},{"$nulls":3},{"v":0,"d":"0.0000"},{"$nulls":3},{"v":0,"d":"0.0000"},{"v":0,"d":"0.000"},{"v":-0.0204,"d":"-0.020"}]
[70,"шиповник","кг",{"$f":"'Чт День 4 Нед 1'!AH84","v":-0.0253},{"$nulls":5},{"v":0,"d":"0.0000"},{"$nulls":4},{"v":0,"d":"0.0000"},null,null,{"v":0,"d":"0.0000"},{"$nulls":3},{"v":0,"d":"0.0000"},{"$nulls":3},{"v":0,"d":"0.0000"},{"v":0,"d":"0.000"},{"v":-0.0253,"d":"-0.025"}]
[71,"компотная смесь с/м","кг",{"$f":"'Чт День 4 Нед 1'!AH85","v":0},{"$nulls":5},{"v":0,"d":"0.0000"},{"$nulls":4},{"v":0,"d":"0.0000"},null,null,{"v":0,"d":"0.0000"},{"$nulls":3},{"v":0,"d":"0.0000"},{"$nulls":3},{"v":0,"d":"0.0000"},{"v":0,"d":"0.000"},{"v":0,"d":"0.000"}]
[72,"вишня с/м","кг",{"$f":"'Чт День 4 Нед 1'!AH86","v":0},{"$nulls":5},{"v":0,"d":"0.0000"},{"$nulls":4},{"v":0,"d":"0.0000"},null,null,{"v":0,"d":"0.0000"},{"$nulls":3},{"v":0,"d":"0.0000"},{"$nulls":3},{"v":0,"d":"0.0000"},{"v":0,"d":"0.000"},{"v":0,"d":"0.000"}]
[73,"клюква с/м","кг",{"$f":"'Чт День 4 Нед 1'!AH87","v":0},{"$nulls":5},{"v":0,"d":"0.0000"},{"$nulls":4},{"v":0,"d":"0.0000"},null,null,{"v":0,"d":"0.0000"},{"$nulls":3},{"v":0,"d":"0.0000"},{"$nulls":3},{"v":0,"d":"0.0000"},{"v":0,"d":"0.000"},{"v":0,"d":"0.000"}]
[74,"смородина в ассорт с/м","кг",{"$f":"'Чт День 4 Нед 1'!AH88","v":0},{"$nulls":5},{"v":0,"d":"0.0000"},{"$nulls":4},{"v":0,"d":"0.0000"},null,null,{"v":0,"d":"0.0000"},{"$nulls":3},{"v":0,"d":"0.0000"},{"$nulls":3},{"v":0,"d":"0.0000"},{"v":0,"d":"0.000"},{"v":0,"d":"0.000"}]
[75,"облепиха с/м","кг",{"$f":"'Чт День 4 Нед 1'!AH89","v":0},{"$nulls":5},{"v":0,"d":"0.0000"},{"$nulls":4},{"v":0,"d":"0.0000"},null,null,{"v":0,"d":"0.0000"},{"$nulls":3},{"v":0,"d":"0.0000"},{"$nulls":3},{"v":0,"d":"0.0000"},{"v":0,"d":"0.000"},{"v":0,"d":"0.000"}]
[null,"Сок",null,{"$f":"'Чт День 4 Нед 1'!AH90","v":0},{"$nulls":5},{"v":0,"d":"0.0000"},{"$nulls":4},{"v":0,"d":"0.0000"},null,null,{"v":0,"d":"0.0000"},{"$nulls":3},{"v":0,"d":"0.0000"},{"$nulls":3},{"v":0,"d":"0.0000"},{"v":0,"d":"0.000"},{"v":0,"d":"0.000"}]
[76,"сок 0,125л или 0,2л","л",{"$f":"'Чт День 4 Нед 1'!AH91","v":0},{"$nulls":5},{"v":0,"d":"0.0000"},{"$nulls":4},{"v":0,"d":"0.0000"},null,null,{"v":0,"d":"0.0000"},{"$nulls":3},{"v":0,"d":"0.0000"},{"$nulls":3},{"v":0,"d":"0.0000"},{"v":0,"d":"0.000"},{"v":0,"d":"0.000"}]
[77,"нектар плодовый","л",{"$f":"'Чт День 4 Нед 1'!AH92","v":0},{"$nulls":5},{"v":0,"d":"0.0000"},{"$nulls":4},{"v":0,"d":"0.0000"},null,null,{"v":0,"d":"0.0000"},{"$nulls":3},{"v":0,"d":"0.0000"},{"$nulls":3},{"v":0,"d":"0.0000"},{"v":0,"d":"0.000"},{"v":0,"d":"0.000"}]
[null,"Кондитерка",null,{"$f":"'Чт День 4 Нед 1'!AH93","v":0},{"$nulls":5},{"v":0,"d":"0.0000"},{"$nulls":4},{"v":0,"d":"0.0000"},null,null,{"v":0,"d":"0.0000"},{"$nulls":3},{"v":0,"d":"0.0000"},{"$nulls":3},{"v":0,"d":"0.0000"},{"v":0,"d":"0.000"},{"v":0,"d":"0.000"}]
[78,"батончик злаковый","шт",{"$f":"'Чт День 4 Нед 1'!AH94","v":0},{"$nulls":5},{"v":0,"d":"0.0000"},{"$nulls":4},{"v":0,"d":"0.0000"},null,null,{"v":0,"d":"0.0000"},{"$nulls":3},{"v":0,"d":"0.0000"},{"$nulls":3},{"v":0,"d":"0.0000"},{"v":0,"d":"0.000"},{"v":0,"d":"0.000"}]
[79,"пряник","кг",{"$f":"'Чт День 4 Нед 1'!AH95","v":-0.035},{"$nulls":5},{"v":0,"d":"0.0000"},{"$nulls":4},{"v":0,"d":"0.0000"},null,null,{"v":0,"d":"0.0000"},{"$nulls":3},{"v":0,"d":"0.0000"},{"$nulls":3},{"v":0,"d":"0.0000"},{"v":0,"d":"0.000"},-0.035]
[80,"вафли ","кг",{"$f":"'Чт День 4 Нед 1'!AH96","v":-0.2},{"$nulls":5},{"v":0,"d":"0.0000"},{"$nulls":4},{"v":0,"d":"0.0000"},null,null,{"v":0,"d":"0.0000"},{"$nulls":3},{"v":0,"d":"0.0000"},{"$nulls":3},{"v":0,"d":"0.0000"},{"v":0,"d":"0.000"},{"v":-0.2,"d":"-0.200"}]
[81,"печенье","кг",{"$f":"'Чт День 4 Нед 1'!AH97","v":-0.02},{"$nulls":5},{"v":0,"d":"0.0000"},{"$nulls":4},{"v":0,"d":"0.0000"},null,null,{"v":0,"d":"0.0000"},{"$nulls":3},{"v":0,"d":"0.0000"},{"$nulls":3},{"v":0,"d":"0.0000"},{"v":0,"d":"0.000"},{"v":-0.02,"d":"-0.020"}]
[82,"крекер","кг",{"$f":"'Чт День 4 Нед 1'!AH98","v":0},{"$nulls":5},{"v":0,"d":"0.0000"},{"$nulls":4},{"v":0,"d":"0.0000"},{"v":0.03,"d":"0.0300"},null,{"v":0.03,"d":"0.0300"},{"$nulls":3},{"v":0,"d":"0.0000"},{"$nulls":3},{"v":0,"d":"0.0000"},{"v":0.03,"d":"0.030"},{"v":-0.03,"d":"-0.030"}]
[83,"сушки","кг",{"$f":"'Чт День 4 Нед 1'!AH99","v":0},{"$nulls":5},{"v":0,"d":"0.0000"},{"$nulls":4},{"v":0,"d":"0.0000"},null,null,{"v":0,"d":"0.0000"},{"$nulls":3},{"v":0,"d":"0.0000"},{"$nulls":3},{"v":0,"d":"0.0000"},{"v":0,"d":"0.000"},{"v":0,"d":"0.000"}]
[84,"мармелад","кг",{"$f":"'Чт День 4 Нед 1'!AH100","v":0},{"$nulls":5},{"v":0,"d":"0.0000"},{"$nulls":4},{"v":0,"d":"0.0000"},null,null,{"v":0,"d":"0.0000"},{"$nulls":3},{"v":0,"d":"0.0000"},{"$nulls":3},{"v":0,"d":"0.0000"},{"v":0,"d":"0.000"},{"v":0,"d":"0.000"}]
[85,"блины п/ф","кг",{"$f":"'Чт День 4 Нед 1'!AH101","v":0},{"$nulls":5},{"v":0,"d":"0.0000"},{"$nulls":4},{"v":0,"d":"0.0000"},null,null,{"v":0,"d":"0.0000"},{"$nulls":3},{"v":0,"d":"0.0000"},{"$nulls":3},{"v":0,"d":"0.0000"},{"v":0,"d":"0.000"},{"v":0,"d":"0.000"}]
[86,"выпечка п/ф со склада","шт",{"$f":"'Чт День 4 Нед 1'!AH102","v":0},{"$nulls":5},{"v":0,"d":"0.0000"},{"$nulls":4},{"v":0,"d":"0.0000"},null,null,{"v":0,"d":"0.0000"},{"$nulls":3},{"v":0,"d":"0.0000"},{"$nulls":3},{"v":0,"d":"0.0000"},{"v":0,"d":"0.000"},{"v":0,"d":"0.000"}]
[null,"Яйцо",null,{"$f":"'Чт День 4 Нед 1'!AH103","v":0},{"$nulls":5},{"v":0,"d":"0.0000"},{"$nulls":4},{"v":0,"d":"0.0000"},null,null,{"$f":"(Q103+P103)*$R$5","v":{"v":0,"d":"0.0000"}},{"$nulls":3},{"v":0,"d":"0.0000"},{"$nulls":3},{"$f":"(X103+W103+Y103)*$Z$5","v":{"v":0,"d":"0.0000"}},{"v":0,"d":"0.000"},{"$f":"(D103+E166)-AA103","v":{"v":0,"d":"0.000"}}]
[87,"яйцо куриное","кг",{"$f":"'Чт День 4 Нед 1'!AH104","v":-0.00288},{"$nulls":5},{"v":0,"d":"0.0000"},{"$nulls":4},{"v":0,"d":"0.0000"},null,null,{"v":0,"d":"0.0000"},{"$nulls":3},{"v":0,"d":"0.0000"},{"$nulls":3},{"v":0,"d":"0.0000"},{"v":0,"d":"0.000"},{"v":-0.00288,"d":"-0.003"}]
[null,0.048,"шт",{"$f":"'Чт День 4 Нед 1'!AH105","v":0},{"$nulls":5},{"v":0,"d":"0.0000"},{"$nulls":4},{"v":0,"d":"0.0000"},null,null,{"v":0,"d":"0.0000"},{"$nulls":3},{"v":0,"d":"0.0000"},{"$nulls":3},{"v":0,"d":"0.0000"},{"v":0,"d":"0.000"},{"v":0,"d":"0.000"}]
[null,"Овощи заморозка",null,{"$f":"'Чт День 4 Нед 1'!AH106","v":0},{"$nulls":5},{"v":0,"d":"0.0000"},{"$nulls":4},{"v":0,"d":"0.0000"},null,null,{"v":0,"d":"0.0000"},{"$nulls":3},{"v":0,"d":"0.0000"},{"$nulls":3},{"v":0,"d":"0.0000"},{"v":0,"d":"0.000"},{"v":0,"d":"0.000"}]
[88,"зеленый горошек с/м","кг",{"$f":"'Чт День 4 Нед 1'!AH107","v":0},{"$nulls":5},{"v":0,"d":"0.0000"},{"$nulls":4},{"v":0,"d":"0.0000"},null,null,{"v":0,"d":"0.0000"},{"$nulls":3},{"v":0,"d":"0.0000"},{"$nulls":3},{"v":0,"d":"0.0000"},{"v":0,"d":"0.000"},{"v":0,"d":"0.000"}]
[89,"кабачки с/м","кг",{"$f":"'Чт День 4 Нед 1'!AH108","v":0},{"$nulls":5},{"v":0,"d":"0.0000"},{"$nulls":4},{"v":0,"d":"0.0000"},null,null,{"v":0,"d":"0.0000"},{"$nulls":3},{"v":0,"d":"0.0000"},{"$nulls":3},{"v":0,"d":"0.0000"},{"v":0,"d":"0.000"},{"v":0,"d":"0.000"}]
[90,"мексиканс смесь с/м","кг",{"$f":"'Чт День 4 Нед 1'!AH109","v":0},{"$nulls":5},{"v":0,"d":"0.0000"},{"$nulls":4},{"v":0,"d":"0.0000"},null,null,{"v":0,"d":"0.0000"},{"$nulls":3},{"v":0,"d":"0.0000"},{"$nulls":3},{"v":0,"d":"0.0000"},{"v":0,"d":"0.000"},{"v":0,"d":"0.000"}]
[91,"капуста цветная с/м","кг",{"$f":"'Чт День 4 Нед 1'!AH110","v":0},{"$nulls":5},{"v":0,"d":"0.0000"},{"$nulls":4},{"v":0,"d":"0.0000"},null,null,{"v":0,"d":"0.0000"},{"$nulls":3},{"v":0,"d":"0.0000"},{"$nulls":3},{"v":0,"d":"0.0000"},{"v":0,"d":"0.000"},{"v":0,"d":"0.000"}]
[92,"брокколи с/м","кг",{"$f":"'Чт День 4 Нед 1'!AH111","v":0},{"$nulls":5},{"v":0,"d":"0.0000"},{"$nulls":4},{"v":0,"d":"0.0000"},null,null,{"v":0,"d":"0.0000"},{"$nulls":3},{"v":0,"d":"0.0000"},{"$nulls":3},{"v":0,"d":"0.0000"},{"v":0,"d":"0.000"},{"v":0,"d":"0.000"}]
[93,"кукуруза с/м","кг",{"$f":"'Чт День 4 Нед 1'!AH112","v":0},{"$nulls":5},{"v":0,"d":"0.0000"},{"$nulls":4},{"v":0,"d":"0.0000"},null,null,{"v":0,"d":"0.0000"},{"$nulls":3},{"v":0,"d":"0.0000"},{"$nulls":3},{"v":0,"d":"0.0000"},{"v":0,"d":"0.000"},{"v":0,"d":"0.000"}]
[94,"фасоль стручковая с/м","кг",{"$f":"'Чт День 4 Нед 1'!AH113","v":0},{"$nulls":5},{"v":0,"d":"0.0000"},{"$nulls":4},{"v":0,"d":"0.0000"},null,null,{"v":0,"d":"0.0000"},{"$nulls":3},{"v":0,"d":"0.0000"},{"$nulls":3},{"v":0,"d":"0.0000"},{"v":0,"d":"0.000"},{"v":0,"d":"0.000"}]
[null,"Фрукты",null,{"$f":"'Чт День 4 Нед 1'!AH114","v":0},{"$nulls":5},{"v":0,"d":"0.0000"},{"$nulls":4},{"v":0,"d":"0.0000"},null,null,{"v":0,"d":"0.0000"},{"$nulls":3},{"v":0,"d":"0.0000"},{"$nulls":3},{"v":0,"d":"0.0000"},{"v":0,"d":"0.000"},{"v":0,"d":"0.000"}]
[95,"апельсин","кг",{"$f":"'Чт День 4 Нед 1'!AH115","v":0},{"$nulls":5},{"v":0,"d":"0.0000"},{"$nulls":4},{"v":0,"d":"0.0000"},null,null,{"v":0,"d":"0.0000"},{"$nulls":3},{"v":0,"d":"0.0000"},{"$nulls":3},{"v":0,"d":"0.0000"},{"v":0,"d":"0.000"},{"v":0,"d":"0.000"}]
[96,"банан","кг",{"$f":"'Чт День 4 Нед 1'!AH116","v":0},{"$nulls":5},{"v":0,"d":"0.0000"},{"$nulls":4},{"v":0,"d":"0.0000"},null,null,{"v":0,"d":"0.0000"},{"$nulls":3},{"v":0,"d":"0.0000"},{"$nulls":3},{"v":0,"d":"0.0000"},{"v":0,"d":"0.000"},{"v":0,"d":"0.000"}]
[97,"груши","кг",{"$f":"'Чт День 4 Нед 1'!AH117","v":0},{"$nulls":5},{"v":0,"d":"0.0000"},{"$nulls":4},{"v":0,"d":"0.0000"},null,null,{"v":0,"d":"0.0000"},{"$nulls":3},{"v":0,"d":"0.0000"},{"$nulls":3},{"v":0,"d":"0.0000"},{"v":0,"d":"0.000"},{"v":0,"d":"0.000"}]
[98,"мандарины","кг",{"$f":"'Чт День 4 Нед 1'!AH118","v":0},{"$nulls":5},{"v":0,"d":"0.0000"},{"$nulls":4},{"v":0,"d":"0.0000"},null,null,{"v":0,"d":"0.0000"},{"$nulls":3},{"v":0,"d":"0.0000"},{"$nulls":3},{"v":0,"d":"0.0000"},{"v":0,"d":"0.000"},{"v":0,"d":"0.000"}]
[99,"лимон","кг",{"$f":"'Чт День 4 Нед 1'!AH119","v":-0.012},{"$nulls":5},{"v":0,"d":"0.0000"},{"$nulls":4},{"v":0,"d":"0.0000"},null,null,{"v":0,"d":"0.0000"},{"$nulls":3},{"v":0,"d":"0.0000"},{"$nulls":3},{"v":0,"d":"0.0000"},{"v":0,"d":"0.000"},-0.012]
[100,"яблоки свежие","кг",{"$f":"'Чт День 4 Нед 1'!AH120","v":-0.6910000000000001},{"$nulls":5},{"v":0,"d":"0.0000"},{"$nulls":4},{"v":0,"d":"0.0000"},null,null,{"v":0,"d":"0.0000"},null,0.0454,null,{"v":0,"d":"0.0000"},{"$nulls":3},{"v":0,"d":"0.0000"},{"v":0,"d":"0.000"},{"v":-0.6910000000000001,"d":"-0.691"}]
[null,"Овощи / зелень ",null,{"$f":"'Чт День 4 Нед 1'!AH121","v":0},{"$nulls":5},{"v":0,"d":"0.0000"},{"$nulls":4},{"v":0,"d":"0.0000"},null,null,{"v":0,"d":"0.0000"},{"$nulls":3},{"v":0,"d":"0.0000"},{"$nulls":3},{"v":0,"d":"0.0000"},{"v":0,"d":"0.000"},{"v":0,"d":"0.000"}]
[101,"капуста свежая","кг",{"$f":"'Чт День 4 Нед 1'!AH122","v":-0.205},{"$nulls":5},{"v":0,"d":"0.0000"},{"$nulls":4},{"v":0,"d":"0.0000"},null,null,{"v":0,"d":"0.0000"},{"$nulls":3},{"v":0,"d":"0.0000"},{"$nulls":3},{"v":0,"d":"0.0000"},{"v":0,"d":"0.000"},-0.205]
[102,"картофель","кг",{"$f":"'Чт День 4 Нед 1'!AH123","v":-0.53625},null,null,{"v":0.17756,"d":"0.1776"},null,null,{"v":0.17756,"d":"0.1776"},null,{"v":0.17756,"d":"0.1776"},null,null,{"v":0.17756,"d":"0.1776"},null,null,{"v":0,"d":"0.0000"},{"$nulls":3},{"v":0,"d":"0.0000"},{"$nulls":3},{"v":0,"d":"0.0000"},{"v":0.35512,"d":"0.355"},{"v":-0.89137,"d":"-0.891"}]
[103,"лук репчатый","кг",{"$f":"'Чт День 4 Нед 1'!AH124","v":-0.1128},null,null,{"v":0.012,"d":"0.0120"},null,null,{"v":0.012,"d":"0.0120"},null,{"v":0.012,"d":"0.0120"},null,null,{"v":0.012,"d":"0.0120"},null,null,{"v":0,"d":"0.0000"},{"$nulls":3},{"v":0,"d":"0.0000"},{"v":0.012,"d":"0.0120"},null,null,{"v":0.012,"d":"0.0120"},{"v":0.036000000000000004,"d":"0.036"},{"v":-0.1488,"d":"-0.149"}]
[104,"морковь","кг",{"$f":"'Чт День 4 Нед 1'!AH125","v":-0.07625},null,null,{"v":0.01375,"d":"0.0138"},null,null,{"v":0.01375,"d":"0.0138"},null,{"v":0.01375,"d":"0.0138"},null,null,{"v":0.01375,"d":"0.0138"},null,null,{"v":0,"d":"0.0000"},{"$nulls":3},{"v":0,"d":"0.0000"},0.0125,null,null,0.0125,{"v":0.04,"d":"0.040"},{"v":-0.11624999999999999,"d":"-0.116"}]
[105,"свекла","кг",{"$f":"'Чт День 4 Нед 1'!AH126","v":-0.05},null,{"v":0.073,"d":"0.0730"},{"$nulls":3},{"v":0.073,"d":"0.0730"},{"v":0.119,"d":"0.1190"},{"$nulls":3},{"v":0.119,"d":"0.1190"},null,null,{"v":0,"d":"0.0000"},{"$nulls":3},{"v":0,"d":"0.0000"},{"$nulls":3},{"v":0,"d":"0.0000"},0.192,-0.242]
[106,"огурцы св.","кг",{"$f":"'Чт День 4 Нед 1'!AH127","v":0},{"$nulls":5},{"v":0,"d":"0.0000"},{"$nulls":4},{"v":0,"d":"0.0000"},null,null,{"v":0,"d":"0.0000"},{"$nulls":3},{"v":0,"d":"0.0000"},{"$nulls":3},{"v":0,"d":"0.0000"},{"v":0,"d":"0.000"},{"v":0,"d":"0.000"}]
[107,"томаты св.","кг",{"$f":"'Чт День 4 Нед 1'!AH128","v":0},{"$nulls":5},{"v":0,"d":"0.0000"},{"$nulls":4},{"v":0,"d":"0.0000"},null,null,{"v":0,"d":"0.0000"},{"$nulls":3},{"v":0,"d":"0.0000"},{"$nulls":3},{"v":0,"d":"0.0000"},{"v":0,"d":"0.000"},{"v":0,"d":"0.000"}]
[108,"перец болг.красный","кг",{"$f":"'Чт День 4 Нед 1'!AH129","v":0},{"$nulls":5},{"v":0,"d":"0.0000"},{"$nulls":4},{"v":0,"d":"0.0000"},null,null,{"v":0,"d":"0.0000"},{"$nulls":3},{"v":0,"d":"0.0000"},{"$nulls":3},{"v":0,"d":"0.0000"},{"v":0,"d":"0.000"},{"v":0,"d":"0.000"}]
[109,"тыква","кг",{"$f":"'Чт День 4 Нед 1'!AH130","v":0},{"$nulls":5},{"v":0,"d":"0.0000"},{"$nulls":4},{"v":0,"d":"0.0000"},null,null,{"v":0,"d":"0.0000"},{"$nulls":3},{"v":0,"d":"0.0000"},{"$nulls":3},{"v":0,"d":"0.0000"},{"v":0,"d":"0.000"},{"v":0,"d":"0.000"}]
[null,"Овощи очищенные ",null,{"$f":"'Чт День 4 Нед 1'!AH131","v":0},{"$nulls":5},{"v":0,"d":"0.0000"},{"$nulls":4},{"v":0,"d":"0.0000"},null,null,{"v":0,"d":"0.0000"},{"$nulls":3},{"v":0,"d":"0.0000"},{"$nulls":3},{"v":0,"d":"0.0000"},{"v":0,"d":"0.000"},{"v":0,"d":"0.000"}]
[110,"капуста св.очищенная","кг",{"$f":"'Чт День 4 Нед 1'!AH132","v":0},{"$nulls":5},{"v":0,"d":"0.0000"},{"$nulls":4},{"v":0,"d":"0.0000"},null,null,{"v":0,"d":"0.0000"},{"$nulls":3},{"v":0,"d":"0.0000"},{"$nulls":3},{"v":0,"d":"0.0000"},{"v":0,"d":"0.000"},{"v":0,"d":"0.000"}]
[111,"картофель св. очищенный","кг",{"$f":"'Чт День 4 Нед 1'!AH133","v":0},{"$nulls":5},{"v":0,"d":"0.0000"},{"$nulls":4},{"v":0,"d":"0.0000"},null,null,{"v":0,"d":"0.0000"},{"$nulls":3},{"v":0,"d":"0.0000"},{"$nulls":3},{"v":0,"d":"0.0000"},{"v":0,"d":"0.000"},{"v":0,"d":"0.000"}]
[112,"лук репчатый св.очищенный","кг",{"$f":"'Чт День 4 Нед 1'!AH134","v":0},{"$nulls":5},{"v":0,"d":"0.0000"},{"$nulls":4},{"v":0,"d":"0.0000"},null,null,{"v":0,"d":"0.0000"},{"$nulls":3},{"v":0,"d":"0.0000"},{"$nulls":3},{"v":0,"d":"0.0000"},{"v":0,"d":"0.000"},{"v":0,"d":"0.000"}]
[113,"морковь св.очищенная","кг",{"$f":"'Чт День 4 Нед 1'!AH135","v":0},{"$nulls":5},{"v":0,"d":"0.0000"},{"$nulls":4},{"v":0,"d":"0.0000"},null,null,{"$f":"(Q135+P135)*$R$5","v":{"v":0,"d":"0.0000"}},{"$nulls":3},{"v":0,"d":"0.0000"},{"$nulls":3},{"$f":"(X135+W135+Y135)*$Z$5","v":{"v":0,"d":"0.0000"}},{"v":0,"d":"0.000"},{"$f":"(D135+E198)-AA135","v":{"v":0,"d":"0.000"}}]
[114,"свекла св.очищенная","кг",{"$f":"'Чт День 4 Нед 1'!AH136","v":0},{"$nulls":5},{"$f":"(F136+G136+H136+I136)*$J$5","v":{"v":0,"d":"0.0000"}},{"$nulls":4},{"$f":"(K136+L136+M136+N136)*$O$5","v":{"v":0,"d":"0.0000"}},null,null,{"v":0,"d":"0.0000"},{"$nulls":3},{"$f":"(U136+T136+S136)*$V$5","v":{"v":0,"d":"0.0000"}},{"$nulls":3},{"v":0,"d":"0.0000"},{"$f":"J136+O136+R136+Z136","v":{"v":0,"d":"0.000"}},{"v":0,"d":"0.000"}]
[null,"Полуфабрикаты",null,{"$f":"'Чт День 4 Нед 1'!AH137","v":0},{"$nulls":5},{"v":0,"d":"0.0000"},{"$nulls":4},{"v":0,"d":"0.0000"},null,null,{"v":0,"d":"0.0000"},{"$nulls":3},{"v":0,"d":"0.0000"},{"$nulls":3},{"v":0,"d":"0.0000"},{"v":0,"d":"0.000"},{"v":0,"d":"0.000"}]
[115,"сырники ПФ","шт",{"$f":"'Чт День 4 Нед 1'!AH138","v":-2},{"$nulls":5},{"v":0,"d":"0.0000"},{"$nulls":4},{"v":0,"d":"0.0000"},{"$nulls":11},{"v":0,"d":"0.000"},{"v":-2,"d":"-2.000"}]
[116,"пельмени ПФ","кг",{"$f":"'Чт День 4 Нед 1'!AH139","v":0},{"$nulls":5},{"v":0,"d":"0.0000"},{"$nulls":4},{"v":0,"d":"0.0000"},null,null,{"v":0,"d":"0.0000"},{"$nulls":3},{"v":0,"d":"0.0000"},{"$nulls":3},{"v":0,"d":"0.0000"},{"v":0,"d":"0.000"},{"v":0,"d":"0.000"}]
[117,"биточки рыбные","шт",{"$f":"'Чт День 4 Нед 1'!AH140","v":0},{"$nulls":5},{"v":0,"d":"0.0000"},{"$nulls":4},{"v":0,"d":"0.0000"},null,null,{"v":0,"d":"0.0000"},{"$nulls":3},{"v":0,"d":"0.0000"},{"$nulls":3},{"v":0,"d":"0.0000"},{"v":0,"d":"0.000"},{"v":0,"d":"0.000"}]
[118,"фрикадельки мясные ","кг",{"$f":"'Чт День 4 Нед 1'!AH141","v":0},{"$nulls":5},{"v":0,"d":"0.0000"},{"$nulls":4},{"v":0,"d":"0.0000"},null,null,{"v":0,"d":"0.0000"},{"$nulls":3},{"v":0,"d":"0.0000"},{"$nulls":3},{"v":0,"d":"0.0000"},{"v":0,"d":"0.000"},{"v":0,"d":"0.000"}]
[119,"фрикадельки куриные","кг",{"$f":"'Чт День 4 Нед 1'!AH142","v":0},{"$nulls":5},{"v":0,"d":"0.0000"},{"$nulls":4},{"v":0,"d":"0.0000"},null,null,{"v":0,"d":"0.0000"},{"$nulls":3},{"v":0,"d":"0.0000"},{"$nulls":3},{"v":0,"d":"0.0000"},{"v":0,"d":"0.000"},{"v":0,"d":"0.000"}]
[120,"хинкали п/ф из говядины","кг",{"$f":"'Чт День 4 Нед 1'!AH143","v":0},{"$nulls":5},{"v":0,"d":"0.0000"},{"$nulls":4},{"v":0,"d":"0.0000"},null,null,{"v":0,"d":"0.0000"},{"$nulls":3},{"v":0,"d":"0.0000"},{"$nulls":3},{"v":0,"d":"0.0000"},{"v":0,"d":"0.000"},{"v":0,"d":"0.000"}]
[121,"котлеты из говядины \"Домашние\"  ","шт",{"$f":"'Чт День 4 Нед 1'!AH144","v":-2},{"$nulls":5},{"v":0,"d":"0.0000"},{"$nulls":4},{"v":0,"d":"0.0000"},null,null,{"v":0,"d":"0.0000"},{"$nulls":3},{"v":0,"d":"0.0000"},{"$nulls":3},{"v":0,"d":"0.0000"},{"v":0,"d":"0.000"},{"v":-2,"d":"-2.000"}]
[122,"бифштекс из говядины","шт",{"$f":"'Чт День 4 Нед 1'!AH145","v":0},{"$nulls":5},{"v":0,"d":"0.0000"},{"$nulls":4},{"v":0,"d":"0.0000"},null,null,{"v":0,"d":"0.0000"},{"$nulls":3},{"v":0,"d":"0.0000"},{"$nulls":3},{"v":0,"d":"0.0000"},{"v":0,"d":"0.000"},{"v":0,"d":"0.000"}]
[123,"котлеты из мяса кур","шт",{"$f":"'Чт День 4 Нед 1'!AH146","v":0},{"$nulls":5},{"v":0,"d":"0.0000"},{"$nulls":4},{"v":0,"d":"0.0000"},null,null,{"v":0,"d":"0.0000"},{"$nulls":3},{"v":0,"d":"0.0000"},{"$nulls":3},{"v":0,"d":"0.0000"},{"v":0,"d":"0.000"},{"v":0,"d":"0.000"}]
[124,"котлеты \"Аппетитные\" мясо-куриные  ","шт",{"$f":"'Чт День 4 Нед 1'!AH147","v":0},{"$nulls":5},{"v":0,"d":"0.0000"},{"$nulls":4},{"v":0,"d":"0.0000"},null,null,{"v":0,"d":"0.0000"},{"$nulls":3},{"v":0,"d":"0.0000"},{"$nulls":3},{"v":0,"d":"0.0000"},{"v":0,"d":"0.000"},{"v":0,"d":"0.000"}]
[125,"ежики мясные с рисом ","шт",{"$f":"'Чт День 4 Нед 1'!AH148","v":0},{"$nulls":5},{"v":0,"d":"0.0000"},{"$nulls":4},{"v":0,"d":"0.0000"},null,null,{"v":0,"d":"0.0000"},{"$nulls":3},{"v":0,"d":"0.0000"},{"$nulls":3},{"v":0,"d":"0.0000"},{"v":0,"d":"0.000"},{"v":0,"d":"0.000"}]

{"sheet":"Сб День 6 Нед 1","index":5,"n_rows":148,"n_cols":35,"rows_kept":148,"merged":[[0,0,0,32],[1,5,1,10],[1,11,3,11],[1,12,3,12],[1,13,1,19],[1,20,3,20],[1,21,3,21],[1,22,1,23],[1,24,3,24],[1,25,1,27],[1,28,3,28],[1,29,1,31],[1,32,3,32],[1,33,3,33],[1,34,3,34]]}
["Расход продуктов питания в образовательных учереждениях  "]
[{"$nulls":5},"Меню с 1 по 4 класс  69,43 РУБ",{"$nulls":5},"Кол-во учащихся 1 - 4 кл БИТОЧКИ на минтае","Кол-во учащихся 1 - 4 кл   БИТОЧКИ ПФ","Меню с 5 по 11 класс   69,43  РУБ ",{"$nulls":6},"Кол-во учащихся 5-11 кл БИТОЧКИ на минтае","Кол-во учащихся 5-11 кл   БИТОЧКИ ПФ","Меню на сумму 9,60 РУБ",null,"ИТОГО","Меню КАШИ  НА молоке                          ",null,null,"ИТОГО","Меню   СУПА  ",null,null,"ИТОГО","ВСЕГО ЗА ДЕНЬ расход продуктов по всем рационам","остаток на конец"]
[null,"ДЕНЬ 6 неделя 1",null,"остаток на начало","приход","Салат из з/горошка к/с","биточки рыбные","биточки рыбные  ПФ","рис отварной с масл слив","чай с сахаром с лимоном","Хлеб пшеничн /ржаной",null,null,"Салат из з/горошка к/с","биточки рыбные","биточки рыбные  ПФ","рис отварной с масл слив","чай с сахаром с лимоном","Хлеб пшеничн /ржаной",{"$nulls":3},"печенье","Чай с сахаром ",null,"каша  пшенная  с мас слив","компот из урюка","Хлеб ржаной ",null,"Борщ из св капуст с картоф с мяс фрикад и смет","чай с сахаром","Хлеб ржаной "]
[null,"КОЛИЧЕСТВО ДЕТЕЙ",{"$nulls":3},"7-11","7-11","7-11","7-11","7-11","7-11",null,null,"12-18","12-18","12-18","12-18","12-18","12-18",{"$nulls":3},"12-18","12-18",null,"12-18","12-18","12-18",null,"12-18","12-18","12-18"]
[null,"Выход,гр",{"$nulls":3},"30","75","75","180/3","185/10/5","0/30","1","1","60","75","75","180/3","185/10/5","20/30",null,"1","1","20","190/10",1,"150/3","200","30",0,"250/10/5","190/10","30","1",{"$f":"L5+M5+U5+V5+Y5+AG5","v":6}]
[null,"Хлеб"]
[1,"батон ","кг",{"$f":"'Пт День 5 Нед 1'!AB7","v":0},{"$nulls":7},{"$f":"(K7+J7+G7+F7+I7)*$L$5","v":{"v":0,"d":"0.0000"}},{"$f":"(K7+J7+I7+F7+H7)*$M$5","v":{"v":0,"d":"0.0000"}},{"$nulls":7},{"$f":"(N7+O7+Q7+R7+S7)*$U$5","v":{"v":0,"d":"0.0000"}},{"$f":"(N7+P7+Q7+R7+S7)*$V$5","v":{"v":0,"d":"0.0000"}},null,null,{"$f":"(X7+W7)*$Y$5","v":{"v":0,"d":"0.0000"}},{"$nulls":3},{"$f":"(AB7+AA7+Z7)*$AC$5","v":{"v":0,"d":"0.0000"}},{"$nulls":3},{"$f":"(AD7+AE7+AF7)*$AG$5","v":{"v":0,"d":"0.0000"}},{"$f":"L7+M7+U7+V7+Y7+AG7","v":{"v":0,"d":"0.000"}},{"$f":"(D7+E7)-AH7","v":{"v":0,"d":"0.000"}}]
[2,"хлеб пшеничный ","кг",{"$f":"'Пт День 5 Нед 1'!AB8","v":-0.185},null,null,0.0083,{"$nulls":4},{"$f":"(K8+J8+G8+F8+I8)*$L$5","v":0.0083},{"$f":"(K8+J8+I8+F8+H8)*$M$5","v":{"v":0,"d":"0.0000"}},null,0.0083,{"$nulls":3},{"v":0.02,"d":"0.0200"},null,{"$f":"(N8+O8+Q8+R8+S8)*$U$5","v":0.0283},{"$f":"(N8+P8+Q8+R8+S8)*$V$5","v":{"v":0.02,"d":"0.0200"}},null,null,{"$f":"(X8+W8)*$Y$5","v":{"v":0,"d":"0.0000"}},{"$nulls":3},{"$f":"(AB8+AA8+Z8)*$AC$5","v":{"v":0,"d":"0.0000"}},{"$nulls":3},{"$f":"(AD8+AE8+AF8)*$AG$5","v":{"v":0,"d":"0.0000"}},{"$f":"L8+M8+U8+V8+Y8+AG8","v":{"v":0.0566,"d":"0.057"}},{"v":-0.24159999999999998,"d":"-0.242"}]
[3,"хлеб ржаной","кг",{"$f":"'Пт День 5 Нед 1'!AB9","v":-0.5449999999999999},{"$nulls":6},{"v":0.03,"d":"0.0300"},{"v":0.03,"d":"0.0300"},{"v":0.03,"d":"0.0300"},{"$nulls":5},{"v":0.03,"d":"0.0300"},null,{"v":0.03,"d":"0.0300"},{"v":0.03,"d":"0.0300"},null,null,{"v":0,"d":"0.0000"},null,null,{"v":0.03,"d":"0.0300"},{"v":0,"d":"0.0000"},null,null,{"v":0.03,"d":"0.0300"},{"v":0.03,"d":"0.0300"},{"v":0.15,"d":"0.150"},-0.695]
[4,"булоч/выпечка готов с х/ком","шт",{"$f":"'Пт День 5 Нед 1'!AB10","v":-1},{"$nulls":7},{"v":0,"d":"0.0000"},{"v":0,"d":"0.0000"},{"$nulls":7},{"v":0,"d":"0.0000"},{"v":0,"d":"0.0000"},null,null,{"v":0,"d":"0.0000"},{"$nulls":3},{"v":0,"d":"0.0000"},{"$nulls":3},{"v":0,"d":"0.0000"},{"v":0,"d":"0.000"},{"v":-1,"d":"-1.000"}]
[null,"Молочка",null,{"$f":"'Пт День 5 Нед 1'!AB11","v":0},{"$nulls":7},{"v":0,"d":"0.0000"},{"v":0,"d":"0.0000"},{"$nulls":7},{"v":0,"d":"0.0000"},{"v":0,"d":"0.0000"},null,null,{"v":0,"d":"0.0000"},{"$nulls":3},{"v":0,"d":"0.0000"},{"$nulls":3},{"v":0,"d":"0.0000"},{"v":0,"d":"0.000"},{"v":0,"d":"0.000"}]
[5,"молоко 2,5%","кг",{"$f":"'Пт День 5 Нед 1'!AB12","v":-0.4571},{"$nulls":7},{"v":0,"d":"0.0000"},{"v":0,"d":"0.0000"},{"$nulls":7},{"v":0,"d":"0.0000"},{"v":0,"d":"0.0000"},null,null,{"v":0,"d":"0.0000"},{"v":0.075,"d":"0.0750"},null,null,{"v":0,"d":"0.0000"},{"$nulls":3},{"v":0,"d":"0.0000"},{"v":0,"d":"0.000"},{"v":-0.4571,"d":"-0.457"}]
[6,"творог 5%","кг",{"$f":"'Пт День 5 Нед 1'!AB13","v":0},{"$nulls":7},{"v":0,"d":"0.0000"},{"v":0,"d":"0.0000"},{"$nulls":7},{"v":0,"d":"0.0000"},{"v":0,"d":"0.0000"},null,null,{"v":0,"d":"0.0000"},{"$nulls":3},{"v":0,"d":"0.0000"},{"$nulls":3},{"v":0,"d":"0.0000"},{"v":0,"d":"0.000"},{"v":0,"d":"0.000"}]
[7,"сметана 15%","кг",{"$f":"'Пт День 5 Нед 1'!AB14","v":-0.04},null,null,{"v":0.005,"d":"0.0050"},{"$nulls":4},{"v":0.005,"d":"0.0050"},{"v":0,"d":"0.0000"},null,{"v":0.005,"d":"0.0050"},{"$nulls":5},{"v":0.005,"d":"0.0050"},{"v":0,"d":"0.0000"},null,null,{"v":0,"d":"0.0000"},{"$nulls":3},{"v":0,"d":"0.0000"},{"v":0.005,"d":"0.0050"},null,null,{"v":0.005,"d":"0.0050"},0.015,-0.055]
[8,"йогурт фруктов ","кг",{"$f":"'Пт День 5 Нед 1'!AB15","v":0},{"$nulls":7},{"v":0,"d":"0.0000"},{"v":0,"d":"0.0000"},{"$nulls":7},{"v":0,"d":"0.0000"},{"v":0,"d":"0.0000"},null,null,{"v":0,"d":"0.0000"},{"$nulls":3},{"v":0,"d":"0.0000"},{"$nulls":3},{"v":0,"d":"0.0000"},{"v":0,"d":"0.000"},{"v":0,"d":"0.000"}]
[9,"катык 2,5%","кг",{"$f":"'Пт День 5 Нед 1'!AB16","v":0},{"$nulls":7},{"v":0,"d":"0.0000"},{"v":0,"d":"0.0000"},{"$nulls":7},{"v":0,"d":"0.0000"},{"v":0,"d":"0.0000"},null,null,{"v":0,"d":"0.0000"},{"$nulls":3},{"v":0,"d":"0.0000"},{"$nulls":3},{"v":0,"d":"0.0000"},{"v":0,"d":"0.000"},{"v":0,"d":"0.000"}]
[10,"кефир 2,5%","кг",{"$f":"'Пт День 5 Нед 1'!AB17","v":0},{"$nulls":7},{"v":0,"d":"0.0000"},{"v":0,"d":"0.0000"},{"$nulls":7},{"v":0,"d":"0.0000"},{"v":0,"d":"0.0000"},null,null,{"v":0,"d":"0.0000"},{"$nulls":3},{"v":0,"d":"0.0000"},{"$nulls":3},{"v":0,"d":"0.0000"},{"v":0,"d":"0.000"},{"v":0,"d":"0.000"}]
[11,"ряженка 2,5%","кг",{"$f":"'Пт День 5 Нед 1'!AB18","v":0},{"$nulls":7},{"v":0,"d":"0.0000"},{"v":0,"d":"0.0000"},{"$nulls":7},{"v":0,"d":"0.0000"},{"v":0,"d":"0.0000"},null,null,{"v":0,"d":"0.0000"},{"$nulls":3},{"v":0,"d":"0.0000"},{"$nulls":3},{"v":0,"d":"0.0000"},{"v":0,"d":"0.000"},{"v":0,"d":"0.000"}]
[12,"напиток ацидофильный","кг",{"$f":"'Пт День 5 Нед 1'!AB19","v":0},{"$nulls":7},{"v":0,"d":"0.0000"},{"v":0,"d":"0.0000"},{"$nulls":7},{"v":0,"d":"0.0000"},{"v":0,"d":"0.0000"},null,null,{"v":0,"d":"0.0000"},{"$nulls":3},{"v":0,"d":"0.0000"},{"$nulls":3},{"v":0,"d":"0.0000"},{"v":0,"d":"0.000"},{"v":0,"d":"0.000"}]
[null,"Масло / сыр ",null,{"$f":"'Пт День 5 Нед 1'!AB20","v":0},{"$nulls":7},{"v":0,"d":"0.0000"},{"v":0,"d":"0.0000"},{"$nulls":7},{"v":0,"d":"0.0000"},{"v":0,"d":"0.0000"},null,null,{"v":0,"d":"0.0000"},{"$nulls":3},{"v":0,"d":"0.0000"},{"$nulls":3},{"$f":"(AD20+AE20+AF20)*$AG$5","v":{"v":0,"d":"0.0000"}},{"v":0,"d":"0.000"},{"v":0,"d":"0.000"}]
[13,"масло растительное","кг",{"$f":"'Пт День 5 Нед 1'!AB21","v":-0.057499999999999996},null,{"v":1.5E-3,"d":"0.0015"},{"$f":"0.0008+0.002","v":{"v":2.8E-3,"d":"0.0028"}},{"v":2E-3,"d":"0.0020"},{"$nulls":3},{"v":4.3E-3,"d":"0.0043"},0.0035,{"v":0.003,"d":"0.0030"},{"$f":"0.0008+0.002","v":{"v":2.8E-3,"d":"0.0028"}},{"v":2E-3,"d":"0.0020"},{"$nulls":4},0.0058,{"v":0.005,"d":"0.0050"},null,null,{"v":0,"d":"0.0000"},{"$nulls":3},{"v":0,"d":"0.0000"},{"v":0.005,"d":"0.0050"},null,null,{"$f":"(AD21+AE21+AF21)*$AG$5","v":{"v":0.005,"d":"0.0050"}},{"v":0.0236,"d":"0.024"},{"v":-0.08109999999999999,"d":"-0.081"}]
[14,"масло сливочное","кг",{"$f":"'Пт День 5 Нед 1'!AB22","v":-0.043},{"$nulls":4},{"v":0.003,"d":"0.0030"},null,null,{"v":0.003,"d":"0.0030"},{"v":0.003,"d":"0.0030"},{"$nulls":3},{"v":0.003,"d":"0.0030"},{"$nulls":3},{"v":0.003,"d":"0.0030"},{"v":0.003,"d":"0.0030"},null,null,{"v":0,"d":"0.0000"},{"v":0.003,"d":"0.0030"},null,null,{"v":0,"d":"0.0000"},{"$nulls":3},{"$f":"(AD22+AE22+AF22)*$AG$5","v":{"v":0,"d":"0.0000"}},0.012,{"v":-0.05499999999999999,"d":"-0.055"}]
[15,"сыр голландский","кг",{"$f":"'Пт День 5 Нед 1'!AB23","v":0},{"$nulls":7},{"v":0,"d":"0.0000"},{"v":0,"d":"0.0000"},{"$nulls":7},{"v":0,"d":"0.0000"},{"v":0,"d":"0.0000"},null,null,{"v":0,"d":"0.0000"},{"$nulls":3},{"v":0,"d":"0.0000"},{"$nulls":3},{"$f":"(AD23+AE23+AF23)*$AG$5","v":{"v":0,"d":"0.0000"}},{"v":0,"d":"0.000"},{"v":0,"d":"0.000"}]
[null,"Мясо",null,{"$f":"'Пт День 5 Нед 1'!AB24","v":0},{"$nulls":7},{"v":0,"d":"0.0000"},{"v":0,"d":"0.0000"},{"$nulls":7},{"v":0,"d":"0.0000"},{"v":0,"d":"0.0000"},null,null,{"v":0,"d":"0.0000"},{"$nulls":3},{"v":0,"d":"0.0000"},{"$nulls":3},{"v":0,"d":"0.0000"},{"v":0,"d":"0.000"},{"v":0,"d":"0.000"}]
[16,"говядина (котлетное мясо) ","кг",{"$f":"'Пт День 5 Нед 1'!AB25","v":0},{"$nulls":7},{"v":0,"d":"0.0000"},{"v":0,"d":"0.0000"},{"$nulls":7},{"v":0,"d":"0.0000"},{"v":0,"d":"0.0000"},null,null,{"v":0,"d":"0.0000"},{"$nulls":3},{"v":0,"d":"0.0000"},{"$nulls":3},{"v":0,"d":"0.0000"},{"v":0,"d":"0.000"},{"v":0,"d":"0.000"}]
[17,"фарш говяжий","кг",{"$f":"'Пт День 5 Нед 1'!AB26","v":-0.08796999999999999},{"$nulls":7},{"v":0,"d":"0.0000"},{"v":0,"d":"0.0000"},{"$nulls":7},{"v":0,"d":"0.0000"},{"v":0,"d":"0.0000"},null,null,{"v":0,"d":"0.0000"},{"$nulls":3},{"v":0,"d":"0.0000"},{"v":0.01197,"d":"0.0120"},null,null,{"v":0.01197,"d":"0.0120"},{"v":0.01197,"d":"0.012"},{"v":-0.09993999999999999,"d":"-0.100"}]
[18,"говядина лопатка б/к","кг",{"$f":"'Пт День 5 Нед 1'!AB27","v":0},{"$nulls":7},{"v":0,"d":"0.0000"},{"v":0,"d":"0.0000"},{"$nulls":7},{"v":0,"d":"0.0000"},{"v":0,"d":"0.0000"},null,null,{"v":0,"d":"0.0000"},{"$nulls":3},{"v":0,"d":"0.0000"},{"$nulls":3},{"v":0,"d":"0.0000"},{"v":0,"d":"0.000"},{"v":0,"d":"0.000"}]
[19,"сосиски","кг",{"$f":"'Пт День 5 Нед 1'!AB28","v":-0.204},{"$nulls":7},{"v":0,"d":"0.0000"},{"v":0,"d":"0.0000"},{"$nulls":7},{"v":0,"d":"0.0000"},{"v":0,"d":"0.0000"},null,null,{"v":0,"d":"0.0000"},{"$nulls":3},{"v":0,"d":"0.0000"},{"$nulls":3},{"v":0,"d":"0.0000"},{"v":0,"d":"0.000"},-0.204]
[20,"колбаса п/к \"Халяль\"","кг",{"$f":"'Пт День 5 Нед 1'!AB29","v":0},{"$nulls":7},{"v":0,"d":"0.0000"},{"v":0,"d":"0.0000"},{"$nulls":7},{"v":0,"d":"0.0000"},{"v":0,"d":"0.0000"},null,null,{"v":0,"d":"0.0000"},{"$nulls":3},{"v":0,"d":"0.0000"},{"$nulls":3},{"v":0,"d":"0.0000"},{"v":0,"d":"0.000"},{"v":0,"d":"0.000"}]
[21,"куриное бедро","кг",{"$f":"'Пт День 5 Нед 1'!AB30","v":0},{"$nulls":7},{"v":0,"d":"0.0000"},{"v":0,"d":"0.0000"},{"$nulls":7},{"v":0,"d":"0.0000"},{"v":0,"d":"0.0000"},null,null,{"v":0,"d":"0.0000"},{"$nulls":3},{"v":0,"d":"0.0000"},{"$nulls":3},{"v":0,"d":"0.0000"},{"v":0,"d":"0.000"},{"v":0,"d":"0.000"}]
[22,"куриная грудка","кг",{"$f":"'Пт День 5 Нед 1'!AB31","v":-0.22121999999999997},{"$nulls":7},{"v":0,"d":"0.0000"},{"v":0,"d":"0.0000"},{"$nulls":7},{"v":0,"d":"0.0000"},{"v":0,"d":"0.0000"},null,null,{"v":0,"d":"0.0000"},{"$nulls":3},{"v":0,"d":"0.0000"},{"$nulls":3},{"v":0,"d":"0.0000"},{"v":0,"d":"0.000"},{"v":-0.22121999999999997,"d":"-0.221"}]
[23,"куры/цыплята потрош.","кг",{"$f":"'Пт День 5 Нед 1'!AB32","v":0},{"$nulls":7},{"v":0,"d":"0.0000"},{"v":0,"d":"0.0000"},{"$nulls":7},{"v":0,"d":"0.0000"},{"v":0,"d":"0.0000"},null,null,{"v":0,"d":"0.0000"},{"$nulls":3},{"v":0,"d":"0.0000"},{"$nulls":3},{"v":0,"d":"0.0000"},{"v":0,"d":"0.000"},{"v":0,"d":"0.000"}]
[24,"фарш куриный","кг",{"$f":"'Пт День 5 Нед 1'!AB33","v":0},{"$nulls":7},{"v":0,"d":"0.0000"},{"v":0,"d":"0.0000"},{"$nulls":7},{"v":0,"d":"0.0000"},{"v":0,"d":"0.0000"},null,null,{"v":0,"d":"0.0000"},{"$nulls":3},{"v":0,"d":"0.0000"},{"$nulls":3},{"v":0,"d":"0.0000"},{"v":0,"d":"0.000"},{"v":0,"d":"0.000"}]
[25,"индейка бедро филе","кг",{"$f":"'Пт День 5 Нед 1'!AB34","v":-0.147},{"$nulls":7},{"v":0,"d":"0.0000"},{"v":0,"d":"0.0000"},{"$nulls":7},{"v":0,"d":"0.0000"},{"v":0,"d":"0.0000"},null,null,{"v":0,"d":"0.0000"},{"$nulls":3},{"v":0,"d":"0.0000"},{"$nulls":3},{"v":0,"d":"0.0000"},{"v":0,"d":"0.000"},-0.147]
[26,"индейка грудка филе","кг",{"$f":"'Пт День 5 Нед 1'!AB35","v":0},{"$nulls":7},{"v":0,"d":"0.0000"},{"v":0,"d":"0.0000"},{"$nulls":7},{"v":0,"d":"0.0000"},{"v":0,"d":"0.0000"},null,null,{"v":0,"d":"0.0000"},{"$nulls":3},{"v":0,"d":"0.0000"},{"$nulls":3},{"v":0,"d":"0.0000"},{"v":0,"d":"0.000"},{"v":0,"d":"0.000"}]
[null,"Рыба",null,{"$f":"'Пт День 5 Нед 1'!AB36","v":0},{"$nulls":7},{"v":0,"d":"0.0000"},{"v":0,"d":"0.0000"},{"$nulls":7},{"v":0,"d":"0.0000"},{"v":0,"d":"0.0000"},null,null,{"v":0,"d":"0.0000"},{"$nulls":3},{"v":0,"d":"0.0000"},{"$nulls":3},{"v":0,"d":"0.0000"},{"v":0,"d":"0.000"},{"v":0,"d":"0.000"}]
[27,"горбуша ПБГ с/м","кг",{"$f":"'Пт День 5 Нед 1'!AB37","v":0},{"$nulls":7},{"v":0,"d":"0.0000"},{"v":0,"d":"0.0000"},{"$nulls":7},{"v":0,"d":"0.0000"},{"v":0,"d":"0.0000"},null,null,{"v":0,"d":"0.0000"},{"$nulls":3},{"v":0,"d":"0.0000"},{"$nulls":3},{"v":0,"d":"0.0000"},{"v":0,"d":"0.000"},{"v":0,"d":"0.000"}]
[28,"минтай б/г с/м","кг",{"$f":"'Пт День 5 Нед 1'!AB38","v":0},null,null,0.0776,{"$nulls":4},0.0776,{"v":0,"d":"0.0000"},null,0.0776,{"$nulls":5},0.0776,{"v":0,"d":"0.0000"},null,null,{"v":0,"d":"0.0000"},{"$nulls":3},{"v":0,"d":"0.0000"},{"$nulls":3},{"v":0,"d":"0.0000"},{"v":0.1552,"d":"0.155"},{"v":-0.1552,"d":"-0.155"}]
[29,"фарш минтая","кг",{"$f":"'Пт День 5 Нед 1'!AB39","v":0},null,null,{"v":0.05906,"d":"0.0591"},{"$nulls":4},{"v":0.05906,"d":"0.0591"},{"v":0,"d":"0.0000"},null,{"v":0.05906,"d":"0.0591"},{"$nulls":5},{"v":0.05906,"d":"0.0591"},{"v":0,"d":"0.0000"},null,null,{"v":0,"d":"0.0000"},{"$nulls":3},{"v":0,"d":"0.0000"},{"$nulls":3},{"v":0,"d":"0.0000"},{"v":0.11812,"d":"0.118"},{"$f":"(D39+E39)-AH39","v":{"v":-0.11812,"d":"-0.118"}}]
[null,"Сыпучка",null,{"$f":"'Пт День 5 Нед 1'!AB40","v":0},{"$nulls":7},{"v":0,"d":"0.0000"},{"v":0,"d":"0.0000"},{"$nulls":7},{"v":0,"d":"0.0000"},{"v":0,"d":"0.0000"},null,null,{"v":0,"d":"0.0000"},{"$nulls":3},{"v":0,"d":"0.0000"},{"$nulls":3},{"v":0,"d":"0.0000"},{"v":0,"d":"0.000"},{"v":0,"d":"0.000"}]
[30,"вермишель","кг",{"$f":"'Пт День 5 Нед 1'!AB41","v":0},{"$nulls":7},{"v":0,"d":"0.0000"},{"v":0,"d":"0.0000"},{"$nulls":7},{"v":0,"d":"0.0000"},{"v":0,"d":"0.0000"},null,null,{"v":0,"d":"0.0000"},{"$nulls":3},{"v":0,"d":"0.0000"},{"$nulls":3},{"v":0,"d":"0.0000"},{"v":0,"d":"0.000"},{"v":0,"d":"0.000"}]
[31,"геркулес","кг",{"$f":"'Пт День 5 Нед 1'!AB42","v":0},{"$nulls":7},{"v":0,"d":"0.0000"},{"v":0,"d":"0.0000"},{"$nulls":7},{"v":0,"d":"0.0000"},{"v":0,"d":"0.0000"},null,null,{"v":0,"d":"0.0000"},{"$nulls":3},{"v":0,"d":"0.0000"},{"$nulls":3},{"v":0,"d":"0.0000"},{"v":0,"d":"0.000"},{"v":0,"d":"0.000"}]
[32,"горох","кг",{"$f":"'Пт День 5 Нед 1'!AB43","v":0},{"$nulls":7},{"v":0,"d":"0.0000"},{"v":0,"d":"0.0000"},{"$nulls":7},{"v":0,"d":"0.0000"},{"v":0,"d":"0.0000"},null,null,{"v":0,"d":"0.0000"},{"$nulls":3},{"v":0,"d":"0.0000"},{"$nulls":3},{"v":0,"d":"0.0000"},{"v":0,"d":"0.000"},{"v":0,"d":"0.000"}]
[33,"гречневая крупа","кг",{"$f":"'Пт День 5 Нед 1'!AB44","v":-0.288},{"$nulls":7},{"v":0,"d":"0.0000"},{"v":0,"d":"0.0000"},{"$nulls":7},{"v":0,"d":"0.0000"},{"v":0,"d":"0.0000"},null,null,{"v":0,"d":"0.0000"},{"$nulls":3},{"v":0,"d":"0.0000"},{"$nulls":3},{"v":0,"d":"0.0000"},{"v":0,"d":"0.000"},-0.288]
[34,"кукурузная крупа","кг",{"$f":"'Пт День 5 Нед 1'!AB45","v":0},{"$nulls":7},{"v":0,"d":"0.0000"},{"v":0,"d":"0.0000"},{"$nulls":7},{"v":0,"d":"0.0000"},{"v":0,"d":"0.0000"},null,null,{"v":0,"d":"0.0000"},{"$nulls":3},{"v":0,"d":"0.0000"},{"$nulls":3},{"v":0,"d":"0.0000"},{"v":0,"d":"0.000"},{"v":0,"d":"0.000"}]
[35,"макаронные изделия","кг",{"$f":"'Пт День 5 Нед 1'!AB46","v":-0.142},{"$nulls":7},{"v":0,"d":"0.0000"},{"v":0,"d":"0.0000"},{"$nulls":7},{"v":0,"d":"0.0000"},{"v":0,"d":"0.0000"},null,null,{"v":0,"d":"0.0000"},{"$nulls":3},{"v":0,"d":"0.0000"},{"$nulls":3},{"v":0,"d":"0.0000"},{"v":0,"d":"0.000"},-0.142]
[36,"манная крупа","кг",{"$f":"'Пт День 5 Нед 1'!AB47","v":0},{"$nulls":7},{"v":0,"d":"0.0000"},{"v":0,"d":"0.0000"},{"$nulls":7},{"v":0,"d":"0.0000"},{"v":0,"d":"0.0000"},null,null,{"v":0,"d":"0.0000"},{"$nulls":3},{"v":0,"d":"0.0000"},{"$nulls":3},{"v":0,"d":"0.0000"},{"v":0,"d":"0.000"},{"v":0,"d":"0.000"}]
[37,"перловая крупа","кг",{"$f":"'Пт День 5 Нед 1'!AB48","v":-0.005},{"$nulls":7},{"v":0,"d":"0.0000"},{"v":0,"d":"0.0000"},{"$nulls":7},{"v":0,"d":"0.0000"},{"v":0,"d":"0.0000"},null,null,{"v":0,"d":"0.0000"},{"$nulls":3},{"v":0,"d":"0.0000"},{"$nulls":3},{"v":0,"d":"0.0000"},{"v":0,"d":"0.000"},-0.005]
[38,"полбяная крупа","кг",{"$f":"'Пт День 5 Нед 1'!AB49","v":0},{"$nulls":7},{"v":0,"d":"0.0000"},{"v":0,"d":"0.0000"},{"$nulls":7},{"v":0,"d":"0.0000"},{"v":0,"d":"0.0000"},null,null,{"v":0,"d":"0.0000"},{"$nulls":3},{"v":0,"d":"0.0000"},{"$nulls":3},{"v":0,"d":"0.0000"},{"v":0,"d":"0.000"},{"v":0,"d":"0.000"}]
[39,"пшеничная крупа","кг",{"$f":"'Пт День 5 Нед 1'!AB50","v":0},{"$nulls":7},{"v":0,"d":"0.0000"},{"v":0,"d":"0.0000"},{"$nulls":7},{"v":0,"d":"0.0000"},{"v":0,"d":"0.0000"},null,null,{"v":0,"d":"0.0000"},{"$nulls":3},{"v":0,"d":"0.0000"},{"$nulls":3},{"v":0,"d":"0.0000"},{"v":0,"d":"0.000"},{"v":0,"d":"0.000"}]
[40,"пшено","кг",{"$f":"'Пт День 5 Нед 1'!AB51","v":-0.029500000000000002},{"$nulls":7},{"v":0,"d":"0.0000"},{"v":0,"d":"0.0000"},{"$nulls":7},{"v":0,"d":"0.0000"},{"v":0,"d":"0.0000"},null,null,{"v":0,"d":"0.0000"},{"v":0.03,"d":"0.0300"},null,null,{"v":0,"d":"0.0000"},{"$nulls":3},{"v":0,"d":"0.0000"},{"v":0,"d":"0.000"},{"v":-0.029500000000000002,"d":"-0.030"}]
[41,"рис","кг",{"$f":"'Пт День 5 Нед 1'!AB52","v":-0.17500000000000002},{"$nulls":4},0.0648,null,null,0.0648,0.0648,{"$nulls":3},0.0648,{"$nulls":3},0.0648,0.0648,null,null,{"v":0,"d":"0.0000"},{"$nulls":3},{"v":0,"d":"0.0000"},{"$nulls":3},{"v":0,"d":"0.0000"},{"v":0.2592,"d":"0.259"},{"v":-0.43420000000000003,"d":"-0.434"}]
[42,"ячневая крупа","кг",{"$f":"'Пт День 5 Нед 1'!AB53","v":0},{"$nulls":7},{"v":0,"d":"0.0000"},{"v":0,"d":"0.0000"},{"$nulls":7},{"v":0,"d":"0.0000"},{"v":0,"d":"0.0000"},null,null,{"v":0,"d":"0.0000"},{"$nulls":3},{"v":0,"d":"0.0000"},{"$nulls":3},{"v":0,"d":"0.0000"},{"v":0,"d":"0.000"},{"v":0,"d":"0.000"}]
[43,"лапша домашняя п/ф","кг",{"$f":"'Пт День 5 Нед 1'!AB54","v":-0.02},{"$nulls":7},{"v":0,"d":"0.0000"},{"v":0,"d":"0.0000"},{"$nulls":7},{"v":0,"d":"0.0000"},{"v":0,"d":"0.0000"},null,null,{"v":0,"d":"0.0000"},{"$nulls":3},{"v":0,"d":"0.0000"},{"$nulls":3},{"v":0,"d":"0.0000"},{"v":0,"d":"0.000"},{"v":-0.02,"d":"-0.020"}]
[44,"мука пшеничная в/с","кг",{"$f":"'Пт День 5 Нед 1'!AB55","v":-0.026000000000000002},null,null,0.0013,{"$nulls":4},0.0013,{"v":0,"d":"0.0000"},null,0.0013,{"$nulls":5},0.0013,{"v":0,"d":"0.0000"},null,null,{"v":0,"d":"0.0000"},{"$nulls":3},{"v":0,"d":"0.0000"},{"$nulls":3},{"v":0,"d":"0.0000"},{"v":0.0026,"d":"0.003"},{"v":-0.0286,"d":"-0.029"}]
[45,"сахарный песок","кг",{"$f":"'Пт День 5 Нед 1'!AB56","v":-0.22280000000000003},{"$nulls":5},{"v":0.01,"d":"0.0100"},null,{"v":0.01,"d":"0.0100"},{"v":0.01,"d":"0.0100"},{"$nulls":4},{"v":0.01,"d":"0.0100"},null,null,{"v":0.01,"d":"0.0100"},{"v":0.01,"d":"0.0100"},null,{"v":0.01,"d":"0.0100"},{"v":0.01,"d":"0.0100"},0.0008,{"v":0.01,"d":"0.0100"},null,{"v":0,"d":"0.0000"},0.0025,{"v":0.01,"d":"0.0100"},null,0.0125,{"v":0.0625,"d":"0.063"},{"v":-0.2853,"d":"-0.285"}]
[46,"соль","кг",{"$f":"'Пт День 5 Нед 1'!AB57","v":-0.0174},null,null,{"$f":"0.0006+0.0005","v":{"v":1.0999999999999998E-3,"d":"0.0011"}},null,0.0007,null,null,{"v":1.8E-3,"d":"0.0018"},0.0007,null,{"$f":"0.0006+0.0005","v":{"v":1.0999999999999998E-3,"d":"0.0011"}},null,0.0007,{"$nulls":3},{"v":1.8E-3,"d":"0.0018"},0.0007,null,null,{"v":0,"d":"0.0000"},0.0004,null,null,{"v":0,"d":"0.0000"},0.0011,null,null,0.0011,{"v":0.0061,"d":"0.006"},{"v":-0.0235,"d":"-0.024"}]
[47,"сухари панировочные","кг",{"$f":"'Пт День 5 Нед 1'!AB58","v":0},null,null,0.0075,{"$nulls":4},0.0075,{"v":0,"d":"0.0000"},null,0.0075,{"$nulls":5},0.0075,{"v":0,"d":"0.0000"},null,null,{"v":0,"d":"0.0000"},{"$nulls":3},{"v":0,"d":"0.0000"},{"$nulls":3},{"v":0,"d":"0.0000"},0.015,-0.015]
[48,"дрожжи сухие","кг",{"$f":"'Пт День 5 Нед 1'!AB59","v":0},{"$nulls":7},{"v":0,"d":"0.0000"},{"v":0,"d":"0.0000"},{"$nulls":7},{"v":0,"d":"0.0000"},{"v":0,"d":"0.0000"},null,null,{"v":0,"d":"0.0000"},{"$nulls":3},{"v":0,"d":"0.0000"},{"$nulls":3},{"v":0,"d":"0.0000"},{"v":0,"d":"0.000"},{"v":0,"d":"0.000"}]
[49,"фасоль","кг",{"$f":"'Пт День 5 Нед 1'!AB60","v":0},{"$nulls":7},{"v":0,"d":"0.0000"},{"v":0,"d":"0.0000"},{"$nulls":7},{"v":0,"d":"0.0000"},{"v":0,"d":"0.0000"},null,null,{"v":0,"d":"0.0000"},{"$nulls":3},{"v":0,"d":"0.0000"},{"$nulls":3},{"v":0,"d":"0.0000"},{"v":0,"d":"0.000"},{"v":0,"d":"0.000"}]
[null,"Консервы",null,{"$f":"'Пт День 5 Нед 1'!AB61","v":0},{"$nulls":7},{"v":0,"d":"0.0000"},{"v":0,"d":"0.0000"},{"$nulls":7},{"v":0,"d":"0.0000"},{"v":0,"d":"0.0000"},null,null,{"v":0,"d":"0.0000"},{"$nulls":3},{"v":0,"d":"0.0000"},{"$nulls":3},{"v":0,"d":"0.0000"},{"v":0,"d":"0.000"},{"v":0,"d":"0.000"}]
[50,"зеленый горошек к/с","кг",{"$f":"'Пт День 5 Нед 1'!AB62","v":0},null,0.0481,{"$nulls":5},0.0481,0.0481,{"v":0.097,"d":"0.0970"},{"$nulls":6},{"v":0.097,"d":"0.0970"},{"v":0.097,"d":"0.0970"},null,null,{"v":0,"d":"0.0000"},{"$nulls":3},{"v":0,"d":"0.0000"},{"$nulls":3},{"v":0,"d":"0.0000"},{"v":0.2902,"d":"0.290"},{"v":-0.2902,"d":"-0.290"}]
[51,"кукуруза к/с","кг",{"$f":"'Пт День 5 Нед 1'!AB63","v":0},{"$nulls":7},{"v":0,"d":"0.0000"},{"v":0,"d":"0.0000"},{"$nulls":7},{"v":0,"d":"0.0000"},{"v":0,"d":"0.0000"},null,null,{"v":0,"d":"0.0000"},{"$nulls":3},{"v":0,"d":"0.0000"},{"$nulls":3},{"v":0,"d":"0.0000"},{"v":0,"d":"0.000"},{"v":0,"d":"0.000"}]
[52,"фасоль к/с","кг",{"$f":"'Пт День 5 Нед 1'!AB64","v":0},{"$nulls":7},{"v":0,"d":"0.0000"},{"v":0,"d":"0.0000"},{"$nulls":7},{"v":0,"d":"0.0000"},{"v":0,"d":"0.0000"},null,null,{"v":0,"d":"0.0000"},{"$nulls":3},{"v":0,"d":"0.0000"},{"$nulls":3},{"v":0,"d":"0.0000"},{"v":0,"d":"0.000"},{"v":0,"d":"0.000"}]
[53,"икра кабач/икра баклаж","кг",{"$f":"'Пт День 5 Нед 1'!AB65","v":0},{"$nulls":7},{"v":0,"d":"0.0000"},{"v":0,"d":"0.0000"},{"$nulls":7},{"v":0,"d":"0.0000"},{"v":0,"d":"0.0000"},null,null,{"v":0,"d":"0.0000"},{"$nulls":3},{"v":0,"d":"0.0000"},{"$nulls":3},{"v":0,"d":"0.0000"},{"v":0,"d":"0.000"},{"v":0,"d":"0.000"}]
[54,"капуста морская сушеная","кг",{"$f":"'Пт День 5 Нед 1'!AB66","v":0},{"$nulls":7},{"v":0,"d":"0.0000"},{"v":0,"d":"0.0000"},{"$nulls":7},{"v":0,"d":"0.0000"},{"v":0,"d":"0.0000"},null,null,{"v":0,"d":"0.0000"},{"$nulls":3},{"v":0,"d":"0.0000"},{"$nulls":3},{"v":0,"d":"0.0000"},{"v":0,"d":"0.000"},{"v":0,"d":"0.000"}]
[55,"капуста квашеная ","кг",{"$f":"'Пт День 5 Нед 1'!AB67","v":0},{"$nulls":7},{"v":0,"d":"0.0000"},{"v":0,"d":"0.0000"},{"$nulls":7},{"v":0,"d":"0.0000"},{"v":0,"d":"0.0000"},null,null,{"v":0,"d":"0.0000"},{"$nulls":3},{"v":0,"d":"0.0000"},{"$nulls":3},{"v":0,"d":"0.0000"},{"v":0,"d":"0.000"},{"v":0,"d":"0.000"}]
[56,"молоко сгущенное  ","кг",{"$f":"'Пт День 5 Нед 1'!AB68","v":0},{"$nulls":7},{"v":0,"d":"0.0000"},{"v":0,"d":"0.0000"},{"$nulls":7},{"v":0,"d":"0.0000"},{"v":0,"d":"0.0000"},null,null,{"v":0,"d":"0.0000"},{"$nulls":3},{"v":0,"d":"0.0000"},{"$nulls":3},{"v":0,"d":"0.0000"},{"v":0,"d":"0.000"},{"v":0,"d":"0.000"}]
[57,"огурцы соленые","кг",{"$f":"'Пт День 5 Нед 1'!AB69","v":-0.0273},{"$nulls":7},{"v":0,"d":"0.0000"},{"v":0,"d":"0.0000"},{"$nulls":7},{"v":0,"d":"0.0000"},{"v":0,"d":"0.0000"},null,null,{"v":0,"d":"0.0000"},{"$nulls":3},{"v":0,"d":"0.0000"},{"$nulls":3},{"v":0,"d":"0.0000"},{"v":0,"d":"0.000"},{"v":-0.0273,"d":"-0.027"}]
[58,"повидло","кг",{"$f":"'Пт День 5 Нед 1'!AB70","v":0},{"$nulls":7},{"v":0,"d":"0.0000"},{"v":0,"d":"0.0000"},{"$nulls":7},{"v":0,"d":"0.0000"},{"v":0,"d":"0.0000"},null,null,{"v":0,"d":"0.0000"},{"$nulls":3},{"v":0,"d":"0.0000"},{"$nulls":3},{"v":0,"d":"0.0000"},{"v":0,"d":"0.000"},{"v":0,"d":"0.000"}]
[59,"томатная паста","кг",{"$f":"'Пт День 5 Нед 1'!AB71","v":-0.0152},{"$nulls":7},{"v":0,"d":"0.0000"},{"v":0,"d":"0.0000"},{"$nulls":7},{"v":0,"d":"0.0000"},{"v":0,"d":"0.0000"},null,null,{"v":0,"d":"0.0000"},{"$nulls":3},{"v":0,"d":"0.0000"},{"v":0.003,"d":"0.0030"},null,null,{"v":0.003,"d":"0.0030"},0.003,{"$f":"(D71+E71)-AH71","v":{"v":-0.0182,"d":"-0.018"}}]
[60,"рыбные консервы","кг",{"$f":"'Пт День 5 Нед 1'!AB72","v":0},{"$nulls":7},{"$f":"(K72+J72+G72+F72+I72)*$L$5","v":{"v":0,"d":"0.0000"}},{"$f":"(K72+J72+I72+F72+H72)*$M$5","v":{"v":0,"d":"0.0000"}},{"$nulls":7},{"$f":"(N72+O72+Q72+R72+S72)*$U$5","v":{"v":0,"d":"0.0000"}},{"$f":"(N72+P72+Q72+R72+S72)*$V$5","v":{"v":0,"d":"0.0000"}},null,null,{"$f":"(X72+W72)*$Y$5","v":{"v":0,"d":"0.0000"}},{"$nulls":3},{"$f":"(AB72+AA72+Z72)*$AC$5","v":{"v":0,"d":"0.0000"}},{"$nulls":3},{"v":0,"d":"0.0000"},{"$f":"L72+M72+U72+V72+Y72+AG72","v":{"v":0,"d":"0.000"}},{"v":0,"d":"0.000"}]
[null,"Напитки",null,{"$f":"'Пт День 5 Нед 1'!AB73","v":0},{"$nulls":7},{"v":0,"d":"0.0000"},{"v":0,"d":"0.0000"},{"$nulls":7},{"v":0,"d":"0.0000"},{"v":0,"d":"0.0000"},null,null,{"v":0,"d":"0.0000"},{"$nulls":3},{"v":0,"d":"0.0000"},{"$nulls":3},{"$f":"(AD73+AE73+AF73)*$AG$5","v":{"v":0,"d":"0.0000"}},{"v":0,"d":"0.000"},{"v":0,"d":"0.000"}]
[61,"чай весовой ","кг",{"$f":"'Пт День 5 Нед 1'!AB74","v":-0.006},{"$nulls":5},{"v":1E-3,"d":"0.0010"},null,{"v":1E-3,"d":"0.0010"},{"v":1E-3,"d":"0.0010"},{"$nulls":4},{"v":1E-3,"d":"0.0010"},null,null,{"v":1E-3,"d":"0.0010"},{"v":1E-3,"d":"0.0010"},null,0.0005,0.0005,{"$nulls":3},{"v":0,"d":"0.0000"},null,0.0005,null,0.0005,{"v":5.000000000000001E-3,"d":"0.005"},{"v":-0.011000000000000001,"d":"-0.011"}]
[62,"какао","кг",{"$f":"'Пт День 5 Нед 1'!AB75","v":0},{"$nulls":7},{"v":0,"d":"0.0000"},{"v":0,"d":"0.0000"},{"$nulls":7},{"v":0,"d":"0.0000"},{"v":0,"d":"0.0000"},null,null,{"v":0,"d":"0.0000"},{"$nulls":3},{"v":0,"d":"0.0000"},{"$nulls":3},{"v":0,"d":"0.0000"},{"v":0,"d":"0.000"},{"v":0,"d":"0.000"}]
[63,"кисель","кг",{"$f":"'Пт День 5 Нед 1'!AB76","v":0},{"$nulls":7},{"v":0,"d":"0.0000"},{"v":0,"d":"0.0000"},{"$nulls":7},{"v":0,"d":"0.0000"},{"v":0,"d":"0.0000"},null,null,{"v":0,"d":"0.0000"},{"$nulls":3},{"v":0,"d":"0.0000"},{"$nulls":3},{"v":0,"d":"0.0000"},{"v":0,"d":"0.000"},{"v":0,"d":"0.000"}]
[64,"кофейный напиток","кг",{"$f":"'Пт День 5 Нед 1'!AB77","v":-0.01},{"$nulls":7},{"v":0,"d":"0.0000"},{"v":0,"d":"0.0000"},{"$nulls":7},{"v":0,"d":"0.0000"},{"v":0,"d":"0.0000"},null,null,{"v":0,"d":"0.0000"},{"$nulls":3},{"v":0,"d":"0.0000"},{"$nulls":3},{"v":0,"d":"0.0000"},{"v":0,"d":"0.000"},{"v":-0.01,"d":"-0.010"}]
[65,"цикорий","кг",{"$f":"'Пт День 5 Нед 1'!AB78","v":0},{"$nulls":7},{"v":0,"d":"0.0000"},{"v":0,"d":"0.0000"},{"$nulls":7},{"v":0,"d":"0.0000"},{"v":0,"d":"0.0000"},null,null,{"v":0,"d":"0.0000"},{"$nulls":3},{"v":0,"d":"0.0000"},{"$nulls":3},{"v":0,"d":"0.0000"},{"v":0,"d":"0.000"},{"v":0,"d":"0.000"}]
[null,"Сухофрукты",null,{"$f":"'Пт День 5 Нед 1'!AB79","v":0},{"$nulls":7},{"v":0,"d":"0.0000"},{"v":0,"d":"0.0000"},{"$nulls":7},{"v":0,"d":"0.0000"},{"v":0,"d":"0.0000"},null,null,{"v":0,"d":"0.0000"},{"$nulls":3},{"v":0,"d":"0.0000"},{"$nulls":3},{"v":0,"d":"0.0000"},{"v":0,"d":"0.000"},{"v":0,"d":"0.000"}]
[66,"ассорти для компота (сухофрукты)","кг",{"$f":"'Пт День 5 Нед 1'!AB80","v":-0.0816},{"$nulls":7},{"v":0,"d":"0.0000"},{"v":0,"d":"0.0000"},{"$nulls":7},{"v":0,"d":"0.0000"},{"v":0,"d":"0.0000"},null,null,{"v":0,"d":"0.0000"},{"$nulls":3},{"v":0,"d":"0.0000"},{"$nulls":3},{"v":0,"d":"0.0000"},{"v":0,"d":"0.000"},{"v":-0.0816,"d":"-0.082"}]
[67,"изюм","кг",{"$f":"'Пт День 5 Нед 1'!AB81","v":-0.0102},{"$nulls":7},{"v":0,"d":"0.0000"},{"v":0,"d":"0.0000"},{"$nulls":7},{"v":0,"d":"0.0000"},{"v":0,"d":"0.0000"},null,null,{"v":0,"d":"0.0000"},{"$nulls":3},{"v":0,"d":"0.0000"},{"$nulls":3},{"v":0,"d":"0.0000"},{"v":0,"d":"0.000"},{"v":-0.0102,"d":"-0.010"}]
[68,"курага","кг",{"$f":"'Пт День 5 Нед 1'!AB82","v":0},{"$nulls":7},{"v":0,"d":"0.0000"},{"v":0,"d":"0.0000"},{"$nulls":7},{"v":0,"d":"0.0000"},{"v":0,"d":"0.0000"},null,null,{"v":0,"d":"0.0000"},{"$nulls":3},{"v":0,"d":"0.0000"},{"$nulls":3},{"v":0,"d":"0.0000"},{"v":0,"d":"0.000"},{"v":0,"d":"0.000"}]
[69,"урюк","кг",{"$f":"'Пт День 5 Нед 1'!AB83","v":-0.0204},{"$nulls":7},{"v":0,"d":"0.0000"},{"v":0,"d":"0.0000"},{"$nulls":7},{"v":0,"d":"0.0000"},{"v":0,"d":"0.0000"},null,null,{"v":0,"d":"0.0000"},null,0.0204,null,{"v":0,"d":"0.0000"},{"$nulls":3},{"v":0,"d":"0.0000"},{"v":0,"d":"0.000"},{"v":-0.0204,"d":"-0.020"}]
[70,"шиповник","кг",{"$f":"'Пт День 5 Нед 1'!AB84","v":-0.0253},{"$nulls":7},{"v":0,"d":"0.0000"},{"v":0,"d":"0.0000"},{"$nulls":7},{"v":0,"d":"0.0000"},{"v":0,"d":"0.0000"},null,null,{"v":0,"d":"0.0000"},{"$nulls":3},{"v":0,"d":"0.0000"},{"$nulls":3},{"v":0,"d":"0.0000"},{"v":0,"d":"0.000"},{"v":-0.0253,"d":"-0.025"}]
[71,"компотная смесь с/м","кг",{"$f":"'Пт День 5 Нед 1'!AB85","v":0},{"$nulls":7},{"v":0,"d":"0.0000"},{"v":0,"d":"0.0000"},{"$nulls":7},{"v":0,"d":"0.0000"},{"v":0,"d":"0.0000"},null,null,{"v":0,"d":"0.0000"},{"$nulls":3},{"v":0,"d":"0.0000"},{"$nulls":3},{"v":0,"d":"0.0000"},{"v":0,"d":"0.000"},{"v":0,"d":"0.000"}]
[72,"вишня с/м","кг",{"$f":"'Пт День 5 Нед 1'!AB86","v":0},{"$nulls":7},{"v":0,"d":"0.0000"},{"v":0,"d":"0.0000"},{"$nulls":7},{"v":0,"d":"0.0000"},{"v":0,"d":"0.0000"},null,null,{"v":0,"d":"0.0000"},{"$nulls":3},{"v":0,"d":"0.0000"},{"$nulls":3},{"v":0,"d":"0.0000"},{"v":0,"d":"0.000"},{"v":0,"d":"0.000"}]
[73,"клюква с/м","кг",{"$f":"'Пт День 5 Нед 1'!AB87","v":0},{"$nulls":7},{"v":0,"d":"0.0000"},{"v":0,"d":"0.0000"},{"$nulls":7},{"v":0,"d":"0.0000"},{"v":0,"d":"0.0000"},null,null,{"v":0,"d":"0.0000"},{"$nulls":3},{"v":0,"d":"0.0000"},{"$nulls":3},{"v":0,"d":"0.0000"},{"v":0,"d":"0.000"},{"v":0,"d":"0.000"}]
[74,"смородина в ассорт с/м","кг",{"$f":"'Пт День 5 Нед 1'!AB88","v":0},{"$nulls":7},{"v":0,"d":"0.0000"},{"v":0,"d":"0.0000"},{"$nulls":7},{"v":0,"d":"0.0000"},{"v":0,"d":"0.0000"},null,null,{"v":0,"d":"0.0000"},{"$nulls":3},{"v":0,"d":"0.0000"},{"$nulls":3},{"v":0,"d":"0.0000"},{"v":0,"d":"0.000"},{"v":0,"d":"0.000"}]
[75,"облепиха с/м","кг",{"$f":"'Пт День 5 Нед 1'!AB89","v":0},{"$nulls":7},{"v":0,"d":"0.0000"},{"v":0,"d":"0.0000"},{"$nulls":7},{"v":0,"d":"0.0000"},{"v":0,"d":"0.0000"},null,null,{"v":0,"d":"0.0000"},{"$nulls":3},{"v":0,"d":"0.0000"},{"$nulls":3},{"v":0,"d":"0.0000"},{"v":0,"d":"0.000"},{"v":0,"d":"0.000"}]
[null,"сок ",null,{"$f":"'Пт День 5 Нед 1'!AB90","v":0},{"$nulls":7},{"v":0,"d":"0.0000"},{"v":0,"d":"0.0000"},{"$nulls":7},{"v":0,"d":"0.0000"},{"v":0,"d":"0.0000"},null,null,{"v":0,"d":"0.0000"},{"$nulls":3},{"v":0,"d":"0.0000"},{"$nulls":3},{"$f":"(AD90+AE90+AF90)*$AG$5","v":{"v":0,"d":"0.0000"}},{"v":0,"d":"0.000"},{"v":0,"d":"0.000"}]
[76,"сок 0,125л или 0,2л","л",{"$f":"'Пт День 5 Нед 1'!AB91","v":0},{"$nulls":7},{"v":0,"d":"0.0000"},{"v":0,"d":"0.0000"},{"$nulls":7},{"v":0,"d":"0.0000"},{"v":0,"d":"0.0000"},null,null,{"v":0,"d":"0.0000"},{"$nulls":3},{"v":0,"d":"0.0000"},{"$nulls":3},{"$f":"(AD91+AE91+AF91)*$AG$5","v":{"v":0,"d":"0.0000"}},{"v":0,"d":"0.000"},{"v":0,"d":"0.000"}]
[77,"нектар плодовый","л",{"$f":"'Пт День 5 Нед 1'!AB92","v":0},{"$nulls":7},{"v":0,"d":"0.0000"},{"v":0,"d":"0.0000"},{"$nulls":7},{"v":0,"d":"0.0000"},{"v":0,"d":"0.0000"},null,null,{"v":0,"d":"0.0000"},{"$nulls":3},{"v":0,"d":"0.0000"},{"$nulls":3},{"$f":"(AD92+AE92+AF92)*$AG$5","v":{"v":0,"d":"0.0000"}},{"v":0,"d":"0.000"},{"v":0,"d":"0.000"}]
[null,"Кондитерка",null,{"$f":"'Пт День 5 Нед 1'!AB93","v":0},{"$nulls":7},{"v":0,"d":"0.0000"},{"v":0,"d":"0.0000"},{"$nulls":7},{"v":0,"d":"0.0000"},{"v":0,"d":"0.0000"},null,null,{"v":0,"d":"0.0000"},{"$nulls":3},{"v":0,"d":"0.0000"},{"$nulls":3},{"v":0,"d":"0.0000"},{"v":0,"d":"0.000"},{"v":0,"d":"0.000"}]
[78,"батончик злаковый","шт",{"$f":"'Пт День 5 Нед 1'!AB94","v":0},{"$nulls":7},{"v":0,"d":"0.0000"},{"v":0,"d":"0.0000"},{"$nulls":7},{"v":0,"d":"0.0000"},{"v":0,"d":"0.0000"},null,null,{"v":0,"d":"0.0000"},{"$nulls":3},{"v":0,"d":"0.0000"},{"$nulls":3},{"v":0,"d":"0.0000"},{"v":0,"d":"0.000"},{"v":0,"d":"0.000"}]
[79,"пряник","кг",{"$f":"'Пт День 5 Нед 1'!AB95","v":-0.035},{"$nulls":7},{"v":0,"d":"0.0000"},{"v":0,"d":"0.0000"},{"$nulls":7},{"v":0,"d":"0.0000"},{"v":0,"d":"0.0000"},null,null,{"v":0,"d":"0.0000"},{"$nulls":3},{"v":0,"d":"0.0000"},{"$nulls":3},{"v":0,"d":"0.0000"},{"v":0,"d":"0.000"},-0.035]
[80,"вафли ","кг",{"$f":"'Пт День 5 Нед 1'!AB96","v":-0.2},{"$nulls":7},{"v":0,"d":"0.0000"},{"v":0,"d":"0.0000"},{"$nulls":7},{"v":0,"d":"0.0000"},{"v":0,"d":"0.0000"},null,null,{"v":0,"d":"0.0000"},{"$nulls":3},{"v":0,"d":"0.0000"},{"$nulls":3},{"v":0,"d":"0.0000"},{"v":0,"d":"0.000"},{"v":-0.2,"d":"-0.200"}]
[81,"печенье","кг",{"$f":"'Пт День 5 Нед 1'!AB97","v":-0.02},{"$nulls":7},{"v":0,"d":"0.0000"},{"v":0,"d":"0.0000"},{"$nulls":7},{"v":0,"d":"0.0000"},{"v":0,"d":"0.0000"},{"v":0.02,"d":"0.0200"},null,{"v":0.02,"d":"0.0200"},{"$nulls":3},{"v":0,"d":"0.0000"},{"$nulls":3},{"v":0,"d":"0.0000"},{"v":0.02,"d":"0.020"},{"v":-0.04,"d":"-0.040"}]
[82,"крекер","кг",{"$f":"'Пт День 5 Нед 1'!AB98","v":-0.03},{"$nulls":7},{"v":0,"d":"0.0000"},{"v":0,"d":"0.0000"},{"$nulls":7},{"v":0,"d":"0.0000"},{"v":0,"d":"0.0000"},null,null,{"v":0,"d":"0.0000"},{"$nulls":3},{"v":0,"d":"0.0000"},{"$nulls":3},{"v":0,"d":"0.0000"},{"v":0,"d":"0.000"},{"v":-0.03,"d":"-0.030"}]
[83,"сушки","кг",{"$f":"'Пт День 5 Нед 1'!AB99","v":0},{"$nulls":7},{"v":0,"d":"0.0000"},{"v":0,"d":"0.0000"},{"$nulls":7},{"v":0,"d":"0.0000"},{"v":0,"d":"0.0000"},null,null,{"v":0,"d":"0.0000"},{"$nulls":3},{"v":0,"d":"0.0000"},{"$nulls":3},{"v":0,"d":"0.0000"},{"v":0,"d":"0.000"},{"v":0,"d":"0.000"}]
[84,"мармелад","кг",{"$f":"'Пт День 5 Нед 1'!AB100","v":0},{"$nulls":7},{"v":0,"d":"0.0000"},{"v":0,"d":"0.0000"},{"$nulls":7},{"v":0,"d":"0.0000"},{"v":0,"d":"0.0000"},null,null,{"v":0,"d":"0.0000"},{"$nulls":3},{"v":0,"d":"0.0000"},{"$nulls":3},{"$f":"(AD100+AE100+AF100)*$AG$5","v":{"v":0,"d":"0.0000"}},{"v":0,"d":"0.000"},{"v":0,"d":"0.000"}]
[85,"блины п/ф","кг",{"$f":"'Пт День 5 Нед 1'!AB101","v":0},{"$nulls":7},{"v":0,"d":"0.0000"},{"v":0,"d":"0.0000"},{"$nulls":7},{"v":0,"d":"0.0000"},{"v":0,"d":"0.0000"},null,null,{"v":0,"d":"0.0000"},{"$nulls":3},{"v":0,"d":"0.0000"},{"$nulls":3},{"v":0,"d":"0.0000"},{"v":0,"d":"0.000"},{"v":0,"d":"0.000"}]
[86,"выпечка п/ф со склада","шт",{"$f":"'Пт День 5 Нед 1'!AB102","v":0},{"$nulls":7},{"v":0,"d":"0.0000"},{"v":0,"d":"0.0000"},{"$nulls":7},{"v":0,"d":"0.0000"},{"v":0,"d":"0.0000"},null,null,{"v":0,"d":"0.0000"},{"$nulls":3},{"v":0,"d":"0.0000"},{"$nulls":3},{"v":0,"d":"0.0000"},{"v":0,"d":"0.000"},{"v":0,"d":"0.000"}]
[null,"Яйцо",null,{"$f":"'Пт День 5 Нед 1'!AB103","v":0},{"$nulls":7},{"v":0,"d":"0.0000"},{"v":0,"d":"0.0000"},{"$nulls":7},{"v":0,"d":"0.0000"},{"v":0,"d":"0.0000"},null,null,{"v":0,"d":"0.0000"},{"$nulls":3},{"v":0,"d":"0.0000"},{"$nulls":3},{"v":0,"d":"0.0000"},{"v":0,"d":"0.000"},{"$f":"(D103+E103)-AH103","v":{"v":0,"d":"0.000"}}]
[87,"яйцо куриное","кг",{"$f":"'Пт День 5 Нед 1'!AB104","v":-0.00288},{"$nulls":7},{"v":0,"d":"0.0000"},{"v":0,"d":"0.0000"},{"$nulls":7},{"v":0,"d":"0.0000"},{"v":0,"d":"0.0000"},null,null,{"v":0,"d":"0.0000"},{"$nulls":3},{"v":0,"d":"0.0000"},{"v":0.00096,"d":"0.0010"},null,null,{"v":0.00096,"d":"0.0010"},{"v":0.00096,"d":"0.001"},{"v":-0.00384,"d":"-0.004"}]
[null,0.048,"шт",{"$f":"'Пт День 5 Нед 1'!AB105","v":0},{"$nulls":7},{"v":0,"d":"0.0000"},{"v":0,"d":"0.0000"},{"$nulls":7},{"v":0,"d":"0.0000"},{"v":0,"d":"0.0000"},null,null,{"v":0,"d":"0.0000"},{"$nulls":3},{"v":0,"d":"0.0000"},{"$nulls":3},{"v":0,"d":"0.0000"},{"v":0,"d":"0.000"},{"v":0,"d":"0.000"}]
[null,"Овощи заморозка",null,{"$f":"'Пт День 5 Нед 1'!AB106","v":0},{"$nulls":7},{"v":0,"d":"0.0000"},{"v":0,"d":"0.0000"},{"$nulls":7},{"v":0,"d":"0.0000"},{"v":0,"d":"0.0000"},null,null,{"v":0,"d":"0.0000"},{"$nulls":3},{"v":0,"d":"0.0000"},{"$nulls":3},{"v":0,"d":"0.0000"},{"v":0,"d":"0.000"},{"v":0,"d":"0.000"}]
[88,"зеленый горошек с/м","кг",{"$f":"'Пт День 5 Нед 1'!AB107","v":0},{"$nulls":7},{"v":0,"d":"0.0000"},{"v":0,"d":"0.0000"},{"$nulls":7},{"v":0,"d":"0.0000"},{"v":0,"d":"0.0000"},null,null,{"v":0,"d":"0.0000"},{"$nulls":3},{"v":0,"d":"0.0000"},{"$nulls":3},{"v":0,"d":"0.0000"},{"v":0,"d":"0.000"},{"v":0,"d":"0.000"}]
[89,"кабачки с/м","кг",{"$f":"'Пт День 5 Нед 1'!AB108","v":0},{"$nulls":7},{"v":0,"d":"0.0000"},{"v":0,"d":"0.0000"},{"$nulls":7},{"v":0,"d":"0.0000"},{"v":0,"d":"0.0000"},null,null,{"v":0,"d":"0.0000"},{"$nulls":3},{"v":0,"d":"0.0000"},{"$nulls":3},{"v":0,"d":"0.0000"},{"v":0,"d":"0.000"},{"v":0,"d":"0.000"}]
[90,"мексиканс смесь с/м","кг",{"$f":"'Пт День 5 Нед 1'!AB109","v":0},{"$nulls":7},{"v":0,"d":"0.0000"},{"v":0,"d":"0.0000"},{"$nulls":7},{"v":0,"d":"0.0000"},{"v":0,"d":"0.0000"},null,null,{"v":0,"d":"0.0000"},{"$nulls":3},{"v":0,"d":"0.0000"},{"$nulls":3},{"v":0,"d":"0.0000"},{"v":0,"d":"0.000"},{"v":0,"d":"0.000"}]
[91,"капуста цветная с/м","кг",{"$f":"'Пт День 5 Нед 1'!AB110","v":0},{"$nulls":7},{"v":0,"d":"0.0000"},{"v":0,"d":"0.0000"},{"$nulls":7},{"v":0,"d":"0.0000"},{"v":0,"d":"0.0000"},null,null,{"v":0,"d":"0.0000"},{"$nulls":3},{"v":0,"d":"0.0000"},{"$nulls":3},{"v":0,"d":"0.0000"},{"v":0,"d":"0.000"},{"v":0,"d":"0.000"}]
[92,"брокколи с/м","кг",{"$f":"'Пт День 5 Нед 1'!AB111","v":0},{"$nulls":7},{"v":0,"d":"0.0000"},{"v":0,"d":"0.0000"},{"$nulls":7},{"v":0,"d":"0.0000"},{"v":0,"d":"0.0000"},null,null,{"v":0,"d":"0.0000"},{"$nulls":3},{"v":0,"d":"0.0000"},{"$nulls":3},{"v":0,"d":"0.0000"},{"v":0,"d":"0.000"},{"v":0,"d":"0.000"}]
[93,"кукуруза с/м","кг",{"$f":"'Пт День 5 Нед 1'!AB112","v":0},{"$nulls":7},{"v":0,"d":"0.0000"},{"v":0,"d":"0.0000"},{"$nulls":7},{"v":0,"d":"0.0000"},{"v":0,"d":"0.0000"},null,null,{"v":0,"d":"0.0000"},{"$nulls":3},{"v":0,"d":"0.0000"},{"$nulls":3},{"v":0,"d":"0.0000"},{"v":0,"d":"0.000"},{"v":0,"d":"0.000"}]
[94,"фасоль стручковая с/м","кг",{"$f":"'Пт День 5 Нед 1'!AB113","v":0},{"$nulls":7},{"v":0,"d":"0.0000"},{"v":0,"d":"0.0000"},{"$nulls":7},{"v":0,"d":"0.0000"},{"v":0,"d":"0.0000"},null,null,{"v":0,"d":"0.0000"},{"$nulls":3},{"v":0,"d":"0.0000"},{"$nulls":3},{"v":0,"d":"0.0000"},{"v":0,"d":"0.000"},{"v":0,"d":"0.000"}]
[null,"Фрукты",null,{"$f":"'Пт День 5 Нед 1'!AB114","v":0},{"$nulls":7},{"v":0,"d":"0.0000"},{"v":0,"d":"0.0000"},{"$nulls":7},{"v":0,"d":"0.0000"},{"v":0,"d":"0.0000"},null,null,{"v":0,"d":"0.0000"},{"$nulls":3},{"v":0,"d":"0.0000"},{"$nulls":3},{"v":0,"d":"0.0000"},{"v":0,"d":"0.000"},{"v":0,"d":"0.000"}]
[95,"апельсин","кг",{"$f":"'Пт День 5 Нед 1'!AB115","v":0},{"$nulls":7},{"v":0,"d":"0.0000"},{"v":0,"d":"0.0000"},{"$nulls":7},{"v":0,"d":"0.0000"},{"v":0,"d":"0.0000"},null,null,{"v":0,"d":"0.0000"},{"$nulls":3},{"v":0,"d":"0.0000"},{"$nulls":3},{"v":0,"d":"0.0000"},{"v":0,"d":"0.000"},{"v":0,"d":"0.000"}]
[96,"банан","кг",{"$f":"'Пт День 5 Нед 1'!AB116","v":0},{"$nulls":7},{"v":0,"d":"0.0000"},{"v":0,"d":"0.0000"},{"$nulls":7},{"v":0,"d":"0.0000"},{"v":0,"d":"0.0000"},null,null,{"v":0,"d":"0.0000"},{"$nulls":3},{"v":0,"d":"0.0000"},{"$nulls":3},{"v":0,"d":"0.0000"},{"v":0,"d":"0.000"},{"v":0,"d":"0.000"}]
[97,"груши","кг",{"$f":"'Пт День 5 Нед 1'!AB117","v":0},{"$nulls":7},{"v":0,"d":"0.0000"},{"v":0,"d":"0.0000"},{"$nulls":7},{"v":0,"d":"0.0000"},{"v":0,"d":"0.0000"},null,null,{"v":0,"d":"0.0000"},{"$nulls":3},{"v":0,"d":"0.0000"},{"$nulls":3},{"v":0,"d":"0.0000"},{"v":0,"d":"0.000"},{"v":0,"d":"0.000"}]
[98,"мандарины","кг",{"$f":"'Пт День 5 Нед 1'!AB118","v":0},{"$nulls":7},{"v":0,"d":"0.0000"},{"v":0,"d":"0.0000"},{"$nulls":7},{"v":0,"d":"0.0000"},{"v":0,"d":"0.0000"},null,null,{"v":0,"d":"0.0000"},{"$nulls":3},{"v":0,"d":"0.0000"},{"$nulls":3},{"v":0,"d":"0.0000"},{"v":0,"d":"0.000"},{"v":0,"d":"0.000"}]
[99,"лимон","кг",{"$f":"'Пт День 5 Нед 1'!AB119","v":-0.012},{"$nulls":5},0.0056,null,0.0056,0.0056,{"$nulls":4},0.0056,null,null,0.0056,0.0056,null,null,{"v":0,"d":"0.0000"},{"$nulls":3},{"v":0,"d":"0.0000"},{"$nulls":3},{"v":0,"d":"0.0000"},{"v":0.0224,"d":"0.022"},{"v":-0.0344,"d":"-0.034"}]
[100,"яблоки свежие","кг",{"$f":"'Пт День 5 Нед 1'!AB120","v":-0.6910000000000001},{"$nulls":7},{"v":0,"d":"0.0000"},{"v":0,"d":"0.0000"},{"$nulls":7},{"v":0,"d":"0.0000"},{"v":0,"d":"0.0000"},null,null,{"v":0,"d":"0.0000"},{"$nulls":3},{"v":0,"d":"0.0000"},{"$nulls":3},{"v":0,"d":"0.0000"},{"v":0,"d":"0.000"},{"v":-0.6910000000000001,"d":"-0.691"}]
[null,"Овощи / зелень ",null,{"$f":"'Пт День 5 Нед 1'!AB121","v":0},{"$nulls":7},{"v":0,"d":"0.0000"},{"v":0,"d":"0.0000"},{"$nulls":7},{"v":0,"d":"0.0000"},{"v":0,"d":"0.0000"},null,null,{"v":0,"d":"0.0000"},{"$nulls":3},{"v":0,"d":"0.0000"},{"$nulls":3},{"v":0,"d":"0.0000"},{"v":0,"d":"0.000"},{"v":0,"d":"0.000"}]
[101,"капуста свежая","кг",{"$f":"'Пт День 5 Нед 1'!AB122","v":-0.205},{"$nulls":7},{"v":0,"d":"0.0000"},{"v":0,"d":"0.0000"},{"$nulls":7},{"v":0,"d":"0.0000"},{"v":0,"d":"0.0000"},null,null,{"v":0,"d":"0.0000"},{"$nulls":3},{"v":0,"d":"0.0000"},{"v":0.025,"d":"0.0250"},null,null,{"v":0.025,"d":"0.0250"},0.025,{"v":-0.22999999999999998,"d":"-0.230"}]
[102,"картофель","кг",{"$f":"'Пт День 5 Нед 1'!AB123","v":-0.89137},{"$nulls":7},{"v":0,"d":"0.0000"},{"v":0,"d":"0.0000"},{"$nulls":7},{"v":0,"d":"0.0000"},{"v":0,"d":"0.0000"},null,null,{"v":0,"d":"0.0000"},{"$nulls":3},{"v":0,"d":"0.0000"},0.0268,null,null,0.0268,{"v":0.0268,"d":"0.027"},{"v":-0.91817,"d":"-0.918"}]
[103,"лук репчатый","кг",{"$f":"'Пт День 5 Нед 1'!AB124","v":-0.1488},null,null,{"v":0.012,"d":"0.0120"},{"$nulls":4},{"v":0.012,"d":"0.0120"},{"v":0,"d":"0.0000"},null,{"v":0.012,"d":"0.0120"},{"$nulls":5},{"v":0.012,"d":"0.0120"},{"v":0,"d":"0.0000"},null,null,{"v":0,"d":"0.0000"},{"$nulls":3},{"v":0,"d":"0.0000"},{"v":0.012,"d":"0.0120"},null,null,{"v":0.012,"d":"0.0120"},{"v":0.036000000000000004,"d":"0.036"},{"v":-0.1848,"d":"-0.185"}]
[104,"морковь","кг",{"$f":"'Пт День 5 Нед 1'!AB125","v":-0.11624999999999999},{"$nulls":7},{"v":0,"d":"0.0000"},{"v":0,"d":"0.0000"},{"$nulls":7},{"v":0,"d":"0.0000"},{"v":0,"d":"0.0000"},null,null,{"v":0,"d":"0.0000"},{"$nulls":3},{"v":0,"d":"0.0000"},0.0125,null,null,0.0125,{"v":0.0125,"d":"0.013"},{"v":-0.12875,"d":"-0.129"}]
[105,"свекла","кг",{"$f":"'Пт День 5 Нед 1'!AB126","v":-0.242},{"$nulls":7},{"v":0,"d":"0.0000"},{"v":0,"d":"0.0000"},{"$nulls":7},{"v":0,"d":"0.0000"},{"v":0,"d":"0.0000"},null,null,{"v":0,"d":"0.0000"},{"$nulls":3},{"v":0,"d":"0.0000"},{"v":0.05,"d":"0.0500"},null,null,{"v":0.05,"d":"0.0500"},{"v":0.05,"d":"0.050"},-0.292]
[106,"огурцы св.","кг",{"$f":"'Пт День 5 Нед 1'!AB127","v":0},{"$nulls":7},{"v":0,"d":"0.0000"},{"v":0,"d":"0.0000"},{"$nulls":7},{"v":0,"d":"0.0000"},{"v":0,"d":"0.0000"},null,null,{"v":0,"d":"0.0000"},{"$nulls":3},{"v":0,"d":"0.0000"},{"$nulls":3},{"v":0,"d":"0.0000"},{"v":0,"d":"0.000"},{"v":0,"d":"0.000"}]
[107,"томаты св.","кг",{"$f":"'Пт День 5 Нед 1'!AB128","v":0},{"$nulls":7},{"v":0,"d":"0.0000"},{"v":0,"d":"0.0000"},{"$nulls":7},{"v":0,"d":"0.0000"},{"v":0,"d":"0.0000"},null,null,{"v":0,"d":"0.0000"},{"$nulls":3},{"v":0,"d":"0.0000"},{"$nulls":3},{"v":0,"d":"0.0000"},{"v":0,"d":"0.000"},{"v":0,"d":"0.000"}]
[108,"перец болг.красный","кг",{"$f":"'Пт День 5 Нед 1'!AB129","v":0},{"$nulls":7},{"v":0,"d":"0.0000"},{"v":0,"d":"0.0000"},{"$nulls":7},{"v":0,"d":"0.0000"},{"v":0,"d":"0.0000"},null,null,{"v":0,"d":"0.0000"},{"$nulls":3},{"v":0,"d":"0.0000"},{"$nulls":3},{"v":0,"d":"0.0000"},{"v":0,"d":"0.000"},{"v":0,"d":"0.000"}]
[109,"тыква","кг",{"$f":"'Пт День 5 Нед 1'!AB130","v":0},{"$nulls":7},{"v":0,"d":"0.0000"},{"v":0,"d":"0.0000"},{"$nulls":7},{"v":0,"d":"0.0000"},{"v":0,"d":"0.0000"},null,null,{"v":0,"d":"0.0000"},{"$nulls":3},{"v":0,"d":"0.0000"},{"$nulls":3},{"v":0,"d":"0.0000"},{"v":0,"d":"0.000"},{"v":0,"d":"0.000"}]
[null,"Овощи очищенные",null,{"$f":"'Пт День 5 Нед 1'!AB131","v":0},{"$nulls":7},{"v":0,"d":"0.0000"},{"v":0,"d":"0.0000"},{"$nulls":7},{"v":0,"d":"0.0000"},{"v":0,"d":"0.0000"},null,null,{"v":0,"d":"0.0000"},{"$nulls":3},{"v":0,"d":"0.0000"},{"$nulls":3},{"v":0,"d":"0.0000"},{"v":0,"d":"0.000"},{"v":0,"d":"0.000"}]
[110,"капуста св.очищенная","кг",{"$f":"'Пт День 5 Нед 1'!AB132","v":0},{"$nulls":7},{"v":0,"d":"0.0000"},{"v":0,"d":"0.0000"},{"$nulls":7},{"v":0,"d":"0.0000"},{"v":0,"d":"0.0000"},null,null,{"v":0,"d":"0.0000"},{"$nulls":3},{"v":0,"d":"0.0000"},{"$nulls":3},{"v":0,"d":"0.0000"},{"v":0,"d":"0.000"},{"v":0,"d":"0.000"}]
[111,"картофель св. очищенный","кг",{"$f":"'Пт День 5 Нед 1'!AB133","v":0},{"$nulls":7},{"v":0,"d":"0.0000"},{"v":0,"d":"0.0000"},{"$nulls":7},{"v":0,"d":"0.0000"},{"v":0,"d":"0.0000"},null,null,{"v":0,"d":"0.0000"},{"$nulls":3},{"v":0,"d":"0.0000"},{"$nulls":3},{"v":0,"d":"0.0000"},{"v":0,"d":"0.000"},{"v":0,"d":"0.000"}]
[112,"лук репчатый св.очищенный","кг",{"$f":"'Пт День 5 Нед 1'!AB134","v":0},{"$nulls":7},{"v":0,"d":"0.0000"},{"v":0,"d":"0.0000"},{"$nulls":7},{"v":0,"d":"0.0000"},{"v":0,"d":"0.0000"},null,null,{"v":0,"d":"0.0000"},{"$nulls":3},{"v":0,"d":"0.0000"},{"$nulls":3},{"v":0,"d":"0.0000"},{"v":0,"d":"0.000"},{"v":0,"d":"0.000"}]
[113,"морковь св.очищенная","кг",{"$f":"'Пт День 5 Нед 1'!AB135","v":0},{"$nulls":7},{"v":0,"d":"0.0000"},{"v":0,"d":"0.0000"},{"$nulls":7},{"v":0,"d":"0.0000"},{"v":0,"d":"0.0000"},null,null,{"v":0,"d":"0.0000"},{"$nulls":3},{"v":0,"d":"0.0000"},{"$nulls":3},{"v":0,"d":"0.0000"},{"v":0,"d":"0.000"},{"$f":"(D135+E135)-AH135","v":{"v":0,"d":"0.000"}}]
[114,"свекла св.очищенная","кг",{"$f":"'Пт День 5 Нед 1'!AB136","v":0},{"$nulls":7},{"$f":"(K136+J136+G136+F136+I136)*$L$5","v":{"v":0,"d":"0.0000"}},{"$f":"(K136+J136+I136+F136+H136)*$M$5","v":{"v":0,"d":"0.0000"}},{"$nulls":7},{"$f":"(N136+O136+Q136+R136+S136)*$U$5","v":{"v":0,"d":"0.0000"}},{"$f":"(N136+P136+Q136+R136+S136)*$V$5","v":{"v":0,"d":"0.0000"}},null,null,{"$f":"(X136+W136)*$Y$5","v":{"v":0,"d":"0.0000"}},{"$nulls":3},{"$f":"(AB136+AA136+Z136)*$AC$5","v":{"v":0,"d":"0.0000"}},{"$nulls":3},{"v":0,"d":"0.0000"},{"$f":"L136+M136+U136+V136+Y136+AG136","v":{"v":0,"d":"0.000"}},{"v":0,"d":"0.000"}]
[null,"Полуфабрикаты",null,{"$f":"'Пт День 5 Нед 1'!AB137","v":0},{"$nulls":7},{"v":0,"d":"0.0000"},{"v":0,"d":"0.0000"},{"$nulls":7},{"v":0,"d":"0.0000"},{"v":0,"d":"0.0000"},null,null,{"v":0,"d":"0.0000"},{"$nulls":3},{"v":0,"d":"0.0000"},{"$nulls":3},{"$f":"(AD137+AE137+AF137)*$AG$5","v":{"v":0,"d":"0.0000"}},{"v":0,"d":"0.000"},{"v":0,"d":"0.000"}]
[115,"сырники ПФ","шт",{"$f":"'Пт День 5 Нед 1'!AB138","v":-2},{"$nulls":7},{"v":0,"d":"0.0000"},{"v":0,"d":"0.0000"},{"$nulls":7},{"v":0,"d":"0.0000"},{"v":0,"d":"0.0000"},null,null,{"v":0,"d":"0.0000"},{"$nulls":8},{"v":0,"d":"0.000"},{"v":-2,"d":"-2.000"}]
[116,"пельмени ПФ","кг",{"$f":"'Пт День 5 Нед 1'!AB139","v":0},{"$nulls":7},{"v":0,"d":"0.0000"},{"v":0,"d":"0.0000"},{"$nulls":7},{"v":0,"d":"0.0000"},{"v":0,"d":"0.0000"},null,null,{"v":0,"d":"0.0000"},{"$nulls":3},{"v":0,"d":"0.0000"},{"$nulls":3},{"$f":"(AD139+AE139+AF139)*$AG$5","v":{"v":0,"d":"0.0000"}},{"v":0,"d":"0.000"},{"v":0,"d":"0.000"}]
[117,"биточки рыбные 85 гр","шт",{"$f":"'Пт День 5 Нед 1'!AB140","v":0},{"$nulls":3},1,{"$nulls":3},{"v":0,"d":"0.0000"},{"v":1,"d":"1.0000"},null,null,1,{"$nulls":4},{"v":0,"d":"0.0000"},{"v":1,"d":"1.0000"},null,null,{"v":0,"d":"0.0000"},{"$nulls":3},{"v":0,"d":"0.0000"},{"$nulls":3},{"$f":"(AD140+AE140+AF140)*$AG$5","v":{"v":0,"d":"0.0000"}},{"v":2,"d":"2.000"},{"v":-2,"d":"-2.000"}]
[118,"фрикадельки мясные ","кг",{"$f":"'Пт День 5 Нед 1'!AB141","v":0},{"$nulls":7},{"v":0,"d":"0.0000"},{"v":0,"d":"0.0000"},{"$nulls":7},{"v":0,"d":"0.0000"},{"v":0,"d":"0.0000"},null,null,{"v":0,"d":"0.0000"},{"$nulls":3},{"v":0,"d":"0.0000"},{"$nulls":3},{"$f":"(AD141+AE141+AF141)*$AG$5","v":{"v":0,"d":"0.0000"}},{"v":0,"d":"0.000"},{"v":0,"d":"0.000"}]
[119,"фрикадельки куриные","кг",{"$f":"'Пт День 5 Нед 1'!AB142","v":0},{"$nulls":7},{"v":0,"d":"0.0000"},{"v":0,"d":"0.0000"},{"$nulls":7},{"v":0,"d":"0.0000"},{"v":0,"d":"0.0000"},null,null,{"v":0,"d":"0.0000"},{"$nulls":3},{"v":0,"d":"0.0000"},{"$nulls":3},{"$f":"(AD142+AE142+AF142)*$AG$5","v":{"v":0,"d":"0.0000"}},{"v":0,"d":"0.000"},{"v":0,"d":"0.000"}]
[120,"хинкали п/ф из говядины","кг",{"$f":"'Пт День 5 Нед 1'!AB143","v":0},{"$nulls":7},{"v":0,"d":"0.0000"},{"v":0,"d":"0.0000"},{"$nulls":7},{"v":0,"d":"0.0000"},{"v":0,"d":"0.0000"},null,null,{"v":0,"d":"0.0000"},{"$nulls":3},{"v":0,"d":"0.0000"},{"$nulls":3},{"v":0,"d":"0.0000"},{"v":0,"d":"0.000"},{"v":0,"d":"0.000"}]
[121,"котлеты из говядины \"Домашне\"  ","шт",{"$f":"'Пт День 5 Нед 1'!AB144","v":-2},{"$nulls":7},{"v":0,"d":"0.0000"},{"v":0,"d":"0.0000"},{"$nulls":7},{"v":0,"d":"0.0000"},{"v":0,"d":"0.0000"},null,null,{"v":0,"d":"0.0000"},{"$nulls":3},{"v":0,"d":"0.0000"},{"$nulls":3},{"v":0,"d":"0.0000"},{"v":0,"d":"0.000"},{"v":-2,"d":"-2.000"}]
[122,"бифштекс из говядины","шт",{"$f":"'Пт День 5 Нед 1'!AB145","v":0},{"$nulls":7},{"v":0,"d":"0.0000"},{"v":0,"d":"0.0000"},{"$nulls":7},{"v":0,"d":"0.0000"},{"v":0,"d":"0.0000"},null,null,{"v":0,"d":"0.0000"},{"$nulls":3},{"v":0,"d":"0.0000"},{"$nulls":3},{"v":0,"d":"0.0000"},{"v":0,"d":"0.000"},{"v":0,"d":"0.000"}]
[123,"котлеты из мяса кур","шт",{"$f":"'Пт День 5 Нед 1'!AB146","v":0},{"$nulls":7},{"v":0,"d":"0.0000"},{"v":0,"d":"0.0000"},{"$nulls":7},{"v":0,"d":"0.0000"},{"v":0,"d":"0.0000"},null,null,{"v":0,"d":"0.0000"},{"$nulls":3},{"v":0,"d":"0.0000"},{"$nulls":3},{"v":0,"d":"0.0000"},{"v":0,"d":"0.000"},{"v":0,"d":"0.000"}]
[124,"котлеты \"Аппетитные\" мясо-куриные  ","шт",{"$f":"'Пт День 5 Нед 1'!AB147","v":0},{"$nulls":7},{"v":0,"d":"0.0000"},{"v":0,"d":"0.0000"},{"$nulls":7},{"v":0,"d":"0.0000"},{"v":0,"d":"0.0000"},null,null,{"v":0,"d":"0.0000"},{"$nulls":3},{"v":0,"d":"0.0000"},{"$nulls":3},{"v":0,"d":"0.0000"},{"v":0,"d":"0.000"},{"v":0,"d":"0.000"}]
[125,"ежики мясные с рисом ","шт",{"$f":"'Пт День 5 Нед 1'!AB148","v":0},{"$nulls":7},{"v":0,"d":"0.0000"},{"v":0,"d":"0.0000"},{"$nulls":7},{"v":0,"d":"0.0000"},{"v":0,"d":"0.0000"},null,null,{"v":0,"d":"0.0000"},{"$nulls":3},{"v":0,"d":"0.0000"},{"$nulls":3},{"v":0,"d":"0.0000"},{"v":0,"d":"0.000"},{"v":0,"d":"0.000"}]

{"sheet":"Итого за 1 нед","index":6,"n_rows":148,"n_cols":9,"rows_kept":148,"merged":[[0,0,0,7],[1,3,2,3],[1,4,2,4],[1,5,2,5],[1,6,2,6],[1,7,2,7],[1,8,2,8]]}
["Расход продуктов питания в образовательных учереждениях  "]
[null,"итого за 6 дней 1 неделя",null,"ИТОГО  Кол-во учащихся                        1 - 4 кл                            69,43 РУБ","ИТОГО   Кол-во учащихся                   5-11  кл                           69,43 РУБ","ИТОГО  Кол-во учащихся по меню на           9,60 РУБ","ИТОГО  Кол-во учащихся по меню на     КАШИ на молоке   ","ИТОГО  Кол-во учащихся по меню   СУП                 32,45 РУБ","ВСЕГО ЗА неделю расход продуктов по всем рационам"]
[]
[null,"КОЛИЧЕСТВО ДЕТЕЙ",null,{"$f":"'Пн День 1 Нед 1'!J5+'Вт День 2 Нед 1'!L5+'Ср День 3 Нед 1'!L5+'Чт День 4 Нед 1'!L5+'Чт День 4 Нед 1'!M5+'Пт День 5 Нед 1'!J5+'Сб День 6 Нед 1'!L5+'Сб День 6 Нед 1'!M5","v":8},{"$f":"'Пн День 1 Нед 1'!O5+'Вт День 2 Нед 1'!T5+'Ср День 3 Нед 1'!R5+'Чт День 4 Нед 1'!T5+'Чт День 4 Нед 1'!U5+'Пт День 5 Нед 1'!O5+'Сб День 6 Нед 1'!U5+'Сб День 6 Нед 1'!V5","v":8},{"$f":"'Сб День 6 Нед 1'!Y5+'Пт День 5 Нед 1'!R5+'Чт День 4 Нед 1'!X5+'Ср День 3 Нед 1'!U5+'Вт День 2 Нед 1'!W5+'Пн День 1 Нед 1'!R5","v":6},{"$f":"'Сб День 6 Нед 1'!AC5+'Пт День 5 Нед 1'!V5+'Чт День 4 Нед 1'!AB5+'Ср День 3 Нед 1'!Y5+'Вт День 2 Нед 1'!AA5+'Пн День 1 Нед 1'!V5","v":0},{"$f":"'Сб День 6 Нед 1'!AG5+'Пт День 5 Нед 1'!Z5+'Чт День 4 Нед 1'!AF5+'Ср День 3 Нед 1'!AC5+'Вт День 2 Нед 1'!AE5+'Пн День 1 Нед 1'!Z5","v":6},{"$f":"D4+E4+F4+G4+H4","v":28}]
[null,"Выход,гр"]
[null,"Хлеб"]
[1,"батон ","кг",{"$f":"'Пн День 1 Нед 1'!J7+'Вт День 2 Нед 1'!L7+'Ср День 3 Нед 1'!L7+'Чт День 4 Нед 1'!L7+'Чт День 4 Нед 1'!M7+'Пт День 5 Нед 1'!J7+'Сб День 6 Нед 1'!L7+'Сб День 6 Нед 1'!M7","v":{"v":0,"d":"0.0000"}},{"$f":"'Пн День 1 Нед 1'!O7+'Вт День 2 Нед 1'!T7+'Ср День 3 Нед 1'!R7+'Чт День 4 Нед 1'!T7+'Чт День 4 Нед 1'!U7+'Пт День 5 Нед 1'!O7+'Сб День 6 Нед 1'!U7+'Сб День 6 Нед 1'!V7","v":{"v":0,"d":"0.0000"}},{"$f":"'Сб День 6 Нед 1'!Y7+'Пт День 5 Нед 1'!R7+'Чт День 4 Нед 1'!X7+'Ср День 3 Нед 1'!U7+'Вт День 2 Нед 1'!W7+'Пн День 1 Нед 1'!R7","v":{"v":0,"d":"0.0000"}},{"$f":"'Сб День 6 Нед 1'!AC7+'Пт День 5 Нед 1'!V7+'Чт День 4 Нед 1'!AB7+'Ср День 3 Нед 1'!Y7+'Вт День 2 Нед 1'!AA7+'Пн День 1 Нед 1'!V7","v":{"v":0,"d":"0.0000"}},{"$f":"'Сб День 6 Нед 1'!AG7+'Пт День 5 Нед 1'!Z7+'Чт День 4 Нед 1'!AF7+'Ср День 3 Нед 1'!AC7+'Вт День 2 Нед 1'!AE7+'Пн День 1 Нед 1'!Z7","v":{"v":0,"d":"0.0000"}},{"$f":"D7+E7+F7+G7+H7","v":{"v":0,"d":"0.000"}}]
[2,"хлеб пшеничный ","кг",{"$f":"'Пн День 1 Нед 1'!J8+'Вт День 2 Нед 1'!L8+'Ср День 3 Нед 1'!L8+'Чт День 4 Нед 1'!L8+'Чт День 4 Нед 1'!M8+'Пт День 5 Нед 1'!J8+'Сб День 6 Нед 1'!L8+'Сб День 6 Нед 1'!M8","v":0.0833},{"$f":"'Пн День 1 Нед 1'!O8+'Вт День 2 Нед 1'!T8+'Ср День 3 Нед 1'!R8+'Чт День 4 Нед 1'!T8+'Чт День 4 Нед 1'!U8+'Пт День 5 Нед 1'!O8+'Сб День 6 Нед 1'!U8+'Сб День 6 Нед 1'!V8","v":0.1583},{"$f":"'Сб День 6 Нед 1'!Y8+'Пт День 5 Нед 1'!R8+'Чт День 4 Нед 1'!X8+'Ср День 3 Нед 1'!U8+'Вт День 2 Нед 1'!W8+'Пн День 1 Нед 1'!R8","v":{"v":0,"d":"0.0000"}},{"$f":"'Сб День 6 Нед 1'!AC8+'Пт День 5 Нед 1'!V8+'Чт День 4 Нед 1'!AB8+'Ср День 3 Нед 1'!Y8+'Вт День 2 Нед 1'!AA8+'Пн День 1 Нед 1'!V8","v":{"v":0,"d":"0.0000"}},{"$f":"'Сб День 6 Нед 1'!AG8+'Пт День 5 Нед 1'!Z8+'Чт День 4 Нед 1'!AF8+'Ср День 3 Нед 1'!AC8+'Вт День 2 Нед 1'!AE8+'Пн День 1 Нед 1'!Z8","v":{"v":0,"d":"0.0000"}},{"$f":"D8+E8+F8+G8+H8","v":{"v":0.24159999999999998,"d":"0.242"}}]
[3,"хлеб ржаной","кг",{"$f":"'Пн День 1 Нед 1'!J9+'Вт День 2 Нед 1'!L9+'Ср День 3 Нед 1'!L9+'Чт День 4 Нед 1'!L9+'Чт День 4 Нед 1'!M9+'Пт День 5 Нед 1'!J9+'Сб День 6 Нед 1'!L9+'Сб День 6 Нед 1'!M9","v":{"v":0.255,"d":"0.2550"}},{"$f":"'Пн День 1 Нед 1'!O9+'Вт День 2 Нед 1'!T9+'Ср День 3 Нед 1'!R9+'Чт День 4 Нед 1'!T9+'Чт День 4 Нед 1'!U9+'Пт День 5 Нед 1'!O9+'Сб День 6 Нед 1'!U9+'Сб День 6 Нед 1'!V9","v":{"v":0.26,"d":"0.2600"}},{"$f":"'Сб День 6 Нед 1'!Y9+'Пт День 5 Нед 1'!R9+'Чт День 4 Нед 1'!X9+'Ср День 3 Нед 1'!U9+'Вт День 2 Нед 1'!W9+'Пн День 1 Нед 1'!R9","v":{"v":0,"d":"0.0000"}},{"$f":"'Сб День 6 Нед 1'!AC9+'Пт День 5 Нед 1'!V9+'Чт День 4 Нед 1'!AB9+'Ср День 3 Нед 1'!Y9+'Вт День 2 Нед 1'!AA9+'Пн День 1 Нед 1'!V9","v":{"v":0,"d":"0.0000"}},{"$f":"'Сб День 6 Нед 1'!AG9+'Пт День 5 Нед 1'!Z9+'Чт День 4 Нед 1'!AF9+'Ср День 3 Нед 1'!AC9+'Вт День 2 Нед 1'!AE9+'Пн День 1 Нед 1'!Z9","v":{"v":0.18,"d":"0.1800"}},{"v":0.6950000000000001,"d":"0.695"}]
[4,"булоч/выпечка готов с х/клм","шт",{"$f":"'Пн День 1 Нед 1'!J10+'Вт День 2 Нед 1'!L10+'Ср День 3 Нед 1'!L10+'Чт День 4 Нед 1'!L10+'Чт День 4 Нед 1'!M10+'Пт День 5 Нед 1'!J10+'Сб День 6 Нед 1'!L10+'Сб День 6 Нед 1'!M10","v":{"v":0,"d":"0.0000"}},{"$f":"'Пн День 1 Нед 1'!O10+'Вт День 2 Нед 1'!T10+'Ср День 3 Нед 1'!R10+'Чт День 4 Нед 1'!T10+'Чт День 4 Нед 1'!U10+'Пт День 5 Нед 1'!O10+'Сб День 6 Нед 1'!U10+'Сб День 6 Нед 1'!V10","v":{"v":0,"d":"0.0000"}},{"$f":"'Сб День 6 Нед 1'!Y10+'Пт День 5 Нед 1'!R10+'Чт День 4 Нед 1'!X10+'Ср День 3 Нед 1'!U10+'Вт День 2 Нед 1'!W10+'Пн День 1 Нед 1'!R10","v":{"v":1,"d":"1.0000"}},{"$f":"'Сб День 6 Нед 1'!AC10+'Пт День 5 Нед 1'!V10+'Чт День 4 Нед 1'!AB10+'Ср День 3 Нед 1'!Y10+'Вт День 2 Нед 1'!AA10+'Пн День 1 Нед 1'!V10","v":{"v":0,"d":"0.0000"}},{"$f":"'Сб День 6 Нед 1'!AG10+'Пт День 5 Нед 1'!Z10+'Чт День 4 Нед 1'!AF10+'Ср День 3 Нед 1'!AC10+'Вт День 2 Нед 1'!AE10+'Пн День 1 Нед 1'!Z10","v":{"v":0,"d":"0.0000"}},{"v":1,"d":"1.000"}]
[null,"Молочка"]
[5,"молоко 2,5%","кг",{"$f":"'Пн День 1 Нед 1'!J12+'Вт День 2 Нед 1'!L12+'Ср День 3 Нед 1'!L12+'Чт День 4 Нед 1'!L12+'Чт День 4 Нед 1'!M12+'Пт День 5 Нед 1'!J12+'Сб День 6 Нед 1'!L12+'Сб День 6 Нед 1'!M12","v":0.2137},{"$f":"'Пн День 1 Нед 1'!O12+'Вт День 2 Нед 1'!T12+'Ср День 3 Нед 1'!R12+'Чт День 4 Нед 1'!T12+'Чт День 4 Нед 1'!U12+'Пт День 5 Нед 1'!O12+'Сб День 6 Нед 1'!U12+'Сб День 6 Нед 1'!V12","v":0.2434},{"$f":"'Сб День 6 Нед 1'!Y12+'Пт День 5 Нед 1'!R12+'Чт День 4 Нед 1'!X12+'Ср День 3 Нед 1'!U12+'Вт День 2 Нед 1'!W12+'Пн День 1 Нед 1'!R12","v":{"v":0,"d":"0.0000"}},{"$f":"'Сб День 6 Нед 1'!AC12+'Пт День 5 Нед 1'!V12+'Чт День 4 Нед 1'!AB12+'Ср День 3 Нед 1'!Y12+'Вт День 2 Нед 1'!AA12+'Пн День 1 Нед 1'!V12","v":{"v":0,"d":"0.0000"}},{"$f":"'Сб День 6 Нед 1'!AG12+'Пт День 5 Нед 1'!Z12+'Чт День 4 Нед 1'!AF12+'Ср День 3 Нед 1'!AC12+'Вт День 2 Нед 1'!AE12+'Пн День 1 Нед 1'!Z12","v":{"v":0,"d":"0.0000"}},{"v":0.4571,"d":"0.457"}]
[6,"творог 5%","кг",{"$f":"'Пн День 1 Нед 1'!J13+'Вт День 2 Нед 1'!L13+'Ср День 3 Нед 1'!L13+'Чт День 4 Нед 1'!L13+'Чт День 4 Нед 1'!M13+'Пт День 5 Нед 1'!J13+'Сб День 6 Нед 1'!L13+'Сб День 6 Нед 1'!M13","v":{"v":0,"d":"0.0000"}},{"$f":"'Пн День 1 Нед 1'!O13+'Вт День 2 Нед 1'!T13+'Ср День 3 Нед 1'!R13+'Чт День 4 Нед 1'!T13+'Чт День 4 Нед 1'!U13+'Пт День 5 Нед 1'!O13+'Сб День 6 Нед 1'!U13+'Сб День 6 Нед 1'!V13","v":{"v":0,"d":"0.0000"}},{"$f":"'Сб День 6 Нед 1'!Y13+'Пт День 5 Нед 1'!R13+'Чт День 4 Нед 1'!X13+'Ср День 3 Нед 1'!U13+'Вт День 2 Нед 1'!W13+'Пн День 1 Нед 1'!R13","v":{"v":0,"d":"0.0000"}},{"$f":"'Сб День 6 Нед 1'!AC13+'Пт День 5 Нед 1'!V13+'Чт День 4 Нед 1'!AB13+'Ср День 3 Нед 1'!Y13+'Вт День 2 Нед 1'!AA13+'Пн День 1 Нед 1'!V13","v":{"v":0,"d":"0.0000"}},{"$f":"'Сб День 6 Нед 1'!AG13+'Пт День 5 Нед 1'!Z13+'Чт День 4 Нед 1'!AF13+'Ср День 3 Нед 1'!AC13+'Вт День 2 Нед 1'!AE13+'Пн День 1 Нед 1'!Z13","v":{"v":0,"d":"0.0000"}},{"v":0,"d":"0.000"}]
[7,"сметана 15%","кг",{"$f":"'Пн День 1 Нед 1'!J14+'Вт День 2 Нед 1'!L14+'Ср День 3 Нед 1'!L14+'Чт День 4 Нед 1'!L14+'Чт День 4 Нед 1'!M14+'Пт День 5 Нед 1'!J14+'Сб День 6 Нед 1'!L14+'Сб День 6 Нед 1'!M14","v":{"v":0.015,"d":"0.0150"}},{"$f":"'Пн День 1 Нед 1'!O14+'Вт День 2 Нед 1'!T14+'Ср День 3 Нед 1'!R14+'Чт День 4 Нед 1'!T14+'Чт День 4 Нед 1'!U14+'Пт День 5 Нед 1'!O14+'Сб День 6 Нед 1'!U14+'Сб День 6 Нед 1'!V14","v":{"v":0.015,"d":"0.0150"}},{"$f":"'Сб День 6 Нед 1'!Y14+'Пт День 5 Нед 1'!R14+'Чт День 4 Нед 1'!X14+'Ср День 3 Нед 1'!U14+'Вт День 2 Нед 1'!W14+'Пн День 1 Нед 1'!R14","v":{"v":0,"d":"0.0000"}},{"$f":"'Сб День 6 Нед 1'!AC14+'Пт День 5 Нед 1'!V14+'Чт День 4 Нед 1'!AB14+'Ср День 3 Нед 1'!Y14+'Вт День 2 Нед 1'!AA14+'Пн День 1 Нед 1'!V14","v":{"v":0,"d":"0.0000"}},{"$f":"'Сб День 6 Нед 1'!AG14+'Пт День 5 Нед 1'!Z14+'Чт День 4 Нед 1'!AF14+'Ср День 3 Нед 1'!AC14+'Вт День 2 Нед 1'!AE14+'Пн День 1 Нед 1'!Z14","v":{"v":0.025,"d":"0.0250"}},0.055]
[8,"йогурт фруктов ","кг",{"$f":"'Пн День 1 Нед 1'!J15+'Вт День 2 Нед 1'!L15+'Ср День 3 Нед 1'!L15+'Чт День 4 Нед 1'!L15+'Чт День 4 Нед 1'!M15+'Пт День 5 Нед 1'!J15+'Сб День 6 Нед 1'!L15+'Сб День 6 Нед 1'!M15","v":{"v":0,"d":"0.0000"}},{"$f":"'Пн День 1 Нед 1'!O15+'Вт День 2 Нед 1'!T15+'Ср День 3 Нед 1'!R15+'Чт День 4 Нед 1'!T15+'Чт День 4 Нед 1'!U15+'Пт День 5 Нед 1'!O15+'Сб День 6 Нед 1'!U15+'Сб День 6 Нед 1'!V15","v":{"v":0,"d":"0.0000"}},{"$f":"'Сб День 6 Нед 1'!Y15+'Пт День 5 Нед 1'!R15+'Чт День 4 Нед 1'!X15+'Ср День 3 Нед 1'!U15+'Вт День 2 Нед 1'!W15+'Пн День 1 Нед 1'!R15","v":{"v":0,"d":"0.0000"}},{"$f":"'Сб День 6 Нед 1'!AC15+'Пт День 5 Нед 1'!V15+'Чт День 4 Нед 1'!AB15+'Ср День 3 Нед 1'!Y15+'Вт День 2 Нед 1'!AA15+'Пн День 1 Нед 1'!V15","v":{"v":0,"d":"0.0000"}},{"$f":"'Сб День 6 Нед 1'!AG15+'Пт День 5 Нед 1'!Z15+'Чт День 4 Нед 1'!AF15+'Ср День 3 Нед 1'!AC15+'Вт День 2 Нед 1'!AE15+'Пн День 1 Нед 1'!Z15","v":{"v":0,"d":"0.0000"}},{"v":0,"d":"0.000"}]
[9,"катык 2,5%","кг",{"$f":"'Пн День 1 Нед 1'!J16+'Вт День 2 Нед 1'!L16+'Ср День 3 Нед 1'!L16+'Чт День 4 Нед 1'!L16+'Чт День 4 Нед 1'!M16+'Пт День 5 Нед 1'!J16+'Сб День 6 Нед 1'!L16+'Сб День 6 Нед 1'!M16","v":{"v":0,"d":"0.0000"}},{"$f":"'Пн День 1 Нед 1'!O16+'Вт День 2 Нед 1'!T16+'Ср День 3 Нед 1'!R16+'Чт День 4 Нед 1'!T16+'Чт День 4 Нед 1'!U16+'Пт День 5 Нед 1'!O16+'Сб День 6 Нед 1'!U16+'Сб День 6 Нед 1'!V16","v":{"v":0,"d":"0.0000"}},{"$f":"'Сб День 6 Нед 1'!Y16+'Пт День 5 Нед 1'!R16+'Чт День 4 Нед 1'!X16+'Ср День 3 Нед 1'!U16+'Вт День 2 Нед 1'!W16+'Пн День 1 Нед 1'!R16","v":{"v":0,"d":"0.0000"}},{"$f":"'Сб День 6 Нед 1'!AC16+'Пт День 5 Нед 1'!V16+'Чт День 4 Нед 1'!AB16+'Ср День 3 Нед 1'!Y16+'Вт День 2 Нед 1'!AA16+'Пн День 1 Нед 1'!V16","v":{"v":0,"d":"0.0000"}},{"$f":"'Сб День 6 Нед 1'!AG16+'Пт День 5 Нед 1'!Z16+'Чт День 4 Нед 1'!AF16+'Ср День 3 Нед 1'!AC16+'Вт День 2 Нед 1'!AE16+'Пн День 1 Нед 1'!Z16","v":{"v":0,"d":"0.0000"}},{"v":0,"d":"0.000"}]
[10,"кефир 2,5%","кг",{"$f":"'Пн День 1 Нед 1'!J17+'Вт День 2 Нед 1'!L17+'Ср День 3 Нед 1'!L17+'Чт День 4 Нед 1'!L17+'Чт День 4 Нед 1'!M17+'Пт День 5 Нед 1'!J17+'Сб День 6 Нед 1'!L17+'Сб День 6 Нед 1'!M17","v":{"v":0,"d":"0.0000"}},{"$f":"'Пн День 1 Нед 1'!O17+'Вт День 2 Нед 1'!T17+'Ср День 3 Нед 1'!R17+'Чт День 4 Нед 1'!T17+'Чт День 4 Нед 1'!U17+'Пт День 5 Нед 1'!O17+'Сб День 6 Нед 1'!U17+'Сб День 6 Нед 1'!V17","v":{"v":0,"d":"0.0000"}},{"$f":"'Сб День 6 Нед 1'!Y17+'Пт День 5 Нед 1'!R17+'Чт День 4 Нед 1'!X17+'Ср День 3 Нед 1'!U17+'Вт День 2 Нед 1'!W17+'Пн День 1 Нед 1'!R17","v":{"v":0,"d":"0.0000"}},{"$f":"'Сб День 6 Нед 1'!AC17+'Пт День 5 Нед 1'!V17+'Чт День 4 Нед 1'!AB17+'Ср День 3 Нед 1'!Y17+'Вт День 2 Нед 1'!AA17+'Пн День 1 Нед 1'!V17","v":{"v":0,"d":"0.0000"}},{"$f":"'Сб День 6 Нед 1'!AG17+'Пт День 5 Нед 1'!Z17+'Чт День 4 Нед 1'!AF17+'Ср День 3 Нед 1'!AC17+'Вт День 2 Нед 1'!AE17+'Пн День 1 Нед 1'!Z17","v":{"v":0,"d":"0.0000"}},{"v":0,"d":"0.000"}]
[11,"ряженка 2,5%","кг",{"$f":"'Пн День 1 Нед 1'!J18+'Вт День 2 Нед 1'!L18+'Ср День 3 Нед 1'!L18+'Чт День 4 Нед 1'!L18+'Чт День 4 Нед 1'!M18+'Пт День 5 Нед 1'!J18+'Сб День 6 Нед 1'!L18+'Сб День 6 Нед 1'!M18","v":{"v":0,"d":"0.0000"}},{"$f":"'Пн День 1 Нед 1'!O18+'Вт День 2 Нед 1'!T18+'Ср День 3 Нед 1'!R18+'Чт День 4 Нед 1'!T18+'Чт День 4 Нед 1'!U18+'Пт День 5 Нед 1'!O18+'Сб День 6 Нед 1'!U18+'Сб День 6 Нед 1'!V18","v":{"v":0,"d":"0.0000"}},{"$f":"'Сб День 6 Нед 1'!Y18+'Пт День 5 Нед 1'!R18+'Чт День 4 Нед 1'!X18+'Ср День 3 Нед 1'!U18+'Вт День 2 Нед 1'!W18+'Пн День 1 Нед 1'!R18","v":{"v":0,"d":"0.0000"}},{"$f":"'Сб День 6 Нед 1'!AC18+'Пт День 5 Нед 1'!V18+'Чт День 4 Нед 1'!AB18+'Ср День 3 Нед 1'!Y18+'Вт День 2 Нед 1'!AA18+'Пн День 1 Нед 1'!V18","v":{"v":0,"d":"0.0000"}},{"$f":"'Сб День 6 Нед 1'!AG18+'Пт День 5 Нед 1'!Z18+'Чт День 4 Нед 1'!AF18+'Ср День 3 Нед 1'!AC18+'Вт День 2 Нед 1'!AE18+'Пн День 1 Нед 1'!Z18","v":{"v":0,"d":"0.0000"}},{"v":0,"d":"0.000"}]
[12,"напиток ацидофильный ","кг",{"$f":"'Пн День 1 Нед 1'!J19+'Вт День 2 Нед 1'!L19+'Ср День 3 Нед 1'!L19+'Чт День 4 Нед 1'!L19+'Чт День 4 Нед 1'!M19+'Пт День 5 Нед 1'!J19+'Сб День 6 Нед 1'!L19+'Сб День 6 Нед 1'!M19","v":{"v":0,"d":"0.0000"}},{"$f":"'Пн День 1 Нед 1'!O19+'Вт День 2 Нед 1'!T19+'Ср День 3 Нед 1'!R19+'Чт День 4 Нед 1'!T19+'Чт День 4 Нед 1'!U19+'Пт День 5 Нед 1'!O19+'Сб День 6 Нед 1'!U19+'Сб День 6 Нед 1'!V19","v":{"v":0,"d":"0.0000"}},{"$f":"'Сб День 6 Нед 1'!Y19+'Пт День 5 Нед 1'!R19+'Чт День 4 Нед 1'!X19+'Ср День 3 Нед 1'!U19+'Вт День 2 Нед 1'!W19+'Пн День 1 Нед 1'!R19","v":{"v":0,"d":"0.0000"}},{"$f":"'Сб День 6 Нед 1'!AC19+'Пт День 5 Нед 1'!V19+'Чт День 4 Нед 1'!AB19+'Ср День 3 Нед 1'!Y19+'Вт День 2 Нед 1'!AA19+'Пн День 1 Нед 1'!V19","v":{"v":0,"d":"0.0000"}},{"$f":"'Сб День 6 Нед 1'!AG19+'Пт День 5 Нед 1'!Z19+'Чт День 4 Нед 1'!AF19+'Ср День 3 Нед 1'!AC19+'Вт День 2 Нед 1'!AE19+'Пн День 1 Нед 1'!Z19","v":{"v":0,"d":"0.0000"}},{"v":0,"d":"0.000"}]
[null,"Масло / сыр "]
[13,"масло растительное","кг",{"$f":"'Пн День 1 Нед 1'!J21+'Вт День 2 Нед 1'!L21+'Ср День 3 Нед 1'!L21+'Чт День 4 Нед 1'!L21+'Чт День 4 Нед 1'!M21+'Пт День 5 Нед 1'!J21+'Сб День 6 Нед 1'!L21+'Сб День 6 Нед 1'!M21","v":0.0253},{"$f":"'Пн День 1 Нед 1'!O21+'Вт День 2 Нед 1'!T21+'Ср День 3 Нед 1'!R21+'Чт День 4 Нед 1'!T21+'Чт День 4 Нед 1'!U21+'Пт День 5 Нед 1'!O21+'Сб День 6 Нед 1'!U21+'Сб День 6 Нед 1'!V21","v":{"v":0.030300000000000004,"d":"0.0303"}},{"$f":"'Сб День 6 Нед 1'!Y21+'Пт День 5 Нед 1'!R21+'Чт День 4 Нед 1'!X21+'Ср День 3 Нед 1'!U21+'Вт День 2 Нед 1'!W21+'Пн День 1 Нед 1'!R21","v":{"v":0,"d":"0.0000"}},{"$f":"'Сб День 6 Нед 1'!AC21+'Пт День 5 Нед 1'!V21+'Чт День 4 Нед 1'!AB21+'Ср День 3 Нед 1'!Y21+'Вт День 2 Нед 1'!AA21+'Пн День 1 Нед 1'!V21","v":{"v":0,"d":"0.0000"}},{"$f":"'Сб День 6 Нед 1'!AG21+'Пт День 5 Нед 1'!Z21+'Чт День 4 Нед 1'!AF21+'Ср День 3 Нед 1'!AC21+'Вт День 2 Нед 1'!AE21+'Пн День 1 Нед 1'!Z21","v":{"v":0.025500000000000002,"d":"0.0255"}},{"v":0.0811,"d":"0.081"}]
[14,"масло сливочное","кг",{"$f":"'Пн День 1 Нед 1'!J22+'Вт День 2 Нед 1'!L22+'Ср День 3 Нед 1'!L22+'Чт День 4 Нед 1'!L22+'Чт День 4 Нед 1'!M22+'Пт День 5 Нед 1'!J22+'Сб День 6 Нед 1'!L22+'Сб День 6 Нед 1'!M22","v":0.0295},{"$f":"'Пн День 1 Нед 1'!O22+'Вт День 2 Нед 1'!T22+'Ср День 3 Нед 1'!R22+'Чт День 4 Нед 1'!T22+'Чт День 4 Нед 1'!U22+'Пт День 5 Нед 1'!O22+'Сб День 6 Нед 1'!U22+'Сб День 6 Нед 1'!V22","v":{"v":0.025499999999999995,"d":"0.0255"}},{"$f":"'Сб День 6 Нед 1'!Y22+'Пт День 5 Нед 1'!R22+'Чт День 4 Нед 1'!X22+'Ср День 3 Нед 1'!U22+'Вт День 2 Нед 1'!W22+'Пн День 1 Нед 1'!R22","v":{"v":0,"d":"0.0000"}},{"$f":"'Сб День 6 Нед 1'!AC22+'Пт День 5 Нед 1'!V22+'Чт День 4 Нед 1'!AB22+'Ср День 3 Нед 1'!Y22+'Вт День 2 Нед 1'!AA22+'Пн День 1 Нед 1'!V22","v":{"v":0,"d":"0.0000"}},{"$f":"'Сб День 6 Нед 1'!AG22+'Пт День 5 Нед 1'!Z22+'Чт День 4 Нед 1'!AF22+'Ср День 3 Нед 1'!AC22+'Вт День 2 Нед 1'!AE22+'Пн День 1 Нед 1'!Z22","v":{"v":0,"d":"0.0000"}},{"v":0.05499999999999999,"d":"0.055"}]
[15,"сыр голландский","кг",{"$f":"'Пн День 1 Нед 1'!J23+'Вт День 2 Нед 1'!L23+'Ср День 3 Нед 1'!L23+'Чт День 4 Нед 1'!L23+'Чт День 4 Нед 1'!M23+'Пт День 5 Нед 1'!J23+'Сб День 6 Нед 1'!L23+'Сб День 6 Нед 1'!M23","v":{"v":0,"d":"0.0000"}},{"$f":"'Пн День 1 Нед 1'!O23+'Вт День 2 Нед 1'!T23+'Ср День 3 Нед 1'!R23+'Чт День 4 Нед 1'!T23+'Чт День 4 Нед 1'!U23+'Пт День 5 Нед 1'!O23+'Сб День 6 Нед 1'!U23+'Сб День 6 Нед 1'!V23","v":{"v":0,"d":"0.0000"}},{"$f":"'Сб День 6 Нед 1'!Y23+'Пт День 5 Нед 1'!R23+'Чт День 4 Нед 1'!X23+'Ср День 3 Нед 1'!U23+'Вт День 2 Нед 1'!W23+'Пн День 1 Нед 1'!R23","v":{"v":0,"d":"0.0000"}},{"$f":"'Сб День 6 Нед 1'!AC23+'Пт День 5 Нед 1'!V23+'Чт День 4 Нед 1'!AB23+'Ср День 3 Нед 1'!Y23+'Вт День 2 Нед 1'!AA23+'Пн День 1 Нед 1'!V23","v":{"v":0,"d":"0.0000"}},{"$f":"'Сб День 6 Нед 1'!AG23+'Пт День 5 Нед 1'!Z23+'Чт День 4 Нед 1'!AF23+'Ср День 3 Нед 1'!AC23+'Вт День 2 Нед 1'!AE23+'Пн День 1 Нед 1'!Z23","v":{"v":0,"d":"0.0000"}},{"v":0,"d":"0.000"}]
[null,"Мясо"]
[16,"говядина (котлетное мясо) ","кг",{"$f":"'Пн День 1 Нед 1'!J25+'Вт День 2 Нед 1'!L25+'Ср День 3 Нед 1'!L25+'Чт День 4 Нед 1'!L25+'Чт День 4 Нед 1'!M25+'Пт День 5 Нед 1'!J25+'Сб День 6 Нед 1'!L25+'Сб День 6 Нед 1'!M25","v":{"v":0,"d":"0.0000"}},{"$f":"'Пн День 1 Нед 1'!O25+'Вт День 2 Нед 1'!T25+'Ср День 3 Нед 1'!R25+'Чт День 4 Нед 1'!T25+'Чт День 4 Нед 1'!U25+'Пт День 5 Нед 1'!O25+'Сб День 6 Нед 1'!U25+'Сб День 6 Нед 1'!V25","v":{"v":0,"d":"0.0000"}},{"$f":"'Сб День 6 Нед 1'!Y25+'Пт День 5 Нед 1'!R25+'Чт День 4 Нед 1'!X25+'Ср День 3 Нед 1'!U25+'Вт День 2 Нед 1'!W25+'Пн День 1 Нед 1'!R25","v":{"v":0,"d":"0.0000"}},{"$f":"'Сб День 6 Нед 1'!AC25+'Пт День 5 Нед 1'!V25+'Чт День 4 Нед 1'!AB25+'Ср День 3 Нед 1'!Y25+'Вт День 2 Нед 1'!AA25+'Пн День 1 Нед 1'!V25","v":{"v":0,"d":"0.0000"}},{"$f":"'Сб День 6 Нед 1'!AG25+'Пт День 5 Нед 1'!Z25+'Чт День 4 Нед 1'!AF25+'Ср День 3 Нед 1'!AC25+'Вт День 2 Нед 1'!AE25+'Пн День 1 Нед 1'!Z25","v":{"v":0,"d":"0.0000"}},{"v":0,"d":"0.000"}]
[17,"фарш говяжий","кг",{"$f":"'Пн День 1 Нед 1'!J26+'Вт День 2 Нед 1'!L26+'Ср День 3 Нед 1'!L26+'Чт День 4 Нед 1'!L26+'Чт День 4 Нед 1'!M26+'Пт День 5 Нед 1'!J26+'Сб День 6 Нед 1'!L26+'Сб День 6 Нед 1'!M26","v":{"v":0.038,"d":"0.0380"}},{"$f":"'Пн День 1 Нед 1'!O26+'Вт День 2 Нед 1'!T26+'Ср День 3 Нед 1'!R26+'Чт День 4 Нед 1'!T26+'Чт День 4 Нед 1'!U26+'Пт День 5 Нед 1'!O26+'Сб День 6 Нед 1'!U26+'Сб День 6 Нед 1'!V26","v":{"v":0.038,"d":"0.0380"}},{"$f":"'Сб День 6 Нед 1'!Y26+'Пт День 5 Нед 1'!R26+'Чт День 4 Нед 1'!X26+'Ср День 3 Нед 1'!U26+'Вт День 2 Нед 1'!W26+'Пн День 1 Нед 1'!R26","v":{"v":0,"d":"0.0000"}},{"$f":"'Сб День 6 Нед 1'!AC26+'Пт День 5 Нед 1'!V26+'Чт День 4 Нед 1'!AB26+'Ср День 3 Нед 1'!Y26+'Вт День 2 Нед 1'!AA26+'Пн День 1 Нед 1'!V26","v":{"v":0,"d":"0.0000"}},{"$f":"'Сб День 6 Нед 1'!AG26+'Пт День 5 Нед 1'!Z26+'Чт День 4 Нед 1'!AF26+'Ср День 3 Нед 1'!AC26+'Вт День 2 Нед 1'!AE26+'Пн День 1 Нед 1'!Z26","v":{"v":0.02394,"d":"0.0239"}},{"v":0.09994,"d":"0.100"}]
[18,"говядина лопатка б/к","кг",{"$f":"'Пн День 1 Нед 1'!J27+'Вт День 2 Нед 1'!L27+'Ср День 3 Нед 1'!L27+'Чт День 4 Нед 1'!L27+'Чт День 4 Нед 1'!M27+'Пт День 5 Нед 1'!J27+'Сб День 6 Нед 1'!L27+'Сб День 6 Нед 1'!M27","v":{"v":0,"d":"0.0000"}},{"$f":"'Пн День 1 Нед 1'!O27+'Вт День 2 Нед 1'!T27+'Ср День 3 Нед 1'!R27+'Чт День 4 Нед 1'!T27+'Чт День 4 Нед 1'!U27+'Пт День 5 Нед 1'!O27+'Сб День 6 Нед 1'!U27+'Сб День 6 Нед 1'!V27","v":{"v":0,"d":"0.0000"}},{"$f":"'Сб День 6 Нед 1'!Y27+'Пт День 5 Нед 1'!R27+'Чт День 4 Нед 1'!X27+'Ср День 3 Нед 1'!U27+'Вт День 2 Нед 1'!W27+'Пн День 1 Нед 1'!R27","v":{"v":0,"d":"0.0000"}},{"$f":"'Сб День 6 Нед 1'!AC27+'Пт День 5 Нед 1'!V27+'Чт День 4 Нед 1'!AB27+'Ср День 3 Нед 1'!Y27+'Вт День 2 Нед 1'!AA27+'Пн День 1 Нед 1'!V27","v":{"v":0,"d":"0.0000"}},{"$f":"'Сб День 6 Нед 1'!AG27+'Пт День 5 Нед 1'!Z27+'Чт День 4 Нед 1'!AF27+'Ср День 3 Нед 1'!AC27+'Вт День 2 Нед 1'!AE27+'Пн День 1 Нед 1'!Z27","v":{"v":0,"d":"0.0000"}},{"v":0,"d":"0.000"}]
[19,"сосиски","кг",{"$f":"'Пн День 1 Нед 1'!J28+'Вт День 2 Нед 1'!L28+'Ср День 3 Нед 1'!L28+'Чт День 4 Нед 1'!L28+'Чт День 4 Нед 1'!M28+'Пт День 5 Нед 1'!J28+'Сб День 6 Нед 1'!L28+'Сб День 6 Нед 1'!M28","v":{"v":0.102,"d":"0.1020"}},{"$f":"'Пн День 1 Нед 1'!O28+'Вт День 2 Нед 1'!T28+'Ср День 3 Нед 1'!R28+'Чт День 4 Нед 1'!T28+'Чт День 4 Нед 1'!U28+'Пт День 5 Нед 1'!O28+'Сб День 6 Нед 1'!U28+'Сб День 6 Нед 1'!V28","v":{"v":0.102,"d":"0.1020"}},{"$f":"'Сб День 6 Нед 1'!Y28+'Пт День 5 Нед 1'!R28+'Чт День 4 Нед 1'!X28+'Ср День 3 Нед 1'!U28+'Вт День 2 Нед 1'!W28+'Пн День 1 Нед 1'!R28","v":{"v":0,"d":"0.0000"}},{"$f":"'Сб День 6 Нед 1'!AC28+'Пт День 5 Нед 1'!V28+'Чт День 4 Нед 1'!AB28+'Ср День 3 Нед 1'!Y28+'Вт День 2 Нед 1'!AA28+'Пн День 1 Нед 1'!V28","v":{"v":0,"d":"0.0000"}},{"$f":"'Сб День 6 Нед 1'!AG28+'Пт День 5 Нед 1'!Z28+'Чт День 4 Нед 1'!AF28+'Ср День 3 Нед 1'!AC28+'Вт День 2 Нед 1'!AE28+'Пн День 1 Нед 1'!Z28","v":{"v":0,"d":"0.0000"}},0.204]
[20,"колбаса п/к Халяль","кг",{"$f":"'Пн День 1 Нед 1'!J29+'Вт День 2 Нед 1'!L29+'Ср День 3 Нед 1'!L29+'Чт День 4 Нед 1'!L29+'Чт День 4 Нед 1'!M29+'Пт День 5 Нед 1'!J29+'Сб День 6 Нед 1'!L29+'Сб День 6 Нед 1'!M29","v":{"v":0,"d":"0.0000"}},{"$f":"'Пн День 1 Нед 1'!O29+'Вт День 2 Нед 1'!T29+'Ср День 3 Нед 1'!R29+'Чт День 4 Нед 1'!T29+'Чт День 4 Нед 1'!U29+'Пт День 5 Нед 1'!O29+'Сб День 6 Нед 1'!U29+'Сб День 6 Нед 1'!V29","v":{"v":0,"d":"0.0000"}},{"$f":"'Сб День 6 Нед 1'!Y29+'Пт День 5 Нед 1'!R29+'Чт День 4 Нед 1'!X29+'Ср День 3 Нед 1'!U29+'Вт День 2 Нед 1'!W29+'Пн День 1 Нед 1'!R29","v":{"v":0,"d":"0.0000"}},{"$f":"'Сб День 6 Нед 1'!AC29+'Пт День 5 Нед 1'!V29+'Чт День 4 Нед 1'!AB29+'Ср День 3 Нед 1'!Y29+'Вт День 2 Нед 1'!AA29+'Пн День 1 Нед 1'!V29","v":{"v":0,"d":"0.0000"}},{"$f":"'Сб День 6 Нед 1'!AG29+'Пт День 5 Нед 1'!Z29+'Чт День 4 Нед 1'!AF29+'Ср День 3 Нед 1'!AC29+'Вт День 2 Нед 1'!AE29+'Пн День 1 Нед 1'!Z29","v":{"v":0,"d":"0.0000"}},{"v":0,"d":"0.000"}]
[21,"куриное бедро","кг",{"$f":"'Пн День 1 Нед 1'!J30+'Вт День 2 Нед 1'!L30+'Ср День 3 Нед 1'!L30+'Чт День 4 Нед 1'!L30+'Чт День 4 Нед 1'!M30+'Пт День 5 Нед 1'!J30+'Сб День 6 Нед 1'!L30+'Сб День 6 Нед 1'!M30","v":{"v":0,"d":"0.0000"}},{"$f":"'Пн День 1 Нед 1'!O30+'Вт День 2 Нед 1'!T30+'Ср День 3 Нед 1'!R30+'Чт День 4 Нед 1'!T30+'Чт День 4 Нед 1'!U30+'Пт День 5 Нед 1'!O30+'Сб День 6 Нед 1'!U30+'Сб День 6 Нед 1'!V30","v":{"v":0,"d":"0.0000"}},{"$f":"'Сб День 6 Нед 1'!Y30+'Пт День 5 Нед 1'!R30+'Чт День 4 Нед 1'!X30+'Ср День 3 Нед 1'!U30+'Вт День 2 Нед 1'!W30+'Пн День 1 Нед 1'!R30","v":{"v":0,"d":"0.0000"}},{"$f":"'Сб День 6 Нед 1'!AC30+'Пт День 5 Нед 1'!V30+'Чт День 4 Нед 1'!AB30+'Ср День 3 Нед 1'!Y30+'Вт День 2 Нед 1'!AA30+'Пн День 1 Нед 1'!V30","v":{"v":0,"d":"0.0000"}},{"$f":"'Сб День 6 Нед 1'!AG30+'Пт День 5 Нед 1'!Z30+'Чт День 4 Нед 1'!AF30+'Ср День 3 Нед 1'!AC30+'Вт День 2 Нед 1'!AE30+'Пн День 1 Нед 1'!Z30","v":{"v":0,"d":"0.0000"}},{"v":0,"d":"0.000"}]
[22,"куриная грудка","кг",{"$f":"'Пн День 1 Нед 1'!J31+'Вт День 2 Нед 1'!L31+'Ср День 3 Нед 1'!L31+'Чт День 4 Нед 1'!L31+'Чт День 4 Нед 1'!M31+'Пт День 5 Нед 1'!J31+'Сб День 6 Нед 1'!L31+'Сб День 6 Нед 1'!M31","v":0.0812},{"$f":"'Пн День 1 Нед 1'!O31+'Вт День 2 Нед 1'!T31+'Ср День 3 Нед 1'!R31+'Чт День 4 Нед 1'!T31+'Чт День 4 Нед 1'!U31+'Пт День 5 Нед 1'!O31+'Сб День 6 Нед 1'!U31+'Сб День 6 Нед 1'!V31","v":0.0812},{"$f":"'Сб День 6 Нед 1'!Y31+'Пт День 5 Нед 1'!R31+'Чт День 4 Нед 1'!X31+'Ср День 3 Нед 1'!U31+'Вт День 2 Нед 1'!W31+'Пн День 1 Нед 1'!R31","v":{"v":0,"d":"0.0000"}},{"$f":"'Сб День 6 Нед 1'!AC31+'Пт День 5 Нед 1'!V31+'Чт День 4 Нед 1'!AB31+'Ср День 3 Нед 1'!Y31+'Вт День 2 Нед 1'!AA31+'Пн День 1 Нед 1'!V31","v":{"v":0,"d":"0.0000"}},{"$f":"'Сб День 6 Нед 1'!AG31+'Пт День 5 Нед 1'!Z31+'Чт День 4 Нед 1'!AF31+'Ср День 3 Нед 1'!AC31+'Вт День 2 Нед 1'!AE31+'Пн День 1 Нед 1'!Z31","v":{"v":0.05882,"d":"0.0588"}},{"v":0.22121999999999997,"d":"0.221"}]
[23,"куры/цыплята потрош","кг",{"$f":"'Пн День 1 Нед 1'!J32+'Вт День 2 Нед 1'!L32+'Ср День 3 Нед 1'!L32+'Чт День 4 Нед 1'!L32+'Чт День 4 Нед 1'!M32+'Пт День 5 Нед 1'!J32+'Сб День 6 Нед 1'!L32+'Сб День 6 Нед 1'!M32","v":{"v":0,"d":"0.0000"}},{"$f":"'Пн День 1 Нед 1'!O32+'Вт День 2 Нед 1'!T32+'Ср День 3 Нед 1'!R32+'Чт День 4 Нед 1'!T32+'Чт День 4 Нед 1'!U32+'Пт День 5 Нед 1'!O32+'Сб День 6 Нед 1'!U32+'Сб День 6 Нед 1'!V32","v":{"v":0,"d":"0.0000"}},{"$f":"'Сб День 6 Нед 1'!Y32+'Пт День 5 Нед 1'!R32+'Чт День 4 Нед 1'!X32+'Ср День 3 Нед 1'!U32+'Вт День 2 Нед 1'!W32+'Пн День 1 Нед 1'!R32","v":{"v":0,"d":"0.0000"}},{"$f":"'Сб День 6 Нед 1'!AC32+'Пт День 5 Нед 1'!V32+'Чт День 4 Нед 1'!AB32+'Ср День 3 Нед 1'!Y32+'Вт День 2 Нед 1'!AA32+'Пн День 1 Нед 1'!V32","v":{"v":0,"d":"0.0000"}},{"$f":"'Сб День 6 Нед 1'!AG32+'Пт День 5 Нед 1'!Z32+'Чт День 4 Нед 1'!AF32+'Ср День 3 Нед 1'!AC32+'Вт День 2 Нед 1'!AE32+'Пн День 1 Нед 1'!Z32","v":{"v":0,"d":"0.0000"}},{"v":0,"d":"0.000"}]
[24,"фарш куриный","кг",null,null,{"$f":"'Сб День 6 Нед 1'!Y33+'Пт День 5 Нед 1'!R33+'Чт День 4 Нед 1'!X33+'Ср День 3 Нед 1'!U33+'Вт День 2 Нед 1'!W33+'Пн День 1 Нед 1'!R33","v":{"v":0,"d":"0.0000"}},{"$f":"'Сб День 6 Нед 1'!AC33+'Пт День 5 Нед 1'!V33+'Чт День 4 Нед 1'!AB33+'Ср День 3 Нед 1'!Y33+'Вт День 2 Нед 1'!AA33+'Пн День 1 Нед 1'!V33","v":{"v":0,"d":"0.0000"}},{"$f":"'Сб День 6 Нед 1'!AG33+'Пт День 5 Нед 1'!Z33+'Чт День 4 Нед 1'!AF33+'Ср День 3 Нед 1'!AC33+'Вт День 2 Нед 1'!AE33+'Пн День 1 Нед 1'!Z33","v":{"v":0,"d":"0.0000"}},{"v":0,"d":"0.000"}]
[25,"индейка бедро филе","кг",{"$f":"'Пн День 1 Нед 1'!J34+'Вт День 2 Нед 1'!L34+'Ср День 3 Нед 1'!L34+'Чт День 4 Нед 1'!L34+'Чт День 4 Нед 1'!M34+'Пт День 5 Нед 1'!J34+'Сб День 6 Нед 1'!L34+'Сб День 6 Нед 1'!M34","v":0.0735},{"$f":"'Пн День 1 Нед 1'!O34+'Вт День 2 Нед 1'!T34+'Ср День 3 Нед 1'!R34+'Чт День 4 Нед 1'!T34+'Чт День 4 Нед 1'!U34+'Пт День 5 Нед 1'!O34+'Сб День 6 Нед 1'!U34+'Сб День 6 Нед 1'!V34","v":0.0735},{"$f":"'Сб День 6 Нед 1'!Y34+'Пт День 5 Нед 1'!R34+'Чт День 4 Нед 1'!X34+'Ср День 3 Нед 1'!U34+'Вт День 2 Нед 1'!W34+'Пн День 1 Нед 1'!R34","v":{"v":0,"d":"0.0000"}},{"$f":"'Сб День 6 Нед 1'!AC34+'Пт День 5 Нед 1'!V34+'Чт День 4 Нед 1'!AB34+'Ср День 3 Нед 1'!Y34+'Вт День 2 Нед 1'!AA34+'Пн День 1 Нед 1'!V34","v":{"v":0,"d":"0.0000"}},{"$f":"'Сб День 6 Нед 1'!AG34+'Пт День 5 Нед 1'!Z34+'Чт День 4 Нед 1'!AF34+'Ср День 3 Нед 1'!AC34+'Вт День 2 Нед 1'!AE34+'Пн День 1 Нед 1'!Z34","v":{"v":0,"d":"0.0000"}},0.147]
[26,"индейка грудка филе","кг",{"$f":"'Пн День 1 Нед 1'!J35+'Вт День 2 Нед 1'!L35+'Ср День 3 Нед 1'!L35+'Чт День 4 Нед 1'!L35+'Чт День 4 Нед 1'!M35+'Пт День 5 Нед 1'!J35+'Сб День 6 Нед 1'!L35+'Сб День 6 Нед 1'!M35","v":{"v":0,"d":"0.0000"}},{"$f":"'Пн День 1 Нед 1'!O35+'Вт День 2 Нед 1'!T35+'Ср День 3 Нед 1'!R35+'Чт День 4 Нед 1'!T35+'Чт День 4 Нед 1'!U35+'Пт День 5 Нед 1'!O35+'Сб День 6 Нед 1'!U35+'Сб День 6 Нед 1'!V35","v":{"v":0,"d":"0.0000"}},{"$f":"'Сб День 6 Нед 1'!Y35+'Пт День 5 Нед 1'!R35+'Чт День 4 Нед 1'!X35+'Ср День 3 Нед 1'!U35+'Вт День 2 Нед 1'!W35+'Пн День 1 Нед 1'!R35","v":{"v":0,"d":"0.0000"}},{"$f":"'Сб День 6 Нед 1'!AC35+'Пт День 5 Нед 1'!V35+'Чт День 4 Нед 1'!AB35+'Ср День 3 Нед 1'!Y35+'Вт День 2 Нед 1'!AA35+'Пн День 1 Нед 1'!V35","v":{"v":0,"d":"0.0000"}},{"$f":"'Сб День 6 Нед 1'!AG35+'Пт День 5 Нед 1'!Z35+'Чт День 4 Нед 1'!AF35+'Ср День 3 Нед 1'!AC35+'Вт День 2 Нед 1'!AE35+'Пн День 1 Нед 1'!Z35","v":{"v":0,"d":"0.0000"}},{"v":0,"d":"0.000"}]
[null,"Рыба",null,null,{"$f":"'Пн День 1 Нед 1'!O36+'Вт День 2 Нед 1'!T36+'Ср День 3 Нед 1'!R36+'Чт День 4 Нед 1'!T36+'Чт День 4 Нед 1'!U36+'Пт День 5 Нед 1'!O36+'Сб День 6 Нед 1'!U36+'Сб День 6 Нед 1'!V36","v":{"v":0,"d":"0.0000"}}]
[27,"горбуша ПБГ с/м","кг",{"$f":"'Пн День 1 Нед 1'!J37+'Вт День 2 Нед 1'!L37+'Ср День 3 Нед 1'!L37+'Чт День 4 Нед 1'!L37+'Чт День 4 Нед 1'!M37+'Пт День 5 Нед 1'!J37+'Сб День 6 Нед 1'!L37+'Сб День 6 Нед 1'!M37","v":{"v":0,"d":"0.0000"}},{"$f":"'Пн День 1 Нед 1'!O37+'Вт День 2 Нед 1'!T37+'Ср День 3 Нед 1'!R37+'Чт День 4 Нед 1'!T37+'Чт День 4 Нед 1'!U37+'Пт День 5 Нед 1'!O37+'Сб День 6 Нед 1'!U37+'Сб День 6 Нед 1'!V37","v":{"v":0,"d":"0.0000"}},{"$f":"'Сб День 6 Нед 1'!Y37+'Пт День 5 Нед 1'!R37+'Чт День 4 Нед 1'!X37+'Ср День 3 Нед 1'!U37+'Вт День 2 Нед 1'!W37+'Пн День 1 Нед 1'!R37","v":{"v":0,"d":"0.0000"}},{"$f":"'Сб День 6 Нед 1'!AC37+'Пт День 5 Нед 1'!V37+'Чт День 4 Нед 1'!AB37+'Ср День 3 Нед 1'!Y37+'Вт День 2 Нед 1'!AA37+'Пн День 1 Нед 1'!V37","v":{"v":0,"d":"0.0000"}},{"$f":"'Сб День 6 Нед 1'!AG37+'Пт День 5 Нед 1'!Z37+'Чт День 4 Нед 1'!AF37+'Ср День 3 Нед 1'!AC37+'Вт День 2 Нед 1'!AE37+'Пн День 1 Нед 1'!Z37","v":{"v":0,"d":"0.0000"}},{"v":0,"d":"0.000"}]
[28,"минтай б/г с/м","кг",{"$f":"'Пн День 1 Нед 1'!J38+'Вт День 2 Нед 1'!L38+'Ср День 3 Нед 1'!L38+'Чт День 4 Нед 1'!L38+'Чт День 4 Нед 1'!M38+'Пт День 5 Нед 1'!J38+'Сб День 6 Нед 1'!L38+'Сб День 6 Нед 1'!M38","v":0.0776},{"$f":"'Пн День 1 Нед 1'!O38+'Вт День 2 Нед 1'!T38+'Ср День 3 Нед 1'!R38+'Чт День 4 Нед 1'!T38+'Чт День 4 Нед 1'!U38+'Пт День 5 Нед 1'!O38+'Сб День 6 Нед 1'!U38+'Сб День 6 Нед 1'!V38","v":0.0776},{"$f":"'Сб День 6 Нед 1'!Y38+'Пт День 5 Нед 1'!R38+'Чт День 4 Нед 1'!X38+'Ср День 3 Нед 1'!U38+'Вт День 2 Нед 1'!W38+'Пн День 1 Нед 1'!R38","v":{"v":0,"d":"0.0000"}},{"$f":"'Сб День 6 Нед 1'!AC38+'Пт День 5 Нед 1'!V38+'Чт День 4 Нед 1'!AB38+'Ср День 3 Нед 1'!Y38+'Вт День 2 Нед 1'!AA38+'Пн День 1 Нед 1'!V38","v":{"v":0,"d":"0.0000"}},{"$f":"'Сб День 6 Нед 1'!AG38+'Пт День 5 Нед 1'!Z38+'Чт День 4 Нед 1'!AF38+'Ср День 3 Нед 1'!AC38+'Вт День 2 Нед 1'!AE38+'Пн День 1 Нед 1'!Z38","v":{"v":0,"d":"0.0000"}},{"v":0.1552,"d":"0.155"}]
[29,"фарш минтая","кг",{"$f":"'Пн День 1 Нед 1'!J39+'Вт День 2 Нед 1'!L39+'Ср День 3 Нед 1'!L39+'Чт День 4 Нед 1'!L39+'Чт День 4 Нед 1'!M39+'Пт День 5 Нед 1'!J39+'Сб День 6 Нед 1'!L39+'Сб День 6 Нед 1'!M39","v":{"v":0.05906,"d":"0.0591"}},{"$f":"'Пн День 1 Нед 1'!O39+'Вт День 2 Нед 1'!T39+'Ср День 3 Нед 1'!R39+'Чт День 4 Нед 1'!T39+'Чт День 4 Нед 1'!U39+'Пт День 5 Нед 1'!O39+'Сб День 6 Нед 1'!U39+'Сб День 6 Нед 1'!V39","v":{"v":0.05906,"d":"0.0591"}},{"$f":"'Сб День 6 Нед 1'!Y39+'Пт День 5 Нед 1'!R39+'Чт День 4 Нед 1'!X39+'Ср День 3 Нед 1'!U39+'Вт День 2 Нед 1'!W39+'Пн День 1 Нед 1'!R39","v":{"v":0,"d":"0.0000"}},{"$f":"'Сб День 6 Нед 1'!AC39+'Пт День 5 Нед 1'!V39+'Чт День 4 Нед 1'!AB39+'Ср День 3 Нед 1'!Y39+'Вт День 2 Нед 1'!AA39+'Пн День 1 Нед 1'!V39","v":{"v":0,"d":"0.0000"}},{"$f":"'Сб День 6 Нед 1'!AG39+'Пт День 5 Нед 1'!Z39+'Чт День 4 Нед 1'!AF39+'Ср День 3 Нед 1'!AC39+'Вт День 2 Нед 1'!AE39+'Пн День 1 Нед 1'!Z39","v":{"v":0,"d":"0.0000"}},{"v":0.11812,"d":"0.118"}]
[null,"Сыпучка"]
[30,"вермишель","кг",{"$f":"'Пн День 1 Нед 1'!J41+'Вт День 2 Нед 1'!L41+'Ср День 3 Нед 1'!L41+'Чт День 4 Нед 1'!L41+'Чт День 4 Нед 1'!M41+'Пт День 5 Нед 1'!J41+'Сб День 6 Нед 1'!L41+'Сб День 6 Нед 1'!M41","v":{"v":0,"d":"0.0000"}},{"$f":"'Пн День 1 Нед 1'!O41+'Вт День 2 Нед 1'!T41+'Ср День 3 Нед 1'!R41+'Чт День 4 Нед 1'!T41+'Чт День 4 Нед 1'!U41+'Пт День 5 Нед 1'!O41+'Сб День 6 Нед 1'!U41+'Сб День 6 Нед 1'!V41","v":{"v":0,"d":"0.0000"}},{"$f":"'Сб День 6 Нед 1'!Y41+'Пт День 5 Нед 1'!R41+'Чт День 4 Нед 1'!X41+'Ср День 3 Нед 1'!U41+'Вт День 2 Нед 1'!W41+'Пн День 1 Нед 1'!R41","v":{"v":0,"d":"0.0000"}},{"$f":"'Сб День 6 Нед 1'!AC41+'Пт День 5 Нед 1'!V41+'Чт День 4 Нед 1'!AB41+'Ср День 3 Нед 1'!Y41+'Вт День 2 Нед 1'!AA41+'Пн День 1 Нед 1'!V41","v":{"v":0,"d":"0.0000"}},{"$f":"'Сб День 6 Нед 1'!AG41+'Пт День 5 Нед 1'!Z41+'Чт День 4 Нед 1'!AF41+'Ср День 3 Нед 1'!AC41+'Вт День 2 Нед 1'!AE41+'Пн День 1 Нед 1'!Z41","v":{"v":0,"d":"0.0000"}},{"v":0,"d":"0.000"}]
[31,"геркулес","кг",{"$f":"'Пн День 1 Нед 1'!J42+'Вт День 2 Нед 1'!L42+'Ср День 3 Нед 1'!L42+'Чт День 4 Нед 1'!L42+'Чт День 4 Нед 1'!M42+'Пт День 5 Нед 1'!J42+'Сб День 6 Нед 1'!L42+'Сб День 6 Нед 1'!M42","v":{"v":0,"d":"0.0000"}},{"$f":"'Пн День 1 Нед 1'!O42+'Вт День 2 Нед 1'!T42+'Ср День 3 Нед 1'!R42+'Чт День 4 Нед 1'!T42+'Чт День 4 Нед 1'!U42+'Пт День 5 Нед 1'!O42+'Сб День 6 Нед 1'!U42+'Сб День 6 Нед 1'!V42","v":{"v":0,"d":"0.0000"}},{"$f":"'Сб День 6 Нед 1'!Y42+'Пт День 5 Нед 1'!R42+'Чт День 4 Нед 1'!X42+'Ср День 3 Нед 1'!U42+'Вт День 2 Нед 1'!W42+'Пн День 1 Нед 1'!R42","v":{"v":0,"d":"0.0000"}},{"$f":"'Сб День 6 Нед 1'!AC42+'Пт День 5 Нед 1'!V42+'Чт День 4 Нед 1'!AB42+'Ср День 3 Нед 1'!Y42+'Вт День 2 Нед 1'!AA42+'Пн День 1 Нед 1'!V42","v":{"v":0,"d":"0.0000"}},{"$f":"'Сб День 6 Нед 1'!AG42+'Пт День 5 Нед 1'!Z42+'Чт День 4 Нед 1'!AF42+'Ср День 3 Нед 1'!AC42+'Вт День 2 Нед 1'!AE42+'Пн День 1 Нед 1'!Z42","v":{"v":0,"d":"0.0000"}},{"v":0,"d":"0.000"}]
[32,"горох","кг",{"$f":"'Пн День 1 Нед 1'!J43+'Вт День 2 Нед 1'!L43+'Ср День 3 Нед 1'!L43+'Чт День 4 Нед 1'!L43+'Чт День 4 Нед 1'!M43+'Пт День 5 Нед 1'!J43+'Сб День 6 Нед 1'!L43+'Сб День 6 Нед 1'!M43","v":{"v":0,"d":"0.0000"}},{"$f":"'Пн День 1 Нед 1'!O43+'Вт День 2 Нед 1'!T43+'Ср День 3 Нед 1'!R43+'Чт День 4 Нед 1'!T43+'Чт День 4 Нед 1'!U43+'Пт День 5 Нед 1'!O43+'Сб День 6 Нед 1'!U43+'Сб День 6 Нед 1'!V43","v":{"v":0,"d":"0.0000"}},{"$f":"'Сб День 6 Нед 1'!Y43+'Пт День 5 Нед 1'!R43+'Чт День 4 Нед 1'!X43+'Ср День 3 Нед 1'!U43+'Вт День 2 Нед 1'!W43+'Пн День 1 Нед 1'!R43","v":{"v":0,"d":"0.0000"}},{"$f":"'Сб День 6 Нед 1'!AC43+'Пт День 5 Нед 1'!V43+'Чт День 4 Нед 1'!AB43+'Ср День 3 Нед 1'!Y43+'Вт День 2 Нед 1'!AA43+'Пн День 1 Нед 1'!V43","v":{"v":0,"d":"0.0000"}},{"$f":"'Сб День 6 Нед 1'!AG43+'Пт День 5 Нед 1'!Z43+'Чт День 4 Нед 1'!AF43+'Ср День 3 Нед 1'!AC43+'Вт День 2 Нед 1'!AE43+'Пн День 1 Нед 1'!Z43","v":{"v":0,"d":"0.0000"}},{"v":0,"d":"0.000"}]
[33,"гречневая крупа","кг",{"$f":"'Пн День 1 Нед 1'!J44+'Вт День 2 Нед 1'!L44+'Ср День 3 Нед 1'!L44+'Чт День 4 Нед 1'!L44+'Чт День 4 Нед 1'!M44+'Пт День 5 Нед 1'!J44+'Сб День 6 Нед 1'!L44+'Сб День 6 Нед 1'!M44","v":{"v":0.144,"d":"0.1440"}},{"$f":"'Пн День 1 Нед 1'!O44+'Вт День 2 Нед 1'!T44+'Ср День 3 Нед 1'!R44+'Чт День 4 Нед 1'!T44+'Чт День 4 Нед 1'!U44+'Пт День 5 Нед 1'!O44+'Сб День 6 Нед 1'!U44+'Сб День 6 Нед 1'!V44","v":{"v":0.144,"d":"0.1440"}},{"$f":"'Сб День 6 Нед 1'!Y44+'Пт День 5 Нед 1'!R44+'Чт День 4 Нед 1'!X44+'Ср День 3 Нед 1'!U44+'Вт День 2 Нед 1'!W44+'Пн День 1 Нед 1'!R44","v":{"v":0,"d":"0.0000"}},{"$f":"'Сб День 6 Нед 1'!AC44+'Пт День 5 Нед 1'!V44+'Чт День 4 Нед 1'!AB44+'Ср День 3 Нед 1'!Y44+'Вт День 2 Нед 1'!AA44+'Пн День 1 Нед 1'!V44","v":{"v":0,"d":"0.0000"}},{"$f":"'Сб День 6 Нед 1'!AG44+'Пт День 5 Нед 1'!Z44+'Чт День 4 Нед 1'!AF44+'Ср День 3 Нед 1'!AC44+'Вт День 2 Нед 1'!AE44+'Пн День 1 Нед 1'!Z44","v":{"v":0,"d":"0.0000"}},0.288]
[34,"кукурузная крупа","кг",{"$f":"'Пн День 1 Нед 1'!J45+'Вт День 2 Нед 1'!L45+'Ср День 3 Нед 1'!L45+'Чт День 4 Нед 1'!L45+'Чт День 4 Нед 1'!M45+'Пт День 5 Нед 1'!J45+'Сб День 6 Нед 1'!L45+'Сб День 6 Нед 1'!M45","v":{"v":0,"d":"0.0000"}},{"$f":"'Пн День 1 Нед 1'!O45+'Вт День 2 Нед 1'!T45+'Ср День 3 Нед 1'!R45+'Чт День 4 Нед 1'!T45+'Чт День 4 Нед 1'!U45+'Пт День 5 Нед 1'!O45+'Сб День 6 Нед 1'!U45+'Сб День 6 Нед 1'!V45","v":{"v":0,"d":"0.0000"}},{"$f":"'Сб День 6 Нед 1'!Y45+'Пт День 5 Нед 1'!R45+'Чт День 4 Нед 1'!X45+'Ср День 3 Нед 1'!U45+'Вт День 2 Нед 1'!W45+'Пн День 1 Нед 1'!R45","v":{"v":0,"d":"0.0000"}},{"$f":"'Сб День 6 Нед 1'!AC45+'Пт День 5 Нед 1'!V45+'Чт День 4 Нед 1'!AB45+'Ср День 3 Нед 1'!Y45+'Вт День 2 Нед 1'!AA45+'Пн День 1 Нед 1'!V45","v":{"v":0,"d":"0.0000"}},{"$f":"'Сб День 6 Нед 1'!AG45+'Пт День 5 Нед 1'!Z45+'Чт День 4 Нед 1'!AF45+'Ср День 3 Нед 1'!AC45+'Вт День 2 Нед 1'!AE45+'Пн День 1 Нед 1'!Z45","v":{"v":0,"d":"0.0000"}},{"v":0,"d":"0.000"}]
[35,"макаронные изделия","кг",{"$f":"'Пн День 1 Нед 1'!J46+'Вт День 2 Нед 1'!L46+'Ср День 3 Нед 1'!L46+'Чт День 4 Нед 1'!L46+'Чт День 4 Нед 1'!M46+'Пт День 5 Нед 1'!J46+'Сб День 6 Нед 1'!L46+'Сб День 6 Нед 1'!M46","v":{"v":0,"d":"0.0000"}},{"$f":"'Пн День 1 Нед 1'!O46+'Вт День 2 Нед 1'!T46+'Ср День 3 Нед 1'!R46+'Чт День 4 Нед 1'!T46+'Чт День 4 Нед 1'!U46+'Пт День 5 Нед 1'!O46+'Сб День 6 Нед 1'!U46+'Сб День 6 Нед 1'!V46","v":{"v":0.142,"d":"0.1420"}},{"$f":"'Сб День 6 Нед 1'!Y46+'Пт День 5 Нед 1'!R46+'Чт День 4 Нед 1'!X46+'Ср День 3 Нед 1'!U46+'Вт День 2 Нед 1'!W46+'Пн День 1 Нед 1'!R46","v":{"v":0,"d":"0.0000"}},{"$f":"'Сб День 6 Нед 1'!AC46+'Пт День 5 Нед 1'!V46+'Чт День 4 Нед 1'!AB46+'Ср День 3 Нед 1'!Y46+'Вт День 2 Нед 1'!AA46+'Пн День 1 Нед 1'!V46","v":{"v":0,"d":"0.0000"}},{"$f":"'Сб День 6 Нед 1'!AG46+'Пт День 5 Нед 1'!Z46+'Чт День 4 Нед 1'!AF46+'Ср День 3 Нед 1'!AC46+'Вт День 2 Нед 1'!AE46+'Пн День 1 Нед 1'!Z46","v":{"v":0,"d":"0.0000"}},0.142]
[36,"манная крупа","кг",{"$f":"'Пн День 1 Нед 1'!J47+'Вт День 2 Нед 1'!L47+'Ср День 3 Нед 1'!L47+'Чт День 4 Нед 1'!L47+'Чт День 4 Нед 1'!M47+'Пт День 5 Нед 1'!J47+'Сб День 6 Нед 1'!L47+'Сб День 6 Нед 1'!M47","v":{"v":0,"d":"0.0000"}},{"$f":"'Пн День 1 Нед 1'!O47+'Вт День 2 Нед 1'!T47+'Ср День 3 Нед 1'!R47+'Чт День 4 Нед 1'!T47+'Чт День 4 Нед 1'!U47+'Пт День 5 Нед 1'!O47+'Сб День 6 Нед 1'!U47+'Сб День 6 Нед 1'!V47","v":{"v":0,"d":"0.0000"}},{"$f":"'Сб День 6 Нед 1'!Y47+'Пт День 5 Нед 1'!R47+'Чт День 4 Нед 1'!X47+'Ср День 3 Нед 1'!U47+'Вт День 2 Нед 1'!W47+'Пн День 1 Нед 1'!R47","v":{"v":0,"d":"0.0000"}},{"$f":"'Сб День 6 Нед 1'!AC47+'Пт День 5 Нед 1'!V47+'Чт День 4 Нед 1'!AB47+'Ср День 3 Нед 1'!Y47+'Вт День 2 Нед 1'!AA47+'Пн День 1 Нед 1'!V47","v":{"v":0,"d":"0.0000"}},{"$f":"'Сб День 6 Нед 1'!AG47+'Пт День 5 Нед 1'!Z47+'Чт День 4 Нед 1'!AF47+'Ср День 3 Нед 1'!AC47+'Вт День 2 Нед 1'!AE47+'Пн День 1 Нед 1'!Z47","v":{"v":0,"d":"0.0000"}},{"v":0,"d":"0.000"}]
[37,"перловая крупа","кг",{"$f":"'Пн День 1 Нед 1'!J48+'Вт День 2 Нед 1'!L48+'Ср День 3 Нед 1'!L48+'Чт День 4 Нед 1'!L48+'Чт День 4 Нед 1'!M48+'Пт День 5 Нед 1'!J48+'Сб День 6 Нед 1'!L48+'Сб День 6 Нед 1'!M48","v":{"v":0,"d":"0.0000"}},{"$f":"'Пн День 1 Нед 1'!O48+'Вт День 2 Нед 1'!T48+'Ср День 3 Нед 1'!R48+'Чт День 4 Нед 1'!T48+'Чт День 4 Нед 1'!U48+'Пт День 5 Нед 1'!O48+'Сб День 6 Нед 1'!U48+'Сб День 6 Нед 1'!V48","v":{"v":0,"d":"0.0000"}},{"$f":"'Сб День 6 Нед 1'!Y48+'Пт День 5 Нед 1'!R48+'Чт День 4 Нед 1'!X48+'Ср День 3 Нед 1'!U48+'Вт День 2 Нед 1'!W48+'Пн День 1 Нед 1'!R48","v":{"v":0,"d":"0.0000"}},{"$f":"'Сб День 6 Нед 1'!AC48+'Пт День 5 Нед 1'!V48+'Чт День 4 Нед 1'!AB48+'Ср День 3 Нед 1'!Y48+'Вт День 2 Нед 1'!AA48+'Пн День 1 Нед 1'!V48","v":{"v":0,"d":"0.0000"}},{"$f":"'Сб День 6 Нед 1'!AG48+'Пт День 5 Нед 1'!Z48+'Чт День 4 Нед 1'!AF48+'Ср День 3 Нед 1'!AC48+'Вт День 2 Нед 1'!AE48+'Пн День 1 Нед 1'!Z48","v":{"v":0.005,"d":"0.0050"}},0.005]
[38,"полбяная крупа","кг",{"$f":"'Пн День 1 Нед 1'!J49+'Вт День 2 Нед 1'!L49+'Ср День 3 Нед 1'!L49+'Чт День 4 Нед 1'!L49+'Чт День 4 Нед 1'!M49+'Пт День 5 Нед 1'!J49+'Сб День 6 Нед 1'!L49+'Сб День 6 Нед 1'!M49","v":{"v":0,"d":"0.0000"}},{"$f":"'Пн День 1 Нед 1'!O49+'Вт День 2 Нед 1'!T49+'Ср День 3 Нед 1'!R49+'Чт День 4 Нед 1'!T49+'Чт День 4 Нед 1'!U49+'Пт День 5 Нед 1'!O49+'Сб День 6 Нед 1'!U49+'Сб День 6 Нед 1'!V49","v":{"v":0,"d":"0.0000"}},{"$f":"'Сб День 6 Нед 1'!Y49+'Пт День 5 Нед 1'!R49+'Чт День 4 Нед 1'!X49+'Ср День 3 Нед 1'!U49+'Вт День 2 Нед 1'!W49+'Пн День 1 Нед 1'!R49","v":{"v":0,"d":"0.0000"}},{"$f":"'Сб День 6 Нед 1'!AC49+'Пт День 5 Нед 1'!V49+'Чт День 4 Нед 1'!AB49+'Ср День 3 Нед 1'!Y49+'Вт День 2 Нед 1'!AA49+'Пн День 1 Нед 1'!V49","v":{"v":0,"d":"0.0000"}},{"$f":"'Сб День 6 Нед 1'!AG49+'Пт День 5 Нед 1'!Z49+'Чт День 4 Нед 1'!AF49+'Ср День 3 Нед 1'!AC49+'Вт День 2 Нед 1'!AE49+'Пн День 1 Нед 1'!Z49","v":{"v":0,"d":"0.0000"}},{"v":0,"d":"0.000"}]
[39,"пшеничная крупа","кг",{"$f":"'Пн День 1 Нед 1'!J50+'Вт День 2 Нед 1'!L50+'Ср День 3 Нед 1'!L50+'Чт День 4 Нед 1'!L50+'Чт День 4 Нед 1'!M50+'Пт День 5 Нед 1'!J50+'Сб День 6 Нед 1'!L50+'Сб День 6 Нед 1'!M50","v":{"v":0,"d":"0.0000"}},{"$f":"'Пн День 1 Нед 1'!O50+'Вт День 2 Нед 1'!T50+'Ср День 3 Нед 1'!R50+'Чт День 4 Нед 1'!T50+'Чт День 4 Нед 1'!U50+'Пт День 5 Нед 1'!O50+'Сб День 6 Нед 1'!U50+'Сб День 6 Нед 1'!V50","v":{"v":0,"d":"0.0000"}},{"$f":"'Сб День 6 Нед 1'!Y50+'Пт День 5 Нед 1'!R50+'Чт День 4 Нед 1'!X50+'Ср День 3 Нед 1'!U50+'Вт День 2 Нед 1'!W50+'Пн День 1 Нед 1'!R50","v":{"v":0,"d":"0.0000"}},{"$f":"'Сб День 6 Нед 1'!AC50+'Пт День 5 Нед 1'!V50+'Чт День 4 Нед 1'!AB50+'Ср День 3 Нед 1'!Y50+'Вт День 2 Нед 1'!AA50+'Пн День 1 Нед 1'!V50","v":{"v":0,"d":"0.0000"}},{"$f":"'Сб День 6 Нед 1'!AG50+'Пт День 5 Нед 1'!Z50+'Чт День 4 Нед 1'!AF50+'Ср День 3 Нед 1'!AC50+'Вт День 2 Нед 1'!AE50+'Пн День 1 Нед 1'!Z50","v":{"v":0,"d":"0.0000"}},{"v":0,"d":"0.000"}]
[40,"пшено","кг",{"$f":"'Пн День 1 Нед 1'!J51+'Вт День 2 Нед 1'!L51+'Ср День 3 Нед 1'!L51+'Чт День 4 Нед 1'!L51+'Чт День 4 Нед 1'!M51+'Пт День 5 Нед 1'!J51+'Сб День 6 Нед 1'!L51+'Сб День 6 Нед 1'!M51","v":0.0145},{"$f":"'Пн День 1 Нед 1'!O51+'Вт День 2 Нед 1'!T51+'Ср День 3 Нед 1'!R51+'Чт День 4 Нед 1'!T51+'Чт День 4 Нед 1'!U51+'Пт День 5 Нед 1'!O51+'Сб День 6 Нед 1'!U51+'Сб День 6 Нед 1'!V51","v":{"v":0.01,"d":"0.0100"}},{"$f":"'Сб День 6 Нед 1'!Y51+'Пт День 5 Нед 1'!R51+'Чт День 4 Нед 1'!X51+'Ср День 3 Нед 1'!U51+'Вт День 2 Нед 1'!W51+'Пн День 1 Нед 1'!R51","v":{"v":0,"d":"0.0000"}},{"$f":"'Сб День 6 Нед 1'!AC51+'Пт День 5 Нед 1'!V51+'Чт День 4 Нед 1'!AB51+'Ср День 3 Нед 1'!Y51+'Вт День 2 Нед 1'!AA51+'Пн День 1 Нед 1'!V51","v":{"v":0,"d":"0.0000"}},{"$f":"'Сб День 6 Нед 1'!AG51+'Пт День 5 Нед 1'!Z51+'Чт День 4 Нед 1'!AF51+'Ср День 3 Нед 1'!AC51+'Вт День 2 Нед 1'!AE51+'Пн День 1 Нед 1'!Z51","v":{"v":0.005,"d":"0.0050"}},{"v":0.029500000000000002,"d":"0.030"}]
[41,"рис","кг",{"$f":"'Пн День 1 Нед 1'!J52+'Вт День 2 Нед 1'!L52+'Ср День 3 Нед 1'!L52+'Чт День 4 Нед 1'!L52+'Чт День 4 Нед 1'!M52+'Пт День 5 Нед 1'!J52+'Сб День 6 Нед 1'!L52+'Сб День 6 Нед 1'!M52","v":0.1446},{"$f":"'Пн День 1 Нед 1'!O52+'Вт День 2 Нед 1'!T52+'Ср День 3 Нед 1'!R52+'Чт День 4 Нед 1'!T52+'Чт День 4 Нед 1'!U52+'Пт День 5 Нед 1'!O52+'Сб День 6 Нед 1'!U52+'Сб День 6 Нед 1'!V52","v":0.2696},{"$f":"'Сб День 6 Нед 1'!Y52+'Пт День 5 Нед 1'!R52+'Чт День 4 Нед 1'!X52+'Ср День 3 Нед 1'!U52+'Вт День 2 Нед 1'!W52+'Пн День 1 Нед 1'!R52","v":{"v":0,"d":"0.0000"}},{"$f":"'Сб День 6 Нед 1'!AC52+'Пт День 5 Нед 1'!V52+'Чт День 4 Нед 1'!AB52+'Ср День 3 Нед 1'!Y52+'Вт День 2 Нед 1'!AA52+'Пн День 1 Нед 1'!V52","v":{"v":0,"d":"0.0000"}},{"$f":"'Сб День 6 Нед 1'!AG52+'Пт День 5 Нед 1'!Z52+'Чт День 4 Нед 1'!AF52+'Ср День 3 Нед 1'!AC52+'Вт День 2 Нед 1'!AE52+'Пн День 1 Нед 1'!Z52","v":{"v":0.02,"d":"0.0200"}},{"v":0.43420000000000003,"d":"0.434"}]
[42,"ячневая крупа","кг",{"$f":"'Пн День 1 Нед 1'!J53+'Вт День 2 Нед 1'!L53+'Ср День 3 Нед 1'!L53+'Чт День 4 Нед 1'!L53+'Чт День 4 Нед 1'!M53+'Пт День 5 Нед 1'!J53+'Сб День 6 Нед 1'!L53+'Сб День 6 Нед 1'!M53","v":{"v":0,"d":"0.0000"}},{"$f":"'Пн День 1 Нед 1'!O53+'Вт День 2 Нед 1'!T53+'Ср День 3 Нед 1'!R53+'Чт День 4 Нед 1'!T53+'Чт День 4 Нед 1'!U53+'Пт День 5 Нед 1'!O53+'Сб День 6 Нед 1'!U53+'Сб День 6 Нед 1'!V53","v":{"v":0,"d":"0.0000"}},{"$f":"'Сб День 6 Нед 1'!Y53+'Пт День 5 Нед 1'!R53+'Чт День 4 Нед 1'!X53+'Ср День 3 Нед 1'!U53+'Вт День 2 Нед 1'!W53+'Пн День 1 Нед 1'!R53","v":{"v":0,"d":"0.0000"}},{"$f":"'Сб День 6 Нед 1'!AC53+'Пт День 5 Нед 1'!V53+'Чт День 4 Нед 1'!AB53+'Ср День 3 Нед 1'!Y53+'Вт День 2 Нед 1'!AA53+'Пн День 1 Нед 1'!V53","v":{"v":0,"d":"0.0000"}},{"$f":"'Сб День 6 Нед 1'!AG53+'Пт День 5 Нед 1'!Z53+'Чт День 4 Нед 1'!AF53+'Ср День 3 Нед 1'!AC53+'Вт День 2 Нед 1'!AE53+'Пн День 1 Нед 1'!Z53","v":{"v":0,"d":"0.0000"}},{"v":0,"d":"0.000"}]
[43,"лапша домашняя п/ф","кг",{"$f":"'Пн День 1 Нед 1'!J54+'Вт День 2 Нед 1'!L54+'Ср День 3 Нед 1'!L54+'Чт День 4 Нед 1'!L54+'Чт День 4 Нед 1'!M54+'Пт День 5 Нед 1'!J54+'Сб День 6 Нед 1'!L54+'Сб День 6 Нед 1'!M54","v":{"v":0,"d":"0.0000"}},{"$f":"'Пн День 1 Нед 1'!O54+'Вт День 2 Нед 1'!T54+'Ср День 3 Нед 1'!R54+'Чт День 4 Нед 1'!T54+'Чт День 4 Нед 1'!U54+'Пт День 5 Нед 1'!O54+'Сб День 6 Нед 1'!U54+'Сб День 6 Нед 1'!V54","v":{"v":0,"d":"0.0000"}},{"$f":"'Сб День 6 Нед 1'!Y54+'Пт День 5 Нед 1'!R54+'Чт День 4 Нед 1'!X54+'Ср День 3 Нед 1'!U54+'Вт День 2 Нед 1'!W54+'Пн День 1 Нед 1'!R54","v":{"v":0,"d":"0.0000"}},{"$f":"'Сб День 6 Нед 1'!AC54+'Пт День 5 Нед 1'!V54+'Чт День 4 Нед 1'!AB54+'Ср День 3 Нед 1'!Y54+'Вт День 2 Нед 1'!AA54+'Пн День 1 Нед 1'!V54","v":{"v":0,"d":"0.0000"}},{"$f":"'Сб День 6 Нед 1'!AG54+'Пт День 5 Нед 1'!Z54+'Чт День 4 Нед 1'!AF54+'Ср День 3 Нед 1'!AC54+'Вт День 2 Нед 1'!AE54+'Пн День 1 Нед 1'!Z54","v":{"v":0.02,"d":"0.0200"}},{"v":0.02,"d":"0.020"}]
[44,"мука пшеничная в/с","кг",{"$f":"'Пн День 1 Нед 1'!J55+'Вт День 2 Нед 1'!L55+'Ср День 3 Нед 1'!L55+'Чт День 4 Нед 1'!L55+'Чт День 4 Нед 1'!M55+'Пт День 5 Нед 1'!J55+'Сб День 6 Нед 1'!L55+'Сб День 6 Нед 1'!M55","v":0.0143},{"$f":"'Пн День 1 Нед 1'!O55+'Вт День 2 Нед 1'!T55+'Ср День 3 Нед 1'!R55+'Чт День 4 Нед 1'!T55+'Чт День 4 Нед 1'!U55+'Пт День 5 Нед 1'!O55+'Сб День 6 Нед 1'!U55+'Сб День 6 Нед 1'!V55","v":0.0143},{"$f":"'Сб День 6 Нед 1'!Y55+'Пт День 5 Нед 1'!R55+'Чт День 4 Нед 1'!X55+'Ср День 3 Нед 1'!U55+'Вт День 2 Нед 1'!W55+'Пн День 1 Нед 1'!R55","v":{"v":0,"d":"0.0000"}},{"$f":"'Сб День 6 Нед 1'!AC55+'Пт День 5 Нед 1'!V55+'Чт День 4 Нед 1'!AB55+'Ср День 3 Нед 1'!Y55+'Вт День 2 Нед 1'!AA55+'Пн День 1 Нед 1'!V55","v":{"v":0,"d":"0.0000"}},{"$f":"'Сб День 6 Нед 1'!AG55+'Пт День 5 Нед 1'!Z55+'Чт День 4 Нед 1'!AF55+'Ср День 3 Нед 1'!AC55+'Вт День 2 Нед 1'!AE55+'Пн День 1 Нед 1'!Z55","v":{"v":0,"d":"0.0000"}},{"v":0.0286,"d":"0.029"}]
[45,"сахарный песок","кг",{"$f":"'Пн День 1 Нед 1'!J56+'Вт День 2 Нед 1'!L56+'Ср День 3 Нед 1'!L56+'Чт День 4 Нед 1'!L56+'Чт День 4 Нед 1'!M56+'Пт День 5 Нед 1'!J56+'Сб День 6 Нед 1'!L56+'Сб День 6 Нед 1'!M56","v":0.0823},{"$f":"'Пн День 1 Нед 1'!O56+'Вт День 2 Нед 1'!T56+'Ср День 3 Нед 1'!R56+'Чт День 4 Нед 1'!T56+'Чт День 4 Нед 1'!U56+'Пт День 5 Нед 1'!O56+'Сб День 6 Нед 1'!U56+'Сб День 6 Нед 1'!V56","v":{"v":0.082,"d":"0.0820"}},{"$f":"'Сб День 6 Нед 1'!Y56+'Пт День 5 Нед 1'!R56+'Чт День 4 Нед 1'!X56+'Ср День 3 Нед 1'!U56+'Вт День 2 Нед 1'!W56+'Пн День 1 Нед 1'!R56","v":{"v":0.060000000000000005,"d":"0.0600"}},{"$f":"'Сб День 6 Нед 1'!AC56+'Пт День 5 Нед 1'!V56+'Чт День 4 Нед 1'!AB56+'Ср День 3 Нед 1'!Y56+'Вт День 2 Нед 1'!AA56+'Пн День 1 Нед 1'!V56","v":{"v":0,"d":"0.0000"}},{"$f":"'Сб День 6 Нед 1'!AG56+'Пт День 5 Нед 1'!Z56+'Чт День 4 Нед 1'!AF56+'Ср День 3 Нед 1'!AC56+'Вт День 2 Нед 1'!AE56+'Пн День 1 Нед 1'!Z56","v":{"v":0.061,"d":"0.0610"}},{"v":0.2853,"d":"0.285"}]
[46,"соль","кг",{"$f":"'Пн День 1 Нед 1'!J57+'Вт День 2 Нед 1'!L57+'Ср День 3 Нед 1'!L57+'Чт День 4 Нед 1'!L57+'Чт День 4 Нед 1'!M57+'Пт День 5 Нед 1'!J57+'Сб День 6 Нед 1'!L57+'Сб День 6 Нед 1'!M57","v":0.0068},{"$f":"'Пн День 1 Нед 1'!O57+'Вт День 2 Нед 1'!T57+'Ср День 3 Нед 1'!R57+'Чт День 4 Нед 1'!T57+'Чт День 4 Нед 1'!U57+'Пт День 5 Нед 1'!O57+'Сб День 6 Нед 1'!U57+'Сб День 6 Нед 1'!V57","v":0.0109},{"$f":"'Сб День 6 Нед 1'!Y57+'Пт День 5 Нед 1'!R57+'Чт День 4 Нед 1'!X57+'Ср День 3 Нед 1'!U57+'Вт День 2 Нед 1'!W57+'Пн День 1 Нед 1'!R57","v":{"v":0,"d":"0.0000"}},{"$f":"'Сб День 6 Нед 1'!AC57+'Пт День 5 Нед 1'!V57+'Чт День 4 Нед 1'!AB57+'Ср День 3 Нед 1'!Y57+'Вт День 2 Нед 1'!AA57+'Пн День 1 Нед 1'!V57","v":{"v":0,"d":"0.0000"}},{"$f":"'Сб День 6 Нед 1'!AG57+'Пт День 5 Нед 1'!Z57+'Чт День 4 Нед 1'!AF57+'Ср День 3 Нед 1'!AC57+'Вт День 2 Нед 1'!AE57+'Пн День 1 Нед 1'!Z57","v":0.0058},{"v":0.0235,"d":"0.024"}]
[47,"сухари панировочные","кг",{"$f":"'Пн День 1 Нед 1'!J58+'Вт День 2 Нед 1'!L58+'Ср День 3 Нед 1'!L58+'Чт День 4 Нед 1'!L58+'Чт День 4 Нед 1'!M58+'Пт День 5 Нед 1'!J58+'Сб День 6 Нед 1'!L58+'Сб День 6 Нед 1'!M58","v":0.0075},{"$f":"'Пн День 1 Нед 1'!O58+'Вт День 2 Нед 1'!T58+'Ср День 3 Нед 1'!R58+'Чт День 4 Нед 1'!T58+'Чт День 4 Нед 1'!U58+'Пт День 5 Нед 1'!O58+'Сб День 6 Нед 1'!U58+'Сб День 6 Нед 1'!V58","v":0.0075},{"$f":"'Сб День 6 Нед 1'!Y58+'Пт День 5 Нед 1'!R58+'Чт День 4 Нед 1'!X58+'Ср День 3 Нед 1'!U58+'Вт День 2 Нед 1'!W58+'Пн День 1 Нед 1'!R58","v":{"v":0,"d":"0.0000"}},{"$f":"'Сб День 6 Нед 1'!AC58+'Пт День 5 Нед 1'!V58+'Чт День 4 Нед 1'!AB58+'Ср День 3 Нед 1'!Y58+'Вт День 2 Нед 1'!AA58+'Пн День 1 Нед 1'!V58","v":{"v":0,"d":"0.0000"}},{"$f":"'Сб День 6 Нед 1'!AG58+'Пт День 5 Нед 1'!Z58+'Чт День 4 Нед 1'!AF58+'Ср День 3 Нед 1'!AC58+'Вт День 2 Нед 1'!AE58+'Пн День 1 Нед 1'!Z58","v":{"v":0,"d":"0.0000"}},0.015]
[48,"дрожжи сухие","кг",{"$f":"'Пн День 1 Нед 1'!J59+'Вт День 2 Нед 1'!L59+'Ср День 3 Нед 1'!L59+'Чт День 4 Нед 1'!L59+'Чт День 4 Нед 1'!M59+'Пт День 5 Нед 1'!J59+'Сб День 6 Нед 1'!L59+'Сб День 6 Нед 1'!M59","v":{"v":0,"d":"0.0000"}},{"$f":"'Пн День 1 Нед 1'!O59+'Вт День 2 Нед 1'!T59+'Ср День 3 Нед 1'!R59+'Чт День 4 Нед 1'!T59+'Чт День 4 Нед 1'!U59+'Пт День 5 Нед 1'!O59+'Сб День 6 Нед 1'!U59+'Сб День 6 Нед 1'!V59","v":{"v":0,"d":"0.0000"}},{"$f":"'Сб День 6 Нед 1'!Y59+'Пт День 5 Нед 1'!R59+'Чт День 4 Нед 1'!X59+'Ср День 3 Нед 1'!U59+'Вт День 2 Нед 1'!W59+'Пн День 1 Нед 1'!R59","v":{"v":0,"d":"0.0000"}},{"$f":"'Сб День 6 Нед 1'!AC59+'Пт День 5 Нед 1'!V59+'Чт День 4 Нед 1'!AB59+'Ср День 3 Нед 1'!Y59+'Вт День 2 Нед 1'!AA59+'Пн День 1 Нед 1'!V59","v":{"v":0,"d":"0.0000"}},{"$f":"'Сб День 6 Нед 1'!AG59+'Пт День 5 Нед 1'!Z59+'Чт День 4 Нед 1'!AF59+'Ср День 3 Нед 1'!AC59+'Вт День 2 Нед 1'!AE59+'Пн День 1 Нед 1'!Z59","v":{"v":0,"d":"0.0000"}},{"v":0,"d":"0.000"}]
[49,"фасоль","кг",{"$f":"'Пн День 1 Нед 1'!J60+'Вт День 2 Нед 1'!L60+'Ср День 3 Нед 1'!L60+'Чт День 4 Нед 1'!L60+'Чт День 4 Нед 1'!M60+'Пт День 5 Нед 1'!J60+'Сб День 6 Нед 1'!L60+'Сб День 6 Нед 1'!M60","v":{"v":0,"d":"0.0000"}},{"$f":"'Пн День 1 Нед 1'!O60+'Вт День 2 Нед 1'!T60+'Ср День 3 Нед 1'!R60+'Чт День 4 Нед 1'!T60+'Чт День 4 Нед 1'!U60+'Пт День 5 Нед 1'!O60+'Сб День 6 Нед 1'!U60+'Сб День 6 Нед 1'!V60","v":{"v":0,"d":"0.0000"}},{"$f":"'Сб День 6 Нед 1'!Y60+'Пт День 5 Нед 1'!R60+'Чт День 4 Нед 1'!X60+'Ср День 3 Нед 1'!U60+'Вт День 2 Нед 1'!W60+'Пн День 1 Нед 1'!R60","v":{"v":0,"d":"0.0000"}},{"$f":"'Сб День 6 Нед 1'!AC60+'Пт День 5 Нед 1'!V60+'Чт День 4 Нед 1'!AB60+'Ср День 3 Нед 1'!Y60+'Вт День 2 Нед 1'!AA60+'Пн День 1 Нед 1'!V60","v":{"v":0,"d":"0.0000"}},{"$f":"'Сб День 6 Нед 1'!AG60+'Пт День 5 Нед 1'!Z60+'Чт День 4 Нед 1'!AF60+'Ср День 3 Нед 1'!AC60+'Вт День 2 Нед 1'!AE60+'Пн День 1 Нед 1'!Z60","v":{"v":0,"d":"0.0000"}},{"v":0,"d":"0.000"}]
[null,"Консервы"]
[50,"зеленый горошек к/с","кг",{"$f":"'Пн День 1 Нед 1'!J62+'Вт День 2 Нед 1'!L62+'Ср День 3 Нед 1'!L62+'Чт День 4 Нед 1'!L62+'Чт День 4 Нед 1'!M62+'Пт День 5 Нед 1'!J62+'Сб День 6 Нед 1'!L62+'Сб День 6 Нед 1'!M62","v":0.0962},{"$f":"'Пн День 1 Нед 1'!O62+'Вт День 2 Нед 1'!T62+'Ср День 3 Нед 1'!R62+'Чт День 4 Нед 1'!T62+'Чт День 4 Нед 1'!U62+'Пт День 5 Нед 1'!O62+'Сб День 6 Нед 1'!U62+'Сб День 6 Нед 1'!V62","v":{"v":0.194,"d":"0.1940"}},{"$f":"'Сб День 6 Нед 1'!Y62+'Пт День 5 Нед 1'!R62+'Чт День 4 Нед 1'!X62+'Ср День 3 Нед 1'!U62+'Вт День 2 Нед 1'!W62+'Пн День 1 Нед 1'!R62","v":{"v":0,"d":"0.0000"}},{"$f":"'Сб День 6 Нед 1'!AC62+'Пт День 5 Нед 1'!V62+'Чт День 4 Нед 1'!AB62+'Ср День 3 Нед 1'!Y62+'Вт День 2 Нед 1'!AA62+'Пн День 1 Нед 1'!V62","v":{"v":0,"d":"0.0000"}},{"$f":"'Сб День 6 Нед 1'!AG62+'Пт День 5 Нед 1'!Z62+'Чт День 4 Нед 1'!AF62+'Ср День 3 Нед 1'!AC62+'Вт День 2 Нед 1'!AE62+'Пн День 1 Нед 1'!Z62","v":{"v":0,"d":"0.0000"}},{"v":0.2902,"d":"0.290"}]
[51,"кукуруза к/с","кг",{"$f":"'Пн День 1 Нед 1'!J63+'Вт День 2 Нед 1'!L63+'Ср День 3 Нед 1'!L63+'Чт День 4 Нед 1'!L63+'Чт День 4 Нед 1'!M63+'Пт День 5 Нед 1'!J63+'Сб День 6 Нед 1'!L63+'Сб День 6 Нед 1'!M63","v":{"v":0,"d":"0.0000"}},{"$f":"'Пн День 1 Нед 1'!O63+'Вт День 2 Нед 1'!T63+'Ср День 3 Нед 1'!R63+'Чт День 4 Нед 1'!T63+'Чт День 4 Нед 1'!U63+'Пт День 5 Нед 1'!O63+'Сб День 6 Нед 1'!U63+'Сб День 6 Нед 1'!V63","v":{"v":0,"d":"0.0000"}},{"$f":"'Сб День 6 Нед 1'!Y63+'Пт День 5 Нед 1'!R63+'Чт День 4 Нед 1'!X63+'Ср День 3 Нед 1'!U63+'Вт День 2 Нед 1'!W63+'Пн День 1 Нед 1'!R63","v":{"v":0,"d":"0.0000"}},{"$f":"'Сб День 6 Нед 1'!AC63+'Пт День 5 Нед 1'!V63+'Чт День 4 Нед 1'!AB63+'Ср День 3 Нед 1'!Y63+'Вт День 2 Нед 1'!AA63+'Пн День 1 Нед 1'!V63","v":{"v":0,"d":"0.0000"}},{"$f":"'Сб День 6 Нед 1'!AG63+'Пт День 5 Нед 1'!Z63+'Чт День 4 Нед 1'!AF63+'Ср День 3 Нед 1'!AC63+'Вт День 2 Нед 1'!AE63+'Пн День 1 Нед 1'!Z63","v":{"v":0,"d":"0.0000"}},{"v":0,"d":"0.000"}]
[52,"фасоль к/с","кг",{"$f":"'Пн День 1 Нед 1'!J64+'Вт День 2 Нед 1'!L64+'Ср День 3 Нед 1'!L64+'Чт День 4 Нед 1'!L64+'Чт День 4 Нед 1'!M64+'Пт День 5 Нед 1'!J64+'Сб День 6 Нед 1'!L64+'Сб День 6 Нед 1'!M64","v":{"v":0,"d":"0.0000"}},{"$f":"'Пн День 1 Нед 1'!O64+'Вт День 2 Нед 1'!T64+'Ср День 3 Нед 1'!R64+'Чт День 4 Нед 1'!T64+'Чт День 4 Нед 1'!U64+'Пт День 5 Нед 1'!O64+'Сб День 6 Нед 1'!U64+'Сб День 6 Нед 1'!V64","v":{"v":0,"d":"0.0000"}},{"$f":"'Сб День 6 Нед 1'!Y64+'Пт День 5 Нед 1'!R64+'Чт День 4 Нед 1'!X64+'Ср День 3 Нед 1'!U64+'Вт День 2 Нед 1'!W64+'Пн День 1 Нед 1'!R64","v":{"v":0,"d":"0.0000"}},{"$f":"'Сб День 6 Нед 1'!AC64+'Пт День 5 Нед 1'!V64+'Чт День 4 Нед 1'!AB64+'Ср День 3 Нед 1'!Y64+'Вт День 2 Нед 1'!AA64+'Пн День 1 Нед 1'!V64","v":{"v":0,"d":"0.0000"}},{"$f":"'Сб День 6 Нед 1'!AG64+'Пт День 5 Нед 1'!Z64+'Чт День 4 Нед 1'!AF64+'Ср День 3 Нед 1'!AC64+'Вт День 2 Нед 1'!AE64+'Пн День 1 Нед 1'!Z64","v":{"v":0,"d":"0.0000"}},{"v":0,"d":"0.000"}]
[53,"икра кабач/икра баклаж","кг",{"$f":"'Пн День 1 Нед 1'!J65+'Вт День 2 Нед 1'!L65+'Ср День 3 Нед 1'!L65+'Чт День 4 Нед 1'!L65+'Чт День 4 Нед 1'!M65+'Пт День 5 Нед 1'!J65+'Сб День 6 Нед 1'!L65+'Сб День 6 Нед 1'!M65","v":{"v":0,"d":"0.0000"}},{"$f":"'Пн День 1 Нед 1'!O65+'Вт День 2 Нед 1'!T65+'Ср День 3 Нед 1'!R65+'Чт День 4 Нед 1'!T65+'Чт День 4 Нед 1'!U65+'Пт День 5 Нед 1'!O65+'Сб День 6 Нед 1'!U65+'Сб День 6 Нед 1'!V65","v":{"v":0,"d":"0.0000"}},{"$f":"'Сб День 6 Нед 1'!Y65+'Пт День 5 Нед 1'!R65+'Чт День 4 Нед 1'!X65+'Ср День 3 Нед 1'!U65+'Вт День 2 Нед 1'!W65+'Пн День 1 Нед 1'!R65","v":{"v":0,"d":"0.0000"}},{"$f":"'Сб День 6 Нед 1'!AC65+'Пт День 5 Нед 1'!V65+'Чт День 4 Нед 1'!AB65+'Ср День 3 Нед 1'!Y65+'Вт День 2 Нед 1'!AA65+'Пн День 1 Нед 1'!V65","v":{"v":0,"d":"0.0000"}},{"$f":"'Сб День 6 Нед 1'!AG65+'Пт День 5 Нед 1'!Z65+'Чт День 4 Нед 1'!AF65+'Ср День 3 Нед 1'!AC65+'Вт День 2 Нед 1'!AE65+'Пн День 1 Нед 1'!Z65","v":{"v":0,"d":"0.0000"}},{"v":0,"d":"0.000"}]
[54,"капуста морская сушеная","кг",{"$f":"'Пн День 1 Нед 1'!J66+'Вт День 2 Нед 1'!L66+'Ср День 3 Нед 1'!L66+'Чт День 4 Нед 1'!L66+'Чт День 4 Нед 1'!M66+'Пт День 5 Нед 1'!J66+'Сб День 6 Нед 1'!L66+'Сб День 6 Нед 1'!M66","v":{"v":0,"d":"0.0000"}},{"$f":"'Пн День 1 Нед 1'!O66+'Вт День 2 Нед 1'!T66+'Ср День 3 Нед 1'!R66+'Чт День 4 Нед 1'!T66+'Чт День 4 Нед 1'!U66+'Пт День 5 Нед 1'!O66+'Сб День 6 Нед 1'!U66+'Сб День 6 Нед 1'!V66","v":{"v":0,"d":"0.0000"}},{"$f":"'Сб День 6 Нед 1'!Y66+'Пт День 5 Нед 1'!R66+'Чт День 4 Нед 1'!X66+'Ср День 3 Нед 1'!U66+'Вт День 2 Нед 1'!W66+'Пн День 1 Нед 1'!R66","v":{"v":0,"d":"0.0000"}},{"$f":"'Сб День 6 Нед 1'!AC66+'Пт День 5 Нед 1'!V66+'Чт День 4 Нед 1'!AB66+'Ср День 3 Нед 1'!Y66+'Вт День 2 Нед 1'!AA66+'Пн День 1 Нед 1'!V66","v":{"v":0,"d":"0.0000"}},{"$f":"'Сб День 6 Нед 1'!AG66+'Пт День 5 Нед 1'!Z66+'Чт День 4 Нед 1'!AF66+'Ср День 3 Нед 1'!AC66+'Вт День 2 Нед 1'!AE66+'Пн День 1 Нед 1'!Z66","v":{"v":0,"d":"0.0000"}},{"v":0,"d":"0.000"}]
[55,"капуста квашеная ","кг",{"$f":"'Пн День 1 Нед 1'!J67+'Вт День 2 Нед 1'!L67+'Ср День 3 Нед 1'!L67+'Чт День 4 Нед 1'!L67+'Чт День 4 Нед 1'!M67+'Пт День 5 Нед 1'!J67+'Сб День 6 Нед 1'!L67+'Сб День 6 Нед 1'!M67","v":{"v":0,"d":"0.0000"}},{"$f":"'Пн День 1 Нед 1'!O67+'Вт День 2 Нед 1'!T67+'Ср День 3 Нед 1'!R67+'Чт День 4 Нед 1'!T67+'Чт День 4 Нед 1'!U67+'Пт День 5 Нед 1'!O67+'Сб День 6 Нед 1'!U67+'Сб День 6 Нед 1'!V67","v":{"v":0,"d":"0.0000"}},{"$f":"'Сб День 6 Нед 1'!Y67+'Пт День 5 Нед 1'!R67+'Чт День 4 Нед 1'!X67+'Ср День 3 Нед 1'!U67+'Вт День 2 Нед 1'!W67+'Пн День 1 Нед 1'!R67","v":{"v":0,"d":"0.0000"}},{"$f":"'Сб День 6 Нед 1'!AC67+'Пт День 5 Нед 1'!V67+'Чт День 4 Нед 1'!AB67+'Ср День 3 Нед 1'!Y67+'Вт День 2 Нед 1'!AA67+'Пн День 1 Нед 1'!V67","v":{"v":0,"d":"0.0000"}},{"$f":"'Сб День 6 Нед 1'!AG67+'Пт День 5 Нед 1'!Z67+'Чт День 4 Нед 1'!AF67+'Ср День 3 Нед 1'!AC67+'Вт День 2 Нед 1'!AE67+'Пн День 1 Нед 1'!Z67","v":{"v":0,"d":"0.0000"}},{"v":0,"d":"0.000"}]
[56,"молоко сгущенное  ","кг",{"$f":"'Пн День 1 Нед 1'!J68+'Вт День 2 Нед 1'!L68+'Ср День 3 Нед 1'!L68+'Чт День 4 Нед 1'!L68+'Чт День 4 Нед 1'!M68+'Пт День 5 Нед 1'!J68+'Сб День 6 Нед 1'!L68+'Сб День 6 Нед 1'!M68","v":{"v":0,"d":"0.0000"}},{"$f":"'Пн День 1 Нед 1'!O68+'Вт День 2 Нед 1'!T68+'Ср День 3 Нед 1'!R68+'Чт День 4 Нед 1'!T68+'Чт День 4 Нед 1'!U68+'Пт День 5 Нед 1'!O68+'Сб День 6 Нед 1'!U68+'Сб День 6 Нед 1'!V68","v":{"v":0,"d":"0.0000"}},{"$f":"'Сб День 6 Нед 1'!Y68+'Пт День 5 Нед 1'!R68+'Чт День 4 Нед 1'!X68+'Ср День 3 Нед 1'!U68+'Вт День 2 Нед 1'!W68+'Пн День 1 Нед 1'!R68","v":{"v":0,"d":"0.0000"}},{"$f":"'Сб День 6 Нед 1'!AC68+'Пт День 5 Нед 1'!V68+'Чт День 4 Нед 1'!AB68+'Ср День 3 Нед 1'!Y68+'Вт День 2 Нед 1'!AA68+'Пн День 1 Нед 1'!V68","v":{"v":0,"d":"0.0000"}},{"$f":"'Сб День 6 Нед 1'!AG68+'Пт День 5 Нед 1'!Z68+'Чт День 4 Нед 1'!AF68+'Ср День 3 Нед 1'!AC68+'Вт День 2 Нед 1'!AE68+'Пн День 1 Нед 1'!Z68","v":{"v":0,"d":"0.0000"}},{"v":0,"d":"0.000"}]
[57,"огурцы соленые","кг",{"$f":"'Пн День 1 Нед 1'!J69+'Вт День 2 Нед 1'!L69+'Ср День 3 Нед 1'!L69+'Чт День 4 Нед 1'!L69+'Чт День 4 Нед 1'!M69+'Пт День 5 Нед 1'!J69+'Сб День 6 Нед 1'!L69+'Сб День 6 Нед 1'!M69","v":{"v":0,"d":"0.0000"}},{"$f":"'Пн День 1 Нед 1'!O69+'Вт День 2 Нед 1'!T69+'Ср День 3 Нед 1'!R69+'Чт День 4 Нед 1'!T69+'Чт День 4 Нед 1'!U69+'Пт День 5 Нед 1'!O69+'Сб День 6 Нед 1'!U69+'Сб День 6 Нед 1'!V69","v":{"v":0,"d":"0.0000"}},{"$f":"'Сб День 6 Нед 1'!Y69+'Пт День 5 Нед 1'!R69+'Чт День 4 Нед 1'!X69+'Ср День 3 Нед 1'!U69+'Вт День 2 Нед 1'!W69+'Пн День 1 Нед 1'!R69","v":{"v":0,"d":"0.0000"}},{"$f":"'Сб День 6 Нед 1'!AC69+'Пт День 5 Нед 1'!V69+'Чт День 4 Нед 1'!AB69+'Ср День 3 Нед 1'!Y69+'Вт День 2 Нед 1'!AA69+'Пн День 1 Нед 1'!V69","v":{"v":0,"d":"0.0000"}},{"$f":"'Сб День 6 Нед 1'!AG69+'Пт День 5 Нед 1'!Z69+'Чт День 4 Нед 1'!AF69+'Ср День 3 Нед 1'!AC69+'Вт День 2 Нед 1'!AE69+'Пн День 1 Нед 1'!Z69","v":0.0273},{"v":0.0273,"d":"0.027"}]
[58,"повидло","кг",{"$f":"'Пн День 1 Нед 1'!J70+'Вт День 2 Нед 1'!L70+'Ср День 3 Нед 1'!L70+'Чт День 4 Нед 1'!L70+'Чт День 4 Нед 1'!M70+'Пт День 5 Нед 1'!J70+'Сб День 6 Нед 1'!L70+'Сб День 6 Нед 1'!M70","v":{"v":0,"d":"0.0000"}},{"$f":"'Пн День 1 Нед 1'!O70+'Вт День 2 Нед 1'!T70+'Ср День 3 Нед 1'!R70+'Чт День 4 Нед 1'!T70+'Чт День 4 Нед 1'!U70+'Пт День 5 Нед 1'!O70+'Сб День 6 Нед 1'!U70+'Сб День 6 Нед 1'!V70","v":{"v":0,"d":"0.0000"}},{"$f":"'Сб День 6 Нед 1'!Y70+'Пт День 5 Нед 1'!R70+'Чт День 4 Нед 1'!X70+'Ср День 3 Нед 1'!U70+'Вт День 2 Нед 1'!W70+'Пн День 1 Нед 1'!R70","v":{"v":0,"d":"0.0000"}},{"$f":"'Сб День 6 Нед 1'!AC70+'Пт День 5 Нед 1'!V70+'Чт День 4 Нед 1'!AB70+'Ср День 3 Нед 1'!Y70+'Вт День 2 Нед 1'!AA70+'Пн День 1 Нед 1'!V70","v":{"v":0,"d":"0.0000"}},{"$f":"'Сб День 6 Нед 1'!AG70+'Пт День 5 Нед 1'!Z70+'Чт День 4 Нед 1'!AF70+'Ср День 3 Нед 1'!AC70+'Вт День 2 Нед 1'!AE70+'Пн День 1 Нед 1'!Z70","v":{"v":0,"d":"0.0000"}},{"v":0,"d":"0.000"}]
[59,"томатная паста","кг",{"$f":"'Пн День 1 Нед 1'!J71+'Вт День 2 Нед 1'!L71+'Ср День 3 Нед 1'!L71+'Чт День 4 Нед 1'!L71+'Чт День 4 Нед 1'!M71+'Пт День 5 Нед 1'!J71+'Сб День 6 Нед 1'!L71+'Сб День 6 Нед 1'!M71","v":0.0046},{"$f":"'Пн День 1 Нед 1'!O71+'Вт День 2 Нед 1'!T71+'Ср День 3 Нед 1'!R71+'Чт День 4 Нед 1'!T71+'Чт День 4 Нед 1'!U71+'Пт День 5 Нед 1'!O71+'Сб День 6 Нед 1'!U71+'Сб День 6 Нед 1'!V71","v":0.0046},{"$f":"'Сб День 6 Нед 1'!Y71+'Пт День 5 Нед 1'!R71+'Чт День 4 Нед 1'!X71+'Ср День 3 Нед 1'!U71+'Вт День 2 Нед 1'!W71+'Пн День 1 Нед 1'!R71","v":{"v":0,"d":"0.0000"}},{"$f":"'Сб День 6 Нед 1'!AC71+'Пт День 5 Нед 1'!V71+'Чт День 4 Нед 1'!AB71+'Ср День 3 Нед 1'!Y71+'Вт День 2 Нед 1'!AA71+'Пн День 1 Нед 1'!V71","v":{"v":0,"d":"0.0000"}},{"$f":"'Сб День 6 Нед 1'!AG71+'Пт День 5 Нед 1'!Z71+'Чт День 4 Нед 1'!AF71+'Ср День 3 Нед 1'!AC71+'Вт День 2 Нед 1'!AE71+'Пн День 1 Нед 1'!Z71","v":{"v":0.009000000000000001,"d":"0.0090"}},{"v":0.0182,"d":"0.018"}]
[60,"рыбные консервы","кг",{"$f":"'Пн День 1 Нед 1'!J72+'Вт День 2 Нед 1'!L72+'Ср День 3 Нед 1'!L72+'Чт День 4 Нед 1'!L72+'Чт День 4 Нед 1'!M72+'Пт День 5 Нед 1'!J72+'Сб День 6 Нед 1'!L72+'Сб День 6 Нед 1'!M72","v":{"v":0,"d":"0.0000"}},{"$f":"'Пн День 1 Нед 1'!O72+'Вт День 2 Нед 1'!T72+'Ср День 3 Нед 1'!R72+'Чт День 4 Нед 1'!T72+'Чт День 4 Нед 1'!U72+'Пт День 5 Нед 1'!O72+'Сб День 6 Нед 1'!U72+'Сб День 6 Нед 1'!V72","v":{"v":0,"d":"0.0000"}},{"$f":"'Сб День 6 Нед 1'!Y72+'Пт День 5 Нед 1'!R72+'Чт День 4 Нед 1'!X72+'Ср День 3 Нед 1'!U72+'Вт День 2 Нед 1'!W72+'Пн День 1 Нед 1'!R72","v":{"v":0,"d":"0.0000"}},{"$f":"'Сб День 6 Нед 1'!AC72+'Пт День 5 Нед 1'!V72+'Чт День 4 Нед 1'!AB72+'Ср День 3 Нед 1'!Y72+'Вт День 2 Нед 1'!AA72+'Пн День 1 Нед 1'!V72","v":{"v":0,"d":"0.0000"}},{"$f":"'Сб День 6 Нед 1'!AG72+'Пт День 5 Нед 1'!Z72+'Чт День 4 Нед 1'!AF72+'Ср День 3 Нед 1'!AC72+'Вт День 2 Нед 1'!AE72+'Пн День 1 Нед 1'!Z72","v":{"v":0,"d":"0.0000"}},{"$f":"D72+E72+F72+G72+H72","v":{"v":0,"d":"0.000"}}]
[null,"Напитки"]
[61,"чай весовой ","кг",{"$f":"'Пн День 1 Нед 1'!J74+'Вт День 2 Нед 1'!L74+'Ср День 3 Нед 1'!L74+'Чт День 4 Нед 1'!L74+'Чт День 4 Нед 1'!M74+'Пт День 5 Нед 1'!J74+'Сб День 6 Нед 1'!L74+'Сб День 6 Нед 1'!M74","v":{"v":0.004,"d":"0.0040"}},{"$f":"'Пн День 1 Нед 1'!O74+'Вт День 2 Нед 1'!T74+'Ср День 3 Нед 1'!R74+'Чт День 4 Нед 1'!T74+'Чт День 4 Нед 1'!U74+'Пт День 5 Нед 1'!O74+'Сб День 6 Нед 1'!U74+'Сб День 6 Нед 1'!V74","v":{"v":0.004,"d":"0.0040"}},{"$f":"'Сб День 6 Нед 1'!Y74+'Пт День 5 Нед 1'!R74+'Чт День 4 Нед 1'!X74+'Ср День 3 Нед 1'!U74+'Вт День 2 Нед 1'!W74+'Пн День 1 Нед 1'!R74","v":{"v":2E-3,"d":"0.0020"}},{"$f":"'Сб День 6 Нед 1'!AC74+'Пт День 5 Нед 1'!V74+'Чт День 4 Нед 1'!AB74+'Ср День 3 Нед 1'!Y74+'Вт День 2 Нед 1'!AA74+'Пн День 1 Нед 1'!V74","v":{"v":0,"d":"0.0000"}},{"$f":"'Сб День 6 Нед 1'!AG74+'Пт День 5 Нед 1'!Z74+'Чт День 4 Нед 1'!AF74+'Ср День 3 Нед 1'!AC74+'Вт День 2 Нед 1'!AE74+'Пн День 1 Нед 1'!Z74","v":{"v":1E-3,"d":"0.0010"}},0.011]
[62,"какао","кг",{"$f":"'Пн День 1 Нед 1'!J75+'Вт День 2 Нед 1'!L75+'Ср День 3 Нед 1'!L75+'Чт День 4 Нед 1'!L75+'Чт День 4 Нед 1'!M75+'Пт День 5 Нед 1'!J75+'Сб День 6 Нед 1'!L75+'Сб День 6 Нед 1'!M75","v":{"v":0,"d":"0.0000"}},{"$f":"'Пн День 1 Нед 1'!O75+'Вт День 2 Нед 1'!T75+'Ср День 3 Нед 1'!R75+'Чт День 4 Нед 1'!T75+'Чт День 4 Нед 1'!U75+'Пт День 5 Нед 1'!O75+'Сб День 6 Нед 1'!U75+'Сб День 6 Нед 1'!V75","v":{"v":0,"d":"0.0000"}},{"$f":"'Сб День 6 Нед 1'!Y75+'Пт День 5 Нед 1'!R75+'Чт День 4 Нед 1'!X75+'Ср День 3 Нед 1'!U75+'Вт День 2 Нед 1'!W75+'Пн День 1 Нед 1'!R75","v":{"v":0,"d":"0.0000"}},{"$f":"'Сб День 6 Нед 1'!AC75+'Пт День 5 Нед 1'!V75+'Чт День 4 Нед 1'!AB75+'Ср День 3 Нед 1'!Y75+'Вт День 2 Нед 1'!AA75+'Пн День 1 Нед 1'!V75","v":{"v":0,"d":"0.0000"}},{"$f":"'Сб День 6 Нед 1'!AG75+'Пт День 5 Нед 1'!Z75+'Чт День 4 Нед 1'!AF75+'Ср День 3 Нед 1'!AC75+'Вт День 2 Нед 1'!AE75+'Пн День 1 Нед 1'!Z75","v":{"v":0,"d":"0.0000"}},{"v":0,"d":"0.000"}]
[63,"кисель","кг",{"$f":"'Пн День 1 Нед 1'!J76+'Вт День 2 Нед 1'!L76+'Ср День 3 Нед 1'!L76+'Чт День 4 Нед 1'!L76+'Чт День 4 Нед 1'!M76+'Пт День 5 Нед 1'!J76+'Сб День 6 Нед 1'!L76+'Сб День 6 Нед 1'!M76","v":{"v":0,"d":"0.0000"}},{"$f":"'Пн День 1 Нед 1'!O76+'Вт День 2 Нед 1'!T76+'Ср День 3 Нед 1'!R76+'Чт День 4 Нед 1'!T76+'Чт День 4 Нед 1'!U76+'Пт День 5 Нед 1'!O76+'Сб День 6 Нед 1'!U76+'Сб День 6 Нед 1'!V76","v":{"v":0,"d":"0.0000"}},{"$f":"'Сб День 6 Нед 1'!Y76+'Пт День 5 Нед 1'!R76+'Чт День 4 Нед 1'!X76+'Ср День 3 Нед 1'!U76+'Вт День 2 Нед 1'!W76+'Пн День 1 Нед 1'!R76","v":{"v":0,"d":"0.0000"}},{"$f":"'Сб День 6 Нед 1'!AC76+'Пт День 5 Нед 1'!V76+'Чт День 4 Нед 1'!AB76+'Ср День 3 Нед 1'!Y76+'Вт День 2 Нед 1'!AA76+'Пн День 1 Нед 1'!V76","v":{"v":0,"d":"0.0000"}},{"$f":"'Сб День 6 Нед 1'!AG76+'Пт День 5 Нед 1'!Z76+'Чт День 4 Нед 1'!AF76+'Ср День 3 Нед 1'!AC76+'Вт День 2 Нед 1'!AE76+'Пн День 1 Нед 1'!Z76","v":{"v":0,"d":"0.0000"}},{"v":0,"d":"0.000"}]
[64,"кофейный напиток","кг",{"$f":"'Пн День 1 Нед 1'!J77+'Вт День 2 Нед 1'!L77+'Ср День 3 Нед 1'!L77+'Чт День 4 Нед 1'!L77+'Чт День 4 Нед 1'!M77+'Пт День 5 Нед 1'!J77+'Сб День 6 Нед 1'!L77+'Сб День 6 Нед 1'!M77","v":{"v":0.005,"d":"0.0050"}},{"$f":"'Пн День 1 Нед 1'!O77+'Вт День 2 Нед 1'!T77+'Ср День 3 Нед 1'!R77+'Чт День 4 Нед 1'!T77+'Чт День 4 Нед 1'!U77+'Пт День 5 Нед 1'!O77+'Сб День 6 Нед 1'!U77+'Сб День 6 Нед 1'!V77","v":{"v":0.005,"d":"0.0050"}},{"$f":"'Сб День 6 Нед 1'!Y77+'Пт День 5 Нед 1'!R77+'Чт День 4 Нед 1'!X77+'Ср День 3 Нед 1'!U77+'Вт День 2 Нед 1'!W77+'Пн День 1 Нед 1'!R77","v":{"v":0,"d":"0.0000"}},{"$f":"'Сб День 6 Нед 1'!AC77+'Пт День 5 Нед 1'!V77+'Чт День 4 Нед 1'!AB77+'Ср День 3 Нед 1'!Y77+'Вт День 2 Нед 1'!AA77+'Пн День 1 Нед 1'!V77","v":{"v":0,"d":"0.0000"}},{"$f":"'Сб День 6 Нед 1'!AG77+'Пт День 5 Нед 1'!Z77+'Чт День 4 Нед 1'!AF77+'Ср День 3 Нед 1'!AC77+'Вт День 2 Нед 1'!AE77+'Пн День 1 Нед 1'!Z77","v":{"v":0,"d":"0.0000"}},{"v":0.01,"d":"0.010"}]
[65,"цикорий","кг",{"$f":"'Пн День 1 Нед 1'!J78+'Вт День 2 Нед 1'!L78+'Ср День 3 Нед 1'!L78+'Чт День 4 Нед 1'!L78+'Чт День 4 Нед 1'!M78+'Пт День 5 Нед 1'!J78+'Сб День 6 Нед 1'!L78+'Сб День 6 Нед 1'!M78","v":{"v":0,"d":"0.0000"}},{"$f":"'Пн День 1 Нед 1'!O78+'Вт День 2 Нед 1'!T78+'Ср День 3 Нед 1'!R78+'Чт День 4 Нед 1'!T78+'Чт День 4 Нед 1'!U78+'Пт День 5 Нед 1'!O78+'Сб День 6 Нед 1'!U78+'Сб День 6 Нед 1'!V78","v":{"v":0,"d":"0.0000"}},{"$f":"'Сб День 6 Нед 1'!Y78+'Пт День 5 Нед 1'!R78+'Чт День 4 Нед 1'!X78+'Ср День 3 Нед 1'!U78+'Вт День 2 Нед 1'!W78+'Пн День 1 Нед 1'!R78","v":{"v":0,"d":"0.0000"}},{"$f":"'Сб День 6 Нед 1'!AC78+'Пт День 5 Нед 1'!V78+'Чт День 4 Нед 1'!AB78+'Ср День 3 Нед 1'!Y78+'Вт День 2 Нед 1'!AA78+'Пн День 1 Нед 1'!V78","v":{"v":0,"d":"0.0000"}},{"$f":"'Сб День 6 Нед 1'!AG78+'Пт День 5 Нед 1'!Z78+'Чт День 4 Нед 1'!AF78+'Ср День 3 Нед 1'!AC78+'Вт День 2 Нед 1'!AE78+'Пн День 1 Нед 1'!Z78","v":{"v":0,"d":"0.0000"}},{"v":0,"d":"0.000"}]
[null,"Сухофрукты"]
[66,"ассорти для компота (сухофрукты)","кг",{"$f":"'Пн День 1 Нед 1'!J80+'Вт День 2 Нед 1'!L80+'Ср День 3 Нед 1'!L80+'Чт День 4 Нед 1'!L80+'Чт День 4 Нед 1'!M80+'Пт День 5 Нед 1'!J80+'Сб День 6 Нед 1'!L80+'Сб День 6 Нед 1'!M80","v":0.0204},{"$f":"'Пн День 1 Нед 1'!O80+'Вт День 2 Нед 1'!T80+'Ср День 3 Нед 1'!R80+'Чт День 4 Нед 1'!T80+'Чт День 4 Нед 1'!U80+'Пт День 5 Нед 1'!O80+'Сб День 6 Нед 1'!U80+'Сб День 6 Нед 1'!V80","v":0.0204},{"$f":"'Сб День 6 Нед 1'!Y80+'Пт День 5 Нед 1'!R80+'Чт День 4 Нед 1'!X80+'Ср День 3 Нед 1'!U80+'Вт День 2 Нед 1'!W80+'Пн День 1 Нед 1'!R80","v":0.0204},{"$f":"'Сб День 6 Нед 1'!AC80+'Пт День 5 Нед 1'!V80+'Чт День 4 Нед 1'!AB80+'Ср День 3 Нед 1'!Y80+'Вт День 2 Нед 1'!AA80+'Пн День 1 Нед 1'!V80","v":{"v":0,"d":"0.0000"}},{"$f":"'Сб День 6 Нед 1'!AG80+'Пт День 5 Нед 1'!Z80+'Чт День 4 Нед 1'!AF80+'Ср День 3 Нед 1'!AC80+'Вт День 2 Нед 1'!AE80+'Пн День 1 Нед 1'!Z80","v":0.0204},{"v":0.0816,"d":"0.082"}]
[67,"изюм","кг",{"$f":"'Пн День 1 Нед 1'!J81+'Вт День 2 Нед 1'!L81+'Ср День 3 Нед 1'!L81+'Чт День 4 Нед 1'!L81+'Чт День 4 Нед 1'!M81+'Пт День 5 Нед 1'!J81+'Сб День 6 Нед 1'!L81+'Сб День 6 Нед 1'!M81","v":{"v":0,"d":"0.0000"}},{"$f":"'Пн День 1 Нед 1'!O81+'Вт День 2 Нед 1'!T81+'Ср День 3 Нед 1'!R81+'Чт День 4 Нед 1'!T81+'Чт День 4 Нед 1'!U81+'Пт День 5 Нед 1'!O81+'Сб День 6 Нед 1'!U81+'Сб День 6 Нед 1'!V81","v":{"v":0,"d":"0.0000"}},{"$f":"'Сб День 6 Нед 1'!Y81+'Пт День 5 Нед 1'!R81+'Чт День 4 Нед 1'!X81+'Ср День 3 Нед 1'!U81+'Вт День 2 Нед 1'!W81+'Пн День 1 Нед 1'!R81","v":{"v":0,"d":"0.0000"}},{"$f":"'Сб День 6 Нед 1'!AC81+'Пт День 5 Нед 1'!V81+'Чт День 4 Нед 1'!AB81+'Ср День 3 Нед 1'!Y81+'Вт День 2 Нед 1'!AA81+'Пн День 1 Нед 1'!V81","v":{"v":0,"d":"0.0000"}},{"$f":"'Сб День 6 Нед 1'!AG81+'Пт День 5 Нед 1'!Z81+'Чт День 4 Нед 1'!AF81+'Ср День 3 Нед 1'!AC81+'Вт День 2 Нед 1'!AE81+'Пн День 1 Нед 1'!Z81","v":0.0102},{"v":0.0102,"d":"0.010"}]
[68,"курага","кг",{"$f":"'Пн День 1 Нед 1'!J82+'Вт День 2 Нед 1'!L82+'Ср День 3 Нед 1'!L82+'Чт День 4 Нед 1'!L82+'Чт День 4 Нед 1'!M82+'Пт День 5 Нед 1'!J82+'Сб День 6 Нед 1'!L82+'Сб День 6 Нед 1'!M82","v":{"v":0,"d":"0.0000"}},{"$f":"'Пн День 1 Нед 1'!O82+'Вт День 2 Нед 1'!T82+'Ср День 3 Нед 1'!R82+'Чт День 4 Нед 1'!T82+'Чт День 4 Нед 1'!U82+'Пт День 5 Нед 1'!O82+'Сб День 6 Нед 1'!U82+'Сб День 6 Нед 1'!V82","v":{"v":0,"d":"0.0000"}},{"$f":"'Сб День 6 Нед 1'!Y82+'Пт День 5 Нед 1'!R82+'Чт День 4 Нед 1'!X82+'Ср День 3 Нед 1'!U82+'Вт День 2 Нед 1'!W82+'Пн День 1 Нед 1'!R82","v":{"v":0,"d":"0.0000"}},{"$f":"'Сб День 6 Нед 1'!AC82+'Пт День 5 Нед 1'!V82+'Чт День 4 Нед 1'!AB82+'Ср День 3 Нед 1'!Y82+'Вт День 2 Нед 1'!AA82+'Пн День 1 Нед 1'!V82","v":{"v":0,"d":"0.0000"}},{"$f":"'Сб День 6 Нед 1'!AG82+'Пт День 5 Нед 1'!Z82+'Чт День 4 Нед 1'!AF82+'Ср День 3 Нед 1'!AC82+'Вт День 2 Нед 1'!AE82+'Пн День 1 Нед 1'!Z82","v":{"v":0,"d":"0.0000"}},{"v":0,"d":"0.000"}]
[69,"урюк","кг",{"$f":"'Пн День 1 Нед 1'!J83+'Вт День 2 Нед 1'!L83+'Ср День 3 Нед 1'!L83+'Чт День 4 Нед 1'!L83+'Чт День 4 Нед 1'!M83+'Пт День 5 Нед 1'!J83+'Сб День 6 Нед 1'!L83+'Сб День 6 Нед 1'!M83","v":{"v":0,"d":"0.0000"}},{"$f":"'Пн День 1 Нед 1'!O83+'Вт День 2 Нед 1'!T83+'Ср День 3 Нед 1'!R83+'Чт День 4 Нед 1'!T83+'Чт День 4 Нед 1'!U83+'Пт День 5 Нед 1'!O83+'Сб День 6 Нед 1'!U83+'Сб День 6 Нед 1'!V83","v":{"v":0,"d":"0.0000"}},{"$f":"'Сб День 6 Нед 1'!Y83+'Пт День 5 Нед 1'!R83+'Чт День 4 Нед 1'!X83+'Ср День 3 Нед 1'!U83+'Вт День 2 Нед 1'!W83+'Пн День 1 Нед 1'!R83","v":{"v":0,"d":"0.0000"}},{"$f":"'Сб День 6 Нед 1'!AC83+'Пт День 5 Нед 1'!V83+'Чт День 4 Нед 1'!AB83+'Ср День 3 Нед 1'!Y83+'Вт День 2 Нед 1'!AA83+'Пн День 1 Нед 1'!V83","v":{"v":0,"d":"0.0000"}},{"$f":"'Сб День 6 Нед 1'!AG83+'Пт День 5 Нед 1'!Z83+'Чт День 4 Нед 1'!AF83+'Ср День 3 Нед 1'!AC83+'Вт День 2 Нед 1'!AE83+'Пн День 1 Нед 1'!Z83","v":0.0204},{"v":0.0204,"d":"0.020"}]
[70,"шиповник","кг",{"$f":"'Пн День 1 Нед 1'!J84+'Вт День 2 Нед 1'!L84+'Ср День 3 Нед 1'!L84+'Чт День 4 Нед 1'!L84+'Чт День 4 Нед 1'!M84+'Пт День 5 Нед 1'!J84+'Сб День 6 Нед 1'!L84+'Сб День 6 Нед 1'!M84","v":{"v":0.005,"d":"0.0050"}},{"$f":"'Пн День 1 Нед 1'!O84+'Вт День 2 Нед 1'!T84+'Ср День 3 Нед 1'!R84+'Чт День 4 Нед 1'!T84+'Чт День 4 Нед 1'!U84+'Пт День 5 Нед 1'!O84+'Сб День 6 Нед 1'!U84+'Сб День 6 Нед 1'!V84","v":{"v":0.005,"d":"0.0050"}},{"$f":"'Сб День 6 Нед 1'!Y84+'Пт День 5 Нед 1'!R84+'Чт День 4 Нед 1'!X84+'Ср День 3 Нед 1'!U84+'Вт День 2 Нед 1'!W84+'Пн День 1 Нед 1'!R84","v":{"v":0,"d":"0.0000"}},{"$f":"'Сб День 6 Нед 1'!AC84+'Пт День 5 Нед 1'!V84+'Чт День 4 Нед 1'!AB84+'Ср День 3 Нед 1'!Y84+'Вт День 2 Нед 1'!AA84+'Пн День 1 Нед 1'!V84","v":{"v":0,"d":"0.0000"}},{"$f":"'Сб День 6 Нед 1'!AG84+'Пт День 5 Нед 1'!Z84+'Чт День 4 Нед 1'!AF84+'Ср День 3 Нед 1'!AC84+'Вт День 2 Нед 1'!AE84+'Пн День 1 Нед 1'!Z84","v":0.0153},{"v":0.0253,"d":"0.025"}]
[71,"компотная смесь с/м","кг",{"$f":"'Пн День 1 Нед 1'!J85+'Вт День 2 Нед 1'!L85+'Ср День 3 Нед 1'!L85+'Чт День 4 Нед 1'!L85+'Чт День 4 Нед 1'!M85+'Пт День 5 Нед 1'!J85+'Сб День 6 Нед 1'!L85+'Сб День 6 Нед 1'!M85","v":{"v":0,"d":"0.0000"}},{"$f":"'Пн День 1 Нед 1'!O85+'Вт День 2 Нед 1'!T85+'Ср День 3 Нед 1'!R85+'Чт День 4 Нед 1'!T85+'Чт День 4 Нед 1'!U85+'Пт День 5 Нед 1'!O85+'Сб День 6 Нед 1'!U85+'Сб День 6 Нед 1'!V85","v":{"v":0,"d":"0.0000"}},{"$f":"'Сб День 6 Нед 1'!Y85+'Пт День 5 Нед 1'!R85+'Чт День 4 Нед 1'!X85+'Ср День 3 Нед 1'!U85+'Вт День 2 Нед 1'!W85+'Пн День 1 Нед 1'!R85","v":{"v":0,"d":"0.0000"}},{"$f":"'Сб День 6 Нед 1'!AC85+'Пт День 5 Нед 1'!V85+'Чт День 4 Нед 1'!AB85+'Ср День 3 Нед 1'!Y85+'Вт День 2 Нед 1'!AA85+'Пн День 1 Нед 1'!V85","v":{"v":0,"d":"0.0000"}},{"$f":"'Сб День 6 Нед 1'!AG85+'Пт День 5 Нед 1'!Z85+'Чт День 4 Нед 1'!AF85+'Ср День 3 Нед 1'!AC85+'Вт День 2 Нед 1'!AE85+'Пн День 1 Нед 1'!Z85","v":{"v":0,"d":"0.0000"}},{"v":0,"d":"0.000"}]
[72,"вишня с/м","кг",{"$f":"'Пн День 1 Нед 1'!J86+'Вт День 2 Нед 1'!L86+'Ср День 3 Нед 1'!L86+'Чт День 4 Нед 1'!L86+'Чт День 4 Нед 1'!M86+'Пт День 5 Нед 1'!J86+'Сб День 6 Нед 1'!L86+'Сб День 6 Нед 1'!M86","v":{"v":0,"d":"0.0000"}},{"$f":"'Пн День 1 Нед 1'!O86+'Вт День 2 Нед 1'!T86+'Ср День 3 Нед 1'!R86+'Чт День 4 Нед 1'!T86+'Чт День 4 Нед 1'!U86+'Пт День 5 Нед 1'!O86+'Сб День 6 Нед 1'!U86+'Сб День 6 Нед 1'!V86","v":{"v":0,"d":"0.0000"}},{"$f":"'Сб День 6 Нед 1'!Y86+'Пт День 5 Нед 1'!R86+'Чт День 4 Нед 1'!X86+'Ср День 3 Нед 1'!U86+'Вт День 2 Нед 1'!W86+'Пн День 1 Нед 1'!R86","v":{"v":0,"d":"0.0000"}},{"$f":"'Сб День 6 Нед 1'!AC86+'Пт День 5 Нед 1'!V86+'Чт День 4 Нед 1'!AB86+'Ср День 3 Нед 1'!Y86+'Вт День 2 Нед 1'!AA86+'Пн День 1 Нед 1'!V86","v":{"v":0,"d":"0.0000"}},{"$f":"'Сб День 6 Нед 1'!AG86+'Пт День 5 Нед 1'!Z86+'Чт День 4 Нед 1'!AF86+'Ср День 3 Нед 1'!AC86+'Вт День 2 Нед 1'!AE86+'Пн День 1 Нед 1'!Z86","v":{"v":0,"d":"0.0000"}},{"v":0,"d":"0.000"}]
[73,"клюква с/м","кг",{"$f":"'Пн День 1 Нед 1'!J87+'Вт День 2 Нед 1'!L87+'Ср День 3 Нед 1'!L87+'Чт День 4 Нед 1'!L87+'Чт День 4 Нед 1'!M87+'Пт День 5 Нед 1'!J87+'Сб День 6 Нед 1'!L87+'Сб День 6 Нед 1'!M87","v":{"v":0,"d":"0.0000"}},{"$f":"'Пн День 1 Нед 1'!O87+'Вт День 2 Нед 1'!T87+'Ср День 3 Нед 1'!R87+'Чт День 4 Нед 1'!T87+'Чт День 4 Нед 1'!U87+'Пт День 5 Нед 1'!O87+'Сб День 6 Нед 1'!U87+'Сб День 6 Нед 1'!V87","v":{"v":0,"d":"0.0000"}},{"$f":"'Сб День 6 Нед 1'!Y87+'Пт День 5 Нед 1'!R87+'Чт День 4 Нед 1'!X87+'Ср День 3 Нед 1'!U87+'Вт День 2 Нед 1'!W87+'Пн День 1 Нед 1'!R87","v":{"v":0,"d":"0.0000"}},{"$f":"'Сб День 6 Нед 1'!AC87+'Пт День 5 Нед 1'!V87+'Чт День 4 Нед 1'!AB87+'Ср День 3 Нед 1'!Y87+'Вт День 2 Нед 1'!AA87+'Пн День 1 Нед 1'!V87","v":{"v":0,"d":"0.0000"}},{"$f":"'Сб День 6 Нед 1'!AG87+'Пт День 5 Нед 1'!Z87+'Чт День 4 Нед 1'!AF87+'Ср День 3 Нед 1'!AC87+'Вт День 2 Нед 1'!AE87+'Пн День 1 Нед 1'!Z87","v":{"v":0,"d":"0.0000"}},{"v":0,"d":"0.000"}]
[74,"смородина в ассорт с/м","кг",{"$f":"'Пн День 1 Нед 1'!J88+'Вт День 2 Нед 1'!L88+'Ср День 3 Нед 1'!L88+'Чт День 4 Нед 1'!L88+'Чт День 4 Нед 1'!M88+'Пт День 5 Нед 1'!J88+'Сб День 6 Нед 1'!L88+'Сб День 6 Нед 1'!M88","v":{"v":0,"d":"0.0000"}},{"$f":"'Пн День 1 Нед 1'!O88+'Вт День 2 Нед 1'!T88+'Ср День 3 Нед 1'!R88+'Чт День 4 Нед 1'!T88+'Чт День 4 Нед 1'!U88+'Пт День 5 Нед 1'!O88+'Сб День 6 Нед 1'!U88+'Сб День 6 Нед 1'!V88","v":{"v":0,"d":"0.0000"}},{"$f":"'Сб День 6 Нед 1'!Y88+'Пт День 5 Нед 1'!R88+'Чт День 4 Нед 1'!X88+'Ср День 3 Нед 1'!U88+'Вт День 2 Нед 1'!W88+'Пн День 1 Нед 1'!R88","v":{"v":0,"d":"0.0000"}},{"$f":"'Сб День 6 Нед 1'!AC88+'Пт День 5 Нед 1'!V88+'Чт День 4 Нед 1'!AB88+'Ср День 3 Нед 1'!Y88+'Вт День 2 Нед 1'!AA88+'Пн День 1 Нед 1'!V88","v":{"v":0,"d":"0.0000"}},{"$f":"'Сб День 6 Нед 1'!AG88+'Пт День 5 Нед 1'!Z88+'Чт День 4 Нед 1'!AF88+'Ср День 3 Нед 1'!AC88+'Вт День 2 Нед 1'!AE88+'Пн День 1 Нед 1'!Z88","v":{"v":0,"d":"0.0000"}},{"v":0,"d":"0.000"}]
[75,"облепиха с/м","кг",{"$f":"'Пн День 1 Нед 1'!J89+'Вт День 2 Нед 1'!L89+'Ср День 3 Нед 1'!L89+'Чт День 4 Нед 1'!L89+'Чт День 4 Нед 1'!M89+'Пт День 5 Нед 1'!J89+'Сб День 6 Нед 1'!L89+'Сб День 6 Нед 1'!M89","v":{"v":0,"d":"0.0000"}},{"$f":"'Пн День 1 Нед 1'!O89+'Вт День 2 Нед 1'!T89+'Ср День 3 Нед 1'!R89+'Чт День 4 Нед 1'!T89+'Чт День 4 Нед 1'!U89+'Пт День 5 Нед 1'!O89+'Сб День 6 Нед 1'!U89+'Сб День 6 Нед 1'!V89","v":{"v":0,"d":"0.0000"}},{"$f":"'Сб День 6 Нед 1'!Y89+'Пт День 5 Нед 1'!R89+'Чт День 4 Нед 1'!X89+'Ср День 3 Нед 1'!U89+'Вт День 2 Нед 1'!W89+'Пн День 1 Нед 1'!R89","v":{"v":0,"d":"0.0000"}},{"$f":"'Сб День 6 Нед 1'!AC89+'Пт День 5 Нед 1'!V89+'Чт День 4 Нед 1'!AB89+'Ср День 3 Нед 1'!Y89+'Вт День 2 Нед 1'!AA89+'Пн День 1 Нед 1'!V89","v":{"v":0,"d":"0.0000"}},{"$f":"'Сб День 6 Нед 1'!AG89+'Пт День 5 Нед 1'!Z89+'Чт День 4 Нед 1'!AF89+'Ср День 3 Нед 1'!AC89+'Вт День 2 Нед 1'!AE89+'Пн День 1 Нед 1'!Z89","v":{"v":0,"d":"0.0000"}},{"v":0,"d":"0.000"}]
[null,"Сок"]
[76,"сок 0,125л или 0,2л","л",{"$f":"'Пн День 1 Нед 1'!J91+'Вт День 2 Нед 1'!L91+'Ср День 3 Нед 1'!L91+'Чт День 4 Нед 1'!L91+'Чт День 4 Нед 1'!M91+'Пт День 5 Нед 1'!J91+'Сб День 6 Нед 1'!L91+'Сб День 6 Нед 1'!M91","v":{"v":0,"d":"0.0000"}},{"$f":"'Пн День 1 Нед 1'!O91+'Вт День 2 Нед 1'!T91+'Ср День 3 Нед 1'!R91+'Чт День 4 Нед 1'!T91+'Чт День 4 Нед 1'!U91+'Пт День 5 Нед 1'!O91+'Сб День 6 Нед 1'!U91+'Сб День 6 Нед 1'!V91","v":{"v":0,"d":"0.0000"}},{"$f":"'Сб День 6 Нед 1'!Y91+'Пт День 5 Нед 1'!R91+'Чт День 4 Нед 1'!X91+'Ср День 3 Нед 1'!U91+'Вт День 2 Нед 1'!W91+'Пн День 1 Нед 1'!R91","v":{"v":0,"d":"0.0000"}},{"$f":"'Сб День 6 Нед 1'!AC91+'Пт День 5 Нед 1'!V91+'Чт День 4 Нед 1'!AB91+'Ср День 3 Нед 1'!Y91+'Вт День 2 Нед 1'!AA91+'Пн День 1 Нед 1'!V91","v":{"v":0,"d":"0.0000"}},{"$f":"'Сб День 6 Нед 1'!AG91+'Пт День 5 Нед 1'!Z91+'Чт День 4 Нед 1'!AF91+'Ср День 3 Нед 1'!AC91+'Вт День 2 Нед 1'!AE91+'Пн День 1 Нед 1'!Z91","v":{"v":0,"d":"0.0000"}},{"v":0,"d":"0.000"}]
[77,"нектар плодовый","л",{"$f":"'Пн День 1 Нед 1'!J92+'Вт День 2 Нед 1'!L92+'Ср День 3 Нед 1'!L92+'Чт День 4 Нед 1'!L92+'Чт День 4 Нед 1'!M92+'Пт День 5 Нед 1'!J92+'Сб День 6 Нед 1'!L92+'Сб День 6 Нед 1'!M92","v":{"v":0,"d":"0.0000"}},{"$f":"'Пн День 1 Нед 1'!O92+'Вт День 2 Нед 1'!T92+'Ср День 3 Нед 1'!R92+'Чт День 4 Нед 1'!T92+'Чт День 4 Нед 1'!U92+'Пт День 5 Нед 1'!O92+'Сб День 6 Нед 1'!U92+'Сб День 6 Нед 1'!V92","v":{"v":0,"d":"0.0000"}},{"$f":"'Сб День 6 Нед 1'!Y92+'Пт День 5 Нед 1'!R92+'Чт День 4 Нед 1'!X92+'Ср День 3 Нед 1'!U92+'Вт День 2 Нед 1'!W92+'Пн День 1 Нед 1'!R92","v":{"v":0,"d":"0.0000"}},{"$f":"'Сб День 6 Нед 1'!AC92+'Пт День 5 Нед 1'!V92+'Чт День 4 Нед 1'!AB92+'Ср День 3 Нед 1'!Y92+'Вт День 2 Нед 1'!AA92+'Пн День 1 Нед 1'!V92","v":{"v":0,"d":"0.0000"}},{"$f":"'Сб День 6 Нед 1'!AG92+'Пт День 5 Нед 1'!Z92+'Чт День 4 Нед 1'!AF92+'Ср День 3 Нед 1'!AC92+'Вт День 2 Нед 1'!AE92+'Пн День 1 Нед 1'!Z92","v":{"v":0,"d":"0.0000"}},{"v":0,"d":"0.000"}]
[null,"Кондитерка"]
[78,"батончик злаковый","шт",{"$f":"'Пн День 1 Нед 1'!J94+'Вт День 2 Нед 1'!L94+'Ср День 3 Нед 1'!L94+'Чт День 4 Нед 1'!L94+'Чт День 4 Нед 1'!M94+'Пт День 5 Нед 1'!J94+'Сб День 6 Нед 1'!L94+'Сб День 6 Нед 1'!M94","v":{"v":0,"d":"0.0000"}},{"$f":"'Пн День 1 Нед 1'!O94+'Вт День 2 Нед 1'!T94+'Ср День 3 Нед 1'!R94+'Чт День 4 Нед 1'!T94+'Чт День 4 Нед 1'!U94+'Пт День 5 Нед 1'!O94+'Сб День 6 Нед 1'!U94+'Сб День 6 Нед 1'!V94","v":{"v":0,"d":"0.0000"}},{"$f":"'Сб День 6 Нед 1'!Y94+'Пт День 5 Нед 1'!R94+'Чт День 4 Нед 1'!X94+'Ср День 3 Нед 1'!U94+'Вт День 2 Нед 1'!W94+'Пн День 1 Нед 1'!R94","v":{"v":0,"d":"0.0000"}},{"$f":"'Сб День 6 Нед 1'!AC94+'Пт День 5 Нед 1'!V94+'Чт День 4 Нед 1'!AB94+'Ср День 3 Нед 1'!Y94+'Вт День 2 Нед 1'!AA94+'Пн День 1 Нед 1'!V94","v":{"v":0,"d":"0.0000"}},{"$f":"'Сб День 6 Нед 1'!AG94+'Пт День 5 Нед 1'!Z94+'Чт День 4 Нед 1'!AF94+'Ср День 3 Нед 1'!AC94+'Вт День 2 Нед 1'!AE94+'Пн День 1 Нед 1'!Z94","v":{"v":0,"d":"0.0000"}},{"v":0,"d":"0.000"}]
[79,"пряник","кг",{"$f":"'Пн День 1 Нед 1'!J95+'Вт День 2 Нед 1'!L95+'Ср День 3 Нед 1'!L95+'Чт День 4 Нед 1'!L95+'Чт День 4 Нед 1'!M95+'Пт День 5 Нед 1'!J95+'Сб День 6 Нед 1'!L95+'Сб День 6 Нед 1'!M95","v":{"v":0,"d":"0.0000"}},{"$f":"'Пн День 1 Нед 1'!O95+'Вт День 2 Нед 1'!T95+'Ср День 3 Нед 1'!R95+'Чт День 4 Нед 1'!T95+'Чт День 4 Нед 1'!U95+'Пт День 5 Нед 1'!O95+'Сб День 6 Нед 1'!U95+'Сб День 6 Нед 1'!V95","v":{"v":0,"d":"0.0000"}},{"$f":"'Сб День 6 Нед 1'!Y95+'Пт День 5 Нед 1'!R95+'Чт День 4 Нед 1'!X95+'Ср День 3 Нед 1'!U95+'Вт День 2 Нед 1'!W95+'Пн День 1 Нед 1'!R95","v":{"v":0.035,"d":"0.0350"}},{"$f":"'Сб День 6 Нед 1'!AC95+'Пт День 5 Нед 1'!V95+'Чт День 4 Нед 1'!AB95+'Ср День 3 Нед 1'!Y95+'Вт День 2 Нед 1'!AA95+'Пн День 1 Нед 1'!V95","v":{"v":0,"d":"0.0000"}},{"$f":"'Сб День 6 Нед 1'!AG95+'Пт День 5 Нед 1'!Z95+'Чт День 4 Нед 1'!AF95+'Ср День 3 Нед 1'!AC95+'Вт День 2 Нед 1'!AE95+'Пн День 1 Нед 1'!Z95","v":{"v":0,"d":"0.0000"}},0.035]
[80,"вафли ","кг",{"$f":"'Пн День 1 Нед 1'!J96+'Вт День 2 Нед 1'!L96+'Ср День 3 Нед 1'!L96+'Чт День 4 Нед 1'!L96+'Чт День 4 Нед 1'!M96+'Пт День 5 Нед 1'!J96+'Сб День 6 Нед 1'!L96+'Сб День 6 Нед 1'!M96","v":{"v":0,"d":"0.0000"}},{"$f":"'Пн День 1 Нед 1'!O96+'Вт День 2 Нед 1'!T96+'Ср День 3 Нед 1'!R96+'Чт День 4 Нед 1'!T96+'Чт День 4 Нед 1'!U96+'Пт День 5 Нед 1'!O96+'Сб День 6 Нед 1'!U96+'Сб День 6 Нед 1'!V96","v":{"v":0,"d":"0.0000"}},{"$f":"'Сб День 6 Нед 1'!Y96+'Пт День 5 Нед 1'!R96+'Чт День 4 Нед 1'!X96+'Ср День 3 Нед 1'!U96+'Вт День 2 Нед 1'!W96+'Пн День 1 Нед 1'!R96","v":{"v":0.2,"d":"0.2000"}},{"$f":"'Сб День 6 Нед 1'!AC96+'Пт День 5 Нед 1'!V96+'Чт День 4 Нед 1'!AB96+'Ср День 3 Нед 1'!Y96+'Вт День 2 Нед 1'!AA96+'Пн День 1 Нед 1'!V96","v":{"v":0,"d":"0.0000"}},{"$f":"'Сб День 6 Нед 1'!AG96+'Пт День 5 Нед 1'!Z96+'Чт День 4 Нед 1'!AF96+'Ср День 3 Нед 1'!AC96+'Вт День 2 Нед 1'!AE96+'Пн День 1 Нед 1'!Z96","v":{"v":0,"d":"0.0000"}},{"v":0.2,"d":"0.200"}]
[81,"печенье","кг",{"$f":"'Пн День 1 Нед 1'!J97+'Вт День 2 Нед 1'!L97+'Ср День 3 Нед 1'!L97+'Чт День 4 Нед 1'!L97+'Чт День 4 Нед 1'!M97+'Пт День 5 Нед 1'!J97+'Сб День 6 Нед 1'!L97+'Сб День 6 Нед 1'!M97","v":{"v":0,"d":"0.0000"}},{"$f":"'Пн День 1 Нед 1'!O97+'Вт День 2 Нед 1'!T97+'Ср День 3 Нед 1'!R97+'Чт День 4 Нед 1'!T97+'Чт День 4 Нед 1'!U97+'Пт День 5 Нед 1'!O97+'Сб День 6 Нед 1'!U97+'Сб День 6 Нед 1'!V97","v":{"v":0,"d":"0.0000"}},{"$f":"'Сб День 6 Нед 1'!Y97+'Пт День 5 Нед 1'!R97+'Чт День 4 Нед 1'!X97+'Ср День 3 Нед 1'!U97+'Вт День 2 Нед 1'!W97+'Пн День 1 Нед 1'!R97","v":{"v":0.04,"d":"0.0400"}},{"$f":"'Сб День 6 Нед 1'!AC97+'Пт День 5 Нед 1'!V97+'Чт День 4 Нед 1'!AB97+'Ср День 3 Нед 1'!Y97+'Вт День 2 Нед 1'!AA97+'Пн День 1 Нед 1'!V97","v":{"v":0,"d":"0.0000"}},{"$f":"'Сб День 6 Нед 1'!AG97+'Пт День 5 Нед 1'!Z97+'Чт День 4 Нед 1'!AF97+'Ср День 3 Нед 1'!AC97+'Вт День 2 Нед 1'!AE97+'Пн День 1 Нед 1'!Z97","v":{"v":0,"d":"0.0000"}},{"v":0.04,"d":"0.040"}]
[82,"крекер","кг",{"$f":"'Пн День 1 Нед 1'!J98+'Вт День 2 Нед 1'!L98+'Ср День 3 Нед 1'!L98+'Чт День 4 Нед 1'!L98+'Чт День 4 Нед 1'!M98+'Пт День 5 Нед 1'!J98+'Сб День 6 Нед 1'!L98+'Сб День 6 Нед 1'!M98","v":{"v":0,"d":"0.0000"}},{"$f":"'Пн День 1 Нед 1'!O98+'Вт День 2 Нед 1'!T98+'Ср День 3 Нед 1'!R98+'Чт День 4 Нед 1'!T98+'Чт День 4 Нед 1'!U98+'Пт День 5 Нед 1'!O98+'Сб День 6 Нед 1'!U98+'Сб День 6 Нед 1'!V98","v":{"v":0,"d":"0.0000"}},{"$f":"'Сб День 6 Нед 1'!Y98+'Пт День 5 Нед 1'!R98+'Чт День 4 Нед 1'!X98+'Ср День 3 Нед 1'!U98+'Вт День 2 Нед 1'!W98+'Пн День 1 Нед 1'!R98","v":{"v":0.03,"d":"0.0300"}},{"$f":"'Сб День 6 Нед 1'!AC98+'Пт День 5 Нед 1'!V98+'Чт День 4 Нед 1'!AB98+'Ср День 3 Нед 1'!Y98+'Вт День 2 Нед 1'!AA98+'Пн День 1 Нед 1'!V98","v":{"v":0,"d":"0.0000"}},{"$f":"'Сб День 6 Нед 1'!AG98+'Пт День 5 Нед 1'!Z98+'Чт День 4 Нед 1'!AF98+'Ср День 3 Нед 1'!AC98+'Вт День 2 Нед 1'!AE98+'Пн День 1 Нед 1'!Z98","v":{"v":0,"d":"0.0000"}},{"v":0.03,"d":"0.030"}]
[83,"сушки","кг",{"$f":"'Пн День 1 Нед 1'!J99+'Вт День 2 Нед 1'!L99+'Ср День 3 Нед 1'!L99+'Чт День 4 Нед 1'!L99+'Чт День 4 Нед 1'!M99+'Пт День 5 Нед 1'!J99+'Сб День 6 Нед 1'!L99+'Сб День 6 Нед 1'!M99","v":{"v":0,"d":"0.0000"}},{"$f":"'Пн День 1 Нед 1'!O99+'Вт День 2 Нед 1'!T99+'Ср День 3 Нед 1'!R99+'Чт День 4 Нед 1'!T99+'Чт День 4 Нед 1'!U99+'Пт День 5 Нед 1'!O99+'Сб День 6 Нед 1'!U99+'Сб День 6 Нед 1'!V99","v":{"v":0,"d":"0.0000"}},{"$f":"'Сб День 6 Нед 1'!Y99+'Пт День 5 Нед 1'!R99+'Чт День 4 Нед 1'!X99+'Ср День 3 Нед 1'!U99+'Вт День 2 Нед 1'!W99+'Пн День 1 Нед 1'!R99","v":{"v":0,"d":"0.0000"}},{"$f":"'Сб День 6 Нед 1'!AC99+'Пт День 5 Нед 1'!V99+'Чт День 4 Нед 1'!AB99+'Ср День 3 Нед 1'!Y99+'Вт День 2 Нед 1'!AA99+'Пн День 1 Нед 1'!V99","v":{"v":0,"d":"0.0000"}},{"$f":"'Сб День 6 Нед 1'!AG99+'Пт День 5 Нед 1'!Z99+'Чт День 4 Нед 1'!AF99+'Ср День 3 Нед 1'!AC99+'Вт День 2 Нед 1'!AE99+'Пн День 1 Нед 1'!Z99","v":{"v":0,"d":"0.0000"}},{"v":0,"d":"0.000"}]
[84,"мармелад","кг",{"$f":"'Пн День 1 Нед 1'!J100+'Вт День 2 Нед 1'!L100+'Ср День 3 Нед 1'!L100+'Чт День 4 Нед 1'!L100+'Чт День 4 Нед 1'!M100+'Пт День 5 Нед 1'!J100+'Сб День 6 Нед 1'!L100+'Сб День 6 Нед 1'!M100","v":{"v":0,"d":"0.0000"}},{"$f":"'Пн День 1 Нед 1'!O100+'Вт День 2 Нед 1'!T100+'Ср День 3 Нед 1'!R100+'Чт День 4 Нед 1'!T100+'Чт День 4 Нед 1'!U100+'Пт День 5 Нед 1'!O100+'Сб День 6 Нед 1'!U100+'Сб День 6 Нед 1'!V100","v":{"v":0,"d":"0.0000"}},{"$f":"'Сб День 6 Нед 1'!Y100+'Пт День 5 Нед 1'!R100+'Чт День 4 Нед 1'!X100+'Ср День 3 Нед 1'!U100+'Вт День 2 Нед 1'!W100+'Пн День 1 Нед 1'!R100","v":{"v":0,"d":"0.0000"}},{"$f":"'Сб День 6 Нед 1'!AC100+'Пт День 5 Нед 1'!V100+'Чт День 4 Нед 1'!AB100+'Ср День 3 Нед 1'!Y100+'Вт День 2 Нед 1'!AA100+'Пн День 1 Нед 1'!V100","v":{"v":0,"d":"0.0000"}},{"$f":"'Сб День 6 Нед 1'!AG100+'Пт День 5 Нед 1'!Z100+'Чт День 4 Нед 1'!AF100+'Ср День 3 Нед 1'!AC100+'Вт День 2 Нед 1'!AE100+'Пн День 1 Нед 1'!Z100","v":{"v":0,"d":"0.0000"}},{"v":0,"d":"0.000"}]
[85,"блины п/ф","кг",{"$f":"'Пн День 1 Нед 1'!J101+'Вт День 2 Нед 1'!L101+'Ср День 3 Нед 1'!L101+'Чт День 4 Нед 1'!L101+'Чт День 4 Нед 1'!M101+'Пт День 5 Нед 1'!J101+'Сб День 6 Нед 1'!L101+'Сб День 6 Нед 1'!M101","v":{"v":0,"d":"0.0000"}},{"$f":"'Пн День 1 Нед 1'!O101+'Вт День 2 Нед 1'!T101+'Ср День 3 Нед 1'!R101+'Чт День 4 Нед 1'!T101+'Чт День 4 Нед 1'!U101+'Пт День 5 Нед 1'!O101+'Сб День 6 Нед 1'!U101+'Сб День 6 Нед 1'!V101","v":{"v":0,"d":"0.0000"}},{"$f":"'Сб День 6 Нед 1'!Y101+'Пт День 5 Нед 1'!R101+'Чт День 4 Нед 1'!X101+'Ср День 3 Нед 1'!U101+'Вт День 2 Нед 1'!W101+'Пн День 1 Нед 1'!R101","v":{"v":0,"d":"0.0000"}},{"$f":"'Сб День 6 Нед 1'!AC101+'Пт День 5 Нед 1'!V101+'Чт День 4 Нед 1'!AB101+'Ср День 3 Нед 1'!Y101+'Вт День 2 Нед 1'!AA101+'Пн День 1 Нед 1'!V101","v":{"v":0,"d":"0.0000"}},{"$f":"'Сб День 6 Нед 1'!AG101+'Пт День 5 Нед 1'!Z101+'Чт День 4 Нед 1'!AF101+'Ср День 3 Нед 1'!AC101+'Вт День 2 Нед 1'!AE101+'Пн День 1 Нед 1'!Z101","v":{"v":0,"d":"0.0000"}},{"v":0,"d":"0.000"}]
[86,"выпечка п/ф со склада","шт",{"$f":"'Пн День 1 Нед 1'!J102+'Вт День 2 Нед 1'!L102+'Ср День 3 Нед 1'!L102+'Чт День 4 Нед 1'!L102+'Чт День 4 Нед 1'!M102+'Пт День 5 Нед 1'!J102+'Сб День 6 Нед 1'!L102+'Сб День 6 Нед 1'!M102","v":{"v":0,"d":"0.0000"}},{"$f":"'Пн День 1 Нед 1'!O102+'Вт День 2 Нед 1'!T102+'Ср День 3 Нед 1'!R102+'Чт День 4 Нед 1'!T102+'Чт День 4 Нед 1'!U102+'Пт День 5 Нед 1'!O102+'Сб День 6 Нед 1'!U102+'Сб День 6 Нед 1'!V102","v":{"v":0,"d":"0.0000"}},{"$f":"'Сб День 6 Нед 1'!Y102+'Пт День 5 Нед 1'!R102+'Чт День 4 Нед 1'!X102+'Ср День 3 Нед 1'!U102+'Вт День 2 Нед 1'!W102+'Пн День 1 Нед 1'!R102","v":{"v":0,"d":"0.0000"}},{"$f":"'Сб День 6 Нед 1'!AC102+'Пт День 5 Нед 1'!V102+'Чт День 4 Нед 1'!AB102+'Ср День 3 Нед 1'!Y102+'Вт День 2 Нед 1'!AA102+'Пн День 1 Нед 1'!V102","v":{"v":0,"d":"0.0000"}},{"$f":"'Сб День 6 Нед 1'!AG102+'Пт День 5 Нед 1'!Z102+'Чт День 4 Нед 1'!AF102+'Ср День 3 Нед 1'!AC102+'Вт День 2 Нед 1'!AE102+'Пн День 1 Нед 1'!Z102","v":{"v":0,"d":"0.0000"}},{"v":0,"d":"0.000"}]
[null,"Яйцо",null,{"$f":"'Пн День 1 Нед 1'!J103+'Вт День 2 Нед 1'!L103+'Ср День 3 Нед 1'!L103+'Чт День 4 Нед 1'!L103+'Чт День 4 Нед 1'!M103+'Пт День 5 Нед 1'!J103+'Сб День 6 Нед 1'!L103+'Сб День 6 Нед 1'!M103","v":{"v":0,"d":"0.0000"}},{"$f":"'Пн День 1 Нед 1'!O103+'Вт День 2 Нед 1'!T103+'Ср День 3 Нед 1'!R103+'Чт День 4 Нед 1'!T103+'Чт День 4 Нед 1'!U103+'Пт День 5 Нед 1'!O103+'Сб День 6 Нед 1'!U103+'Сб День 6 Нед 1'!V103","v":{"v":0,"d":"0.0000"}},{"$nulls":3},{"v":0,"d":"0.000"}]
[87,"яйцо куриное","кг",{"$f":"'Пн День 1 Нед 1'!J104+'Вт День 2 Нед 1'!L104+'Ср День 3 Нед 1'!L104+'Чт День 4 Нед 1'!L104+'Чт День 4 Нед 1'!M104+'Пт День 5 Нед 1'!J104+'Сб День 6 Нед 1'!L104+'Сб День 6 Нед 1'!M104","v":{"v":0,"d":"0.0000"}},{"$f":"'Пн День 1 Нед 1'!O104+'Вт День 2 Нед 1'!T104+'Ср День 3 Нед 1'!R104+'Чт День 4 Нед 1'!T104+'Чт День 4 Нед 1'!U104+'Пт День 5 Нед 1'!O104+'Сб День 6 Нед 1'!U104+'Сб День 6 Нед 1'!V104","v":{"v":0,"d":"0.0000"}},{"$f":"'Сб День 6 Нед 1'!Y104+'Пт День 5 Нед 1'!R104+'Чт День 4 Нед 1'!X104+'Ср День 3 Нед 1'!U104+'Вт День 2 Нед 1'!W104+'Пн День 1 Нед 1'!R104","v":{"v":0,"d":"0.0000"}},{"$f":"'Сб День 6 Нед 1'!AC104+'Пт День 5 Нед 1'!V104+'Чт День 4 Нед 1'!AB104+'Ср День 3 Нед 1'!Y104+'Вт День 2 Нед 1'!AA104+'Пн День 1 Нед 1'!V104","v":{"v":0,"d":"0.0000"}},{"$f":"'Сб День 6 Нед 1'!AG104+'Пт День 5 Нед 1'!Z104+'Чт День 4 Нед 1'!AF104+'Ср День 3 Нед 1'!AC104+'Вт День 2 Нед 1'!AE104+'Пн День 1 Нед 1'!Z104","v":{"v":0.00384,"d":"0.0038"}},{"v":0.00384,"d":"0.004"}]
[null,0.048,"шт",{"$f":"'Пн День 1 Нед 1'!J105+'Вт День 2 Нед 1'!L105+'Ср День 3 Нед 1'!L105+'Чт День 4 Нед 1'!L105+'Чт День 4 Нед 1'!M105+'Пт День 5 Нед 1'!J105+'Сб День 6 Нед 1'!L105+'Сб День 6 Нед 1'!M105","v":{"v":0,"d":"0.0000"}},{"$f":"'Пн День 1 Нед 1'!O105+'Вт День 2 Нед 1'!T105+'Ср День 3 Нед 1'!R105+'Чт День 4 Нед 1'!T105+'Чт День 4 Нед 1'!U105+'Пт День 5 Нед 1'!O105+'Сб День 6 Нед 1'!U105+'Сб День 6 Нед 1'!V105","v":{"v":0,"d":"0.0000"}},{"$f":"F104/B105","v":{"v":0,"d":"0.0"}},{"$f":"G104/B105","v":{"v":0,"d":"0.0"}},{"$f":"H104/B105","v":{"v":0.08,"d":"0.1"}},{"v":0.08,"d":"0.080"}]
[null,"Овощи заморозка"]
[88,"зеленый горошек с/м","кг",{"$f":"'Пн День 1 Нед 1'!J107+'Вт День 2 Нед 1'!L107+'Ср День 3 Нед 1'!L107+'Чт День 4 Нед 1'!L107+'Чт День 4 Нед 1'!M107+'Пт День 5 Нед 1'!J107+'Сб День 6 Нед 1'!L107+'Сб День 6 Нед 1'!M107","v":{"v":0,"d":"0.0000"}},{"$f":"'Пн День 1 Нед 1'!O107+'Вт День 2 Нед 1'!T107+'Ср День 3 Нед 1'!R107+'Чт День 4 Нед 1'!T107+'Чт День 4 Нед 1'!U107+'Пт День 5 Нед 1'!O107+'Сб День 6 Нед 1'!U107+'Сб День 6 Нед 1'!V107","v":{"v":0,"d":"0.0000"}},{"$f":"'Сб День 6 Нед 1'!Y107+'Пт День 5 Нед 1'!R107+'Чт День 4 Нед 1'!X107+'Ср День 3 Нед 1'!U107+'Вт День 2 Нед 1'!W107+'Пн День 1 Нед 1'!R107","v":{"v":0,"d":"0.0000"}},{"$f":"'Сб День 6 Нед 1'!AC107+'Пт День 5 Нед 1'!V107+'Чт День 4 Нед 1'!AB107+'Ср День 3 Нед 1'!Y107+'Вт День 2 Нед 1'!AA107+'Пн День 1 Нед 1'!V107","v":{"v":0,"d":"0.0000"}},{"$f":"'Сб День 6 Нед 1'!AG107+'Пт День 5 Нед 1'!Z107+'Чт День 4 Нед 1'!AF107+'Ср День 3 Нед 1'!AC107+'Вт День 2 Нед 1'!AE107+'Пн День 1 Нед 1'!Z107","v":{"v":0,"d":"0.0000"}},{"v":0,"d":"0.000"}]
[89,"кабачки с/м","кг",{"$f":"'Пн День 1 Нед 1'!J108+'Вт День 2 Нед 1'!L108+'Ср День 3 Нед 1'!L108+'Чт День 4 Нед 1'!L108+'Чт День 4 Нед 1'!M108+'Пт День 5 Нед 1'!J108+'Сб День 6 Нед 1'!L108+'Сб День 6 Нед 1'!M108","v":{"v":0,"d":"0.0000"}},{"$f":"'Пн День 1 Нед 1'!O108+'Вт День 2 Нед 1'!T108+'Ср День 3 Нед 1'!R108+'Чт День 4 Нед 1'!T108+'Чт День 4 Нед 1'!U108+'Пт День 5 Нед 1'!O108+'Сб День 6 Нед 1'!U108+'Сб День 6 Нед 1'!V108","v":{"v":0,"d":"0.0000"}},{"$f":"'Сб День 6 Нед 1'!Y108+'Пт День 5 Нед 1'!R108+'Чт День 4 Нед 1'!X108+'Ср День 3 Нед 1'!U108+'Вт День 2 Нед 1'!W108+'Пн День 1 Нед 1'!R108","v":{"v":0,"d":"0.0000"}},{"$f":"'Сб День 6 Нед 1'!AC108+'Пт День 5 Нед 1'!V108+'Чт День 4 Нед 1'!AB108+'Ср День 3 Нед 1'!Y108+'Вт День 2 Нед 1'!AA108+'Пн День 1 Нед 1'!V108","v":{"v":0,"d":"0.0000"}},{"$f":"'Сб День 6 Нед 1'!AG108+'Пт День 5 Нед 1'!Z108+'Чт День 4 Нед 1'!AF108+'Ср День 3 Нед 1'!AC108+'Вт День 2 Нед 1'!AE108+'Пн День 1 Нед 1'!Z108","v":{"v":0,"d":"0.0000"}},{"v":0,"d":"0.000"}]
[90,"мексиканс смесь с/м","кг",{"$f":"'Пн День 1 Нед 1'!J109+'Вт День 2 Нед 1'!L109+'Ср День 3 Нед 1'!L109+'Чт День 4 Нед 1'!L109+'Чт День 4 Нед 1'!M109+'Пт День 5 Нед 1'!J109+'Сб День 6 Нед 1'!L109+'Сб День 6 Нед 1'!M109","v":{"v":0,"d":"0.0000"}},{"$f":"'Пн День 1 Нед 1'!O109+'Вт День 2 Нед 1'!T109+'Ср День 3 Нед 1'!R109+'Чт День 4 Нед 1'!T109+'Чт День 4 Нед 1'!U109+'Пт День 5 Нед 1'!O109+'Сб День 6 Нед 1'!U109+'Сб День 6 Нед 1'!V109","v":{"v":0,"d":"0.0000"}},{"$f":"'Сб День 6 Нед 1'!Y109+'Пт День 5 Нед 1'!R109+'Чт День 4 Нед 1'!X109+'Ср День 3 Нед 1'!U109+'Вт День 2 Нед 1'!W109+'Пн День 1 Нед 1'!R109","v":{"v":0,"d":"0.0000"}},{"$f":"'Сб День 6 Нед 1'!AC109+'Пт День 5 Нед 1'!V109+'Чт День 4 Нед 1'!AB109+'Ср День 3 Нед 1'!Y109+'Вт День 2 Нед 1'!AA109+'Пн День 1 Нед 1'!V109","v":{"v":0,"d":"0.0000"}},{"$f":"'Сб День 6 Нед 1'!AG109+'Пт День 5 Нед 1'!Z109+'Чт День 4 Нед 1'!AF109+'Ср День 3 Нед 1'!AC109+'Вт День 2 Нед 1'!AE109+'Пн День 1 Нед 1'!Z109","v":{"v":0,"d":"0.0000"}},{"v":0,"d":"0.000"}]
[91,"капуста цветная с/м","кг",{"$f":"'Пн День 1 Нед 1'!J110+'Вт День 2 Нед 1'!L110+'Ср День 3 Нед 1'!L110+'Чт День 4 Нед 1'!L110+'Чт День 4 Нед 1'!M110+'Пт День 5 Нед 1'!J110+'Сб День 6 Нед 1'!L110+'Сб День 6 Нед 1'!M110","v":{"v":0,"d":"0.0000"}},{"$f":"'Пн День 1 Нед 1'!O110+'Вт День 2 Нед 1'!T110+'Ср День 3 Нед 1'!R110+'Чт День 4 Нед 1'!T110+'Чт День 4 Нед 1'!U110+'Пт День 5 Нед 1'!O110+'Сб День 6 Нед 1'!U110+'Сб День 6 Нед 1'!V110","v":{"v":0,"d":"0.0000"}},{"$f":"'Сб День 6 Нед 1'!Y110+'Пт День 5 Нед 1'!R110+'Чт День 4 Нед 1'!X110+'Ср День 3 Нед 1'!U110+'Вт День 2 Нед 1'!W110+'Пн День 1 Нед 1'!R110","v":{"v":0,"d":"0.0000"}},{"$f":"'Сб День 6 Нед 1'!AC110+'Пт День 5 Нед 1'!V110+'Чт День 4 Нед 1'!AB110+'Ср День 3 Нед 1'!Y110+'Вт День 2 Нед 1'!AA110+'Пн День 1 Нед 1'!V110","v":{"v":0,"d":"0.0000"}},{"$f":"'Сб День 6 Нед 1'!AG110+'Пт День 5 Нед 1'!Z110+'Чт День 4 Нед 1'!AF110+'Ср День 3 Нед 1'!AC110+'Вт День 2 Нед 1'!AE110+'Пн День 1 Нед 1'!Z110","v":{"v":0,"d":"0.0000"}},{"v":0,"d":"0.000"}]
[92,"брокколи с/м","кг",{"$f":"'Пн День 1 Нед 1'!J111+'Вт День 2 Нед 1'!L111+'Ср День 3 Нед 1'!L111+'Чт День 4 Нед 1'!L111+'Чт День 4 Нед 1'!M111+'Пт День 5 Нед 1'!J111+'Сб День 6 Нед 1'!L111+'Сб День 6 Нед 1'!M111","v":{"v":0,"d":"0.0000"}},{"$f":"'Пн День 1 Нед 1'!O111+'Вт День 2 Нед 1'!T111+'Ср День 3 Нед 1'!R111+'Чт День 4 Нед 1'!T111+'Чт День 4 Нед 1'!U111+'Пт День 5 Нед 1'!O111+'Сб День 6 Нед 1'!U111+'Сб День 6 Нед 1'!V111","v":{"v":0,"d":"0.0000"}},{"$f":"'Сб День 6 Нед 1'!Y111+'Пт День 5 Нед 1'!R111+'Чт День 4 Нед 1'!X111+'Ср День 3 Нед 1'!U111+'Вт День 2 Нед 1'!W111+'Пн День 1 Нед 1'!R111","v":{"v":0,"d":"0.0000"}},{"$f":"'Сб День 6 Нед 1'!AC111+'Пт День 5 Нед 1'!V111+'Чт День 4 Нед 1'!AB111+'Ср День 3 Нед 1'!Y111+'Вт День 2 Нед 1'!AA111+'Пн День 1 Нед 1'!V111","v":{"v":0,"d":"0.0000"}},{"$f":"'Сб День 6 Нед 1'!AG111+'Пт День 5 Нед 1'!Z111+'Чт День 4 Нед 1'!AF111+'Ср День 3 Нед 1'!AC111+'Вт День 2 Нед 1'!AE111+'Пн День 1 Нед 1'!Z111","v":{"v":0,"d":"0.0000"}},{"v":0,"d":"0.000"}]
[93,"кукуруза с/м","кг",{"$f":"'Пн День 1 Нед 1'!J112+'Вт День 2 Нед 1'!L112+'Ср День 3 Нед 1'!L112+'Чт День 4 Нед 1'!L112+'Чт День 4 Нед 1'!M112+'Пт День 5 Нед 1'!J112+'Сб День 6 Нед 1'!L112+'Сб День 6 Нед 1'!M112","v":{"v":0,"d":"0.0000"}},{"$f":"'Пн День 1 Нед 1'!O112+'Вт День 2 Нед 1'!T112+'Ср День 3 Нед 1'!R112+'Чт День 4 Нед 1'!T112+'Чт День 4 Нед 1'!U112+'Пт День 5 Нед 1'!O112+'Сб День 6 Нед 1'!U112+'Сб День 6 Нед 1'!V112","v":{"v":0,"d":"0.0000"}},{"$f":"'Сб День 6 Нед 1'!Y112+'Пт День 5 Нед 1'!R112+'Чт День 4 Нед 1'!X112+'Ср День 3 Нед 1'!U112+'Вт День 2 Нед 1'!W112+'Пн День 1 Нед 1'!R112","v":{"v":0,"d":"0.0000"}},{"$f":"'Сб День 6 Нед 1'!AC112+'Пт День 5 Нед 1'!V112+'Чт День 4 Нед 1'!AB112+'Ср День 3 Нед 1'!Y112+'Вт День 2 Нед 1'!AA112+'Пн День 1 Нед 1'!V112","v":{"v":0,"d":"0.0000"}},{"$f":"'Сб День 6 Нед 1'!AG112+'Пт День 5 Нед 1'!Z112+'Чт День 4 Нед 1'!AF112+'Ср День 3 Нед 1'!AC112+'Вт День 2 Нед 1'!AE112+'Пн День 1 Нед 1'!Z112","v":{"v":0,"d":"0.0000"}},{"v":0,"d":"0.000"}]
[94,"фасоль стручковая с/м","кг",{"$f":"'Пн День 1 Нед 1'!J113+'Вт День 2 Нед 1'!L113+'Ср День 3 Нед 1'!L113+'Чт День 4 Нед 1'!L113+'Чт День 4 Нед 1'!M113+'Пт День 5 Нед 1'!J113+'Сб День 6 Нед 1'!L113+'Сб День 6 Нед 1'!M113","v":{"v":0,"d":"0.0000"}},{"$f":"'Пн День 1 Нед 1'!O113+'Вт День 2 Нед 1'!T113+'Ср День 3 Нед 1'!R113+'Чт День 4 Нед 1'!T113+'Чт День 4 Нед 1'!U113+'Пт День 5 Нед 1'!O113+'Сб День 6 Нед 1'!U113+'Сб День 6 Нед 1'!V113","v":{"v":0,"d":"0.0000"}},{"$f":"'Сб День 6 Нед 1'!Y113+'Пт День 5 Нед 1'!R113+'Чт День 4 Нед 1'!X113+'Ср День 3 Нед 1'!U113+'Вт День 2 Нед 1'!W113+'Пн День 1 Нед 1'!R113","v":{"v":0,"d":"0.0000"}},{"$f":"'Сб День 6 Нед 1'!AC113+'Пт День 5 Нед 1'!V113+'Чт День 4 Нед 1'!AB113+'Ср День 3 Нед 1'!Y113+'Вт День 2 Нед 1'!AA113+'Пн День 1 Нед 1'!V113","v":{"v":0,"d":"0.0000"}},{"$f":"'Сб День 6 Нед 1'!AG113+'Пт День 5 Нед 1'!Z113+'Чт День 4 Нед 1'!AF113+'Ср День 3 Нед 1'!AC113+'Вт День 2 Нед 1'!AE113+'Пн День 1 Нед 1'!Z113","v":{"v":0,"d":"0.0000"}},{"v":0,"d":"0.000"}]
[null,"Фрукты"]
[95,"апельсин","кг",{"$f":"'Пн День 1 Нед 1'!J115+'Вт День 2 Нед 1'!L115+'Ср День 3 Нед 1'!L115+'Чт День 4 Нед 1'!L115+'Чт День 4 Нед 1'!M115+'Пт День 5 Нед 1'!J115+'Сб День 6 Нед 1'!L115+'Сб День 6 Нед 1'!M115","v":{"v":0,"d":"0.0000"}},{"$f":"'Пн День 1 Нед 1'!O115+'Вт День 2 Нед 1'!T115+'Ср День 3 Нед 1'!R115+'Чт День 4 Нед 1'!T115+'Чт День 4 Нед 1'!U115+'Пт День 5 Нед 1'!O115+'Сб День 6 Нед 1'!U115+'Сб День 6 Нед 1'!V115","v":{"v":0,"d":"0.0000"}},{"$f":"'Сб День 6 Нед 1'!Y115+'Пт День 5 Нед 1'!R115+'Чт День 4 Нед 1'!X115+'Ср День 3 Нед 1'!U115+'Вт День 2 Нед 1'!W115+'Пн День 1 Нед 1'!R115","v":{"v":0,"d":"0.0000"}},{"$f":"'Сб День 6 Нед 1'!AC115+'Пт День 5 Нед 1'!V115+'Чт День 4 Нед 1'!AB115+'Ср День 3 Нед 1'!Y115+'Вт День 2 Нед 1'!AA115+'Пн День 1 Нед 1'!V115","v":{"v":0,"d":"0.0000"}},{"$f":"'Сб День 6 Нед 1'!AG115+'Пт День 5 Нед 1'!Z115+'Чт День 4 Нед 1'!AF115+'Ср День 3 Нед 1'!AC115+'Вт День 2 Нед 1'!AE115+'Пн День 1 Нед 1'!Z115","v":{"v":0,"d":"0.0000"}},{"v":0,"d":"0.000"}]
[96,"банан","кг",{"$f":"'Пн День 1 Нед 1'!J116+'Вт День 2 Нед 1'!L116+'Ср День 3 Нед 1'!L116+'Чт День 4 Нед 1'!L116+'Чт День 4 Нед 1'!M116+'Пт День 5 Нед 1'!J116+'Сб День 6 Нед 1'!L116+'Сб День 6 Нед 1'!M116","v":{"v":0,"d":"0.0000"}},{"$f":"'Пн День 1 Нед 1'!O116+'Вт День 2 Нед 1'!T116+'Ср День 3 Нед 1'!R116+'Чт День 4 Нед 1'!T116+'Чт День 4 Нед 1'!U116+'Пт День 5 Нед 1'!O116+'Сб День 6 Нед 1'!U116+'Сб День 6 Нед 1'!V116","v":{"v":0,"d":"0.0000"}},{"$f":"'Сб День 6 Нед 1'!Y116+'Пт День 5 Нед 1'!R116+'Чт День 4 Нед 1'!X116+'Ср День 3 Нед 1'!U116+'Вт День 2 Нед 1'!W116+'Пн День 1 Нед 1'!R116","v":{"v":0,"d":"0.0000"}},{"$f":"'Сб День 6 Нед 1'!AC116+'Пт День 5 Нед 1'!V116+'Чт День 4 Нед 1'!AB116+'Ср День 3 Нед 1'!Y116+'Вт День 2 Нед 1'!AA116+'Пн День 1 Нед 1'!V116","v":{"v":0,"d":"0.0000"}},{"$f":"'Сб День 6 Нед 1'!AG116+'Пт День 5 Нед 1'!Z116+'Чт День 4 Нед 1'!AF116+'Ср День 3 Нед 1'!AC116+'Вт День 2 Нед 1'!AE116+'Пн День 1 Нед 1'!Z116","v":{"v":0,"d":"0.0000"}},{"v":0,"d":"0.000"}]
[97,"груши","кг",{"$f":"'Пн День 1 Нед 1'!J117+'Вт День 2 Нед 1'!L117+'Ср День 3 Нед 1'!L117+'Чт День 4 Нед 1'!L117+'Чт День 4 Нед 1'!M117+'Пт День 5 Нед 1'!J117+'Сб День 6 Нед 1'!L117+'Сб День 6 Нед 1'!M117","v":{"v":0,"d":"0.0000"}},{"$f":"'Пн День 1 Нед 1'!O117+'Вт День 2 Нед 1'!T117+'Ср День 3 Нед 1'!R117+'Чт День 4 Нед 1'!T117+'Чт День 4 Нед 1'!U117+'Пт День 5 Нед 1'!O117+'Сб День 6 Нед 1'!U117+'Сб День 6 Нед 1'!V117","v":{"v":0,"d":"0.0000"}},{"$f":"'Сб День 6 Нед 1'!Y117+'Пт День 5 Нед 1'!R117+'Чт День 4 Нед 1'!X117+'Ср День 3 Нед 1'!U117+'Вт День 2 Нед 1'!W117+'Пн День 1 Нед 1'!R117","v":{"v":0,"d":"0.0000"}},{"$f":"'Сб День 6 Нед 1'!AC117+'Пт День 5 Нед 1'!V117+'Чт День 4 Нед 1'!AB117+'Ср День 3 Нед 1'!Y117+'Вт День 2 Нед 1'!AA117+'Пн День 1 Нед 1'!V117","v":{"v":0,"d":"0.0000"}},{"$f":"'Сб День 6 Нед 1'!AG117+'Пт День 5 Нед 1'!Z117+'Чт День 4 Нед 1'!AF117+'Ср День 3 Нед 1'!AC117+'Вт День 2 Нед 1'!AE117+'Пн День 1 Нед 1'!Z117","v":{"v":0,"d":"0.0000"}},{"v":0,"d":"0.000"}]
[98,"мандарины","кг",{"$f":"'Пн День 1 Нед 1'!J118+'Вт День 2 Нед 1'!L118+'Ср День 3 Нед 1'!L118+'Чт День 4 Нед 1'!L118+'Чт День 4 Нед 1'!M118+'Пт День 5 Нед 1'!J118+'Сб День 6 Нед 1'!L118+'Сб День 6 Нед 1'!M118","v":{"v":0,"d":"0.0000"}},{"$f":"'Пн День 1 Нед 1'!O118+'Вт День 2 Нед 1'!T118+'Ср День 3 Нед 1'!R118+'Чт День 4 Нед 1'!T118+'Чт День 4 Нед 1'!U118+'Пт День 5 Нед 1'!O118+'Сб День 6 Нед 1'!U118+'Сб День 6 Нед 1'!V118","v":{"v":0,"d":"0.0000"}},{"$f":"'Сб День 6 Нед 1'!Y118+'Пт День 5 Нед 1'!R118+'Чт День 4 Нед 1'!X118+'Ср День 3 Нед 1'!U118+'Вт День 2 Нед 1'!W118+'Пн День 1 Нед 1'!R118","v":{"v":0,"d":"0.0000"}},{"$f":"'Сб День 6 Нед 1'!AC118+'Пт День 5 Нед 1'!V118+'Чт День 4 Нед 1'!AB118+'Ср День 3 Нед 1'!Y118+'Вт День 2 Нед 1'!AA118+'Пн День 1 Нед 1'!V118","v":{"v":0,"d":"0.0000"}},{"$f":"'Сб День 6 Нед 1'!AG118+'Пт День 5 Нед 1'!Z118+'Чт День 4 Нед 1'!AF118+'Ср День 3 Нед 1'!AC118+'Вт День 2 Нед 1'!AE118+'Пн День 1 Нед 1'!Z118","v":{"v":0,"d":"0.0000"}},{"v":0,"d":"0.000"}]
[99,"лимон","кг",{"$f":"'Пн День 1 Нед 1'!J119+'Вт День 2 Нед 1'!L119+'Ср День 3 Нед 1'!L119+'Чт День 4 Нед 1'!L119+'Чт День 4 Нед 1'!M119+'Пт День 5 Нед 1'!J119+'Сб День 6 Нед 1'!L119+'Сб День 6 Нед 1'!M119","v":0.0162},{"$f":"'Пн День 1 Нед 1'!O119+'Вт День 2 Нед 1'!T119+'Ср День 3 Нед 1'!R119+'Чт День 4 Нед 1'!T119+'Чт День 4 Нед 1'!U119+'Пт День 5 Нед 1'!O119+'Сб День 6 Нед 1'!U119+'Сб День 6 Нед 1'!V119","v":0.0112},{"$f":"'Сб День 6 Нед 1'!Y119+'Пт День 5 Нед 1'!R119+'Чт День 4 Нед 1'!X119+'Ср День 3 Нед 1'!U119+'Вт День 2 Нед 1'!W119+'Пн День 1 Нед 1'!R119","v":{"v":0.007,"d":"0.0070"}},{"$f":"'Сб День 6 Нед 1'!AC119+'Пт День 5 Нед 1'!V119+'Чт День 4 Нед 1'!AB119+'Ср День 3 Нед 1'!Y119+'Вт День 2 Нед 1'!AA119+'Пн День 1 Нед 1'!V119","v":{"v":0,"d":"0.0000"}},{"$f":"'Сб День 6 Нед 1'!AG119+'Пт День 5 Нед 1'!Z119+'Чт День 4 Нед 1'!AF119+'Ср День 3 Нед 1'!AC119+'Вт День 2 Нед 1'!AE119+'Пн День 1 Нед 1'!Z119","v":{"v":0,"d":"0.0000"}},{"v":0.0344,"d":"0.034"}]
[100,"яблоки свежие","кг",{"$f":"'Пн День 1 Нед 1'!J120+'Вт День 2 Нед 1'!L120+'Ср День 3 Нед 1'!L120+'Чт День 4 Нед 1'!L120+'Чт День 4 Нед 1'!M120+'Пт День 5 Нед 1'!J120+'Сб День 6 Нед 1'!L120+'Сб День 6 Нед 1'!M120","v":0.3114},{"$f":"'Пн День 1 Нед 1'!O120+'Вт День 2 Нед 1'!T120+'Ср День 3 Нед 1'!R120+'Чт День 4 Нед 1'!T120+'Чт День 4 Нед 1'!U120+'Пт День 5 Нед 1'!O120+'Сб День 6 Нед 1'!U120+'Сб День 6 Нед 1'!V120","v":0.3114},{"$f":"'Сб День 6 Нед 1'!Y120+'Пт День 5 Нед 1'!R120+'Чт День 4 Нед 1'!X120+'Ср День 3 Нед 1'!U120+'Вт День 2 Нед 1'!W120+'Пн День 1 Нед 1'!R120","v":0.0454},{"$f":"'Сб День 6 Нед 1'!AC120+'Пт День 5 Нед 1'!V120+'Чт День 4 Нед 1'!AB120+'Ср День 3 Нед 1'!Y120+'Вт День 2 Нед 1'!AA120+'Пн День 1 Нед 1'!V120","v":{"v":0,"d":"0.0000"}},{"$f":"'Сб День 6 Нед 1'!AG120+'Пт День 5 Нед 1'!Z120+'Чт День 4 Нед 1'!AF120+'Ср День 3 Нед 1'!AC120+'Вт День 2 Нед 1'!AE120+'Пн День 1 Нед 1'!Z120","v":0.0228},{"v":0.6910000000000001,"d":"0.691"}]
[null,"Овощи / зелень "]
[101,"капуста свежая","кг",{"$f":"'Пн День 1 Нед 1'!J122+'Вт День 2 Нед 1'!L122+'Ср День 3 Нед 1'!L122+'Чт День 4 Нед 1'!L122+'Чт День 4 Нед 1'!M122+'Пт День 5 Нед 1'!J122+'Сб День 6 Нед 1'!L122+'Сб День 6 Нед 1'!M122","v":{"v":0.07125,"d":"0.0713"}},{"$f":"'Пн День 1 Нед 1'!O122+'Вт День 2 Нед 1'!T122+'Ср День 3 Нед 1'!R122+'Чт День 4 Нед 1'!T122+'Чт День 4 Нед 1'!U122+'Пт День 5 Нед 1'!O122+'Сб День 6 Нед 1'!U122+'Сб День 6 Нед 1'!V122","v":{"v":0.07125,"d":"0.0713"}},{"$f":"'Сб День 6 Нед 1'!Y122+'Пт День 5 Нед 1'!R122+'Чт День 4 Нед 1'!X122+'Ср День 3 Нед 1'!U122+'Вт День 2 Нед 1'!W122+'Пн День 1 Нед 1'!R122","v":{"v":0,"d":"0.0000"}},{"$f":"'Сб День 6 Нед 1'!AC122+'Пт День 5 Нед 1'!V122+'Чт День 4 Нед 1'!AB122+'Ср День 3 Нед 1'!Y122+'Вт День 2 Нед 1'!AA122+'Пн День 1 Нед 1'!V122","v":{"v":0,"d":"0.0000"}},{"$f":"'Сб День 6 Нед 1'!AG122+'Пт День 5 Нед 1'!Z122+'Чт День 4 Нед 1'!AF122+'Ср День 3 Нед 1'!AC122+'Вт День 2 Нед 1'!AE122+'Пн День 1 Нед 1'!Z122","v":0.0875},{"v":0.22999999999999998,"d":"0.230"}]
[102,"картофель","кг",{"$f":"'Пн День 1 Нед 1'!J123+'Вт День 2 Нед 1'!L123+'Ср День 3 Нед 1'!L123+'Чт День 4 Нед 1'!L123+'Чт День 4 Нед 1'!M123+'Пт День 5 Нед 1'!J123+'Сб День 6 Нед 1'!L123+'Сб День 6 Нед 1'!M123","v":{"v":0.34856,"d":"0.3486"}},{"$f":"'Пн День 1 Нед 1'!O123+'Вт День 2 Нед 1'!T123+'Ср День 3 Нед 1'!R123+'Чт День 4 Нед 1'!T123+'Чт День 4 Нед 1'!U123+'Пт День 5 Нед 1'!O123+'Сб День 6 Нед 1'!U123+'Сб День 6 Нед 1'!V123","v":{"v":0.38276,"d":"0.3828"}},{"$f":"'Сб День 6 Нед 1'!Y123+'Пт День 5 Нед 1'!R123+'Чт День 4 Нед 1'!X123+'Ср День 3 Нед 1'!U123+'Вт День 2 Нед 1'!W123+'Пн День 1 Нед 1'!R123","v":{"v":0,"d":"0.0000"}},{"$f":"'Сб День 6 Нед 1'!AC123+'Пт День 5 Нед 1'!V123+'Чт День 4 Нед 1'!AB123+'Ср День 3 Нед 1'!Y123+'Вт День 2 Нед 1'!AA123+'Пн День 1 Нед 1'!V123","v":{"v":0,"d":"0.0000"}},{"$f":"'Сб День 6 Нед 1'!AG123+'Пт День 5 Нед 1'!Z123+'Чт День 4 Нед 1'!AF123+'Ср День 3 Нед 1'!AC123+'Вт День 2 Нед 1'!AE123+'Пн День 1 Нед 1'!Z123","v":{"v":0.18685000000000002,"d":"0.1869"}},{"v":0.9181699999999999,"d":"0.918"}]
[103,"лук репчатый","кг",{"$f":"'Пн День 1 Нед 1'!J124+'Вт День 2 Нед 1'!L124+'Ср День 3 Нед 1'!L124+'Чт День 4 Нед 1'!L124+'Чт День 4 Нед 1'!M124+'Пт День 5 Нед 1'!J124+'Сб День 6 Нед 1'!L124+'Сб День 6 Нед 1'!M124","v":{"v":0.06119999999999999,"d":"0.0612"}},{"$f":"'Пн День 1 Нед 1'!O124+'Вт День 2 Нед 1'!T124+'Ср День 3 Нед 1'!R124+'Чт День 4 Нед 1'!T124+'Чт День 4 Нед 1'!U124+'Пт День 5 Нед 1'!O124+'Сб День 6 Нед 1'!U124+'Сб День 6 Нед 1'!V124","v":{"v":0.06119999999999999,"d":"0.0612"}},{"$f":"'Сб День 6 Нед 1'!Y124+'Пт День 5 Нед 1'!R124+'Чт День 4 Нед 1'!X124+'Ср День 3 Нед 1'!U124+'Вт День 2 Нед 1'!W124+'Пн День 1 Нед 1'!R124","v":{"v":0,"d":"0.0000"}},{"$f":"'Сб День 6 Нед 1'!AC124+'Пт День 5 Нед 1'!V124+'Чт День 4 Нед 1'!AB124+'Ср День 3 Нед 1'!Y124+'Вт День 2 Нед 1'!AA124+'Пн День 1 Нед 1'!V124","v":{"v":0,"d":"0.0000"}},{"$f":"'Сб День 6 Нед 1'!AG124+'Пт День 5 Нед 1'!Z124+'Чт День 4 Нед 1'!AF124+'Ср День 3 Нед 1'!AC124+'Вт День 2 Нед 1'!AE124+'Пн День 1 Нед 1'!Z124","v":{"v":0.06239999999999999,"d":"0.0624"}},{"v":0.18479999999999996,"d":"0.185"}]
[104,"морковь","кг",{"$f":"'Пн День 1 Нед 1'!J125+'Вт День 2 Нед 1'!L125+'Ср День 3 Нед 1'!L125+'Чт День 4 Нед 1'!L125+'Чт День 4 Нед 1'!M125+'Пт День 5 Нед 1'!J125+'Сб День 6 Нед 1'!L125+'Сб День 6 Нед 1'!M125","v":{"v":0.03,"d":"0.0300"}},{"$f":"'Пн День 1 Нед 1'!O125+'Вт День 2 Нед 1'!T125+'Ср День 3 Нед 1'!R125+'Чт День 4 Нед 1'!T125+'Чт День 4 Нед 1'!U125+'Пт День 5 Нед 1'!O125+'Сб День 6 Нед 1'!U125+'Сб День 6 Нед 1'!V125","v":{"v":0.03,"d":"0.0300"}},{"$f":"'Сб День 6 Нед 1'!Y125+'Пт День 5 Нед 1'!R125+'Чт День 4 Нед 1'!X125+'Ср День 3 Нед 1'!U125+'Вт День 2 Нед 1'!W125+'Пн День 1 Нед 1'!R125","v":{"v":0,"d":"0.0000"}},{"$f":"'Сб День 6 Нед 1'!AC125+'Пт День 5 Нед 1'!V125+'Чт День 4 Нед 1'!AB125+'Ср День 3 Нед 1'!Y125+'Вт День 2 Нед 1'!AA125+'Пн День 1 Нед 1'!V125","v":{"v":0,"d":"0.0000"}},{"$f":"'Сб День 6 Нед 1'!AG125+'Пт День 5 Нед 1'!Z125+'Чт День 4 Нед 1'!AF125+'Ср День 3 Нед 1'!AC125+'Вт День 2 Нед 1'!AE125+'Пн День 1 Нед 1'!Z125","v":{"v":0.06875,"d":"0.0688"}},{"v":0.12875,"d":"0.129"}]
[105,"свекла","кг",{"$f":"'Пн День 1 Нед 1'!J126+'Вт День 2 Нед 1'!L126+'Ср День 3 Нед 1'!L126+'Чт День 4 Нед 1'!L126+'Чт День 4 Нед 1'!M126+'Пт День 5 Нед 1'!J126+'Сб День 6 Нед 1'!L126+'Сб День 6 Нед 1'!M126","v":{"v":0.073,"d":"0.0730"}},{"$f":"'Пн День 1 Нед 1'!O126+'Вт День 2 Нед 1'!T126+'Ср День 3 Нед 1'!R126+'Чт День 4 Нед 1'!T126+'Чт День 4 Нед 1'!U126+'Пт День 5 Нед 1'!O126+'Сб День 6 Нед 1'!U126+'Сб День 6 Нед 1'!V126","v":{"v":0.119,"d":"0.1190"}},{"$f":"'Сб День 6 Нед 1'!Y126+'Пт День 5 Нед 1'!R126+'Чт День 4 Нед 1'!X126+'Ср День 3 Нед 1'!U126+'Вт День 2 Нед 1'!W126+'Пн День 1 Нед 1'!R126","v":{"v":0,"d":"0.0000"}},{"$f":"'Сб День 6 Нед 1'!AC126+'Пт День 5 Нед 1'!V126+'Чт День 4 Нед 1'!AB126+'Ср День 3 Нед 1'!Y126+'Вт День 2 Нед 1'!AA126+'Пн День 1 Нед 1'!V126","v":{"v":0,"d":"0.0000"}},{"$f":"'Сб День 6 Нед 1'!AG126+'Пт День 5 Нед 1'!Z126+'Чт День 4 Нед 1'!AF126+'Ср День 3 Нед 1'!AC126+'Вт День 2 Нед 1'!AE126+'Пн День 1 Нед 1'!Z126","v":{"v":0.1,"d":"0.1000"}},{"v":0.29200000000000004,"d":"0.292"}]
[106,"огурцы св.","кг",{"$f":"'Пн День 1 Нед 1'!J127+'Вт День 2 Нед 1'!L127+'Ср День 3 Нед 1'!L127+'Чт День 4 Нед 1'!L127+'Чт День 4 Нед 1'!M127+'Пт День 5 Нед 1'!J127+'Сб День 6 Нед 1'!L127+'Сб День 6 Нед 1'!M127","v":{"v":0,"d":"0.0000"}},{"$f":"'Пн День 1 Нед 1'!O127+'Вт День 2 Нед 1'!T127+'Ср День 3 Нед 1'!R127+'Чт День 4 Нед 1'!T127+'Чт День 4 Нед 1'!U127+'Пт День 5 Нед 1'!O127+'Сб День 6 Нед 1'!U127+'Сб День 6 Нед 1'!V127","v":{"v":0,"d":"0.0000"}},{"$f":"'Сб День 6 Нед 1'!Y127+'Пт День 5 Нед 1'!R127+'Чт День 4 Нед 1'!X127+'Ср День 3 Нед 1'!U127+'Вт День 2 Нед 1'!W127+'Пн День 1 Нед 1'!R127","v":{"v":0,"d":"0.0000"}},{"$f":"'Сб День 6 Нед 1'!AC127+'Пт День 5 Нед 1'!V127+'Чт День 4 Нед 1'!AB127+'Ср День 3 Нед 1'!Y127+'Вт День 2 Нед 1'!AA127+'Пн День 1 Нед 1'!V127","v":{"v":0,"d":"0.0000"}},{"$f":"'Сб День 6 Нед 1'!AG127+'Пт День 5 Нед 1'!Z127+'Чт День 4 Нед 1'!AF127+'Ср День 3 Нед 1'!AC127+'Вт День 2 Нед 1'!AE127+'Пн День 1 Нед 1'!Z127","v":{"v":0,"d":"0.0000"}},{"v":0,"d":"0.000"}]
[107,"томаты св.","кг",{"$f":"'Пн День 1 Нед 1'!J128+'Вт День 2 Нед 1'!L128+'Ср День 3 Нед 1'!L128+'Чт День 4 Нед 1'!L128+'Чт День 4 Нед 1'!M128+'Пт День 5 Нед 1'!J128+'Сб День 6 Нед 1'!L128+'Сб День 6 Нед 1'!M128","v":{"v":0,"d":"0.0000"}},{"$f":"'Пн День 1 Нед 1'!O128+'Вт День 2 Нед 1'!T128+'Ср День 3 Нед 1'!R128+'Чт День 4 Нед 1'!T128+'Чт День 4 Нед 1'!U128+'Пт День 5 Нед 1'!O128+'Сб День 6 Нед 1'!U128+'Сб День 6 Нед 1'!V128","v":{"v":0,"d":"0.0000"}},{"$f":"'Сб День 6 Нед 1'!Y128+'Пт День 5 Нед 1'!R128+'Чт День 4 Нед 1'!X128+'Ср День 3 Нед 1'!U128+'Вт День 2 Нед 1'!W128+'Пн День 1 Нед 1'!R128","v":{"v":0,"d":"0.0000"}},{"$f":"'Сб День 6 Нед 1'!AC128+'Пт День 5 Нед 1'!V128+'Чт День 4 Нед 1'!AB128+'Ср День 3 Нед 1'!Y128+'Вт День 2 Нед 1'!AA128+'Пн День 1 Нед 1'!V128","v":{"v":0,"d":"0.0000"}},{"$f":"'Сб День 6 Нед 1'!AG128+'Пт День 5 Нед 1'!Z128+'Чт День 4 Нед 1'!AF128+'Ср День 3 Нед 1'!AC128+'Вт День 2 Нед 1'!AE128+'Пн День 1 Нед 1'!Z128","v":{"v":0,"d":"0.0000"}},{"v":0,"d":"0.000"}]
[108,"перец болг.красный","кг",{"$f":"'Пн День 1 Нед 1'!J129+'Вт День 2 Нед 1'!L129+'Ср День 3 Нед 1'!L129+'Чт День 4 Нед 1'!L129+'Чт День 4 Нед 1'!M129+'Пт День 5 Нед 1'!J129+'Сб День 6 Нед 1'!L129+'Сб День 6 Нед 1'!M129","v":{"v":0,"d":"0.0000"}},{"$f":"'Пн День 1 Нед 1'!O129+'Вт День 2 Нед 1'!T129+'Ср День 3 Нед 1'!R129+'Чт День 4 Нед 1'!T129+'Чт День 4 Нед 1'!U129+'Пт День 5 Нед 1'!O129+'Сб День 6 Нед 1'!U129+'Сб День 6 Нед 1'!V129","v":{"v":0,"d":"0.0000"}},{"$f":"'Сб День 6 Нед 1'!Y129+'Пт День 5 Нед 1'!R129+'Чт День 4 Нед 1'!X129+'Ср День 3 Нед 1'!U129+'Вт День 2 Нед 1'!W129+'Пн День 1 Нед 1'!R129","v":{"v":0,"d":"0.0000"}},{"$f":"'Сб День 6 Нед 1'!AC129+'Пт День 5 Нед 1'!V129+'Чт День 4 Нед 1'!AB129+'Ср День 3 Нед 1'!Y129+'Вт День 2 Нед 1'!AA129+'Пн День 1 Нед 1'!V129","v":{"v":0,"d":"0.0000"}},{"$f":"'Сб День 6 Нед 1'!AG129+'Пт День 5 Нед 1'!Z129+'Чт День 4 Нед 1'!AF129+'Ср День 3 Нед 1'!AC129+'Вт День 2 Нед 1'!AE129+'Пн День 1 Нед 1'!Z129","v":{"v":0,"d":"0.0000"}},{"v":0,"d":"0.000"}]
[109,"тыква","кг",{"$f":"'Пн День 1 Нед 1'!J130+'Вт День 2 Нед 1'!L130+'Ср День 3 Нед 1'!L130+'Чт День 4 Нед 1'!L130+'Чт День 4 Нед 1'!M130+'Пт День 5 Нед 1'!J130+'Сб День 6 Нед 1'!L130+'Сб День 6 Нед 1'!M130","v":{"v":0,"d":"0.0000"}},{"$f":"'Пн День 1 Нед 1'!O130+'Вт День 2 Нед 1'!T130+'Ср День 3 Нед 1'!R130+'Чт День 4 Нед 1'!T130+'Чт День 4 Нед 1'!U130+'Пт День 5 Нед 1'!O130+'Сб День 6 Нед 1'!U130+'Сб День 6 Нед 1'!V130","v":{"v":0,"d":"0.0000"}},{"$f":"'Сб День 6 Нед 1'!Y130+'Пт День 5 Нед 1'!R130+'Чт День 4 Нед 1'!X130+'Ср День 3 Нед 1'!U130+'Вт День 2 Нед 1'!W130+'Пн День 1 Нед 1'!R130","v":{"v":0,"d":"0.0000"}},{"$f":"'Сб День 6 Нед 1'!AC130+'Пт День 5 Нед 1'!V130+'Чт День 4 Нед 1'!AB130+'Ср День 3 Нед 1'!Y130+'Вт День 2 Нед 1'!AA130+'Пн День 1 Нед 1'!V130","v":{"v":0,"d":"0.0000"}},{"$f":"'Сб День 6 Нед 1'!AG130+'Пт День 5 Нед 1'!Z130+'Чт День 4 Нед 1'!AF130+'Ср День 3 Нед 1'!AC130+'Вт День 2 Нед 1'!AE130+'Пн День 1 Нед 1'!Z130","v":{"v":0,"d":"0.0000"}},{"v":0,"d":"0.000"}]
[null,"Овощи очищенные"]
[110,"капуста св.очищенная","кг",{"$f":"'Пн День 1 Нед 1'!J132+'Вт День 2 Нед 1'!L132+'Ср День 3 Нед 1'!L132+'Чт День 4 Нед 1'!L132+'Чт День 4 Нед 1'!M132+'Пт День 5 Нед 1'!J132+'Сб День 6 Нед 1'!L132+'Сб День 6 Нед 1'!M132","v":{"v":0,"d":"0.0000"}},{"$f":"'Пн День 1 Нед 1'!O132+'Вт День 2 Нед 1'!T132+'Ср День 3 Нед 1'!R132+'Чт День 4 Нед 1'!T132+'Чт День 4 Нед 1'!U132+'Пт День 5 Нед 1'!O132+'Сб День 6 Нед 1'!U132+'Сб День 6 Нед 1'!V132","v":{"v":0,"d":"0.0000"}},{"$f":"'Сб День 6 Нед 1'!Y132+'Пт День 5 Нед 1'!R132+'Чт День 4 Нед 1'!X132+'Ср День 3 Нед 1'!U132+'Вт День 2 Нед 1'!W132+'Пн День 1 Нед 1'!R132","v":{"v":0,"d":"0.0000"}},{"$f":"'Сб День 6 Нед 1'!AC132+'Пт День 5 Нед 1'!V132+'Чт День 4 Нед 1'!AB132+'Ср День 3 Нед 1'!Y132+'Вт День 2 Нед 1'!AA132+'Пн День 1 Нед 1'!V132","v":{"v":0,"d":"0.0000"}},{"$f":"'Сб День 6 Нед 1'!AG132+'Пт День 5 Нед 1'!Z132+'Чт День 4 Нед 1'!AF132+'Ср День 3 Нед 1'!AC132+'Вт День 2 Нед 1'!AE132+'Пн День 1 Нед 1'!Z132","v":{"v":0,"d":"0.0000"}},{"v":0,"d":"0.000"}]
[111,"картофель св. очищенный","кг",{"$f":"'Пн День 1 Нед 1'!J133+'Вт День 2 Нед 1'!L133+'Ср День 3 Нед 1'!L133+'Чт День 4 Нед 1'!L133+'Чт День 4 Нед 1'!M133+'Пт День 5 Нед 1'!J133+'Сб День 6 Нед 1'!L133+'Сб День 6 Нед 1'!M133","v":{"v":0,"d":"0.0000"}},{"$f":"'Пн День 1 Нед 1'!O133+'Вт День 2 Нед 1'!T133+'Ср День 3 Нед 1'!R133+'Чт День 4 Нед 1'!T133+'Чт День 4 Нед 1'!U133+'Пт День 5 Нед 1'!O133+'Сб День 6 Нед 1'!U133+'Сб День 6 Нед 1'!V133","v":{"v":0,"d":"0.0000"}},{"$f":"'Сб День 6 Нед 1'!Y133+'Пт День 5 Нед 1'!R133+'Чт День 4 Нед 1'!X133+'Ср День 3 Нед 1'!U133+'Вт День 2 Нед 1'!W133+'Пн День 1 Нед 1'!R133","v":{"v":0,"d":"0.0000"}},{"$f":"'Сб День 6 Нед 1'!AC133+'Пт День 5 Нед 1'!V133+'Чт День 4 Нед 1'!AB133+'Ср День 3 Нед 1'!Y133+'Вт День 2 Нед 1'!AA133+'Пн День 1 Нед 1'!V133","v":{"v":0,"d":"0.0000"}},{"$f":"'Сб День 6 Нед 1'!AG133+'Пт День 5 Нед 1'!Z133+'Чт День 4 Нед 1'!AF133+'Ср День 3 Нед 1'!AC133+'Вт День 2 Нед 1'!AE133+'Пн День 1 Нед 1'!Z133","v":{"v":0,"d":"0.0000"}},{"v":0,"d":"0.000"}]
[112,"лук репчатый св.очищенный","кг",{"$f":"'Пн День 1 Нед 1'!J134+'Вт День 2 Нед 1'!L134+'Ср День 3 Нед 1'!L134+'Чт День 4 Нед 1'!L134+'Чт День 4 Нед 1'!M134+'Пт День 5 Нед 1'!J134+'Сб День 6 Нед 1'!L134+'Сб День 6 Нед 1'!M134","v":{"v":0,"d":"0.0000"}},{"$f":"'Пн День 1 Нед 1'!O134+'Вт День 2 Нед 1'!T134+'Ср День 3 Нед 1'!R134+'Чт День 4 Нед 1'!T134+'Чт День 4 Нед 1'!U134+'Пт День 5 Нед 1'!O134+'Сб День 6 Нед 1'!U134+'Сб День 6 Нед 1'!V134","v":{"v":0,"d":"0.0000"}},{"$f":"'Сб День 6 Нед 1'!Y134+'Пт День 5 Нед 1'!R134+'Чт День 4 Нед 1'!X134+'Ср День 3 Нед 1'!U134+'Вт День 2 Нед 1'!W134+'Пн День 1 Нед 1'!R134","v":{"v":0,"d":"0.0000"}},{"$f":"'Сб День 6 Нед 1'!AC134+'Пт День 5 Нед 1'!V134+'Чт День 4 Нед 1'!AB134+'Ср День 3 Нед 1'!Y134+'Вт День 2 Нед 1'!AA134+'Пн День 1 Нед 1'!V134","v":{"v":0,"d":"0.0000"}},{"$f":"'Сб День 6 Нед 1'!AG134+'Пт День 5 Нед 1'!Z134+'Чт День 4 Нед 1'!AF134+'Ср День 3 Нед 1'!AC134+'Вт День 2 Нед 1'!AE134+'Пн День 1 Нед 1'!Z134","v":{"v":0,"d":"0.0000"}},{"v":0,"d":"0.000"}]
[113,"морковь св.очищенная","кг",{"$f":"'Пн День 1 Нед 1'!J135+'Вт День 2 Нед 1'!L135+'Ср День 3 Нед 1'!L135+'Чт День 4 Нед 1'!L135+'Чт День 4 Нед 1'!M135+'Пт День 5 Нед 1'!J135+'Сб День 6 Нед 1'!L135+'Сб День 6 Нед 1'!M135","v":{"v":0,"d":"0.0000"}},{"$f":"'Пн День 1 Нед 1'!O135+'Вт День 2 Нед 1'!T135+'Ср День 3 Нед 1'!R135+'Чт День 4 Нед 1'!T135+'Чт День 4 Нед 1'!U135+'Пт День 5 Нед 1'!O135+'Сб День 6 Нед 1'!U135+'Сб День 6 Нед 1'!V135","v":{"v":0,"d":"0.0000"}},{"$f":"'Сб День 6 Нед 1'!Y135+'Пт День 5 Нед 1'!R135+'Чт День 4 Нед 1'!X135+'Ср День 3 Нед 1'!U135+'Вт День 2 Нед 1'!W135+'Пн День 1 Нед 1'!R135","v":{"v":0,"d":"0.0000"}},{"$f":"'Сб День 6 Нед 1'!AC135+'Пт День 5 Нед 1'!V135+'Чт День 4 Нед 1'!AB135+'Ср День 3 Нед 1'!Y135+'Вт День 2 Нед 1'!AA135+'Пн День 1 Нед 1'!V135","v":{"v":0,"d":"0.0000"}},{"$f":"'Сб День 6 Нед 1'!AG135+'Пт День 5 Нед 1'!Z135+'Чт День 4 Нед 1'!AF135+'Ср День 3 Нед 1'!AC135+'Вт День 2 Нед 1'!AE135+'Пн День 1 Нед 1'!Z135","v":{"v":0,"d":"0.0000"}},{"v":0,"d":"0.000"}]
[114,"свекла св.очищенная","кг",{"$f":"'Пн День 1 Нед 1'!J136+'Вт День 2 Нед 1'!L136+'Ср День 3 Нед 1'!L136+'Чт День 4 Нед 1'!L136+'Чт День 4 Нед 1'!M136+'Пт День 5 Нед 1'!J136+'Сб День 6 Нед 1'!L136+'Сб День 6 Нед 1'!M136","v":{"v":0,"d":"0.0000"}},{"$f":"'Пн День 1 Нед 1'!O136+'Вт День 2 Нед 1'!T136+'Ср День 3 Нед 1'!R136+'Чт День 4 Нед 1'!T136+'Чт День 4 Нед 1'!U136+'Пт День 5 Нед 1'!O136+'Сб День 6 Нед 1'!U136+'Сб День 6 Нед 1'!V136","v":{"v":0,"d":"0.0000"}},{"$f":"'Сб День 6 Нед 1'!Y136+'Пт День 5 Нед 1'!R136+'Чт День 4 Нед 1'!X136+'Ср День 3 Нед 1'!U136+'Вт День 2 Нед 1'!W136+'Пн День 1 Нед 1'!R136","v":{"v":0,"d":"0.0000"}},{"$f":"'Сб День 6 Нед 1'!AC136+'Пт День 5 Нед 1'!V136+'Чт День 4 Нед 1'!AB136+'Ср День 3 Нед 1'!Y136+'Вт День 2 Нед 1'!AA136+'Пн День 1 Нед 1'!V136","v":{"v":0,"d":"0.0000"}},{"$f":"'Сб День 6 Нед 1'!AG136+'Пт День 5 Нед 1'!Z136+'Чт День 4 Нед 1'!AF136+'Ср День 3 Нед 1'!AC136+'Вт День 2 Нед 1'!AE136+'Пн День 1 Нед 1'!Z136","v":{"v":0,"d":"0.0000"}},{"$f":"D136+E136+F136+G136+H136","v":{"v":0,"d":"0.000"}}]
[null,"Полуфабрикаты"]
[115,"сырники ПФ","шт",{"$f":"'Пн День 1 Нед 1'!J138+'Вт День 2 Нед 1'!L138+'Ср День 3 Нед 1'!L138+'Чт День 4 Нед 1'!L138+'Чт День 4 Нед 1'!M138+'Пт День 5 Нед 1'!J138+'Сб День 6 Нед 1'!L138+'Сб День 6 Нед 1'!M138","v":{"v":1,"d":"1.0000"}},{"$f":"'Пн День 1 Нед 1'!O138+'Вт День 2 Нед 1'!T138+'Ср День 3 Нед 1'!R138+'Чт День 4 Нед 1'!T138+'Чт День 4 Нед 1'!U138+'Пт День 5 Нед 1'!O138+'Сб День 6 Нед 1'!U138+'Сб День 6 Нед 1'!V138","v":{"v":1,"d":"1.0000"}},{"$f":"'Сб День 6 Нед 1'!Y138+'Пт День 5 Нед 1'!R138+'Чт День 4 Нед 1'!X138+'Ср День 3 Нед 1'!U138+'Вт День 2 Нед 1'!W138+'Пн День 1 Нед 1'!R138","v":{"v":0,"d":"0.0000"}},{"$f":"'Сб День 6 Нед 1'!AC138+'Пт День 5 Нед 1'!V138+'Чт День 4 Нед 1'!AB138+'Ср День 3 Нед 1'!Y138+'Вт День 2 Нед 1'!AA138+'Пн День 1 Нед 1'!V138","v":{"v":0,"d":"0.0000"}},{"$f":"'Сб День 6 Нед 1'!AG138+'Пт День 5 Нед 1'!Z138+'Чт День 4 Нед 1'!AF138+'Ср День 3 Нед 1'!AC138+'Вт День 2 Нед 1'!AE138+'Пн День 1 Нед 1'!Z138","v":{"v":0,"d":"0.0000"}},{"v":2,"d":"2.000"}]
[116,"пельмени ПФ","кг",{"$f":"'Пн День 1 Нед 1'!J139+'Вт День 2 Нед 1'!L139+'Ср День 3 Нед 1'!L139+'Чт День 4 Нед 1'!L139+'Чт День 4 Нед 1'!M139+'Пт День 5 Нед 1'!J139+'Сб День 6 Нед 1'!L139+'Сб День 6 Нед 1'!M139","v":{"v":0,"d":"0.0000"}},{"$f":"'Пн День 1 Нед 1'!O139+'Вт День 2 Нед 1'!T139+'Ср День 3 Нед 1'!R139+'Чт День 4 Нед 1'!T139+'Чт День 4 Нед 1'!U139+'Пт День 5 Нед 1'!O139+'Сб День 6 Нед 1'!U139+'Сб День 6 Нед 1'!V139","v":{"v":0,"d":"0.0000"}},{"$f":"'Сб День 6 Нед 1'!Y139+'Пт День 5 Нед 1'!R139+'Чт День 4 Нед 1'!X139+'Ср День 3 Нед 1'!U139+'Вт День 2 Нед 1'!W139+'Пн День 1 Нед 1'!R139","v":{"v":0,"d":"0.0000"}},{"$f":"'Сб День 6 Нед 1'!AC139+'Пт День 5 Нед 1'!V139+'Чт День 4 Нед 1'!AB139+'Ср День 3 Нед 1'!Y139+'Вт День 2 Нед 1'!AA139+'Пн День 1 Нед 1'!V139","v":{"v":0,"d":"0.0000"}},{"$f":"'Сб День 6 Нед 1'!AG139+'Пт День 5 Нед 1'!Z139+'Чт День 4 Нед 1'!AF139+'Ср День 3 Нед 1'!AC139+'Вт День 2 Нед 1'!AE139+'Пн День 1 Нед 1'!Z139","v":{"v":0,"d":"0.0000"}},{"v":0,"d":"0.000"}]
[117,"биточки рыбные","шт",{"$f":"'Пн День 1 Нед 1'!J140+'Вт День 2 Нед 1'!L140+'Ср День 3 Нед 1'!L140+'Чт День 4 Нед 1'!L140+'Чт День 4 Нед 1'!M140+'Пт День 5 Нед 1'!J140+'Сб День 6 Нед 1'!L140+'Сб День 6 Нед 1'!M140","v":{"v":1,"d":"1.0000"}},{"$f":"'Пн День 1 Нед 1'!O140+'Вт День 2 Нед 1'!T140+'Ср День 3 Нед 1'!R140+'Чт День 4 Нед 1'!T140+'Чт День 4 Нед 1'!U140+'Пт День 5 Нед 1'!O140+'Сб День 6 Нед 1'!U140+'Сб День 6 Нед 1'!V140","v":{"v":1,"d":"1.0000"}},{"$f":"'Сб День 6 Нед 1'!Y140+'Пт День 5 Нед 1'!R140+'Чт День 4 Нед 1'!X140+'Ср День 3 Нед 1'!U140+'Вт День 2 Нед 1'!W140+'Пн День 1 Нед 1'!R140","v":{"v":0,"d":"0.0000"}},{"$f":"'Сб День 6 Нед 1'!AC140+'Пт День 5 Нед 1'!V140+'Чт День 4 Нед 1'!AB140+'Ср День 3 Нед 1'!Y140+'Вт День 2 Нед 1'!AA140+'Пн День 1 Нед 1'!V140","v":{"v":0,"d":"0.0000"}},{"$f":"'Сб День 6 Нед 1'!AG140+'Пт День 5 Нед 1'!Z140+'Чт День 4 Нед 1'!AF140+'Ср День 3 Нед 1'!AC140+'Вт День 2 Нед 1'!AE140+'Пн День 1 Нед 1'!Z140","v":{"v":0,"d":"0.0000"}},{"v":2,"d":"2.000"}]
[118,"фрикадельки мясные ","кг",{"$f":"'Пн День 1 Нед 1'!J141+'Вт День 2 Нед 1'!L141+'Ср День 3 Нед 1'!L141+'Чт День 4 Нед 1'!L141+'Чт День 4 Нед 1'!M141+'Пт День 5 Нед 1'!J141+'Сб День 6 Нед 1'!L141+'Сб День 6 Нед 1'!M141","v":{"v":0,"d":"0.0000"}},{"$f":"'Пн День 1 Нед 1'!O141+'Вт День 2 Нед 1'!T141+'Ср День 3 Нед 1'!R141+'Чт День 4 Нед 1'!T141+'Чт День 4 Нед 1'!U141+'Пт День 5 Нед 1'!O141+'Сб День 6 Нед 1'!U141+'Сб День 6 Нед 1'!V141","v":{"v":0,"d":"0.0000"}},{"$f":"'Сб День 6 Нед 1'!Y141+'Пт День 5 Нед 1'!R141+'Чт День 4 Нед 1'!X141+'Ср День 3 Нед 1'!U141+'Вт День 2 Нед 1'!W141+'Пн День 1 Нед 1'!R141","v":{"v":0,"d":"0.0000"}},{"$f":"'Сб День 6 Нед 1'!AC141+'Пт День 5 Нед 1'!V141+'Чт День 4 Нед 1'!AB141+'Ср День 3 Нед 1'!Y141+'Вт День 2 Нед 1'!AA141+'Пн День 1 Нед 1'!V141","v":{"v":0,"d":"0.0000"}},{"$f":"'Сб День 6 Нед 1'!AG141+'Пт День 5 Нед 1'!Z141+'Чт День 4 Нед 1'!AF141+'Ср День 3 Нед 1'!AC141+'Вт День 2 Нед 1'!AE141+'Пн День 1 Нед 1'!Z141","v":{"v":0,"d":"0.0000"}},{"v":0,"d":"0.000"}]
[119,"фрикадельки куриные","кг",{"$f":"'Пн День 1 Нед 1'!J142+'Вт День 2 Нед 1'!L142+'Ср День 3 Нед 1'!L142+'Чт День 4 Нед 1'!L142+'Чт День 4 Нед 1'!M142+'Пт День 5 Нед 1'!J142+'Сб День 6 Нед 1'!L142+'Сб День 6 Нед 1'!M142","v":{"v":0,"d":"0.0000"}},{"$f":"'Пн День 1 Нед 1'!O142+'Вт День 2 Нед 1'!T142+'Ср День 3 Нед 1'!R142+'Чт День 4 Нед 1'!T142+'Чт День 4 Нед 1'!U142+'Пт День 5 Нед 1'!O142+'Сб День 6 Нед 1'!U142+'Сб День 6 Нед 1'!V142","v":{"v":0,"d":"0.0000"}},{"$f":"'Сб День 6 Нед 1'!Y142+'Пт День 5 Нед 1'!R142+'Чт День 4 Нед 1'!X142+'Ср День 3 Нед 1'!U142+'Вт День 2 Нед 1'!W142+'Пн День 1 Нед 1'!R142","v":{"v":0,"d":"0.0000"}},{"$f":"'Сб День 6 Нед 1'!AC142+'Пт День 5 Нед 1'!V142+'Чт День 4 Нед 1'!AB142+'Ср День 3 Нед 1'!Y142+'Вт День 2 Нед 1'!AA142+'Пн День 1 Нед 1'!V142","v":{"v":0,"d":"0.0000"}},{"$f":"'Сб День 6 Нед 1'!AG142+'Пт День 5 Нед 1'!Z142+'Чт День 4 Нед 1'!AF142+'Ср День 3 Нед 1'!AC142+'Вт День 2 Нед 1'!AE142+'Пн День 1 Нед 1'!Z142","v":{"v":0,"d":"0.0000"}},{"v":0,"d":"0.000"}]
[120,"хинкали п/ф из говядины","кг",{"$f":"'Пн День 1 Нед 1'!J143+'Вт День 2 Нед 1'!L143+'Ср День 3 Нед 1'!L143+'Чт День 4 Нед 1'!L143+'Чт День 4 Нед 1'!M143+'Пт День 5 Нед 1'!J143+'Сб День 6 Нед 1'!L143+'Сб День 6 Нед 1'!M143","v":{"v":0,"d":"0.0000"}},{"$f":"'Пн День 1 Нед 1'!O143+'Вт День 2 Нед 1'!T143+'Ср День 3 Нед 1'!R143+'Чт День 4 Нед 1'!T143+'Чт День 4 Нед 1'!U143+'Пт День 5 Нед 1'!O143+'Сб День 6 Нед 1'!U143+'Сб День 6 Нед 1'!V143","v":{"v":0,"d":"0.0000"}},{"$f":"'Сб День 6 Нед 1'!Y143+'Пт День 5 Нед 1'!R143+'Чт День 4 Нед 1'!X143+'Ср День 3 Нед 1'!U143+'Вт День 2 Нед 1'!W143+'Пн День 1 Нед 1'!R143","v":{"v":0,"d":"0.0000"}},{"$f":"'Сб День 6 Нед 1'!AC143+'Пт День 5 Нед 1'!V143+'Чт День 4 Нед 1'!AB143+'Ср День 3 Нед 1'!Y143+'Вт День 2 Нед 1'!AA143+'Пн День 1 Нед 1'!V143","v":{"v":0,"d":"0.0000"}},{"$f":"'Сб День 6 Нед 1'!AG143+'Пт День 5 Нед 1'!Z143+'Чт День 4 Нед 1'!AF143+'Ср День 3 Нед 1'!AC143+'Вт День 2 Нед 1'!AE143+'Пн День 1 Нед 1'!Z143","v":{"v":0,"d":"0.0000"}},{"v":0,"d":"0.000"}]
[121,"котлеты из говядины \"Домашние\"  ","шт",{"$f":"'Пн День 1 Нед 1'!J144+'Вт День 2 Нед 1'!L144+'Ср День 3 Нед 1'!L144+'Чт День 4 Нед 1'!L144+'Чт День 4 Нед 1'!M144+'Пт День 5 Нед 1'!J144+'Сб День 6 Нед 1'!L144+'Сб День 6 Нед 1'!M144","v":{"v":1,"d":"1.0000"}},{"$f":"'Пн День 1 Нед 1'!O144+'Вт День 2 Нед 1'!T144+'Ср День 3 Нед 1'!R144+'Чт День 4 Нед 1'!T144+'Чт День 4 Нед 1'!U144+'Пт День 5 Нед 1'!O144+'Сб День 6 Нед 1'!U144+'Сб День 6 Нед 1'!V144","v":{"v":1,"d":"1.0000"}},{"$f":"'Сб День 6 Нед 1'!Y144+'Пт День 5 Нед 1'!R144+'Чт День 4 Нед 1'!X144+'Ср День 3 Нед 1'!U144+'Вт День 2 Нед 1'!W144+'Пн День 1 Нед 1'!R144","v":{"v":0,"d":"0.0000"}},{"$f":"'Сб День 6 Нед 1'!AC144+'Пт День 5 Нед 1'!V144+'Чт День 4 Нед 1'!AB144+'Ср День 3 Нед 1'!Y144+'Вт День 2 Нед 1'!AA144+'Пн День 1 Нед 1'!V144","v":{"v":0,"d":"0.0000"}},{"$f":"'Сб День 6 Нед 1'!AG144+'Пт День 5 Нед 1'!Z144+'Чт День 4 Нед 1'!AF144+'Ср День 3 Нед 1'!AC144+'Вт День 2 Нед 1'!AE144+'Пн День 1 Нед 1'!Z144","v":{"v":0,"d":"0.0000"}},{"v":2,"d":"2.000"}]
[122,"бифштекс из говядины","шт",{"$f":"'Пн День 1 Нед 1'!J145+'Вт День 2 Нед 1'!L145+'Ср День 3 Нед 1'!L145+'Чт День 4 Нед 1'!L145+'Чт День 4 Нед 1'!M145+'Пт День 5 Нед 1'!J145+'Сб День 6 Нед 1'!L145+'Сб День 6 Нед 1'!M145","v":{"v":0,"d":"0.0000"}},{"$f":"'Пн День 1 Нед 1'!O145+'Вт День 2 Нед 1'!T145+'Ср День 3 Нед 1'!R145+'Чт День 4 Нед 1'!T145+'Чт День 4 Нед 1'!U145+'Пт День 5 Нед 1'!O145+'Сб День 6 Нед 1'!U145+'Сб День 6 Нед 1'!V145","v":{"v":0,"d":"0.0000"}},{"$f":"'Сб День 6 Нед 1'!Y145+'Пт День 5 Нед 1'!R145+'Чт День 4 Нед 1'!X145+'Ср День 3 Нед 1'!U145+'Вт День 2 Нед 1'!W145+'Пн День 1 Нед 1'!R145","v":{"v":0,"d":"0.0000"}},{"$f":"'Сб День 6 Нед 1'!AC145+'Пт День 5 Нед 1'!V145+'Чт День 4 Нед 1'!AB145+'Ср День 3 Нед 1'!Y145+'Вт День 2 Нед 1'!AA145+'Пн День 1 Нед 1'!V145","v":{"v":0,"d":"0.0000"}},{"$f":"'Сб День 6 Нед 1'!AG145+'Пт День 5 Нед 1'!Z145+'Чт День 4 Нед 1'!AF145+'Ср День 3 Нед 1'!AC145+'Вт День 2 Нед 1'!AE145+'Пн День 1 Нед 1'!Z145","v":{"v":0,"d":"0.0000"}},{"v":0,"d":"0.000"}]
[123,"котлеты из мяса кур","шт",{"$f":"'Пн День 1 Нед 1'!J146+'Вт День 2 Нед 1'!L146+'Ср День 3 Нед 1'!L146+'Чт День 4 Нед 1'!L146+'Чт День 4 Нед 1'!M146+'Пт День 5 Нед 1'!J146+'Сб День 6 Нед 1'!L146+'Сб День 6 Нед 1'!M146","v":{"v":0,"d":"0.0000"}},{"$f":"'Пн День 1 Нед 1'!O146+'Вт День 2 Нед 1'!T146+'Ср День 3 Нед 1'!R146+'Чт День 4 Нед 1'!T146+'Чт День 4 Нед 1'!U146+'Пт День 5 Нед 1'!O146+'Сб День 6 Нед 1'!U146+'Сб День 6 Нед 1'!V146","v":{"v":0,"d":"0.0000"}},{"$f":"'Сб День 6 Нед 1'!Y146+'Пт День 5 Нед 1'!R146+'Чт День 4 Нед 1'!X146+'Ср День 3 Нед 1'!U146+'Вт День 2 Нед 1'!W146+'Пн День 1 Нед 1'!R146","v":{"v":0,"d":"0.0000"}},{"$f":"'Сб День 6 Нед 1'!AC146+'Пт День 5 Нед 1'!V146+'Чт День 4 Нед 1'!AB146+'Ср День 3 Нед 1'!Y146+'Вт День 2 Нед 1'!AA146+'Пн День 1 Нед 1'!V146","v":{"v":0,"d":"0.0000"}},{"$f":"'Сб День 6 Нед 1'!AG146+'Пт День 5 Нед 1'!Z146+'Чт День 4 Нед 1'!AF146+'Ср День 3 Нед 1'!AC146+'Вт День 2 Нед 1'!AE146+'Пн День 1 Нед 1'!Z146","v":{"v":0,"d":"0.0000"}},{"v":0,"d":"0.000"}]
[124,"котлеты \"Аппетитные\" мясо-куриные  ","шт",{"$f":"'Пн День 1 Нед 1'!J147+'Вт День 2 Нед 1'!L147+'Ср День 3 Нед 1'!L147+'Чт День 4 Нед 1'!L147+'Чт День 4 Нед 1'!M147+'Пт День 5 Нед 1'!J147+'Сб День 6 Нед 1'!L147+'Сб День 6 Нед 1'!M147","v":{"v":0,"d":"0.0000"}},{"$f":"'Пн День 1 Нед 1'!O147+'Вт День 2 Нед 1'!T147+'Ср День 3 Нед 1'!R147+'Чт День 4 Нед 1'!T147+'Чт День 4 Нед 1'!U147+'Пт День 5 Нед 1'!O147+'Сб День 6 Нед 1'!U147+'Сб День 6 Нед 1'!V147","v":{"v":0,"d":"0.0000"}},{"$f":"'Сб День 6 Нед 1'!Y147+'Пт День 5 Нед 1'!R147+'Чт День 4 Нед 1'!X147+'Ср День 3 Нед 1'!U147+'Вт День 2 Нед 1'!W147+'Пн День 1 Нед 1'!R147","v":{"v":0,"d":"0.0000"}},{"$f":"'Сб День 6 Нед 1'!AC147+'Пт День 5 Нед 1'!V147+'Чт День 4 Нед 1'!AB147+'Ср День 3 Нед 1'!Y147+'Вт День 2 Нед 1'!AA147+'Пн День 1 Нед 1'!V147","v":{"v":0,"d":"0.0000"}},{"$f":"'Сб День 6 Нед 1'!AG147+'Пт День 5 Нед 1'!Z147+'Чт День 4 Нед 1'!AF147+'Ср День 3 Нед 1'!AC147+'Вт День 2 Нед 1'!AE147+'Пн День 1 Нед 1'!Z147","v":{"v":0,"d":"0.0000"}},{"v":0,"d":"0.000"}]
[125,"ежики мясные с рисом ","шт",{"$f":"'Пн День 1 Нед 1'!J148+'Вт День 2 Нед 1'!L148+'Ср День 3 Нед 1'!L148+'Чт День 4 Нед 1'!L148+'Чт День 4 Нед 1'!M148+'Пт День 5 Нед 1'!J148+'Сб День 6 Нед 1'!L148+'Сб День 6 Нед 1'!M148","v":{"v":0,"d":"0.0000"}},{"$f":"'Пн День 1 Нед 1'!O148+'Вт День 2 Нед 1'!T148+'Ср День 3 Нед 1'!R148+'Чт День 4 Нед 1'!T148+'Чт День 4 Нед 1'!U148+'Пт День 5 Нед 1'!O148+'Сб День 6 Нед 1'!U148+'Сб День 6 Нед 1'!V148","v":{"v":0,"d":"0.0000"}},{"$f":"'Сб День 6 Нед 1'!Y148+'Пт День 5 Нед 1'!R148+'Чт День 4 Нед 1'!X148+'Ср День 3 Нед 1'!U148+'Вт День 2 Нед 1'!W148+'Пн День 1 Нед 1'!R148","v":{"v":0,"d":"0.0000"}},{"$f":"'Сб День 6 Нед 1'!AC148+'Пт День 5 Нед 1'!V148+'Чт День 4 Нед 1'!AB148+'Ср День 3 Нед 1'!Y148+'Вт День 2 Нед 1'!AA148+'Пн День 1 Нед 1'!V148","v":{"v":0,"d":"0.0000"}},{"$f":"'Сб День 6 Нед 1'!AG148+'Пт День 5 Нед 1'!Z148+'Чт День 4 Нед 1'!AF148+'Ср День 3 Нед 1'!AC148+'Вт День 2 Нед 1'!AE148+'Пн День 1 Нед 1'!Z148","v":{"v":0,"d":"0.0000"}},{"v":0,"d":"0.000"}]

{"sheet":"Пн 1 день нед 2","index":7,"n_rows":148,"n_cols":33,"rows_kept":148,"merged":[[0,0,0,30],[1,5,1,9],[1,10,3,10],[1,11,3,11],[1,12,1,17],[1,18,3,18],[1,19,3,19],[1,20,1,21],[1,22,3,22],[1,23,1,25],[1,26,3,26],[1,27,1,29],[1,30,3,30],[1,31,3,31],[1,32,2,32],[130,0,130,1]]}
["Расход продуктов питания в образовательных учереждениях  "]
[{"$nulls":5},"Меню с 1 по 4 класс  69,43  РУБ",{"$nulls":4},"Кол-во учащихся 1 - 4 кл СОСИСКА с кашей гречнев","Кол-во учащихся 1 - 4 кл котлета с кашей гречнев","Меню с 5 по 11 класс  69,43  РУБ",{"$nulls":5},"Кол-во учащихся 5-11 кл СОСИСКА с кашей","Кол-во учащихся 5-11 кл   котлеты с кашей","Меню на сумму         9,60  РУБ",null,"ИТОГО","Меню КАШИ  НА молоке                          ",null,null,"ИТОГО","Меню   СУПА  ",null,null,"ИТОГО","ВСЕГО ЗА ДЕНЬ расход продуктов по всем рационам","остаток на конец"]
[null,"ДЕНЬ 1 неделя 2",null,"остаток на начало","приход","Сыр порционно","ИЛИ сосиски отварные с кашей греч","Котлеты из мяса птицы с кашей гречневой с маслом сливочным","Компот из с/ф","Хлеб пшеничн /ржаной",null,null,"Сыр порционно","ИЛИ сосиски отварные с кашей греч","Котлеты из мяса птицы с кашей гречневой с маслом сливочным","Компот из с/ф","Хлеб пшеничн /ржаной",{"$nulls":3},"сушки","чай с сахаром и яблоками",null,"каша  рисовая с масл слив","Кисель","Хлеб ржаной ",null,"суп картоф с вермиш на кур бульоне с куриными фрикадельками","чай с сахаромс лимоном","Хлеб ржаной "]
[null,"КОЛИЧЕСТВО ДЕТЕЙ",{"$nulls":3},"7-11","7-11","7-11","7-11","7-11",null,null,"12-18","7-11","12-18","12-18","12-18",{"$nulls":3},"12-18","12-18",null,"12-18","12-18","12-18",null,"12-18","12-18","12-18"]
[null,"Выход,гр",{"$nulls":3},"10","90/150/5","75/150/3","200","25/40","1","1","10","90/180/3","75/180/3","200","35/50",null,"1","1","30","180/10/10",1,"150/3","200","30",0,"250/10","200","30","1",{"$f":"K5+L5+S5+T5+W5+AE5","v":6}]
[null,"Хлеб"]
[1,"батон ","кг",{"$f":"'Сб День 6 Нед 1'!AI7","v":0},{"$nulls":6},{"$f":"(G7+I7+J7)*$K$5","v":{"v":0,"d":"0.0000"}},{"$f":"(F7+H7+I7+J7)*$L$5","v":{"v":0,"d":"0.0000"}},{"$nulls":6},{"$f":"(N7+P7+Q7)*$S$5","v":{"v":0,"d":"0.0000"}},{"$f":"(M7+O7+P7+Q7)*$T$5","v":{"v":0,"d":"0.0000"}},null,null,{"$f":"(V7+U7)*$W$5","v":{"v":0,"d":"0.0000"}},{"$nulls":3},{"$f":"(Z7+Y7+X7)*$AA$5","v":{"v":0,"d":"0.0000"}},{"$nulls":3},{"$f":"(AD7+AC7+AB7)*$AE$5","v":{"v":0,"d":"0.0000"}},{"$f":"K7+L7+S7+T7+W7+AE7","v":{"v":0,"d":"0.000"}},{"$f":"(D7+E7)-AF7","v":{"v":0,"d":"0.000"}}]
[2,"хлеб пшеничный ","кг",{"$f":"'Сб День 6 Нед 1'!AI8","v":-0.24159999999999998},{"$nulls":3},0.0135,null,{"v":0.025,"d":"0.0250"},{"$f":"(G8+I8+J8)*$K$5","v":{"v":0.025,"d":"0.0250"}},{"$f":"(F8+H8+I8+J8)*$L$5","v":0.0385},null,null,0.0135,null,{"v":0.035,"d":"0.0350"},null,{"$f":"(N8+P8+Q8)*$S$5","v":{"v":0.035,"d":"0.0350"}},{"$f":"(M8+O8+P8+Q8)*$T$5","v":0.0485},null,null,{"$f":"(V8+U8)*$W$5","v":{"v":0,"d":"0.0000"}},{"$nulls":3},{"$f":"(Z8+Y8+X8)*$AA$5","v":{"v":0,"d":"0.0000"}},{"$nulls":3},{"$f":"(AD8+AC8+AB8)*$AE$5","v":{"v":0,"d":"0.0000"}},{"$f":"K8+L8+S8+T8+W8+AE8","v":{"v":0.14700000000000002,"d":"0.147"}},{"v":-0.3886,"d":"-0.389"}]
[3,"хлеб ржаной","кг",{"$f":"'Сб День 6 Нед 1'!AI9","v":-0.695},{"$nulls":5},{"v":0.04,"d":"0.0400"},{"v":0.04,"d":"0.0400"},{"v":0.04,"d":"0.0400"},{"$nulls":4},{"v":0.05,"d":"0.0500"},null,{"v":0.05,"d":"0.0500"},{"v":0.05,"d":"0.0500"},null,null,{"v":0,"d":"0.0000"},null,null,{"v":0.03,"d":"0.0300"},{"v":0,"d":"0.0000"},null,null,{"v":0.03,"d":"0.0300"},{"v":0.03,"d":"0.0300"},{"v":0.21,"d":"0.210"},{"v":-0.9049999999999999,"d":"-0.905"}]
[4,"булоч/выпечка готов с х/ком","шт",{"$f":"'Сб День 6 Нед 1'!AI10","v":-1},{"$nulls":6},{"v":0,"d":"0.0000"},{"v":0,"d":"0.0000"},{"$nulls":6},{"v":0,"d":"0.0000"},{"v":0,"d":"0.0000"},null,null,{"v":0,"d":"0.0000"},{"$nulls":3},{"v":0,"d":"0.0000"},{"$nulls":3},{"v":0,"d":"0.0000"},{"v":0,"d":"0.000"},{"v":-1,"d":"-1.000"}]
[null,"Молочка",null,{"$f":"'Сб День 6 Нед 1'!AI11","v":0},{"$nulls":6},{"v":0,"d":"0.0000"},{"v":0,"d":"0.0000"},{"$nulls":6},{"v":0,"d":"0.0000"},{"v":0,"d":"0.0000"},null,null,{"v":0,"d":"0.0000"},{"$nulls":3},{"v":0,"d":"0.0000"},{"$nulls":3},{"v":0,"d":"0.0000"},{"v":0,"d":"0.000"},{"v":0,"d":"0.000"}]
[5,"молоко 2,5%","кг",{"$f":"'Сб День 6 Нед 1'!AI12","v":-0.4571},{"$nulls":6},{"v":0,"d":"0.0000"},{"v":0,"d":"0.0000"},{"$nulls":6},{"v":0,"d":"0.0000"},{"v":0,"d":"0.0000"},null,null,{"v":0,"d":"0.0000"},{"v":0.075,"d":"0.0750"},null,null,{"v":0,"d":"0.0000"},{"$nulls":3},{"v":0,"d":"0.0000"},{"v":0,"d":"0.000"},{"v":-0.4571,"d":"-0.457"}]
[6,"творог 5%","кг",{"$f":"'Сб День 6 Нед 1'!AI13","v":0},{"$nulls":6},{"v":0,"d":"0.0000"},{"v":0,"d":"0.0000"},{"$nulls":6},{"v":0,"d":"0.0000"},{"v":0,"d":"0.0000"},null,null,{"v":0,"d":"0.0000"},{"$nulls":3},{"v":0,"d":"0.0000"},{"$nulls":3},{"v":0,"d":"0.0000"},{"v":0,"d":"0.000"},{"v":0,"d":"0.000"}]
[7,"сметана 15%","кг",{"$f":"'Сб День 6 Нед 1'!AI14","v":-0.055},{"$nulls":6},{"v":0,"d":"0.0000"},{"v":0,"d":"0.0000"},{"$nulls":6},{"v":0,"d":"0.0000"},{"v":0,"d":"0.0000"},null,null,{"v":0,"d":"0.0000"},{"$nulls":3},{"v":0,"d":"0.0000"},{"$nulls":3},{"v":0,"d":"0.0000"},{"v":0,"d":"0.000"},-0.055]
[8,"йогурт фруктов ","кг",{"$f":"'Сб День 6 Нед 1'!AI15","v":0},{"$nulls":6},{"v":0,"d":"0.0000"},{"v":0,"d":"0.0000"},{"$nulls":6},{"v":0,"d":"0.0000"},{"v":0,"d":"0.0000"},null,null,{"v":0,"d":"0.0000"},{"$nulls":3},{"v":0,"d":"0.0000"},{"$nulls":3},{"v":0,"d":"0.0000"},{"v":0,"d":"0.000"},{"v":0,"d":"0.000"}]
[9,"катык 2,5%","кг",{"$f":"'Сб День 6 Нед 1'!AI16","v":0},{"$nulls":6},{"v":0,"d":"0.0000"},{"v":0,"d":"0.0000"},{"$nulls":6},{"v":0,"d":"0.0000"},{"v":0,"d":"0.0000"},null,null,{"v":0,"d":"0.0000"},{"$nulls":3},{"v":0,"d":"0.0000"},{"$nulls":3},{"v":0,"d":"0.0000"},{"v":0,"d":"0.000"},{"v":0,"d":"0.000"}]
[10,"кефир 2,5%","кг",{"$f":"'Сб День 6 Нед 1'!AI17","v":0},{"$nulls":6},{"v":0,"d":"0.0000"},{"v":0,"d":"0.0000"},{"$nulls":6},{"v":0,"d":"0.0000"},{"v":0,"d":"0.0000"},null,null,{"v":0,"d":"0.0000"},{"$nulls":3},{"v":0,"d":"0.0000"},{"$nulls":3},{"v":0,"d":"0.0000"},{"v":0,"d":"0.000"},{"v":0,"d":"0.000"}]
[11,"ряженка 2,5%","кг",{"$f":"'Сб День 6 Нед 1'!AI18","v":0},{"$nulls":6},{"v":0,"d":"0.0000"},{"v":0,"d":"0.0000"},{"$nulls":6},{"v":0,"d":"0.0000"},{"v":0,"d":"0.0000"},null,null,{"v":0,"d":"0.0000"},{"$nulls":3},{"v":0,"d":"0.0000"},{"$nulls":3},{"v":0,"d":"0.0000"},{"v":0,"d":"0.000"},{"v":0,"d":"0.000"}]
[12,"напиток ацидофильный","кг",{"$f":"'Сб День 6 Нед 1'!AI19","v":0},{"$nulls":6},{"v":0,"d":"0.0000"},{"v":0,"d":"0.0000"},{"$nulls":6},{"v":0,"d":"0.0000"},{"v":0,"d":"0.0000"},null,null,{"v":0,"d":"0.0000"},{"$nulls":3},{"v":0,"d":"0.0000"},{"$nulls":3},{"v":0,"d":"0.0000"},{"v":0,"d":"0.000"},{"v":0,"d":"0.000"}]
[null,"Масло / сыр ",null,{"$f":"'Сб День 6 Нед 1'!AI20","v":0},{"$nulls":6},{"v":0,"d":"0.0000"},{"v":0,"d":"0.0000"},{"$nulls":6},{"v":0,"d":"0.0000"},{"v":0,"d":"0.0000"},null,null,{"v":0,"d":"0.0000"},{"$nulls":3},{"v":0,"d":"0.0000"},{"$nulls":3},{"v":0,"d":"0.0000"},{"v":0,"d":"0.000"},{"v":0,"d":"0.000"}]
[13,"масло растительное","кг",{"$f":"'Сб День 6 Нед 1'!AI21","v":-0.08109999999999999},{"$nulls":3},{"$f":"0.0015+0.003","v":{"v":4.5000000000000005E-3,"d":"0.0045"}},null,null,{"v":0,"d":"0.0000"},{"v":4.5000000000000005E-3,"d":"0.0045"},{"v":1E-3,"d":"0.0010"},null,{"$f":"0.0015+0.003","v":{"v":4.5000000000000005E-3,"d":"0.0045"}},{"$nulls":3},{"v":0,"d":"0.0000"},{"v":5.5000000000000005E-3,"d":"0.0055"},null,null,{"v":0,"d":"0.0000"},{"$nulls":3},{"v":0,"d":"0.0000"},0.0025,null,null,0.0025,{"v":0.012500000000000002,"d":"0.013"},{"v":-0.09359999999999999,"d":"-0.094"}]
[14,"масло сливочное","кг",{"$f":"'Сб День 6 Нед 1'!AI22","v":-0.05499999999999999},null,null,{"v":0.005,"d":"0.0050"},0.0003,null,null,{"v":0.005,"d":"0.0050"},0.0003,null,{"v":0.003,"d":"0.0030"},0.0003,{"$nulls":3},{"v":0.003,"d":"0.0030"},0.0003,null,null,{"v":0,"d":"0.0000"},{"v":0.003,"d":"0.0030"},null,null,{"v":0,"d":"0.0000"},{"$nulls":3},{"v":0,"d":"0.0000"},{"v":8.6E-3,"d":"0.009"},{"v":-0.06359999999999999,"d":"-0.064"}]
[15,"сыр голландский","кг",{"$f":"'Сб День 6 Нед 1'!AI23","v":0},null,0.0102,{"$nulls":4},{"v":0,"d":"0.0000"},0.0102,{"$nulls":6},{"v":0,"d":"0.0000"},{"v":0,"d":"0.0000"},null,null,{"v":0,"d":"0.0000"},{"$nulls":3},{"v":0,"d":"0.0000"},{"$nulls":3},{"v":0,"d":"0.0000"},{"v":0.0102,"d":"0.010"},{"v":-0.0102,"d":"-0.010"}]
[null,"Мясо",null,{"$f":"'Сб День 6 Нед 1'!AI24","v":0},{"$nulls":6},{"v":0,"d":"0.0000"},{"v":0,"d":"0.0000"},{"$nulls":6},{"v":0,"d":"0.0000"},{"v":0,"d":"0.0000"},null,null,{"v":0,"d":"0.0000"},{"$nulls":3},{"v":0,"d":"0.0000"},{"$nulls":3},{"v":0,"d":"0.0000"},{"v":0,"d":"0.000"},{"v":0,"d":"0.000"}]
[16,"говядина (котлетное мясо) ","кг",{"$f":"'Сб День 6 Нед 1'!AI25","v":0},{"$nulls":6},{"v":0,"d":"0.0000"},{"v":0,"d":"0.0000"},{"$nulls":6},{"v":0,"d":"0.0000"},{"v":0,"d":"0.0000"},null,null,{"v":0,"d":"0.0000"},{"$nulls":3},{"v":0,"d":"0.0000"},{"$nulls":3},{"v":0,"d":"0.0000"},{"v":0,"d":"0.000"},{"v":0,"d":"0.000"}]
[17,"фарш говяжий","кг",{"$f":"'Сб День 6 Нед 1'!AI26","v":-0.09993999999999999},{"$nulls":6},{"v":0,"d":"0.0000"},{"v":0,"d":"0.0000"},{"$nulls":6},{"v":0,"d":"0.0000"},{"v":0,"d":"0.0000"},null,null,{"v":0,"d":"0.0000"},{"$nulls":3},{"v":0,"d":"0.0000"},{"$nulls":3},{"v":0,"d":"0.0000"},{"v":0,"d":"0.000"},{"v":-0.09993999999999999,"d":"-0.100"}]
[18,"говядина лопатка б/к","кг",{"$f":"'Сб День 6 Нед 1'!AI27","v":0},{"$nulls":6},{"v":0,"d":"0.0000"},{"v":0,"d":"0.0000"},{"$nulls":6},{"v":0,"d":"0.0000"},{"v":0,"d":"0.0000"},null,null,{"v":0,"d":"0.0000"},{"$nulls":3},{"v":0,"d":"0.0000"},{"$nulls":3},{"v":0,"d":"0.0000"},{"v":0,"d":"0.000"},{"v":0,"d":"0.000"}]
[19,"сосиски","кг",{"$f":"'Сб День 6 Нед 1'!AI28","v":-0.204},null,null,{"v":0.107,"d":"0.1070"},{"$nulls":3},{"v":0.107,"d":"0.1070"},{"v":0,"d":"0.0000"},null,{"v":0.107,"d":"0.1070"},{"$nulls":4},{"v":0.107,"d":"0.1070"},{"v":0,"d":"0.0000"},null,null,{"v":0,"d":"0.0000"},{"$nulls":3},{"v":0,"d":"0.0000"},{"$nulls":3},{"v":0,"d":"0.0000"},0.214,-0.418]
[20,"колбаса п/к Халяль","кг",{"$f":"'Сб День 6 Нед 1'!AI29","v":0},{"$nulls":6},{"v":0,"d":"0.0000"},{"v":0,"d":"0.0000"},{"$nulls":6},{"v":0,"d":"0.0000"},{"v":0,"d":"0.0000"},null,null,{"v":0,"d":"0.0000"},{"$nulls":3},{"v":0,"d":"0.0000"},{"$nulls":3},{"v":0,"d":"0.0000"},{"v":0,"d":"0.000"},{"v":0,"d":"0.000"}]
[21,"куриное бедро","кг",{"$f":"'Сб День 6 Нед 1'!AI30","v":0},{"$nulls":6},{"v":0,"d":"0.0000"},{"v":0,"d":"0.0000"},{"$nulls":6},{"v":0,"d":"0.0000"},{"v":0,"d":"0.0000"},null,null,{"v":0,"d":"0.0000"},{"$nulls":3},{"v":0,"d":"0.0000"},{"$nulls":3},{"v":0,"d":"0.0000"},{"v":0,"d":"0.000"},{"v":0,"d":"0.000"}]
[22,"куриная грудка","кг",{"$f":"'Сб День 6 Нед 1'!AI31","v":-0.22121999999999997},{"$nulls":3},{"v":0.05568,"d":"0.0557"},null,null,{"v":0,"d":"0.0000"},{"v":0.05568,"d":"0.0557"},null,null,{"v":0.05568,"d":"0.0557"},{"$nulls":3},{"v":0,"d":"0.0000"},{"v":0.05568,"d":"0.0557"},null,null,{"v":0,"d":"0.0000"},{"$nulls":3},{"v":0,"d":"0.0000"},{"v":0.01317,"d":"0.0132"},null,null,{"v":0.01317,"d":"0.0132"},{"v":0.12453,"d":"0.125"},{"v":-0.34575,"d":"-0.346"}]
[23,"куры/цыплята потрош","кг",{"$f":"'Сб День 6 Нед 1'!AI32","v":0},{"$nulls":6},{"v":0,"d":"0.0000"},{"v":0,"d":"0.0000"},{"$nulls":6},{"v":0,"d":"0.0000"},{"v":0,"d":"0.0000"},null,null,{"v":0,"d":"0.0000"},{"$nulls":3},{"v":0,"d":"0.0000"},{"$nulls":3},{"v":0,"d":"0.0000"},{"v":0,"d":"0.000"},{"v":0,"d":"0.000"}]
[24,"или фарш куриный","кг",{"$f":"'Сб День 6 Нед 1'!AI33","v":0},{"$nulls":6},{"v":0,"d":"0.0000"},{"v":0,"d":"0.0000"},{"$nulls":6},{"v":0,"d":"0.0000"},{"v":0,"d":"0.0000"},null,null,{"v":0,"d":"0.0000"},{"$nulls":3},{"v":0,"d":"0.0000"},{"$nulls":3},{"v":0,"d":"0.0000"},{"v":0,"d":"0.000"},{"v":0,"d":"0.000"}]
[25,"индейка бедро филе","кг",{"$f":"'Сб День 6 Нед 1'!AI34","v":-0.147},{"$nulls":6},{"v":0,"d":"0.0000"},{"v":0,"d":"0.0000"},{"$nulls":6},{"v":0,"d":"0.0000"},{"v":0,"d":"0.0000"},null,null,{"v":0,"d":"0.0000"},{"$nulls":3},{"v":0,"d":"0.0000"},{"$nulls":3},{"v":0,"d":"0.0000"},{"v":0,"d":"0.000"},-0.147]
[26,"индейка грудка филе","кг",{"$f":"'Сб День 6 Нед 1'!AI35","v":0},{"$nulls":6},{"v":0,"d":"0.0000"},{"v":0,"d":"0.0000"},{"$nulls":6},{"v":0,"d":"0.0000"},{"v":0,"d":"0.0000"},null,null,{"v":0,"d":"0.0000"},{"$nulls":3},{"v":0,"d":"0.0000"},{"$nulls":3},{"v":0,"d":"0.0000"},{"v":0,"d":"0.000"},{"v":0,"d":"0.000"}]
[null,"Рыба",null,{"$f":"'Сб День 6 Нед 1'!AI36","v":0},{"$nulls":6},{"v":0,"d":"0.0000"},{"v":0,"d":"0.0000"},{"$nulls":6},{"v":0,"d":"0.0000"},{"v":0,"d":"0.0000"},null,null,{"v":0,"d":"0.0000"},{"$nulls":3},{"v":0,"d":"0.0000"},{"$nulls":3},{"v":0,"d":"0.0000"},{"v":0,"d":"0.000"},{"v":0,"d":"0.000"}]
[27,"горбуша ПБГ с/м","кг",{"$f":"'Сб День 6 Нед 1'!AI37","v":0},{"$nulls":6},{"v":0,"d":"0.0000"},{"v":0,"d":"0.0000"},{"$nulls":6},{"v":0,"d":"0.0000"},{"v":0,"d":"0.0000"},null,null,{"v":0,"d":"0.0000"},{"$nulls":3},{"v":0,"d":"0.0000"},{"$nulls":3},{"v":0,"d":"0.0000"},{"v":0,"d":"0.000"},{"v":0,"d":"0.000"}]
[28,"минтай б/г с/м","кг",{"$f":"'Сб День 6 Нед 1'!AI38","v":-0.1552},{"$nulls":6},{"v":0,"d":"0.0000"},{"v":0,"d":"0.0000"},{"$nulls":6},{"v":0,"d":"0.0000"},{"v":0,"d":"0.0000"},null,null,{"v":0,"d":"0.0000"},{"$nulls":3},{"v":0,"d":"0.0000"},{"$nulls":3},{"v":0,"d":"0.0000"},{"v":0,"d":"0.000"},{"v":-0.1552,"d":"-0.155"}]
[29,"фарш минтая","кг",{"$f":"'Сб День 6 Нед 1'!AI39","v":-0.11812},{"$nulls":6},{"v":0,"d":"0.0000"},{"v":0,"d":"0.0000"},{"$nulls":6},{"v":0,"d":"0.0000"},{"v":0,"d":"0.0000"},null,null,{"v":0,"d":"0.0000"},{"$nulls":3},{"v":0,"d":"0.0000"},{"$nulls":3},{"v":0,"d":"0.0000"},{"v":0,"d":"0.000"},{"$f":"(D39+E39)-AF39","v":{"v":-0.11812,"d":"-0.118"}}]
[null,"Сыпучка",null,{"$f":"'Сб День 6 Нед 1'!AI40","v":0},{"$nulls":6},{"v":0,"d":"0.0000"},{"v":0,"d":"0.0000"},{"$nulls":6},{"v":0,"d":"0.0000"},{"v":0,"d":"0.0000"},null,null,{"v":0,"d":"0.0000"},{"$nulls":3},{"v":0,"d":"0.0000"},{"$nulls":3},{"v":0,"d":"0.0000"},{"v":0,"d":"0.000"},{"v":0,"d":"0.000"}]
[30,"вермишель","кг",{"$f":"'Сб День 6 Нед 1'!AI41","v":0},{"$nulls":6},{"v":0,"d":"0.0000"},{"v":0,"d":"0.0000"},{"$nulls":6},{"v":0,"d":"0.0000"},{"v":0,"d":"0.0000"},null,null,{"v":0,"d":"0.0000"},{"$nulls":3},{"v":0,"d":"0.0000"},{"v":0.01,"d":"0.0100"},null,null,{"v":0.01,"d":"0.0100"},{"v":0.01,"d":"0.010"},{"v":-0.01,"d":"-0.010"}]
[31,"геркулес","кг",{"$f":"'Сб День 6 Нед 1'!AI42","v":0},{"$nulls":6},{"v":0,"d":"0.0000"},{"v":0,"d":"0.0000"},{"$nulls":6},{"v":0,"d":"0.0000"},{"v":0,"d":"0.0000"},null,null,{"v":0,"d":"0.0000"},{"$nulls":3},{"v":0,"d":"0.0000"},{"$nulls":3},{"v":0,"d":"0.0000"},{"v":0,"d":"0.000"},{"v":0,"d":"0.000"}]
[32,"горох","кг",{"$f":"'Сб День 6 Нед 1'!AI43","v":0},{"$nulls":6},{"v":0,"d":"0.0000"},{"v":0,"d":"0.0000"},{"$nulls":6},{"v":0,"d":"0.0000"},{"v":0,"d":"0.0000"},null,null,{"v":0,"d":"0.0000"},{"$nulls":3},{"v":0,"d":"0.0000"},{"$nulls":3},{"v":0,"d":"0.0000"},{"v":0,"d":"0.000"},{"v":0,"d":"0.000"}]
[33,"гречневая крупа","кг",{"$f":"'Сб День 6 Нед 1'!AI44","v":-0.288},null,null,{"v":0.072,"d":"0.0720"},{"v":0.072,"d":"0.0720"},null,null,{"v":0.072,"d":"0.0720"},{"v":0.072,"d":"0.0720"},null,0.0864,0.0864,{"$nulls":3},0.0864,0.0864,null,null,{"v":0,"d":"0.0000"},{"$nulls":3},{"v":0,"d":"0.0000"},{"$nulls":3},{"v":0,"d":"0.0000"},{"v":0.31679999999999997,"d":"0.317"},{"v":-0.6048,"d":"-0.605"}]
[34,"кукурузная крупа","кг",{"$f":"'Сб День 6 Нед 1'!AI45","v":0},{"$nulls":6},{"v":0,"d":"0.0000"},{"v":0,"d":"0.0000"},{"$nulls":6},{"v":0,"d":"0.0000"},{"v":0,"d":"0.0000"},null,null,{"v":0,"d":"0.0000"},{"$nulls":3},{"v":0,"d":"0.0000"},{"$nulls":3},{"v":0,"d":"0.0000"},{"v":0,"d":"0.000"},{"v":0,"d":"0.000"}]
[35,"макаронные изделия","кг",{"$f":"'Сб День 6 Нед 1'!AI46","v":-0.142},{"$nulls":6},{"v":0,"d":"0.0000"},{"v":0,"d":"0.0000"},{"$nulls":6},{"v":0,"d":"0.0000"},{"v":0,"d":"0.0000"},null,null,{"v":0,"d":"0.0000"},{"$nulls":3},{"v":0,"d":"0.0000"},{"$nulls":3},{"v":0,"d":"0.0000"},{"v":0,"d":"0.000"},-0.142]
[36,"манная крупа","кг",{"$f":"'Сб День 6 Нед 1'!AI47","v":0},{"$nulls":6},{"v":0,"d":"0.0000"},{"v":0,"d":"0.0000"},{"$nulls":6},{"v":0,"d":"0.0000"},{"v":0,"d":"0.0000"},null,null,{"v":0,"d":"0.0000"},{"$nulls":3},{"v":0,"d":"0.0000"},{"$nulls":3},{"v":0,"d":"0.0000"},{"v":0,"d":"0.000"},{"v":0,"d":"0.000"}]
[37,"перловая крупа","кг",{"$f":"'Сб День 6 Нед 1'!AI48","v":-0.005},{"$nulls":6},{"v":0,"d":"0.0000"},{"v":0,"d":"0.0000"},{"$nulls":6},{"v":0,"d":"0.0000"},{"v":0,"d":"0.0000"},null,null,{"v":0,"d":"0.0000"},{"$nulls":3},{"v":0,"d":"0.0000"},{"$nulls":3},{"v":0,"d":"0.0000"},{"v":0,"d":"0.000"},-0.005]
[38,"полбяная крупа","кг",{"$f":"'Сб День 6 Нед 1'!AI49","v":0},{"$nulls":6},{"v":0,"d":"0.0000"},{"v":0,"d":"0.0000"},{"$nulls":6},{"v":0,"d":"0.0000"},{"v":0,"d":"0.0000"},null,null,{"v":0,"d":"0.0000"},{"$nulls":3},{"v":0,"d":"0.0000"},{"$nulls":3},{"v":0,"d":"0.0000"},{"v":0,"d":"0.000"},{"v":0,"d":"0.000"}]
[39,"пшеничная крупа","кг",{"$f":"'Сб День 6 Нед 1'!AI50","v":0},{"$nulls":6},{"v":0,"d":"0.0000"},{"v":0,"d":"0.0000"},{"$nulls":6},{"v":0,"d":"0.0000"},{"v":0,"d":"0.0000"},null,null,{"v":0,"d":"0.0000"},{"$nulls":3},{"v":0,"d":"0.0000"},{"$nulls":3},{"v":0,"d":"0.0000"},{"v":0,"d":"0.000"},{"v":0,"d":"0.000"}]
[40,"пшено","кг",{"$f":"'Сб День 6 Нед 1'!AI51","v":-0.029500000000000002},{"$nulls":6},{"v":0,"d":"0.0000"},{"v":0,"d":"0.0000"},{"$nulls":6},{"v":0,"d":"0.0000"},{"v":0,"d":"0.0000"},null,null,{"v":0,"d":"0.0000"},{"$nulls":3},{"v":0,"d":"0.0000"},{"$nulls":3},{"v":0,"d":"0.0000"},{"v":0,"d":"0.000"},{"v":-0.029500000000000002,"d":"-0.030"}]
[41,"рис","кг",{"$f":"'Сб День 6 Нед 1'!AI52","v":-0.43420000000000003},{"$nulls":6},{"v":0,"d":"0.0000"},{"v":0,"d":"0.0000"},{"$nulls":6},{"v":0,"d":"0.0000"},{"v":0,"d":"0.0000"},null,null,{"v":0,"d":"0.0000"},{"v":0.028,"d":"0.0280"},null,null,{"v":0,"d":"0.0000"},{"$nulls":3},{"v":0,"d":"0.0000"},{"v":0,"d":"0.000"},{"v":-0.43420000000000003,"d":"-0.434"}]
[42,"ячневая крупа","кг",{"$f":"'Сб День 6 Нед 1'!AI53","v":0},{"$nulls":6},{"v":0,"d":"0.0000"},{"v":0,"d":"0.0000"},{"$nulls":6},{"v":0,"d":"0.0000"},{"v":0,"d":"0.0000"},null,null,{"v":0,"d":"0.0000"},{"$nulls":3},{"v":0,"d":"0.0000"},{"$nulls":3},{"v":0,"d":"0.0000"},{"v":0,"d":"0.000"},{"v":0,"d":"0.000"}]
[43,"лапша домашняя п/ф","кг",{"$f":"'Сб День 6 Нед 1'!AI54","v":-0.02},{"$nulls":6},{"v":0,"d":"0.0000"},{"v":0,"d":"0.0000"},{"$nulls":6},{"v":0,"d":"0.0000"},{"v":0,"d":"0.0000"},null,null,{"v":0,"d":"0.0000"},{"$nulls":3},{"v":0,"d":"0.0000"},{"$nulls":3},{"v":0,"d":"0.0000"},{"v":0,"d":"0.000"},{"v":-0.02,"d":"-0.020"}]
[44,"мука пшеничная в/с","кг",{"$f":"'Сб День 6 Нед 1'!AI55","v":-0.0286},{"$nulls":6},{"v":0,"d":"0.0000"},{"v":0,"d":"0.0000"},{"$nulls":6},{"v":0,"d":"0.0000"},{"v":0,"d":"0.0000"},null,null,{"v":0,"d":"0.0000"},{"$nulls":3},{"v":0,"d":"0.0000"},{"$nulls":3},{"v":0,"d":"0.0000"},{"v":0,"d":"0.000"},{"v":-0.0286,"d":"-0.029"}]
[45,"сахарный песок","кг",{"$f":"'Сб День 6 Нед 1'!AI56","v":-0.2853},{"$nulls":4},{"v":0.01,"d":"0.0100"},null,{"v":0.01,"d":"0.0100"},{"v":0.01,"d":"0.0100"},{"$nulls":3},{"v":0.01,"d":"0.0100"},null,null,{"v":0.01,"d":"0.0100"},{"v":0.01,"d":"0.0100"},null,{"v":0.01,"d":"0.0100"},{"v":0.01,"d":"0.0100"},0.0007,{"v":0.01,"d":"0.0100"},null,{"v":0,"d":"0.0000"},null,{"v":0.01,"d":"0.0100"},null,{"v":0.01,"d":"0.0100"},{"v":0.060000000000000005,"d":"0.060"},{"v":-0.3453,"d":"-0.345"}]
[46,"соль","кг",{"$f":"'Сб День 6 Нед 1'!AI57","v":-0.0235},null,null,{"$f":"0.0001+0.0005","v":{"v":6.0000000000000006E-4,"d":"0.0006"}},{"$f":"0.0005+0.0005","v":{"v":1E-3,"d":"0.0010"}},null,null,{"v":6.0000000000000006E-4,"d":"0.0006"},{"v":1E-3,"d":"0.0010"},null,{"$f":"0.0006+0.0005","v":{"v":1.0999999999999998E-3,"d":"0.0011"}},0.0011,{"$nulls":3},{"v":1.0999999999999998E-3,"d":"0.0011"},0.0011,null,null,{"v":0,"d":"0.0000"},{"v":3.5E-4,"d":"0.0004"},null,null,{"v":0,"d":"0.0000"},0.0009,null,null,0.0009,{"v":0.0047,"d":"0.005"},{"v":-0.0282,"d":"-0.028"}]
[47,"сухари панировочные","кг",{"$f":"'Сб День 6 Нед 1'!AI58","v":-0.015},{"$nulls":3},0.0075,null,null,{"v":0,"d":"0.0000"},0.0075,null,null,0.0075,{"$nulls":3},{"v":0,"d":"0.0000"},0.0075,null,null,{"v":0,"d":"0.0000"},{"$nulls":3},{"v":0,"d":"0.0000"},{"$nulls":3},{"v":0,"d":"0.0000"},0.015,{"v":-0.03,"d":"-0.030"}]
[48,"дрожжи сухие","кг",{"$f":"'Сб День 6 Нед 1'!AI59","v":0},{"$nulls":6},{"v":0,"d":"0.0000"},{"v":0,"d":"0.0000"},{"$nulls":6},{"v":0,"d":"0.0000"},{"v":0,"d":"0.0000"},null,null,{"v":0,"d":"0.0000"},{"$nulls":3},{"v":0,"d":"0.0000"},{"$nulls":3},{"v":0,"d":"0.0000"},{"v":0,"d":"0.000"},{"v":0,"d":"0.000"}]
[49,"фасоль","кг",{"$f":"'Сб День 6 Нед 1'!AI60","v":0},{"$nulls":6},{"v":0,"d":"0.0000"},{"v":0,"d":"0.0000"},{"$nulls":6},{"v":0,"d":"0.0000"},{"v":0,"d":"0.0000"},null,null,{"v":0,"d":"0.0000"},{"$nulls":3},{"v":0,"d":"0.0000"},{"$nulls":3},{"v":0,"d":"0.0000"},{"v":0,"d":"0.000"},{"v":0,"d":"0.000"}]
[null,"Консервы",null,{"$f":"'Сб День 6 Нед 1'!AI61","v":0},{"$nulls":6},{"v":0,"d":"0.0000"},{"v":0,"d":"0.0000"},{"$nulls":6},{"v":0,"d":"0.0000"},{"v":0,"d":"0.0000"},null,null,{"v":0,"d":"0.0000"},{"$nulls":3},{"v":0,"d":"0.0000"},{"$nulls":3},{"v":0,"d":"0.0000"},{"v":0,"d":"0.000"},{"v":0,"d":"0.000"}]
[50,"зеленый горошек к/с","кг",{"$f":"'Сб День 6 Нед 1'!AI62","v":-0.2902},{"$nulls":6},{"v":0,"d":"0.0000"},{"v":0,"d":"0.0000"},{"$nulls":6},{"v":0,"d":"0.0000"},{"v":0,"d":"0.0000"},null,null,{"v":0,"d":"0.0000"},{"$nulls":3},{"v":0,"d":"0.0000"},{"$nulls":3},{"v":0,"d":"0.0000"},{"v":0,"d":"0.000"},{"v":-0.2902,"d":"-0.290"}]
[51,"кукуруза к/с","кг",{"$f":"'Сб День 6 Нед 1'!AI63","v":0},{"$nulls":6},{"v":0,"d":"0.0000"},{"v":0,"d":"0.0000"},{"$nulls":6},{"v":0,"d":"0.0000"},{"v":0,"d":"0.0000"},null,null,{"v":0,"d":"0.0000"},{"$nulls":3},{"v":0,"d":"0.0000"},{"$nulls":3},{"v":0,"d":"0.0000"},{"v":0,"d":"0.000"},{"v":0,"d":"0.000"}]
[52,"фасоль к/с","кг",{"$f":"'Сб День 6 Нед 1'!AI64","v":0},{"$nulls":6},{"v":0,"d":"0.0000"},{"v":0,"d":"0.0000"},{"$nulls":6},{"v":0,"d":"0.0000"},{"v":0,"d":"0.0000"},null,null,{"v":0,"d":"0.0000"},{"$nulls":3},{"v":0,"d":"0.0000"},{"$nulls":3},{"v":0,"d":"0.0000"},{"v":0,"d":"0.000"},{"v":0,"d":"0.000"}]
[53,"икра кабач/икра баклаж","кг",{"$f":"'Сб День 6 Нед 1'!AI65","v":0},{"$nulls":6},{"v":0,"d":"0.0000"},{"v":0,"d":"0.0000"},{"$nulls":6},{"v":0,"d":"0.0000"},{"v":0,"d":"0.0000"},null,null,{"v":0,"d":"0.0000"},{"$nulls":3},{"v":0,"d":"0.0000"},{"$nulls":3},{"v":0,"d":"0.0000"},{"v":0,"d":"0.000"},{"v":0,"d":"0.000"}]
[54,"капуста морская сушеная","кг",{"$f":"'Сб День 6 Нед 1'!AI66","v":0},{"$nulls":6},{"v":0,"d":"0.0000"},{"v":0,"d":"0.0000"},{"$nulls":6},{"v":0,"d":"0.0000"},{"v":0,"d":"0.0000"},null,null,{"v":0,"d":"0.0000"},{"$nulls":3},{"v":0,"d":"0.0000"},{"$nulls":3},{"v":0,"d":"0.0000"},{"v":0,"d":"0.000"},{"v":0,"d":"0.000"}]
[55,"капуста квашеная","кг",{"$f":"'Сб День 6 Нед 1'!AI67","v":0},{"$nulls":6},{"v":0,"d":"0.0000"},{"v":0,"d":"0.0000"},{"$nulls":6},{"v":0,"d":"0.0000"},{"v":0,"d":"0.0000"},null,null,{"v":0,"d":"0.0000"},{"$nulls":3},{"v":0,"d":"0.0000"},{"$nulls":3},{"v":0,"d":"0.0000"},{"v":0,"d":"0.000"},{"v":0,"d":"0.000"}]
[56,"молоко сгущенное  ","кг",{"$f":"'Сб День 6 Нед 1'!AI68","v":0},{"$nulls":6},{"v":0,"d":"0.0000"},{"v":0,"d":"0.0000"},{"$nulls":6},{"v":0,"d":"0.0000"},{"v":0,"d":"0.0000"},null,null,{"v":0,"d":"0.0000"},{"$nulls":3},{"v":0,"d":"0.0000"},{"$nulls":3},{"v":0,"d":"0.0000"},{"v":0,"d":"0.000"},{"v":0,"d":"0.000"}]
[57,"огурцы соленые","кг",{"$f":"'Сб День 6 Нед 1'!AI69","v":-0.0273},{"$nulls":6},{"v":0,"d":"0.0000"},{"v":0,"d":"0.0000"},{"$nulls":6},{"v":0,"d":"0.0000"},{"v":0,"d":"0.0000"},null,null,{"v":0,"d":"0.0000"},{"$nulls":3},{"v":0,"d":"0.0000"},{"$nulls":3},{"v":0,"d":"0.0000"},{"v":0,"d":"0.000"},{"v":-0.0273,"d":"-0.027"}]
[58,"повидло","кг",{"$f":"'Сб День 6 Нед 1'!AI70","v":0},{"$nulls":6},{"v":0,"d":"0.0000"},{"v":0,"d":"0.0000"},{"$nulls":6},{"v":0,"d":"0.0000"},{"v":0,"d":"0.0000"},null,null,{"v":0,"d":"0.0000"},{"$nulls":3},{"v":0,"d":"0.0000"},{"$nulls":3},{"v":0,"d":"0.0000"},{"v":0,"d":"0.000"},{"v":0,"d":"0.000"}]
[59,"томатная паста","кг",{"$f":"'Сб День 6 Нед 1'!AI71","v":-0.0182},{"$nulls":6},{"v":0,"d":"0.0000"},{"v":0,"d":"0.0000"},{"$nulls":6},{"v":0,"d":"0.0000"},{"v":0,"d":"0.0000"},null,null,{"v":0,"d":"0.0000"},{"$nulls":3},{"v":0,"d":"0.0000"},{"$nulls":3},{"v":0,"d":"0.0000"},{"v":0,"d":"0.000"},{"$f":"(D71+E71)-AF71","v":{"v":-0.0182,"d":"-0.018"}}]
[60,"рыбные консервы","кг",{"$f":"'Сб День 6 Нед 1'!AI72","v":0},{"$nulls":6},{"$f":"(G72+I72+J72)*$K$5","v":{"v":0,"d":"0.0000"}},{"$f":"(F72+H72+I72+J72)*$L$5","v":{"v":0,"d":"0.0000"}},{"$nulls":6},{"$f":"(N72+P72+Q72)*$S$5","v":{"v":0,"d":"0.0000"}},{"$f":"(M72+O72+P72+Q72)*$T$5","v":{"v":0,"d":"0.0000"}},null,null,{"$f":"(V72+U72)*$W$5","v":{"v":0,"d":"0.0000"}},{"$nulls":3},{"$f":"(Z72+Y72+X72)*$AA$5","v":{"v":0,"d":"0.0000"}},{"$nulls":3},{"$f":"(AD72+AC72+AB72)*$AE$5","v":{"v":0,"d":"0.0000"}},{"$f":"K72+L72+S72+T72+W72+AE72","v":{"v":0,"d":"0.000"}},{"v":0,"d":"0.000"}]
[null,"Напитки",null,{"$f":"'Сб День 6 Нед 1'!AI73","v":0},{"$nulls":6},{"v":0,"d":"0.0000"},{"v":0,"d":"0.0000"},{"$nulls":6},{"v":0,"d":"0.0000"},{"v":0,"d":"0.0000"},null,null,{"v":0,"d":"0.0000"},{"$nulls":3},{"v":0,"d":"0.0000"},{"$nulls":3},{"v":0,"d":"0.0000"},{"v":0,"d":"0.000"},{"v":0,"d":"0.000"}]
[61,"чай весовой ","кг",{"$f":"'Сб День 6 Нед 1'!AI74","v":-0.011000000000000001},{"$nulls":6},{"v":0,"d":"0.0000"},{"v":0,"d":"0.0000"},{"$nulls":6},{"v":0,"d":"0.0000"},{"v":0,"d":"0.0000"},null,0.0005,0.0005,{"$nulls":3},{"v":0,"d":"0.0000"},null,{"v":1E-3,"d":"0.0010"},null,{"v":1E-3,"d":"0.0010"},{"v":1.5E-3,"d":"0.002"},{"v":-0.0125,"d":"-0.013"}]
[62,"какао","кг",{"$f":"'Сб День 6 Нед 1'!AI75","v":0},{"$nulls":6},{"v":0,"d":"0.0000"},{"v":0,"d":"0.0000"},{"$nulls":6},{"v":0,"d":"0.0000"},{"v":0,"d":"0.0000"},null,null,{"v":0,"d":"0.0000"},{"$nulls":3},{"v":0,"d":"0.0000"},{"$nulls":3},{"v":0,"d":"0.0000"},{"v":0,"d":"0.000"},{"v":0,"d":"0.000"}]
[63,"кисель","кг",{"$f":"'Сб День 6 Нед 1'!AI76","v":0},{"$nulls":6},{"v":0,"d":"0.0000"},{"v":0,"d":"0.0000"},{"$nulls":6},{"v":0,"d":"0.0000"},{"v":0,"d":"0.0000"},null,null,{"v":0,"d":"0.0000"},null,{"v":0.024,"d":"0.0240"},null,{"v":0,"d":"0.0000"},{"$nulls":3},{"v":0,"d":"0.0000"},{"v":0,"d":"0.000"},{"v":0,"d":"0.000"}]
[64,"кофейный напиток","кг",{"$f":"'Сб День 6 Нед 1'!AI77","v":-0.01},{"$nulls":6},{"v":0,"d":"0.0000"},{"v":0,"d":"0.0000"},{"$nulls":6},{"v":0,"d":"0.0000"},{"v":0,"d":"0.0000"},null,null,{"v":0,"d":"0.0000"},{"$nulls":3},{"v":0,"d":"0.0000"},{"$nulls":3},{"v":0,"d":"0.0000"},{"v":0,"d":"0.000"},{"v":-0.01,"d":"-0.010"}]
[65,"цикорий","кг",{"$f":"'Сб День 6 Нед 1'!AI78","v":0},{"$nulls":6},{"v":0,"d":"0.0000"},{"v":0,"d":"0.0000"},{"$nulls":6},{"v":0,"d":"0.0000"},{"v":0,"d":"0.0000"},null,null,{"v":0,"d":"0.0000"},{"$nulls":3},{"v":0,"d":"0.0000"},{"$nulls":3},{"v":0,"d":"0.0000"},{"v":0,"d":"0.000"},{"v":0,"d":"0.000"}]
[null,"Сухофрукты",null,{"$f":"'Сб День 6 Нед 1'!AI79","v":0},{"$nulls":6},{"v":0,"d":"0.0000"},{"v":0,"d":"0.0000"},{"$nulls":6},{"v":0,"d":"0.0000"},{"v":0,"d":"0.0000"},null,null,{"v":0,"d":"0.0000"},{"$nulls":3},{"v":0,"d":"0.0000"},{"$nulls":3},{"v":0,"d":"0.0000"},{"v":0,"d":"0.000"},{"v":0,"d":"0.000"}]
[66,"ассорти для компота (сухофрукты)","кг",{"$f":"'Сб День 6 Нед 1'!AI80","v":-0.0816},{"$nulls":4},0.0204,null,0.0204,0.0204,{"$nulls":3},0.0204,null,null,0.0204,0.0204,null,null,{"v":0,"d":"0.0000"},{"$nulls":3},{"v":0,"d":"0.0000"},{"$nulls":3},{"v":0,"d":"0.0000"},{"v":0.0816,"d":"0.082"},{"v":-0.1632,"d":"-0.163"}]
[67,"изюм","кг",{"$f":"'Сб День 6 Нед 1'!AI81","v":-0.0102},{"$nulls":6},{"v":0,"d":"0.0000"},{"v":0,"d":"0.0000"},{"$nulls":6},{"v":0,"d":"0.0000"},{"v":0,"d":"0.0000"},null,null,{"v":0,"d":"0.0000"},{"$nulls":3},{"v":0,"d":"0.0000"},{"$nulls":3},{"v":0,"d":"0.0000"},{"v":0,"d":"0.000"},{"v":-0.0102,"d":"-0.010"}]
[68,"курага","кг",{"$f":"'Сб День 6 Нед 1'!AI82","v":0},{"$nulls":6},{"v":0,"d":"0.0000"},{"v":0,"d":"0.0000"},{"$nulls":6},{"v":0,"d":"0.0000"},{"v":0,"d":"0.0000"},null,null,{"v":0,"d":"0.0000"},{"$nulls":3},{"v":0,"d":"0.0000"},{"$nulls":3},{"v":0,"d":"0.0000"},{"v":0,"d":"0.000"},{"v":0,"d":"0.000"}]
[69,"урюк","кг",{"$f":"'Сб День 6 Нед 1'!AI83","v":-0.0204},{"$nulls":6},{"v":0,"d":"0.0000"},{"v":0,"d":"0.0000"},{"$nulls":6},{"v":0,"d":"0.0000"},{"v":0,"d":"0.0000"},null,null,{"v":0,"d":"0.0000"},{"$nulls":3},{"v":0,"d":"0.0000"},{"$nulls":3},{"v":0,"d":"0.0000"},{"v":0,"d":"0.000"},{"v":-0.0204,"d":"-0.020"}]
[70,"шиповник","кг",{"$f":"'Сб День 6 Нед 1'!AI84","v":-0.0253},{"$nulls":6},{"v":0,"d":"0.0000"},{"v":0,"d":"0.0000"},{"$nulls":6},{"v":0,"d":"0.0000"},{"v":0,"d":"0.0000"},null,null,{"v":0,"d":"0.0000"},{"$nulls":3},{"v":0,"d":"0.0000"},{"$nulls":3},{"v":0,"d":"0.0000"},{"v":0,"d":"0.000"},{"v":-0.0253,"d":"-0.025"}]
[71,"компотная смесь с/м","кг",{"$f":"'Сб День 6 Нед 1'!AI85","v":0},{"$nulls":6},{"v":0,"d":"0.0000"},{"v":0,"d":"0.0000"},{"$nulls":6},{"v":0,"d":"0.0000"},{"v":0,"d":"0.0000"},null,null,{"v":0,"d":"0.0000"},{"$nulls":3},{"v":0,"d":"0.0000"},{"$nulls":3},{"v":0,"d":"0.0000"},{"v":0,"d":"0.000"},{"v":0,"d":"0.000"}]
[72,"вишня с/м","кг",{"$f":"'Сб День 6 Нед 1'!AI86","v":0},{"$nulls":6},{"v":0,"d":"0.0000"},{"v":0,"d":"0.0000"},{"$nulls":6},{"v":0,"d":"0.0000"},{"v":0,"d":"0.0000"},null,null,{"v":0,"d":"0.0000"},{"$nulls":3},{"v":0,"d":"0.0000"},{"$nulls":3},{"v":0,"d":"0.0000"},{"v":0,"d":"0.000"},{"v":0,"d":"0.000"}]
[73,"клюква с/м","кг",{"$f":"'Сб День 6 Нед 1'!AI87","v":0},{"$nulls":6},{"v":0,"d":"0.0000"},{"v":0,"d":"0.0000"},{"$nulls":6},{"v":0,"d":"0.0000"},{"v":0,"d":"0.0000"},null,null,{"v":0,"d":"0.0000"},{"$nulls":3},{"v":0,"d":"0.0000"},{"$nulls":3},{"v":0,"d":"0.0000"},{"v":0,"d":"0.000"},{"v":0,"d":"0.000"}]
[74,"смородина в ассорт с/м","кг",{"$f":"'Сб День 6 Нед 1'!AI88","v":0},{"$nulls":6},{"v":0,"d":"0.0000"},{"v":0,"d":"0.0000"},{"$nulls":6},{"v":0,"d":"0.0000"},{"v":0,"d":"0.0000"},null,null,{"v":0,"d":"0.0000"},{"$nulls":3},{"v":0,"d":"0.0000"},{"$nulls":3},{"v":0,"d":"0.0000"},{"v":0,"d":"0.000"},{"v":0,"d":"0.000"}]
[75,"облепиха с/м","кг",{"$f":"'Сб День 6 Нед 1'!AI89","v":0},{"$nulls":6},{"v":0,"d":"0.0000"},{"v":0,"d":"0.0000"},{"$nulls":6},{"v":0,"d":"0.0000"},{"v":0,"d":"0.0000"},null,null,{"v":0,"d":"0.0000"},{"$nulls":3},{"v":0,"d":"0.0000"},{"$nulls":3},{"v":0,"d":"0.0000"},{"v":0,"d":"0.000"},{"v":0,"d":"0.000"}]
[null,"Сок",null,{"$f":"'Сб День 6 Нед 1'!AI90","v":0},{"$nulls":6},{"v":0,"d":"0.0000"},{"v":0,"d":"0.0000"},{"$nulls":6},{"v":0,"d":"0.0000"},{"v":0,"d":"0.0000"},null,null,{"v":0,"d":"0.0000"},{"$nulls":3},{"v":0,"d":"0.0000"},{"$nulls":3},{"v":0,"d":"0.0000"},{"v":0,"d":"0.000"},{"v":0,"d":"0.000"}]
[76,"сок 0,125л или 0,2л","л",{"$f":"'Сб День 6 Нед 1'!AI91","v":0},{"$nulls":6},{"v":0,"d":"0.0000"},{"v":0,"d":"0.0000"},{"$nulls":6},{"v":0,"d":"0.0000"},{"v":0,"d":"0.0000"},null,null,{"v":0,"d":"0.0000"},{"$nulls":3},{"v":0,"d":"0.0000"},{"$nulls":3},{"v":0,"d":"0.0000"},{"v":0,"d":"0.000"},{"v":0,"d":"0.000"}]
[77,"нектар плодовый","л",{"$f":"'Сб День 6 Нед 1'!AI92","v":0},{"$nulls":6},{"v":0,"d":"0.0000"},{"v":0,"d":"0.0000"},{"$nulls":6},{"v":0,"d":"0.0000"},{"v":0,"d":"0.0000"},null,null,{"v":0,"d":"0.0000"},{"$nulls":3},{"v":0,"d":"0.0000"},{"$nulls":3},{"v":0,"d":"0.0000"},{"v":0,"d":"0.000"},{"v":0,"d":"0.000"}]
[null,"Кондитерка",null,{"$f":"'Сб День 6 Нед 1'!AI93","v":0},{"$nulls":6},{"v":0,"d":"0.0000"},{"v":0,"d":"0.0000"},{"$nulls":6},{"v":0,"d":"0.0000"},{"v":0,"d":"0.0000"},null,null,{"v":0,"d":"0.0000"},{"$nulls":3},{"v":0,"d":"0.0000"},{"$nulls":3},{"v":0,"d":"0.0000"},{"v":0,"d":"0.000"},{"v":0,"d":"0.000"}]
[78,"батончик злаковый","шт",{"$f":"'Сб День 6 Нед 1'!AI94","v":0},{"$nulls":6},{"v":0,"d":"0.0000"},{"v":0,"d":"0.0000"},{"$nulls":6},{"v":0,"d":"0.0000"},{"v":0,"d":"0.0000"},null,null,{"v":0,"d":"0.0000"},{"$nulls":3},{"v":0,"d":"0.0000"},{"$nulls":3},{"v":0,"d":"0.0000"},{"v":0,"d":"0.000"},{"v":0,"d":"0.000"}]
[79,"пряник","кг",{"$f":"'Сб День 6 Нед 1'!AI95","v":-0.035},{"$nulls":6},{"v":0,"d":"0.0000"},{"v":0,"d":"0.0000"},{"$nulls":6},{"v":0,"d":"0.0000"},{"v":0,"d":"0.0000"},null,null,{"v":0,"d":"0.0000"},{"$nulls":3},{"v":0,"d":"0.0000"},{"$nulls":3},{"v":0,"d":"0.0000"},{"v":0,"d":"0.000"},-0.035]
[80,"вафли ","кг",{"$f":"'Сб День 6 Нед 1'!AI96","v":-0.2},{"$nulls":6},{"v":0,"d":"0.0000"},{"v":0,"d":"0.0000"},{"$nulls":6},{"v":0,"d":"0.0000"},{"v":0,"d":"0.0000"},null,null,{"v":0,"d":"0.0000"},{"$nulls":3},{"v":0,"d":"0.0000"},{"$nulls":3},{"v":0,"d":"0.0000"},{"v":0,"d":"0.000"},{"v":-0.2,"d":"-0.200"}]
[81,"печенье","кг",{"$f":"'Сб День 6 Нед 1'!AI97","v":-0.04},{"$nulls":6},{"v":0,"d":"0.0000"},{"v":0,"d":"0.0000"},{"$nulls":6},{"v":0,"d":"0.0000"},{"v":0,"d":"0.0000"},null,null,{"v":0,"d":"0.0000"},{"$nulls":3},{"v":0,"d":"0.0000"},{"$nulls":3},{"v":0,"d":"0.0000"},{"v":0,"d":"0.000"},{"v":-0.04,"d":"-0.040"}]
[82,"крекер","кг",{"$f":"'Сб День 6 Нед 1'!AI98","v":-0.03},{"$nulls":6},{"v":0,"d":"0.0000"},{"v":0,"d":"0.0000"},{"$nulls":6},{"v":0,"d":"0.0000"},{"v":0,"d":"0.0000"},null,null,{"v":0,"d":"0.0000"},{"$nulls":3},{"v":0,"d":"0.0000"},{"$nulls":3},{"v":0,"d":"0.0000"},{"v":0,"d":"0.000"},{"v":-0.03,"d":"-0.030"}]
[83,"сушки","кг",{"$f":"'Сб День 6 Нед 1'!AI99","v":0},{"$nulls":6},{"v":0,"d":"0.0000"},{"v":0,"d":"0.0000"},{"$nulls":6},{"v":0,"d":"0.0000"},{"v":0,"d":"0.0000"},{"v":0.03,"d":"0.0300"},null,{"v":0.03,"d":"0.0300"},{"$nulls":3},{"v":0,"d":"0.0000"},{"$nulls":3},{"v":0,"d":"0.0000"},{"v":0.03,"d":"0.030"},{"v":-0.03,"d":"-0.030"}]
[84,"мармелад","кг",{"$f":"'Сб День 6 Нед 1'!AI100","v":0},{"$nulls":6},{"v":0,"d":"0.0000"},{"v":0,"d":"0.0000"},{"$nulls":6},{"v":0,"d":"0.0000"},{"v":0,"d":"0.0000"},null,null,{"v":0,"d":"0.0000"},{"$nulls":3},{"v":0,"d":"0.0000"},{"$nulls":3},{"v":0,"d":"0.0000"},{"v":0,"d":"0.000"},{"v":0,"d":"0.000"}]
[85,"блины п/ф","кг",{"$f":"'Сб День 6 Нед 1'!AI101","v":0},{"$nulls":6},{"v":0,"d":"0.0000"},{"v":0,"d":"0.0000"},{"$nulls":6},{"v":0,"d":"0.0000"},{"v":0,"d":"0.0000"},null,null,{"v":0,"d":"0.0000"},{"$nulls":3},{"v":0,"d":"0.0000"},{"$nulls":3},{"v":0,"d":"0.0000"},{"v":0,"d":"0.000"},{"v":0,"d":"0.000"}]
[86,"выпечка п/ф со склада","шт",{"$f":"'Сб День 6 Нед 1'!AI102","v":0},{"$nulls":6},{"v":0,"d":"0.0000"},{"v":0,"d":"0.0000"},{"$nulls":6},{"v":0,"d":"0.0000"},{"v":0,"d":"0.0000"},null,null,{"v":0,"d":"0.0000"},{"$nulls":3},{"v":0,"d":"0.0000"},{"$nulls":3},{"v":0,"d":"0.0000"},{"v":0,"d":"0.000"},{"v":0,"d":"0.000"}]
[null,"Яйцо",null,{"$f":"'Сб День 6 Нед 1'!AI103","v":0},{"$nulls":6},{"v":0,"d":"0.0000"},{"v":0,"d":"0.0000"},{"$nulls":6},{"v":0,"d":"0.0000"},{"v":0,"d":"0.0000"},null,null,{"v":0,"d":"0.0000"},{"$nulls":3},{"v":0,"d":"0.0000"},{"$nulls":3},{"v":0,"d":"0.0000"},{"v":0,"d":"0.000"},{"$f":"(D103+E103)-AF103","v":{"v":0,"d":"0.000"}}]
[87,"яйцо куриное","кг",{"$f":"'Сб День 6 Нед 1'!AI104","v":-0.00384},{"$nulls":6},{"v":0,"d":"0.0000"},{"v":0,"d":"0.0000"},{"$nulls":6},{"v":0,"d":"0.0000"},{"v":0,"d":"0.0000"},null,null,{"v":0,"d":"0.0000"},{"$nulls":3},{"v":0,"d":"0.0000"},{"v":0.00096,"d":"0.0010"},null,null,{"v":0.00096,"d":"0.0010"},{"v":0.00096,"d":"0.001"},{"v":-4.8000000000000004E-3,"d":"-0.005"}]
[null,0.048,"шт",{"$f":"'Сб День 6 Нед 1'!AI105","v":0},{"$nulls":6},{"v":0,"d":"0.0000"},{"v":0,"d":"0.0000"},{"$nulls":6},{"v":0,"d":"0.0000"},{"v":0,"d":"0.0000"},null,null,{"v":0,"d":"0.0000"},{"$nulls":3},{"v":0,"d":"0.0000"},{"$nulls":3},{"v":0,"d":"0.0000"},{"v":0,"d":"0.000"},{"v":0,"d":"0.000"}]
[null,"Овощи заморозка",null,{"$f":"'Сб День 6 Нед 1'!AI106","v":0},{"$nulls":6},{"v":0,"d":"0.0000"},{"v":0,"d":"0.0000"},{"$nulls":6},{"v":0,"d":"0.0000"},{"v":0,"d":"0.0000"},null,null,{"v":0,"d":"0.0000"},{"$nulls":3},{"v":0,"d":"0.0000"},{"$nulls":3},{"v":0,"d":"0.0000"},{"v":0,"d":"0.000"},{"v":0,"d":"0.000"}]
[88,"зеленый горошек с/м","кг",{"$f":"'Сб День 6 Нед 1'!AI107","v":0},{"$nulls":6},{"v":0,"d":"0.0000"},{"v":0,"d":"0.0000"},{"$nulls":6},{"v":0,"d":"0.0000"},{"v":0,"d":"0.0000"},null,null,{"v":0,"d":"0.0000"},{"$nulls":3},{"v":0,"d":"0.0000"},{"$nulls":3},{"v":0,"d":"0.0000"},{"v":0,"d":"0.000"},{"v":0,"d":"0.000"}]
[89,"кабачки с/м","кг",{"$f":"'Сб День 6 Нед 1'!AI108","v":0},{"$nulls":6},{"v":0,"d":"0.0000"},{"v":0,"d":"0.0000"},{"$nulls":6},{"v":0,"d":"0.0000"},{"v":0,"d":"0.0000"},null,null,{"v":0,"d":"0.0000"},{"$nulls":3},{"v":0,"d":"0.0000"},{"$nulls":3},{"v":0,"d":"0.0000"},{"v":0,"d":"0.000"},{"v":0,"d":"0.000"}]
[90,"мексиканс смесь с/м","кг",{"$f":"'Сб День 6 Нед 1'!AI109","v":0},{"$nulls":6},{"v":0,"d":"0.0000"},{"v":0,"d":"0.0000"},{"$nulls":6},{"v":0,"d":"0.0000"},{"v":0,"d":"0.0000"},null,null,{"v":0,"d":"0.0000"},{"$nulls":3},{"v":0,"d":"0.0000"},{"$nulls":3},{"v":0,"d":"0.0000"},{"v":0,"d":"0.000"},{"v":0,"d":"0.000"}]
[91,"капуста цветная с/м","кг",{"$f":"'Сб День 6 Нед 1'!AI110","v":0},{"$nulls":6},{"v":0,"d":"0.0000"},{"v":0,"d":"0.0000"},{"$nulls":6},{"v":0,"d":"0.0000"},{"v":0,"d":"0.0000"},null,null,{"v":0,"d":"0.0000"},{"$nulls":3},{"v":0,"d":"0.0000"},{"$nulls":3},{"v":0,"d":"0.0000"},{"v":0,"d":"0.000"},{"v":0,"d":"0.000"}]
[92,"брокколи с/м","кг",{"$f":"'Сб День 6 Нед 1'!AI111","v":0},{"$nulls":6},{"v":0,"d":"0.0000"},{"v":0,"d":"0.0000"},{"$nulls":6},{"v":0,"d":"0.0000"},{"v":0,"d":"0.0000"},null,null,{"v":0,"d":"0.0000"},{"$nulls":3},{"v":0,"d":"0.0000"},{"$nulls":3},{"v":0,"d":"0.0000"},{"v":0,"d":"0.000"},{"v":0,"d":"0.000"}]
[93,"кукуруза с/м","кг",{"$f":"'Сб День 6 Нед 1'!AI112","v":0},{"$nulls":6},{"v":0,"d":"0.0000"},{"v":0,"d":"0.0000"},{"$nulls":6},{"v":0,"d":"0.0000"},{"v":0,"d":"0.0000"},null,null,{"v":0,"d":"0.0000"},{"$nulls":3},{"v":0,"d":"0.0000"},{"$nulls":3},{"v":0,"d":"0.0000"},{"v":0,"d":"0.000"},{"v":0,"d":"0.000"}]
[94,"фасоль стручковая с/м","кг",{"$f":"'Сб День 6 Нед 1'!AI113","v":0},{"$nulls":6},{"v":0,"d":"0.0000"},{"v":0,"d":"0.0000"},{"$nulls":6},{"v":0,"d":"0.0000"},{"v":0,"d":"0.0000"},null,null,{"v":0,"d":"0.0000"},{"$nulls":3},{"v":0,"d":"0.0000"},{"$nulls":3},{"v":0,"d":"0.0000"},{"v":0,"d":"0.000"},{"v":0,"d":"0.000"}]
[null,"Фрукты",null,{"$f":"'Сб День 6 Нед 1'!AI114","v":0},{"$nulls":6},{"v":0,"d":"0.0000"},{"v":0,"d":"0.0000"},{"$nulls":6},{"v":0,"d":"0.0000"},{"v":0,"d":"0.0000"},null,null,{"v":0,"d":"0.0000"},{"$nulls":3},{"v":0,"d":"0.0000"},{"$nulls":3},{"v":0,"d":"0.0000"},{"v":0,"d":"0.000"},{"v":0,"d":"0.000"}]
[95,"апельсин","кг",{"$f":"'Сб День 6 Нед 1'!AI115","v":0},{"$nulls":6},{"v":0,"d":"0.0000"},{"v":0,"d":"0.0000"},{"$nulls":6},{"v":0,"d":"0.0000"},{"v":0,"d":"0.0000"},null,null,{"v":0,"d":"0.0000"},{"$nulls":3},{"v":0,"d":"0.0000"},{"$nulls":3},{"v":0,"d":"0.0000"},{"v":0,"d":"0.000"},{"v":0,"d":"0.000"}]
[96,"банан","кг",{"$f":"'Сб День 6 Нед 1'!AI116","v":0},{"$nulls":6},{"v":0,"d":"0.0000"},{"v":0,"d":"0.0000"},{"$nulls":6},{"v":0,"d":"0.0000"},{"v":0,"d":"0.0000"},null,null,{"v":0,"d":"0.0000"},{"$nulls":3},{"v":0,"d":"0.0000"},{"$nulls":3},{"v":0,"d":"0.0000"},{"v":0,"d":"0.000"},{"v":0,"d":"0.000"}]
[97,"груши","кг",{"$f":"'Сб День 6 Нед 1'!AI117","v":0},{"$nulls":6},{"v":0,"d":"0.0000"},{"v":0,"d":"0.0000"},{"$nulls":6},{"v":0,"d":"0.0000"},{"v":0,"d":"0.0000"},null,null,{"v":0,"d":"0.0000"},{"$nulls":3},{"v":0,"d":"0.0000"},{"$nulls":3},{"v":0,"d":"0.0000"},{"v":0,"d":"0.000"},{"v":0,"d":"0.000"}]
[98,"мандарины","кг",{"$f":"'Сб День 6 Нед 1'!AI118","v":0},{"$nulls":6},{"v":0,"d":"0.0000"},{"v":0,"d":"0.0000"},{"$nulls":6},{"v":0,"d":"0.0000"},{"v":0,"d":"0.0000"},null,null,{"v":0,"d":"0.0000"},{"$nulls":3},{"v":0,"d":"0.0000"},{"$nulls":3},{"v":0,"d":"0.0000"},{"v":0,"d":"0.000"},{"v":0,"d":"0.000"}]
[99,"лимон","кг",{"$f":"'Сб День 6 Нед 1'!AI119","v":-0.0344},{"$nulls":6},{"v":0,"d":"0.0000"},{"v":0,"d":"0.0000"},{"$nulls":6},{"v":0,"d":"0.0000"},{"v":0,"d":"0.0000"},null,null,{"v":0,"d":"0.0000"},{"$nulls":3},{"v":0,"d":"0.0000"},null,0.0056,null,0.0056,{"v":0.0056,"d":"0.006"},{"v":-0.04,"d":"-0.040"}]
[100,"яблоки свежие","кг",{"$f":"'Сб День 6 Нед 1'!AI120","v":-0.6910000000000001},{"$nulls":6},{"v":0,"d":"0.0000"},{"v":0,"d":"0.0000"},{"$nulls":6},{"v":0,"d":"0.0000"},{"v":0,"d":"0.0000"},null,0.0114,0.0114,{"$nulls":3},{"v":0,"d":"0.0000"},{"$nulls":3},{"v":0,"d":"0.0000"},{"v":0.0114,"d":"0.011"},{"v":-0.7024,"d":"-0.702"}]
[null,"Овощи / зелень",null,{"$f":"'Сб День 6 Нед 1'!AI121","v":0},{"$nulls":6},{"v":0,"d":"0.0000"},{"v":0,"d":"0.0000"},{"$nulls":6},{"v":0,"d":"0.0000"},{"v":0,"d":"0.0000"},null,null,{"v":0,"d":"0.0000"},{"$nulls":3},{"v":0,"d":"0.0000"},{"$nulls":3},{"v":0,"d":"0.0000"},{"v":0,"d":"0.000"},{"v":0,"d":"0.000"}]
[101,"капуста свежая","кг",{"$f":"'Сб День 6 Нед 1'!AI122","v":-0.22999999999999998},{"$nulls":6},{"v":0,"d":"0.0000"},{"v":0,"d":"0.0000"},{"$nulls":6},{"v":0,"d":"0.0000"},{"v":0,"d":"0.0000"},null,null,{"v":0,"d":"0.0000"},{"$nulls":3},{"v":0,"d":"0.0000"},{"$nulls":3},{"v":0,"d":"0.0000"},{"v":0,"d":"0.000"},{"v":-0.22999999999999998,"d":"-0.230"}]
[102,"картофель","кг",{"$f":"'Сб День 6 Нед 1'!AI123","v":-0.91817},{"$nulls":6},{"v":0,"d":"0.0000"},{"v":0,"d":"0.0000"},{"$nulls":6},{"v":0,"d":"0.0000"},{"v":0,"d":"0.0000"},null,null,{"v":0,"d":"0.0000"},{"$nulls":3},{"v":0,"d":"0.0000"},0.0665,null,null,0.0665,{"v":0.0665,"d":"0.067"},{"v":-0.98467,"d":"-0.985"}]
[103,"лук репчатый","кг",{"$f":"'Сб День 6 Нед 1'!AI124","v":-0.1848},{"$nulls":3},0.0216,null,null,{"v":0,"d":"0.0000"},0.0216,null,null,0.0216,{"$nulls":3},{"v":0,"d":"0.0000"},0.0216,null,null,{"v":0,"d":"0.0000"},{"$nulls":3},{"v":0,"d":"0.0000"},0.0139,null,null,0.0139,{"v":0.0571,"d":"0.057"},{"v":-0.2419,"d":"-0.242"}]
[104,"морковь","кг",{"$f":"'Сб День 6 Нед 1'!AI125","v":-0.12875},{"$nulls":6},{"v":0,"d":"0.0000"},{"v":0,"d":"0.0000"},{"$nulls":6},{"v":0,"d":"0.0000"},{"v":0,"d":"0.0000"},null,null,{"v":0,"d":"0.0000"},{"$nulls":3},{"v":0,"d":"0.0000"},0.0125,null,null,0.0125,{"v":0.0125,"d":"0.013"},{"v":-0.14125000000000001,"d":"-0.141"}]
[105,"свекла","кг",{"$f":"'Сб День 6 Нед 1'!AI126","v":-0.292},{"$nulls":6},{"v":0,"d":"0.0000"},{"v":0,"d":"0.0000"},{"$nulls":6},{"v":0,"d":"0.0000"},{"v":0,"d":"0.0000"},null,null,{"v":0,"d":"0.0000"},{"$nulls":3},{"v":0,"d":"0.0000"},{"$nulls":3},{"v":0,"d":"0.0000"},{"v":0,"d":"0.000"},-0.292]
[106,"огурцы св.","кг",{"$f":"'Сб День 6 Нед 1'!AI127","v":0},{"$nulls":6},{"v":0,"d":"0.0000"},{"v":0,"d":"0.0000"},{"$nulls":6},{"v":0,"d":"0.0000"},{"v":0,"d":"0.0000"},null,null,{"v":0,"d":"0.0000"},{"$nulls":3},{"v":0,"d":"0.0000"},{"$nulls":3},{"v":0,"d":"0.0000"},{"v":0,"d":"0.000"},{"v":0,"d":"0.000"}]
[107,"томаты св.","кг",{"$f":"'Сб День 6 Нед 1'!AI128","v":0},{"$nulls":6},{"v":0,"d":"0.0000"},{"v":0,"d":"0.0000"},{"$nulls":6},{"v":0,"d":"0.0000"},{"v":0,"d":"0.0000"},null,null,{"v":0,"d":"0.0000"},{"$nulls":3},{"v":0,"d":"0.0000"},{"$nulls":3},{"v":0,"d":"0.0000"},{"v":0,"d":"0.000"},{"v":0,"d":"0.000"}]
[108,"перец болг.красный","кг",{"$f":"'Сб День 6 Нед 1'!AI129","v":0},{"$nulls":6},{"v":0,"d":"0.0000"},{"v":0,"d":"0.0000"},{"$nulls":6},{"v":0,"d":"0.0000"},{"v":0,"d":"0.0000"},null,null,{"v":0,"d":"0.0000"},{"$nulls":3},{"v":0,"d":"0.0000"},{"$nulls":3},{"v":0,"d":"0.0000"},{"v":0,"d":"0.000"},{"v":0,"d":"0.000"}]
[109,"тыква","кг",{"$f":"'Сб День 6 Нед 1'!AI130","v":0},{"$nulls":6},{"v":0,"d":"0.0000"},{"v":0,"d":"0.0000"},{"$nulls":6},{"v":0,"d":"0.0000"},{"v":0,"d":"0.0000"},null,null,{"v":0,"d":"0.0000"},{"$nulls":3},{"v":0,"d":"0.0000"},{"$nulls":3},{"v":0,"d":"0.0000"},{"v":0,"d":"0.000"},{"v":0,"d":"0.000"}]
["Овощи очищенные ",null,null,{"$f":"'Сб День 6 Нед 1'!AI131","v":0},{"$nulls":6},{"v":0,"d":"0.0000"},{"v":0,"d":"0.0000"},{"$nulls":6},{"v":0,"d":"0.0000"},{"v":0,"d":"0.0000"},null,null,{"v":0,"d":"0.0000"},{"$nulls":3},{"v":0,"d":"0.0000"},{"$nulls":3},{"v":0,"d":"0.0000"},{"v":0,"d":"0.000"},{"v":0,"d":"0.000"}]
[110,"капуста св.очищенная","кг",{"$f":"'Сб День 6 Нед 1'!AI132","v":0},{"$nulls":6},{"v":0,"d":"0.0000"},{"v":0,"d":"0.0000"},{"$nulls":6},{"v":0,"d":"0.0000"},{"v":0,"d":"0.0000"},null,null,{"v":0,"d":"0.0000"},{"$nulls":3},{"v":0,"d":"0.0000"},{"$nulls":3},{"v":0,"d":"0.0000"},{"v":0,"d":"0.000"},{"v":0,"d":"0.000"}]
[111,"картофель св. очищенный","кг",{"$f":"'Сб День 6 Нед 1'!AI133","v":0},{"$nulls":6},{"v":0,"d":"0.0000"},{"v":0,"d":"0.0000"},{"$nulls":6},{"v":0,"d":"0.0000"},{"v":0,"d":"0.0000"},null,null,{"v":0,"d":"0.0000"},{"$nulls":3},{"v":0,"d":"0.0000"},{"$nulls":3},{"v":0,"d":"0.0000"},{"v":0,"d":"0.000"},{"v":0,"d":"0.000"}]
[112,"лук репчатый св.очищенный","кг",{"$f":"'Сб День 6 Нед 1'!AI134","v":0},{"$nulls":6},{"v":0,"d":"0.0000"},{"v":0,"d":"0.0000"},{"$nulls":6},{"v":0,"d":"0.0000"},{"v":0,"d":"0.0000"},null,null,{"v":0,"d":"0.0000"},{"$nulls":3},{"v":0,"d":"0.0000"},{"$nulls":3},{"v":0,"d":"0.0000"},{"v":0,"d":"0.000"},{"v":0,"d":"0.000"}]
[113,"морковь св.очищенная","кг",{"$f":"'Сб День 6 Нед 1'!AI135","v":0},{"$nulls":6},{"v":0,"d":"0.0000"},{"v":0,"d":"0.0000"},{"$nulls":6},{"v":0,"d":"0.0000"},{"v":0,"d":"0.0000"},null,null,{"v":0,"d":"0.0000"},{"$nulls":3},{"v":0,"d":"0.0000"},{"$nulls":3},{"v":0,"d":"0.0000"},{"v":0,"d":"0.000"},{"$f":"(D135+E135)-AF135","v":{"v":0,"d":"0.000"}}]
[114,"свекла св.очищенная","кг",{"$f":"'Сб День 6 Нед 1'!AI136","v":0},{"$nulls":6},{"$f":"(G136+I136+J136)*$K$5","v":{"v":0,"d":"0.0000"}},{"$f":"(F136+H136+I136+J136)*$L$5","v":{"v":0,"d":"0.0000"}},{"$nulls":6},{"$f":"(N136+P136+Q136)*$S$5","v":{"v":0,"d":"0.0000"}},{"$f":"(M136+O136+P136+Q136)*$T$5","v":{"v":0,"d":"0.0000"}},null,null,{"$f":"(V136+U136)*$W$5","v":{"v":0,"d":"0.0000"}},{"$nulls":3},{"$f":"(Z136+Y136+X136)*$AA$5","v":{"v":0,"d":"0.0000"}},{"$nulls":3},{"$f":"(AD136+AC136+AB136)*$AE$5","v":{"v":0,"d":"0.0000"}},{"$f":"K136+L136+S136+T136+W136+AE136","v":{"v":0,"d":"0.000"}},{"v":0,"d":"0.000"}]
[null,"Полуфабрикаты",null,{"$f":"'Сб День 6 Нед 1'!AI137","v":0},{"$nulls":6},{"v":0,"d":"0.0000"},{"v":0,"d":"0.0000"},{"$nulls":6},{"v":0,"d":"0.0000"},{"v":0,"d":"0.0000"},null,null,{"v":0,"d":"0.0000"},{"$nulls":3},{"v":0,"d":"0.0000"},{"$nulls":3},{"v":0,"d":"0.0000"},{"v":0,"d":"0.000"},{"v":0,"d":"0.000"}]
[115,"сырники ПФ","шт",{"$f":"'Сб День 6 Нед 1'!AI138","v":-2},{"$nulls":6},{"v":0,"d":"0.0000"},{"v":0,"d":"0.0000"},{"$nulls":6},{"v":0,"d":"0.0000"},{"v":0,"d":"0.0000"},{"$nulls":11},{"v":0,"d":"0.000"},{"v":-2,"d":"-2.000"}]
[116,"пельмени ПФ","кг",{"$f":"'Сб День 6 Нед 1'!AI139","v":0},{"$nulls":6},{"v":0,"d":"0.0000"},{"v":0,"d":"0.0000"},{"$nulls":6},{"v":0,"d":"0.0000"},{"v":0,"d":"0.0000"},null,null,{"v":0,"d":"0.0000"},{"$nulls":3},{"v":0,"d":"0.0000"},{"$nulls":3},{"v":0,"d":"0.0000"},{"v":0,"d":"0.000"},{"v":0,"d":"0.000"}]
[117,"биточки рыбные","шт",{"$f":"'Сб День 6 Нед 1'!AI140","v":-2},{"$nulls":6},{"v":0,"d":"0.0000"},{"v":0,"d":"0.0000"},{"$nulls":6},{"v":0,"d":"0.0000"},{"v":0,"d":"0.0000"},null,null,{"v":0,"d":"0.0000"},{"$nulls":3},{"v":0,"d":"0.0000"},{"$nulls":3},{"v":0,"d":"0.0000"},{"v":0,"d":"0.000"},{"v":-2,"d":"-2.000"}]
[118,"фрикадельки мясные ","кг",{"$f":"'Сб День 6 Нед 1'!AI141","v":0},{"$nulls":6},{"v":0,"d":"0.0000"},{"v":0,"d":"0.0000"},{"$nulls":6},{"v":0,"d":"0.0000"},{"v":0,"d":"0.0000"},null,null,{"v":0,"d":"0.0000"},{"$nulls":3},{"v":0,"d":"0.0000"},{"$nulls":3},{"v":0,"d":"0.0000"},{"v":0,"d":"0.000"},{"v":0,"d":"0.000"}]
[119,"фрикадельки куриные","кг",{"$f":"'Сб День 6 Нед 1'!AI142","v":0},{"$nulls":6},{"v":0,"d":"0.0000"},{"v":0,"d":"0.0000"},{"$nulls":6},{"v":0,"d":"0.0000"},{"v":0,"d":"0.0000"},null,null,{"v":0,"d":"0.0000"},{"$nulls":3},{"v":0,"d":"0.0000"},{"$nulls":3},{"v":0,"d":"0.0000"},{"v":0,"d":"0.000"},{"v":0,"d":"0.000"}]
[120,"хинкали п/ф из говядины","кг",{"$f":"'Сб День 6 Нед 1'!AI143","v":0},{"$nulls":6},{"v":0,"d":"0.0000"},{"v":0,"d":"0.0000"},{"$nulls":6},{"v":0,"d":"0.0000"},{"v":0,"d":"0.0000"},null,null,{"v":0,"d":"0.0000"},{"$nulls":3},{"v":0,"d":"0.0000"},{"$nulls":3},{"v":0,"d":"0.0000"},{"v":0,"d":"0.000"},{"v":0,"d":"0.000"}]
[121,"котлеты из говядины \"Домашние\"  ","шт",{"$f":"'Сб День 6 Нед 1'!AI144","v":-2},{"$nulls":6},{"v":0,"d":"0.0000"},{"v":0,"d":"0.0000"},{"$nulls":6},{"v":0,"d":"0.0000"},{"v":0,"d":"0.0000"},null,null,{"v":0,"d":"0.0000"},{"$nulls":3},{"v":0,"d":"0.0000"},{"$nulls":3},{"v":0,"d":"0.0000"},{"v":0,"d":"0.000"},{"v":-2,"d":"-2.000"}]
[122,"бифштекс из говядины","шт",{"$f":"'Сб День 6 Нед 1'!AI145","v":0},{"$nulls":6},{"v":0,"d":"0.0000"},{"v":0,"d":"0.0000"},{"$nulls":6},{"v":0,"d":"0.0000"},{"v":0,"d":"0.0000"},null,null,{"v":0,"d":"0.0000"},{"$nulls":3},{"v":0,"d":"0.0000"},{"$nulls":3},{"v":0,"d":"0.0000"},{"v":0,"d":"0.000"},{"v":0,"d":"0.000"}]
[123,"котлеты из мяса кур","шт",{"$f":"'Сб День 6 Нед 1'!AI146","v":0},{"$nulls":6},{"v":0,"d":"0.0000"},{"v":0,"d":"0.0000"},{"$nulls":6},{"v":0,"d":"0.0000"},{"v":0,"d":"0.0000"},null,null,{"v":0,"d":"0.0000"},{"$nulls":3},{"v":0,"d":"0.0000"},{"$nulls":3},{"v":0,"d":"0.0000"},{"v":0,"d":"0.000"},{"v":0,"d":"0.000"}]
[124,"котлеты \"Аппетитные\" мясо-куриные  ","шт",{"$f":"'Сб День 6 Нед 1'!AI147","v":0},{"$nulls":6},{"v":0,"d":"0.0000"},{"v":0,"d":"0.0000"},{"$nulls":6},{"v":0,"d":"0.0000"},{"v":0,"d":"0.0000"},null,null,{"v":0,"d":"0.0000"},{"$nulls":3},{"v":0,"d":"0.0000"},{"$nulls":3},{"v":0,"d":"0.0000"},{"v":0,"d":"0.000"},{"v":0,"d":"0.000"}]
[125,"ежики мясные с рисом ","шт",{"$f":"'Сб День 6 Нед 1'!AI148","v":0},{"$nulls":6},{"v":0,"d":"0.0000"},{"v":0,"d":"0.0000"},{"$nulls":6},{"v":0,"d":"0.0000"},{"v":0,"d":"0.0000"},null,null,{"v":0,"d":"0.0000"},{"$nulls":3},{"v":0,"d":"0.0000"},{"$nulls":3},{"v":0,"d":"0.0000"},{"v":0,"d":"0.000"},{"v":0,"d":"0.000"}]

{"sheet":"Вт День 2 Нед 2","index":8,"n_rows":148,"n_cols":30,"rows_kept":148,"merged":[[0,0,0,28],[1,5,1,10],[1,11,3,11],[1,12,3,12],[1,13,1,18],[1,19,3,19],[1,21,1,22],[1,23,3,23],[1,24,1,26],[1,27,3,27],[1,28,3,28],[1,29,3,29]]}
["Расход продуктов питания в образовательных учереждениях  "]
[{"$nulls":5},"Меню с 1 по 4 класс  69,43  РУБ",{"$nulls":5},"ИТОГО с П/Ф","ИТОГО СЫРЬЕ","Меню с 5 по 11 класс  69,43 РУБ    ",{"$nulls":5},"итого с п/ф",null,"Меню на сумму         9,60  РУБ",null,"ИТОГО","Меню   СУПА  ",null,null,"ИТОГО","ВСЕГО ЗА ДЕНЬ расход продуктов по всем рационам","остаток на конец"]
[null,"ДЕНЬ 2 неделя 2",null,"остаток на начало","приход","Салат из свеклы отварной","Кртофельное пюре","биточки рыбные в сметанном соусе","Биточки рыбные п/ф","чай с сахаром","Хлеб пшеничн /ржаной",null,null,"Салат из свеклы отварной","Картофельное пюре","биточки рыбные в сметанном соусе","биточки рыбные п/ф","чай с сахаром","Хлеб пшеничн /ржаной",null,"ИТОГО сырье","Печенье","чай Витаминный",null,"Щи из св капусты  со сметаной ","компот из сухофруктов","Хлеб ржаной"]
[null,"КОЛИЧЕСТВО ДЕТЕЙ",{"$nulls":3},"7-11","7-11","7-11","7-11","7-11","7-11",null,null,"12-18","12-18","12-18","12-18","12-18","12-18",null,null,"12-18","12-18",null,"12-18","12-18","12-18"]
[null,"Выход,гр",{"$nulls":3},"60","150","75/20","75","190/10","20/30","1",1,"100","150","75/20","75","190/10","20/40","1","1","20","185/10/5",1,"250/5","200","30","1",{"$f":"M5+T5+X5+AB5","v":4}]
[null,"Хлеб"]
[1,"батон ","кг",{"$f":"'Пн 1 день нед 2'!AG7","v":0},{"$nulls":7},{"$f":"(F7+G7+I7+J7+K7)*$L$5","v":{"v":0,"d":"0.0000"}},{"$f":"(K7+J7+H7+G7+F7)*$M$5","v":{"v":0,"d":"0.0000"}},{"$nulls":6},{"$f":"(N7+O7+Q7+R7+S7)*$T$5","v":{"v":0,"d":"0.0000"}},{"$f":"(N7+O7+P7+R7+S7)*$U$5","v":{"v":0,"d":"0.0000"}},null,null,{"$f":"(W7+V7)*$X$5","v":{"v":0,"d":"0.0000"}},{"$nulls":3},{"$f":"(AA7+Z7+Y7)*$AB$5","v":{"v":0,"d":"0.0000"}},{"$f":"L7+M7+T7+U7+X7+AB7","v":{"v":0,"d":"0.000"}},{"$f":"(D7+E7)-AC7","v":{"v":0,"d":"0.000"}}]
[2,"хлеб пшеничный ","кг",{"$f":"'Пн 1 день нед 2'!AG8","v":-0.3886},{"$nulls":3},0.0083,null,null,{"v":0.02,"d":"0.0200"},{"$f":"(F8+G8+I8+J8+K8)*$L$5","v":{"v":0.02,"d":"0.0200"}},{"$f":"(K8+J8+H8+G8+F8)*$M$5","v":0.0283},null,null,0.0083,null,null,{"v":0.02,"d":"0.0200"},{"$f":"(N8+O8+Q8+R8+S8)*$T$5","v":{"v":0.02,"d":"0.0200"}},{"$f":"(N8+O8+P8+R8+S8)*$U$5","v":0.0283},null,null,{"$f":"(W8+V8)*$X$5","v":{"v":0,"d":"0.0000"}},{"$nulls":3},{"$f":"(AA8+Z8+Y8)*$AB$5","v":{"v":0,"d":"0.0000"}},{"$f":"L8+M8+T8+U8+X8+AB8","v":{"v":0.09659999999999999,"d":"0.097"}},{"v":-0.48519999999999996,"d":"-0.485"}]
[3,"хлеб ржаной","кг",{"$f":"'Пн 1 день нед 2'!AG9","v":-0.9049999999999999},{"$nulls":6},{"v":0.03,"d":"0.0300"},{"v":0.03,"d":"0.0300"},{"v":0.03,"d":"0.0300"},{"$nulls":5},{"v":0.04,"d":"0.0400"},{"v":0.04,"d":"0.0400"},{"v":0.04,"d":"0.0400"},null,null,{"v":0,"d":"0.0000"},null,null,{"v":0.03,"d":"0.0300"},{"v":0.03,"d":"0.0300"},{"v":0.17,"d":"0.170"},-1.075]
[4,"булоч/выпечка готов с х/ком","шт",{"$f":"'Пн 1 день нед 2'!AG10","v":-1},{"$nulls":7},{"v":0,"d":"0.0000"},{"v":0,"d":"0.0000"},{"$nulls":6},{"v":0,"d":"0.0000"},{"v":0,"d":"0.0000"},null,null,{"v":0,"d":"0.0000"},{"$nulls":3},{"v":0,"d":"0.0000"},{"v":0,"d":"0.000"},{"v":-1,"d":"-1.000"}]
[null,"Молочка",null,{"$f":"'Пн 1 день нед 2'!AG11","v":0},{"$nulls":7},{"v":0,"d":"0.0000"},{"v":0,"d":"0.0000"},{"$nulls":6},{"v":0,"d":"0.0000"},{"v":0,"d":"0.0000"},null,null,{"v":0,"d":"0.0000"},{"$nulls":3},{"v":0,"d":"0.0000"},{"v":0,"d":"0.000"},{"v":0,"d":"0.000"}]
[5,"молоко 2,5%","кг",{"$f":"'Пн 1 день нед 2'!AG12","v":-0.4571},null,null,0.0237,{"$nulls":4},0.0237,0.0237,null,0.0237,{"$nulls":4},0.0237,0.0237,null,null,{"v":0,"d":"0.0000"},{"$nulls":3},{"v":0,"d":"0.0000"},{"v":0.0948,"d":"0.095"},{"v":-0.5519000000000001,"d":"-0.552"}]
[6,"творог 5%","кг",{"$f":"'Пн 1 день нед 2'!AG13","v":0},{"$nulls":7},{"v":0,"d":"0.0000"},{"v":0,"d":"0.0000"},{"$nulls":6},{"v":0,"d":"0.0000"},{"v":0,"d":"0.0000"},null,null,{"v":0,"d":"0.0000"},{"$nulls":3},{"v":0,"d":"0.0000"},{"v":0,"d":"0.000"},{"v":0,"d":"0.000"}]
[7,"сметана 15%","кг",{"$f":"'Пн 1 день нед 2'!AG14","v":-0.055},{"$nulls":3},{"v":0.005,"d":"0.0050"},{"v":0.005,"d":"0.0050"},null,null,{"v":0.005,"d":"0.0050"},{"v":0.005,"d":"0.0050"},null,null,{"v":0.005,"d":"0.0050"},{"v":0.005,"d":"0.0050"},null,null,{"v":0.005,"d":"0.0050"},{"v":0.005,"d":"0.0050"},null,null,{"v":0,"d":"0.0000"},{"v":0.005,"d":"0.0050"},null,null,{"v":0.005,"d":"0.0050"},0.025,{"v":-0.08,"d":"-0.080"}]
[8,"йогурт фруктов ","кг",{"$f":"'Пн 1 день нед 2'!AG15","v":0},{"$nulls":7},{"v":0,"d":"0.0000"},{"v":0,"d":"0.0000"},{"$nulls":6},{"v":0,"d":"0.0000"},{"v":0,"d":"0.0000"},null,null,{"v":0,"d":"0.0000"},{"$nulls":3},{"v":0,"d":"0.0000"},{"v":0,"d":"0.000"},{"v":0,"d":"0.000"}]
[9,"катык 2,5%","кг",{"$f":"'Пн 1 день нед 2'!AG16","v":0},{"$nulls":7},{"v":0,"d":"0.0000"},{"v":0,"d":"0.0000"},{"$nulls":6},{"v":0,"d":"0.0000"},{"v":0,"d":"0.0000"},null,null,{"v":0,"d":"0.0000"},{"$nulls":3},{"v":0,"d":"0.0000"},{"v":0,"d":"0.000"},{"v":0,"d":"0.000"}]
[10,"кефир 2,5%","кг",{"$f":"'Пн 1 день нед 2'!AG17","v":0},{"$nulls":7},{"v":0,"d":"0.0000"},{"v":0,"d":"0.0000"},{"$nulls":6},{"v":0,"d":"0.0000"},{"v":0,"d":"0.0000"},null,null,{"v":0,"d":"0.0000"},{"$nulls":3},{"v":0,"d":"0.0000"},{"v":0,"d":"0.000"},{"v":0,"d":"0.000"}]
[11,"ряженка 2,5%","кг",{"$f":"'Пн 1 день нед 2'!AG18","v":0},{"$nulls":7},{"v":0,"d":"0.0000"},{"v":0,"d":"0.0000"},{"$nulls":6},{"v":0,"d":"0.0000"},{"v":0,"d":"0.0000"},null,null,{"v":0,"d":"0.0000"},{"$nulls":3},{"v":0,"d":"0.0000"},{"v":0,"d":"0.000"},{"v":0,"d":"0.000"}]
[12,"напиток ацидофильный ","кг",{"$f":"'Пн 1 день нед 2'!AG19","v":0},{"$nulls":7},{"v":0,"d":"0.0000"},{"v":0,"d":"0.0000"},{"$nulls":6},{"v":0,"d":"0.0000"},{"v":0,"d":"0.0000"},null,null,{"v":0,"d":"0.0000"},{"$nulls":3},{"v":0,"d":"0.0000"},{"v":0,"d":"0.000"},{"v":0,"d":"0.000"}]
[null,"Масло / сыр ",null,{"$f":"'Пн 1 день нед 2'!AG20","v":0},{"$nulls":7},{"v":0,"d":"0.0000"},{"v":0,"d":"0.0000"},{"$nulls":6},{"v":0,"d":"0.0000"},{"v":0,"d":"0.0000"},null,null,{"v":0,"d":"0.0000"},{"$nulls":3},{"v":0,"d":"0.0000"},{"v":0,"d":"0.000"},{"v":0,"d":"0.000"}]
[13,"масло растительное","кг",{"$f":"'Пн 1 день нед 2'!AG21","v":-0.09359999999999999},null,{"v":0.003,"d":"0.0030"},null,{"$f":"0.0008+0.002","v":{"v":2.8E-3,"d":"0.0028"}},{"v":2.8E-3,"d":"0.0028"},null,null,0.0058,0.0058,{"v":0.005,"d":"0.0050"},null,{"$f":"0.0008+0.002","v":{"v":2.8E-3,"d":"0.0028"}},{"v":2.8E-3,"d":"0.0028"},null,null,0.0078,0.0078,null,null,{"v":0,"d":"0.0000"},{"v":0.005,"d":"0.0050"},null,null,{"v":0.005,"d":"0.0050"},{"v":0.0322,"d":"0.032"},{"v":-0.1258,"d":"-0.126"}]
[14,"масло сливочное","кг",{"$f":"'Пн 1 день нед 2'!AG22","v":-0.06359999999999999},null,null,{"v":0.003,"d":"0.0030"},{"$nulls":4},{"v":0.003,"d":"0.0030"},{"v":0.003,"d":"0.0030"},null,{"v":0.003,"d":"0.0030"},{"$nulls":4},{"v":0.003,"d":"0.0030"},{"v":0.003,"d":"0.0030"},null,null,{"v":0,"d":"0.0000"},{"$nulls":3},{"v":0,"d":"0.0000"},0.012,{"v":-0.07559999999999999,"d":"-0.076"}]
[15,"сыр голландский","кг",{"$f":"'Пн 1 день нед 2'!AG23","v":-0.0102},{"$nulls":7},{"v":0,"d":"0.0000"},{"v":0,"d":"0.0000"},{"$nulls":6},{"v":0,"d":"0.0000"},{"v":0,"d":"0.0000"},null,null,{"v":0,"d":"0.0000"},{"$nulls":3},{"v":0,"d":"0.0000"},{"v":0,"d":"0.000"},{"v":-0.0102,"d":"-0.010"}]
[null,"Мясо",null,{"$f":"'Пн 1 день нед 2'!AG24","v":0},{"$nulls":7},{"v":0,"d":"0.0000"},{"v":0,"d":"0.0000"},{"$nulls":6},{"v":0,"d":"0.0000"},{"v":0,"d":"0.0000"},null,null,{"v":0,"d":"0.0000"},{"$nulls":3},{"v":0,"d":"0.0000"},{"v":0,"d":"0.000"},{"v":0,"d":"0.000"}]
[16,"говядина (котлетное мясо) ","кг",{"$f":"'Пн 1 день нед 2'!AG25","v":0},{"$nulls":7},{"v":0,"d":"0.0000"},{"v":0,"d":"0.0000"},{"$nulls":6},{"v":0,"d":"0.0000"},{"v":0,"d":"0.0000"},null,null,{"v":0,"d":"0.0000"},{"$nulls":3},{"v":0,"d":"0.0000"},{"v":0,"d":"0.000"},{"v":0,"d":"0.000"}]
[17,"фарш говяжий","кг",{"$f":"'Пн 1 день нед 2'!AG26","v":-0.09993999999999999},{"$nulls":7},{"v":0,"d":"0.0000"},{"v":0,"d":"0.0000"},{"$nulls":6},{"v":0,"d":"0.0000"},{"v":0,"d":"0.0000"},null,null,{"v":0,"d":"0.0000"},{"$nulls":3},{"v":0,"d":"0.0000"},{"v":0,"d":"0.000"},{"v":-0.09993999999999999,"d":"-0.100"}]
[18,"говядина лопатка б/к","кг",{"$f":"'Пн 1 день нед 2'!AG27","v":0},{"$nulls":7},{"v":0,"d":"0.0000"},{"v":0,"d":"0.0000"},{"$nulls":6},{"v":0,"d":"0.0000"},{"v":0,"d":"0.0000"},null,null,{"v":0,"d":"0.0000"},{"$nulls":3},{"v":0,"d":"0.0000"},{"v":0,"d":"0.000"},{"v":0,"d":"0.000"}]
[19,"сосиски","кг",{"$f":"'Пн 1 день нед 2'!AG28","v":-0.418},{"$nulls":7},{"v":0,"d":"0.0000"},{"v":0,"d":"0.0000"},{"$nulls":6},{"v":0,"d":"0.0000"},{"v":0,"d":"0.0000"},null,null,{"v":0,"d":"0.0000"},{"$nulls":3},{"v":0,"d":"0.0000"},{"v":0,"d":"0.000"},-0.418]
[20,"колбаса п/к \"Халяль\"","кг",{"$f":"'Пн 1 день нед 2'!AG29","v":0},{"$nulls":7},{"v":0,"d":"0.0000"},{"v":0,"d":"0.0000"},{"$nulls":6},{"v":0,"d":"0.0000"},{"v":0,"d":"0.0000"},null,null,{"v":0,"d":"0.0000"},{"$nulls":3},{"v":0,"d":"0.0000"},{"v":0,"d":"0.000"},{"v":0,"d":"0.000"}]
[21,"куриное бедро","кг",{"$f":"'Пн 1 день нед 2'!AG30","v":0},{"$nulls":7},{"v":0,"d":"0.0000"},{"v":0,"d":"0.0000"},{"$nulls":6},{"v":0,"d":"0.0000"},{"v":0,"d":"0.0000"},null,null,{"v":0,"d":"0.0000"},{"$nulls":3},{"v":0,"d":"0.0000"},{"v":0,"d":"0.000"},{"v":0,"d":"0.000"}]
[22,"куриная грудка","кг",{"$f":"'Пн 1 день нед 2'!AG31","v":-0.34575},{"$nulls":7},{"v":0,"d":"0.0000"},{"v":0,"d":"0.0000"},{"$nulls":6},{"v":0,"d":"0.0000"},{"v":0,"d":"0.0000"},null,null,{"v":0,"d":"0.0000"},{"$nulls":3},{"v":0,"d":"0.0000"},{"v":0,"d":"0.000"},{"v":-0.34575,"d":"-0.346"}]
[23,"куры/цыплята потрош.","кг",{"$f":"'Пн 1 день нед 2'!AG32","v":0},{"$nulls":7},{"v":0,"d":"0.0000"},{"v":0,"d":"0.0000"},{"$nulls":6},{"v":0,"d":"0.0000"},{"v":0,"d":"0.0000"},null,null,{"v":0,"d":"0.0000"},{"$nulls":3},{"v":0,"d":"0.0000"},{"v":0,"d":"0.000"},{"v":0,"d":"0.000"}]
[24,"фарш куриный","кг",{"$f":"'Пн 1 день нед 2'!AG33","v":0},{"$nulls":7},{"v":0,"d":"0.0000"},{"v":0,"d":"0.0000"},{"$nulls":6},{"v":0,"d":"0.0000"},{"v":0,"d":"0.0000"},null,null,{"v":0,"d":"0.0000"},{"$nulls":3},{"v":0,"d":"0.0000"},{"v":0,"d":"0.000"},{"v":0,"d":"0.000"}]
[25,"индейка бедро филе","кг",{"$f":"'Пн 1 день нед 2'!AG34","v":-0.147},{"$nulls":7},{"v":0,"d":"0.0000"},{"v":0,"d":"0.0000"},{"$nulls":6},{"v":0,"d":"0.0000"},{"v":0,"d":"0.0000"},null,null,{"v":0,"d":"0.0000"},{"$nulls":3},{"v":0,"d":"0.0000"},{"v":0,"d":"0.000"},-0.147]
[26,"индейка грудка филе","кг",{"$f":"'Пн 1 день нед 2'!AG35","v":0},{"$nulls":7},{"v":0,"d":"0.0000"},{"v":0,"d":"0.0000"},{"$nulls":6},{"v":0,"d":"0.0000"},{"v":0,"d":"0.0000"},null,null,{"v":0,"d":"0.0000"},{"$nulls":3},{"v":0,"d":"0.0000"},{"v":0,"d":"0.000"},{"v":0,"d":"0.000"}]
[null,"Рыба",null,{"$f":"'Пн 1 день нед 2'!AG36","v":0},{"$nulls":7},{"v":0,"d":"0.0000"},{"v":0,"d":"0.0000"},{"$nulls":6},{"v":0,"d":"0.0000"},{"v":0,"d":"0.0000"},null,null,{"v":0,"d":"0.0000"},{"$nulls":3},{"v":0,"d":"0.0000"},{"v":0,"d":"0.000"},{"v":0,"d":"0.000"}]
[27,"горбуша ПБГ с/м","кг",{"$f":"'Пн 1 день нед 2'!AG37","v":0},{"$nulls":7},{"v":0,"d":"0.0000"},{"v":0,"d":"0.0000"},{"$nulls":6},{"v":0,"d":"0.0000"},{"v":0,"d":"0.0000"},null,null,{"v":0,"d":"0.0000"},{"$nulls":3},{"v":0,"d":"0.0000"},{"v":0,"d":"0.000"},{"v":0,"d":"0.000"}]
[28,"минтай б/г с/м","кг",{"$f":"'Пн 1 день нед 2'!AG38","v":-0.1552},{"$nulls":3},{"v":0.07706,"d":"0.0771"},{"$nulls":3},{"v":0,"d":"0.0000"},{"v":0.07706,"d":"0.0771"},null,null,{"v":0.07706,"d":"0.0771"},{"$nulls":3},{"v":0,"d":"0.0000"},{"v":0.07706,"d":"0.0771"},null,null,{"v":0,"d":"0.0000"},{"$nulls":3},{"v":0,"d":"0.0000"},{"v":0.15412,"d":"0.154"},{"v":-0.30932000000000004,"d":"-0.309"}]
[29,"фарш минтая","кг",{"$f":"'Пн 1 день нед 2'!AG39","v":-0.11812},{"$nulls":3},{"v":0.05906,"d":"0.0591"},{"$nulls":3},{"v":0,"d":"0.0000"},{"$f":"(K39+J39+H39+G39+F39)*$M$5","v":{"v":0.05906,"d":"0.0591"}},null,null,{"v":0.05906,"d":"0.0591"},{"$nulls":3},{"v":0,"d":"0.0000"},{"v":0.05906,"d":"0.0591"},null,null,{"v":0,"d":"0.0000"},{"$nulls":3},{"v":0,"d":"0.0000"},{"v":0.11812,"d":"0.118"},{"$f":"(D39+E39)-AC39","v":{"v":-0.23624,"d":"-0.236"}}]
[null,"Сыпучка",null,{"$f":"'Пн 1 день нед 2'!AG40","v":0},{"$nulls":7},{"v":0,"d":"0.0000"},{"v":0,"d":"0.0000"},{"$nulls":6},{"v":0,"d":"0.0000"},{"v":0,"d":"0.0000"},null,null,{"v":0,"d":"0.0000"},{"$nulls":3},{"v":0,"d":"0.0000"},{"v":0,"d":"0.000"},{"v":0,"d":"0.000"}]
[30,"вермишель","кг",{"$f":"'Пн 1 день нед 2'!AG41","v":-0.01},{"$nulls":7},{"v":0,"d":"0.0000"},{"v":0,"d":"0.0000"},{"$nulls":6},{"v":0,"d":"0.0000"},{"v":0,"d":"0.0000"},null,null,{"v":0,"d":"0.0000"},{"$nulls":3},{"v":0,"d":"0.0000"},{"v":0,"d":"0.000"},{"v":-0.01,"d":"-0.010"}]
[31,"геркулес","кг",{"$f":"'Пн 1 день нед 2'!AG42","v":0},{"$nulls":7},{"v":0,"d":"0.0000"},{"v":0,"d":"0.0000"},{"$nulls":6},{"v":0,"d":"0.0000"},{"v":0,"d":"0.0000"},null,null,{"v":0,"d":"0.0000"},{"$nulls":3},{"v":0,"d":"0.0000"},{"v":0,"d":"0.000"},{"v":0,"d":"0.000"}]
[32,"горох","кг",{"$f":"'Пн 1 день нед 2'!AG43","v":0},{"$nulls":7},{"v":0,"d":"0.0000"},{"v":0,"d":"0.0000"},{"$nulls":6},{"v":0,"d":"0.0000"},{"v":0,"d":"0.0000"},null,null,{"v":0,"d":"0.0000"},{"$nulls":3},{"v":0,"d":"0.0000"},{"v":0,"d":"0.000"},{"v":0,"d":"0.000"}]
[33,"гречневая крупа","кг",{"$f":"'Пн 1 день нед 2'!AG44","v":-0.6048},{"$nulls":7},{"v":0,"d":"0.0000"},{"v":0,"d":"0.0000"},{"$nulls":6},{"v":0,"d":"0.0000"},{"v":0,"d":"0.0000"},null,null,{"v":0,"d":"0.0000"},{"$nulls":3},{"v":0,"d":"0.0000"},{"v":0,"d":"0.000"},{"v":-0.6048,"d":"-0.605"}]
[34,"кукурузная крупа","кг",{"$f":"'Пн 1 день нед 2'!AG45","v":0},{"$nulls":7},{"v":0,"d":"0.0000"},{"v":0,"d":"0.0000"},{"$nulls":6},{"v":0,"d":"0.0000"},{"v":0,"d":"0.0000"},null,null,{"v":0,"d":"0.0000"},{"$nulls":3},{"v":0,"d":"0.0000"},{"v":0,"d":"0.000"},{"v":0,"d":"0.000"}]
[35,"макаронные изделия","кг",{"$f":"'Пн 1 день нед 2'!AG46","v":-0.142},{"$nulls":7},{"v":0,"d":"0.0000"},{"v":0,"d":"0.0000"},{"$nulls":6},{"v":0,"d":"0.0000"},{"v":0,"d":"0.0000"},null,null,{"v":0,"d":"0.0000"},{"$nulls":3},{"v":0,"d":"0.0000"},{"v":0,"d":"0.000"},-0.142]
[36,"манная крупа","кг",{"$f":"'Пн 1 день нед 2'!AG47","v":0},{"$nulls":7},{"v":0,"d":"0.0000"},{"v":0,"d":"0.0000"},{"$nulls":6},{"v":0,"d":"0.0000"},{"v":0,"d":"0.0000"},null,null,{"v":0,"d":"0.0000"},{"$nulls":3},{"v":0,"d":"0.0000"},{"v":0,"d":"0.000"},{"v":0,"d":"0.000"}]
[37,"перловая крупа","кг",{"$f":"'Пн 1 день нед 2'!AG48","v":-0.005},{"$nulls":7},{"v":0,"d":"0.0000"},{"v":0,"d":"0.0000"},{"$nulls":6},{"v":0,"d":"0.0000"},{"v":0,"d":"0.0000"},null,null,{"v":0,"d":"0.0000"},{"$nulls":3},{"v":0,"d":"0.0000"},{"v":0,"d":"0.000"},-0.005]
[38,"полбяная крупа","кг",{"$f":"'Пн 1 день нед 2'!AG49","v":0},{"$nulls":7},{"v":0,"d":"0.0000"},{"v":0,"d":"0.0000"},{"$nulls":6},{"v":0,"d":"0.0000"},{"v":0,"d":"0.0000"},null,null,{"v":0,"d":"0.0000"},{"$nulls":3},{"v":0,"d":"0.0000"},{"v":0,"d":"0.000"},{"v":0,"d":"0.000"}]
[39,"пшеничная крупа","кг",{"$f":"'Пн 1 день нед 2'!AG50","v":0},{"$nulls":7},{"v":0,"d":"0.0000"},{"v":0,"d":"0.0000"},{"$nulls":6},{"v":0,"d":"0.0000"},{"v":0,"d":"0.0000"},null,null,{"v":0,"d":"0.0000"},{"$nulls":3},{"v":0,"d":"0.0000"},{"v":0,"d":"0.000"},{"v":0,"d":"0.000"}]
[40,"пшено","кг",{"$f":"'Пн 1 день нед 2'!AG51","v":-0.029500000000000002},{"$nulls":7},{"v":0,"d":"0.0000"},{"v":0,"d":"0.0000"},{"$nulls":6},{"v":0,"d":"0.0000"},{"v":0,"d":"0.0000"},null,null,{"v":0,"d":"0.0000"},{"$nulls":3},{"v":0,"d":"0.0000"},{"v":0,"d":"0.000"},{"v":-0.029500000000000002,"d":"-0.030"}]
[41,"рис","кг",{"$f":"'Пн 1 день нед 2'!AG52","v":-0.43420000000000003},{"$nulls":7},{"v":0,"d":"0.0000"},{"v":0,"d":"0.0000"},{"$nulls":6},{"v":0,"d":"0.0000"},{"v":0,"d":"0.0000"},null,null,{"v":0,"d":"0.0000"},{"$nulls":3},{"v":0,"d":"0.0000"},{"v":0,"d":"0.000"},{"v":-0.43420000000000003,"d":"-0.434"}]
[42,"ячневая крупа","кг",{"$f":"'Пн 1 день нед 2'!AG53","v":0},{"$nulls":7},{"v":0,"d":"0.0000"},{"v":0,"d":"0.0000"},{"$nulls":6},{"v":0,"d":"0.0000"},{"v":0,"d":"0.0000"},null,null,{"v":0,"d":"0.0000"},{"$nulls":3},{"v":0,"d":"0.0000"},{"v":0,"d":"0.000"},{"v":0,"d":"0.000"}]
[43,"лапша домашняя п/ф","кг",{"$f":"'Пн 1 день нед 2'!AG54","v":-0.02},{"$nulls":7},{"v":0,"d":"0.0000"},{"v":0,"d":"0.0000"},{"$nulls":6},{"v":0,"d":"0.0000"},{"v":0,"d":"0.0000"},null,null,{"v":0,"d":"0.0000"},{"$nulls":3},{"v":0,"d":"0.0000"},{"v":0,"d":"0.000"},{"v":-0.02,"d":"-0.020"}]
[44,"мука пшеничная в/с","кг",{"$f":"'Пн 1 день нед 2'!AG55","v":-0.0286},{"$nulls":3},0.0013,0.0013,null,null,0.0013,0.0013,null,null,0.0013,0.0013,null,null,0.0013,0.0013,null,null,{"v":0,"d":"0.0000"},{"$nulls":3},{"v":0,"d":"0.0000"},{"v":0.0052,"d":"0.005"},{"v":-0.0338,"d":"-0.034"}]
[45,"сахарный песок","кг",{"$f":"'Пн 1 день нед 2'!AG56","v":-0.3453},{"$nulls":5},{"v":0.01,"d":"0.0100"},null,{"v":0.01,"d":"0.0100"},{"v":0.01,"d":"0.0100"},{"$nulls":4},{"v":0.01,"d":"0.0100"},null,{"v":0.01,"d":"0.0100"},{"v":0.01,"d":"0.0100"},null,{"v":0.01,"d":"0.0100"},{"v":0.01,"d":"0.0100"},null,{"v":0.01,"d":"0.0100"},null,{"v":0.01,"d":"0.0100"},{"v":0.060000000000000005,"d":"0.060"},{"v":-0.4053,"d":"-0.405"}]
[46,"соль","кг",{"$f":"'Пн 1 день нед 2'!AG57","v":-0.0282},null,null,0.0005,0.0005,0.0005,null,null,{"v":1E-3,"d":"0.0010"},{"v":1E-3,"d":"0.0010"},null,0.0005,0.0005,0.0005,null,null,{"v":1E-3,"d":"0.0010"},{"v":1E-3,"d":"0.0010"},null,null,{"v":0,"d":"0.0000"},0.0009,null,null,0.0009,{"v":0.0049,"d":"0.005"},{"v":-0.0331,"d":"-0.033"}]
[47,"сухари панировочные","кг",{"$f":"'Пн 1 день нед 2'!AG58","v":-0.03},{"$nulls":3},0.0075,{"$nulls":3},{"v":0,"d":"0.0000"},0.0075,null,null,0.0075,{"$nulls":3},{"v":0,"d":"0.0000"},0.0075,null,null,{"v":0,"d":"0.0000"},{"$nulls":3},{"v":0,"d":"0.0000"},0.015,-0.045]
[48,"дрожжи сухие","кг",{"$f":"'Пн 1 день нед 2'!AG59","v":0},{"$nulls":7},{"v":0,"d":"0.0000"},{"v":0,"d":"0.0000"},{"$nulls":6},{"v":0,"d":"0.0000"},{"v":0,"d":"0.0000"},null,null,{"v":0,"d":"0.0000"},{"$nulls":3},{"v":0,"d":"0.0000"},{"v":0,"d":"0.000"},{"v":0,"d":"0.000"}]
[49,"фасоль","кг",{"$f":"'Пн 1 день нед 2'!AG60","v":0},{"$nulls":7},{"v":0,"d":"0.0000"},{"v":0,"d":"0.0000"},{"$nulls":6},{"v":0,"d":"0.0000"},{"v":0,"d":"0.0000"},null,null,{"v":0,"d":"0.0000"},{"$nulls":3},{"v":0,"d":"0.0000"},{"v":0,"d":"0.000"},{"v":0,"d":"0.000"}]
[null,"Консервы",null,{"$f":"'Пн 1 день нед 2'!AG61","v":0},{"$nulls":7},{"v":0,"d":"0.0000"},{"v":0,"d":"0.0000"},{"$nulls":6},{"v":0,"d":"0.0000"},{"v":0,"d":"0.0000"},null,null,{"v":0,"d":"0.0000"},{"$nulls":3},{"v":0,"d":"0.0000"},{"v":0,"d":"0.000"},{"v":0,"d":"0.000"}]
[50,"зеленый горошек к/с","кг",{"$f":"'Пн 1 день нед 2'!AG62","v":-0.2902},{"$nulls":7},{"v":0,"d":"0.0000"},{"v":0,"d":"0.0000"},{"$nulls":6},{"v":0,"d":"0.0000"},{"v":0,"d":"0.0000"},null,null,{"v":0,"d":"0.0000"},{"$nulls":3},{"v":0,"d":"0.0000"},{"v":0,"d":"0.000"},{"v":-0.2902,"d":"-0.290"}]
[51,"кукуруза к/с","кг",{"$f":"'Пн 1 день нед 2'!AG63","v":0},{"$nulls":7},{"v":0,"d":"0.0000"},{"v":0,"d":"0.0000"},{"$nulls":6},{"v":0,"d":"0.0000"},{"v":0,"d":"0.0000"},null,null,{"v":0,"d":"0.0000"},{"$nulls":3},{"v":0,"d":"0.0000"},{"v":0,"d":"0.000"},{"v":0,"d":"0.000"}]
[52,"фасоль к/с","кг",{"$f":"'Пн 1 день нед 2'!AG64","v":0},{"$nulls":7},{"v":0,"d":"0.0000"},{"v":0,"d":"0.0000"},{"$nulls":6},{"v":0,"d":"0.0000"},{"v":0,"d":"0.0000"},null,null,{"v":0,"d":"0.0000"},{"$nulls":3},{"v":0,"d":"0.0000"},{"v":0,"d":"0.000"},{"v":0,"d":"0.000"}]
[53,"икра кабач/икра баклаж","кг",{"$f":"'Пн 1 день нед 2'!AG65","v":0},{"$nulls":7},{"v":0,"d":"0.0000"},{"v":0,"d":"0.0000"},{"$nulls":6},{"v":0,"d":"0.0000"},{"v":0,"d":"0.0000"},null,null,{"v":0,"d":"0.0000"},{"$nulls":3},{"v":0,"d":"0.0000"},{"v":0,"d":"0.000"},{"v":0,"d":"0.000"}]
[54,"капуста морская сушеная","кг",{"$f":"'Пн 1 день нед 2'!AG66","v":0},{"$nulls":7},{"v":0,"d":"0.0000"},{"v":0,"d":"0.0000"},{"$nulls":6},{"v":0,"d":"0.0000"},{"v":0,"d":"0.0000"},null,null,{"v":0,"d":"0.0000"},{"$nulls":3},{"v":0,"d":"0.0000"},{"v":0,"d":"0.000"},{"v":0,"d":"0.000"}]
[55,"капуста квашеная","кг",{"$f":"'Пн 1 день нед 2'!AG67","v":0},{"$nulls":7},{"v":0,"d":"0.0000"},{"v":0,"d":"0.0000"},{"$nulls":6},{"v":0,"d":"0.0000"},{"v":0,"d":"0.0000"},null,null,{"v":0,"d":"0.0000"},{"$nulls":3},{"v":0,"d":"0.0000"},{"v":0,"d":"0.000"},{"v":0,"d":"0.000"}]
[56,"молоко сгущенное  ","кг",{"$f":"'Пн 1 день нед 2'!AG68","v":0},{"$nulls":7},{"v":0,"d":"0.0000"},{"v":0,"d":"0.0000"},{"$nulls":6},{"v":0,"d":"0.0000"},{"v":0,"d":"0.0000"},null,null,{"v":0,"d":"0.0000"},{"$nulls":3},{"v":0,"d":"0.0000"},{"v":0,"d":"0.000"},{"v":0,"d":"0.000"}]
[57,"огурцы соленые","кг",{"$f":"'Пн 1 день нед 2'!AG69","v":-0.0273},{"$nulls":7},{"v":0,"d":"0.0000"},{"v":0,"d":"0.0000"},{"$nulls":6},{"v":0,"d":"0.0000"},{"v":0,"d":"0.0000"},null,null,{"v":0,"d":"0.0000"},{"$nulls":3},{"v":0,"d":"0.0000"},{"v":0,"d":"0.000"},{"v":-0.0273,"d":"-0.027"}]
[58,"повидло","кг",{"$f":"'Пн 1 день нед 2'!AG70","v":0},{"$nulls":7},{"v":0,"d":"0.0000"},{"v":0,"d":"0.0000"},{"$nulls":6},{"v":0,"d":"0.0000"},{"v":0,"d":"0.0000"},null,null,{"v":0,"d":"0.0000"},{"$nulls":3},{"v":0,"d":"0.0000"},{"v":0,"d":"0.000"},{"v":0,"d":"0.000"}]
[59,"томатная паста","кг",{"$f":"'Пн 1 день нед 2'!AG71","v":-0.0182},{"$nulls":7},{"v":0,"d":"0.0000"},{"$f":"(K71+J71+H71+G71+F71)*$M$5","v":{"v":0,"d":"0.0000"}},{"$nulls":6},{"v":0,"d":"0.0000"},{"v":0,"d":"0.0000"},null,null,{"v":0,"d":"0.0000"},{"v":1.5E-3,"d":"0.0015"},null,null,{"v":1.5E-3,"d":"0.0015"},{"v":1.5E-3,"d":"0.002"},{"$f":"(D71+E71)-AC71","v":{"v":-0.019700000000000002,"d":"-0.020"}}]
[60,"рыбные консервы","кг",{"$f":"'Пн 1 день нед 2'!AG72","v":0},{"$nulls":7},{"$f":"(F72+G72+I72+J72+K72)*$L$5","v":{"v":0,"d":"0.0000"}},{"v":0,"d":"0.0000"},{"$nulls":6},{"$f":"(N72+O72+Q72+R72+S72)*$T$5","v":{"v":0,"d":"0.0000"}},{"$f":"(N72+O72+P72+R72+S72)*$U$5","v":{"v":0,"d":"0.0000"}},null,null,{"$f":"(W72+V72)*$X$5","v":{"v":0,"d":"0.0000"}},{"$nulls":3},{"$f":"(AA72+Z72+Y72)*$AB$5","v":{"v":0,"d":"0.0000"}},{"$f":"L72+M72+T72+U72+X72+AB72","v":{"v":0,"d":"0.000"}},{"v":0,"d":"0.000"}]
[null,"Напитки",null,{"$f":"'Пн 1 день нед 2'!AG73","v":0},{"$nulls":7},{"v":0,"d":"0.0000"},{"v":0,"d":"0.0000"},{"$nulls":6},{"v":0,"d":"0.0000"},{"v":0,"d":"0.0000"},null,null,{"v":0,"d":"0.0000"},{"$nulls":3},{"v":0,"d":"0.0000"},{"v":0,"d":"0.000"},{"v":0,"d":"0.000"}]
[61,"чай весовой ","кг",{"$f":"'Пн 1 день нед 2'!AG74","v":-0.0125},{"$nulls":5},0.0005,null,0.0005,0.0005,{"$nulls":4},0.0005,null,0.0005,0.0005,null,0.0005,0.0005,{"$nulls":3},{"v":0,"d":"0.0000"},{"v":0.0025,"d":"0.003"},{"v":-0.015000000000000001,"d":"-0.015"}]
[62,"какао","кг",{"$f":"'Пн 1 день нед 2'!AG75","v":0},{"$nulls":7},{"v":0,"d":"0.0000"},{"v":0,"d":"0.0000"},{"$nulls":6},{"v":0,"d":"0.0000"},{"v":0,"d":"0.0000"},null,null,{"v":0,"d":"0.0000"},{"$nulls":3},{"v":0,"d":"0.0000"},{"v":0,"d":"0.000"},{"v":0,"d":"0.000"}]
[63,"кисель","кг",{"$f":"'Пн 1 день нед 2'!AG76","v":0},{"$nulls":7},{"v":0,"d":"0.0000"},{"v":0,"d":"0.0000"},{"$nulls":6},{"v":0,"d":"0.0000"},{"v":0,"d":"0.0000"},null,null,{"v":0,"d":"0.0000"},{"$nulls":3},{"v":0,"d":"0.0000"},{"v":0,"d":"0.000"},{"v":0,"d":"0.000"}]
[64,"кофейный напиток","кг",{"$f":"'Пн 1 день нед 2'!AG77","v":-0.01},{"$nulls":7},{"v":0,"d":"0.0000"},{"v":0,"d":"0.0000"},{"$nulls":6},{"v":0,"d":"0.0000"},{"v":0,"d":"0.0000"},null,null,{"v":0,"d":"0.0000"},{"$nulls":3},{"v":0,"d":"0.0000"},{"v":0,"d":"0.000"},{"v":-0.01,"d":"-0.010"}]
[65,"цикорий","кг",{"$f":"'Пн 1 день нед 2'!AG78","v":0},{"$nulls":7},{"v":0,"d":"0.0000"},{"v":0,"d":"0.0000"},{"$nulls":6},{"v":0,"d":"0.0000"},{"v":0,"d":"0.0000"},null,null,{"v":0,"d":"0.0000"},{"$nulls":3},{"v":0,"d":"0.0000"},{"v":0,"d":"0.000"},{"v":0,"d":"0.000"}]
[null,"Сухофрукты",null,{"$f":"'Пн 1 день нед 2'!AG79","v":0},{"$nulls":7},{"v":0,"d":"0.0000"},{"v":0,"d":"0.0000"},{"$nulls":6},{"v":0,"d":"0.0000"},{"v":0,"d":"0.0000"},null,null,{"v":0,"d":"0.0000"},{"$nulls":3},{"v":0,"d":"0.0000"},{"v":0,"d":"0.000"},{"v":0,"d":"0.000"}]
[66,"ассорти для компота (сухофрукты)","кг",{"$f":"'Пн 1 день нед 2'!AG80","v":-0.1632},{"$nulls":7},{"v":0,"d":"0.0000"},{"v":0,"d":"0.0000"},{"$nulls":6},{"v":0,"d":"0.0000"},{"v":0,"d":"0.0000"},null,null,{"v":0,"d":"0.0000"},null,0.0204,null,0.0204,{"v":0.0204,"d":"0.020"},{"v":-0.1836,"d":"-0.184"}]
[67,"изюм","кг",{"$f":"'Пн 1 день нед 2'!AG81","v":-0.0102},{"$nulls":7},{"v":0,"d":"0.0000"},{"v":0,"d":"0.0000"},{"$nulls":6},{"v":0,"d":"0.0000"},{"v":0,"d":"0.0000"},null,null,{"v":0,"d":"0.0000"},{"$nulls":3},{"v":0,"d":"0.0000"},{"v":0,"d":"0.000"},{"v":-0.0102,"d":"-0.010"}]
[68,"курага","кг",{"$f":"'Пн 1 день нед 2'!AG82","v":0},{"$nulls":7},{"v":0,"d":"0.0000"},{"v":0,"d":"0.0000"},{"$nulls":6},{"v":0,"d":"0.0000"},{"v":0,"d":"0.0000"},null,null,{"v":0,"d":"0.0000"},{"$nulls":3},{"v":0,"d":"0.0000"},{"v":0,"d":"0.000"},{"v":0,"d":"0.000"}]
[69,"урюк","кг",{"$f":"'Пн 1 день нед 2'!AG83","v":-0.0204},{"$nulls":7},{"v":0,"d":"0.0000"},{"v":0,"d":"0.0000"},{"$nulls":6},{"v":0,"d":"0.0000"},{"v":0,"d":"0.0000"},null,null,{"v":0,"d":"0.0000"},{"$nulls":3},{"v":0,"d":"0.0000"},{"v":0,"d":"0.000"},{"v":-0.0204,"d":"-0.020"}]
[70,"шиповник","кг",{"$f":"'Пн 1 день нед 2'!AG84","v":-0.0253},{"$nulls":7},{"v":0,"d":"0.0000"},{"v":0,"d":"0.0000"},{"$nulls":6},{"v":0,"d":"0.0000"},{"v":0,"d":"0.0000"},null,{"v":0.005,"d":"0.0050"},{"v":0.005,"d":"0.0050"},{"$nulls":3},{"v":0,"d":"0.0000"},0.005,{"v":-0.0303,"d":"-0.030"}]
[71,"компотная смесь с/м","кг",{"$f":"'Пн 1 день нед 2'!AG85","v":0},{"$nulls":7},{"v":0,"d":"0.0000"},{"v":0,"d":"0.0000"},{"$nulls":6},{"v":0,"d":"0.0000"},{"v":0,"d":"0.0000"},null,null,{"v":0,"d":"0.0000"},{"$nulls":3},{"v":0,"d":"0.0000"},{"v":0,"d":"0.000"},{"v":0,"d":"0.000"}]
[72,"вишня с/м","кг",{"$f":"'Пн 1 день нед 2'!AG86","v":0},{"$nulls":7},{"v":0,"d":"0.0000"},{"v":0,"d":"0.0000"},{"$nulls":6},{"v":0,"d":"0.0000"},{"v":0,"d":"0.0000"},null,null,{"v":0,"d":"0.0000"},{"$nulls":3},{"v":0,"d":"0.0000"},{"v":0,"d":"0.000"},{"v":0,"d":"0.000"}]
[73,"клюква с/м","кг",{"$f":"'Пн 1 день нед 2'!AG87","v":0},{"$nulls":7},{"v":0,"d":"0.0000"},{"v":0,"d":"0.0000"},{"$nulls":6},{"v":0,"d":"0.0000"},{"v":0,"d":"0.0000"},null,null,{"v":0,"d":"0.0000"},{"$nulls":3},{"v":0,"d":"0.0000"},{"v":0,"d":"0.000"},{"v":0,"d":"0.000"}]
[74,"смородина в ассорт с/м","кг",{"$f":"'Пн 1 день нед 2'!AG88","v":0},{"$nulls":7},{"v":0,"d":"0.0000"},{"v":0,"d":"0.0000"},{"$nulls":6},{"v":0,"d":"0.0000"},{"v":0,"d":"0.0000"},null,null,{"v":0,"d":"0.0000"},{"$nulls":3},{"v":0,"d":"0.0000"},{"v":0,"d":"0.000"},{"v":0,"d":"0.000"}]
[75,"облепиха с/м","кг",{"$f":"'Пн 1 день нед 2'!AG89","v":0},{"$nulls":7},{"v":0,"d":"0.0000"},{"v":0,"d":"0.0000"},{"$nulls":6},{"v":0,"d":"0.0000"},{"v":0,"d":"0.0000"},null,null,{"v":0,"d":"0.0000"},{"$nulls":3},{"v":0,"d":"0.0000"},{"v":0,"d":"0.000"},{"v":0,"d":"0.000"}]
[null,"Сок",null,{"$f":"'Пн 1 день нед 2'!AG90","v":0},{"$nulls":7},{"v":0,"d":"0.0000"},{"v":0,"d":"0.0000"},{"$nulls":6},{"v":0,"d":"0.0000"},{"v":0,"d":"0.0000"},null,null,{"v":0,"d":"0.0000"},{"$nulls":3},{"v":0,"d":"0.0000"},{"v":0,"d":"0.000"},{"v":0,"d":"0.000"}]
[76,"сок 0,125л или сок 0,2л","л",{"$f":"'Пн 1 день нед 2'!AG91","v":0},{"$nulls":7},{"v":0,"d":"0.0000"},{"v":0,"d":"0.0000"},{"$nulls":6},{"v":0,"d":"0.0000"},{"v":0,"d":"0.0000"},null,null,{"v":0,"d":"0.0000"},{"$nulls":3},{"v":0,"d":"0.0000"},{"v":0,"d":"0.000"},{"v":0,"d":"0.000"}]
[77,"нектар плодовый","л",{"$f":"'Пн 1 день нед 2'!AG92","v":0},{"$nulls":7},{"v":0,"d":"0.0000"},{"v":0,"d":"0.0000"},{"$nulls":6},{"v":0,"d":"0.0000"},{"v":0,"d":"0.0000"},null,null,{"v":0,"d":"0.0000"},{"$nulls":3},{"v":0,"d":"0.0000"},{"v":0,"d":"0.000"},{"v":0,"d":"0.000"}]
[null,"Кондитерка",null,{"$f":"'Пн 1 день нед 2'!AG93","v":0},{"$nulls":7},{"v":0,"d":"0.0000"},{"v":0,"d":"0.0000"},{"$nulls":6},{"v":0,"d":"0.0000"},{"v":0,"d":"0.0000"},null,null,{"v":0,"d":"0.0000"},{"$nulls":3},{"v":0,"d":"0.0000"},{"v":0,"d":"0.000"},{"v":0,"d":"0.000"}]
[78,"батончик злаковый","шт",{"$f":"'Пн 1 день нед 2'!AG94","v":0},{"$nulls":7},{"v":0,"d":"0.0000"},{"v":0,"d":"0.0000"},{"$nulls":6},{"v":0,"d":"0.0000"},{"v":0,"d":"0.0000"},null,null,{"v":0,"d":"0.0000"},{"$nulls":3},{"v":0,"d":"0.0000"},{"v":0,"d":"0.000"},{"v":0,"d":"0.000"}]
[79,"пряник","кг",{"$f":"'Пн 1 день нед 2'!AG95","v":-0.035},{"$nulls":7},{"v":0,"d":"0.0000"},{"v":0,"d":"0.0000"},{"$nulls":6},{"v":0,"d":"0.0000"},{"v":0,"d":"0.0000"},null,null,{"v":0,"d":"0.0000"},{"$nulls":3},{"v":0,"d":"0.0000"},{"v":0,"d":"0.000"},-0.035]
[80,"вафли ","кг",{"$f":"'Пн 1 день нед 2'!AG96","v":-0.2},{"$nulls":7},{"v":0,"d":"0.0000"},{"v":0,"d":"0.0000"},{"$nulls":6},{"v":0,"d":"0.0000"},{"v":0,"d":"0.0000"},null,null,{"v":0,"d":"0.0000"},{"$nulls":3},{"v":0,"d":"0.0000"},{"v":0,"d":"0.000"},{"v":-0.2,"d":"-0.200"}]
[81,"печенье","кг",{"$f":"'Пн 1 день нед 2'!AG97","v":-0.04},{"$nulls":7},{"v":0,"d":"0.0000"},{"v":0,"d":"0.0000"},{"$nulls":6},{"v":0,"d":"0.0000"},{"v":0,"d":"0.0000"},{"v":0.02,"d":"0.0200"},null,{"v":0.02,"d":"0.0200"},{"$nulls":3},{"v":0,"d":"0.0000"},{"v":0.02,"d":"0.020"},{"v":-0.06,"d":"-0.060"}]
[82,"крекер","кг",{"$f":"'Пн 1 день нед 2'!AG98","v":-0.03},{"$nulls":7},{"v":0,"d":"0.0000"},{"v":0,"d":"0.0000"},{"$nulls":6},{"v":0,"d":"0.0000"},{"v":0,"d":"0.0000"},null,null,{"v":0,"d":"0.0000"},{"$nulls":3},{"v":0,"d":"0.0000"},{"v":0,"d":"0.000"},{"v":-0.03,"d":"-0.030"}]
[83,"сушки","кг",{"$f":"'Пн 1 день нед 2'!AG99","v":-0.03},{"$nulls":7},{"v":0,"d":"0.0000"},{"v":0,"d":"0.0000"},{"$nulls":6},{"v":0,"d":"0.0000"},{"v":0,"d":"0.0000"},null,null,{"v":0,"d":"0.0000"},{"$nulls":3},{"v":0,"d":"0.0000"},{"v":0,"d":"0.000"},{"v":-0.03,"d":"-0.030"}]
[84,"мармелад","кг",{"$f":"'Пн 1 день нед 2'!AG100","v":0},{"$nulls":7},{"v":0,"d":"0.0000"},{"v":0,"d":"0.0000"},{"$nulls":6},{"v":0,"d":"0.0000"},{"v":0,"d":"0.0000"},null,null,{"v":0,"d":"0.0000"},{"$nulls":3},{"v":0,"d":"0.0000"},{"v":0,"d":"0.000"},{"v":0,"d":"0.000"}]
[85,"блины п/ф","кг",{"$f":"'Пн 1 день нед 2'!AG101","v":0},{"$nulls":7},{"v":0,"d":"0.0000"},{"v":0,"d":"0.0000"},{"$nulls":6},{"v":0,"d":"0.0000"},{"v":0,"d":"0.0000"},null,null,{"v":0,"d":"0.0000"},{"$nulls":3},{"v":0,"d":"0.0000"},{"v":0,"d":"0.000"},{"v":0,"d":"0.000"}]
[86,"выпечка п/ф со склада","шт",{"$f":"'Пн 1 день нед 2'!AG102","v":0},{"$nulls":7},{"v":0,"d":"0.0000"},{"v":0,"d":"0.0000"},{"$nulls":6},{"v":0,"d":"0.0000"},{"v":0,"d":"0.0000"},null,null,{"v":0,"d":"0.0000"},{"$nulls":3},{"v":0,"d":"0.0000"},{"v":0,"d":"0.000"},{"v":0,"d":"0.000"}]
[null,"Яйцо",null,{"$f":"'Пн 1 день нед 2'!AG103","v":0},{"$nulls":7},{"v":0,"d":"0.0000"},{"$f":"(K103+J103+H103+G103+F103)*$M$5","v":{"v":0,"d":"0.0000"}},{"$nulls":6},{"v":0,"d":"0.0000"},{"v":0,"d":"0.0000"},null,null,{"v":0,"d":"0.0000"},{"$nulls":3},{"v":0,"d":"0.0000"},{"v":0,"d":"0.000"},{"$f":"(D103+E103)-AC103","v":{"v":0,"d":"0.000"}}]
[87,"яйцо куриное","кг",{"$f":"'Пн 1 день нед 2'!AG104","v":-4.8000000000000004E-3},{"$nulls":7},{"v":0,"d":"0.0000"},{"v":0,"d":"0.0000"},{"$nulls":6},{"v":0,"d":"0.0000"},{"v":0,"d":"0.0000"},null,null,{"v":0,"d":"0.0000"},{"$nulls":3},{"v":0,"d":"0.0000"},{"v":0,"d":"0.000"},{"v":-4.8000000000000004E-3,"d":"-0.005"}]
[null,0.048,"шт",{"$f":"'Пн 1 день нед 2'!AG105","v":0},{"$nulls":7},{"v":0,"d":"0.0000"},{"v":0,"d":"0.0000"},{"$nulls":6},{"v":0,"d":"0.0000"},{"v":0,"d":"0.0000"},null,null,{"v":0,"d":"0.0000"},{"$nulls":3},{"v":0,"d":"0.0000"},{"v":0,"d":"0.000"},{"v":0,"d":"0.000"}]
[null,"Овощи заморозка",null,{"$f":"'Пн 1 день нед 2'!AG106","v":0},{"$nulls":7},{"v":0,"d":"0.0000"},{"v":0,"d":"0.0000"},{"$nulls":6},{"v":0,"d":"0.0000"},{"v":0,"d":"0.0000"},null,null,{"v":0,"d":"0.0000"},{"$nulls":3},{"v":0,"d":"0.0000"},{"v":0,"d":"0.000"},{"v":0,"d":"0.000"}]
[88,"зеленый горошек с/м","кг",{"$f":"'Пн 1 день нед 2'!AG107","v":0},{"$nulls":7},{"v":0,"d":"0.0000"},{"v":0,"d":"0.0000"},{"$nulls":6},{"v":0,"d":"0.0000"},{"v":0,"d":"0.0000"},null,null,{"v":0,"d":"0.0000"},{"$nulls":3},{"v":0,"d":"0.0000"},{"v":0,"d":"0.000"},{"v":0,"d":"0.000"}]
[89,"кабачки с/м","кг",{"$f":"'Пн 1 день нед 2'!AG108","v":0},{"$nulls":7},{"v":0,"d":"0.0000"},{"v":0,"d":"0.0000"},{"$nulls":6},{"v":0,"d":"0.0000"},{"v":0,"d":"0.0000"},null,null,{"v":0,"d":"0.0000"},{"$nulls":3},{"v":0,"d":"0.0000"},{"v":0,"d":"0.000"},{"v":0,"d":"0.000"}]
[90,"мексиканс смесь с/м","кг",{"$f":"'Пн 1 день нед 2'!AG109","v":0},{"$nulls":7},{"v":0,"d":"0.0000"},{"v":0,"d":"0.0000"},{"$nulls":6},{"v":0,"d":"0.0000"},{"v":0,"d":"0.0000"},null,null,{"v":0,"d":"0.0000"},{"$nulls":3},{"v":0,"d":"0.0000"},{"v":0,"d":"0.000"},{"v":0,"d":"0.000"}]
[91,"капуста цветная с/м","кг",{"$f":"'Пн 1 день нед 2'!AG110","v":0},{"$nulls":7},{"v":0,"d":"0.0000"},{"v":0,"d":"0.0000"},{"$nulls":6},{"v":0,"d":"0.0000"},{"v":0,"d":"0.0000"},null,null,{"v":0,"d":"0.0000"},{"$nulls":3},{"v":0,"d":"0.0000"},{"v":0,"d":"0.000"},{"v":0,"d":"0.000"}]
[92,"брокколи с/м","кг",{"$f":"'Пн 1 день нед 2'!AG111","v":0},{"$nulls":7},{"v":0,"d":"0.0000"},{"v":0,"d":"0.0000"},{"$nulls":6},{"v":0,"d":"0.0000"},{"v":0,"d":"0.0000"},null,null,{"v":0,"d":"0.0000"},{"$nulls":3},{"v":0,"d":"0.0000"},{"v":0,"d":"0.000"},{"v":0,"d":"0.000"}]
[93,"кукуруза с/м","кг",{"$f":"'Пн 1 день нед 2'!AG112","v":0},{"$nulls":7},{"v":0,"d":"0.0000"},{"v":0,"d":"0.0000"},{"$nulls":6},{"v":0,"d":"0.0000"},{"v":0,"d":"0.0000"},null,null,{"v":0,"d":"0.0000"},{"$nulls":3},{"v":0,"d":"0.0000"},{"v":0,"d":"0.000"},{"v":0,"d":"0.000"}]
[94,"фасоль стручковая с/м","кг",{"$f":"'Пн 1 день нед 2'!AG113","v":0},{"$nulls":7},{"v":0,"d":"0.0000"},{"v":0,"d":"0.0000"},{"$nulls":6},{"v":0,"d":"0.0000"},{"v":0,"d":"0.0000"},null,null,{"v":0,"d":"0.0000"},{"$nulls":3},{"v":0,"d":"0.0000"},{"v":0,"d":"0.000"},{"v":0,"d":"0.000"}]
[null,"Фрукты",null,{"$f":"'Пн 1 день нед 2'!AG114","v":0},{"$nulls":7},{"v":0,"d":"0.0000"},{"v":0,"d":"0.0000"},{"$nulls":6},{"v":0,"d":"0.0000"},{"v":0,"d":"0.0000"},null,null,{"v":0,"d":"0.0000"},{"$nulls":3},{"v":0,"d":"0.0000"},{"v":0,"d":"0.000"},{"v":0,"d":"0.000"}]
[95,"апельсин","кг",{"$f":"'Пн 1 день нед 2'!AG115","v":0},{"$nulls":7},{"v":0,"d":"0.0000"},{"v":0,"d":"0.0000"},{"$nulls":6},{"v":0,"d":"0.0000"},{"v":0,"d":"0.0000"},null,null,{"v":0,"d":"0.0000"},{"$nulls":3},{"v":0,"d":"0.0000"},{"v":0,"d":"0.000"},{"v":0,"d":"0.000"}]
[96,"банан","кг",{"$f":"'Пн 1 день нед 2'!AG116","v":0},{"$nulls":7},{"v":0,"d":"0.0000"},{"v":0,"d":"0.0000"},{"$nulls":6},{"v":0,"d":"0.0000"},{"v":0,"d":"0.0000"},null,null,{"v":0,"d":"0.0000"},{"$nulls":3},{"v":0,"d":"0.0000"},{"v":0,"d":"0.000"},{"v":0,"d":"0.000"}]
[97,"груши","кг",{"$f":"'Пн 1 день нед 2'!AG117","v":0},{"$nulls":7},{"v":0,"d":"0.0000"},{"v":0,"d":"0.0000"},{"$nulls":6},{"v":0,"d":"0.0000"},{"v":0,"d":"0.0000"},null,null,{"v":0,"d":"0.0000"},{"$nulls":3},{"v":0,"d":"0.0000"},{"v":0,"d":"0.000"},{"v":0,"d":"0.000"}]
[98,"мандарины","кг",{"$f":"'Пн 1 день нед 2'!AG118","v":0},{"$nulls":7},{"v":0,"d":"0.0000"},{"v":0,"d":"0.0000"},{"$nulls":6},{"v":0,"d":"0.0000"},{"v":0,"d":"0.0000"},null,null,{"v":0,"d":"0.0000"},{"$nulls":3},{"v":0,"d":"0.0000"},{"v":0,"d":"0.000"},{"v":0,"d":"0.000"}]
[99,"лимон","кг",{"$f":"'Пн 1 день нед 2'!AG119","v":-0.04},{"$nulls":7},{"v":0,"d":"0.0000"},{"v":0,"d":"0.0000"},{"$nulls":6},{"v":0,"d":"0.0000"},{"v":0,"d":"0.0000"},null,null,{"v":0,"d":"0.0000"},{"$nulls":3},{"v":0,"d":"0.0000"},{"v":0,"d":"0.000"},{"v":-0.04,"d":"-0.040"}]
[100,"яблоки свежие","кг",{"$f":"'Пн 1 день нед 2'!AG120","v":-0.7024},{"$nulls":7},{"v":0,"d":"0.0000"},{"v":0,"d":"0.0000"},{"$nulls":6},{"v":0,"d":"0.0000"},{"v":0,"d":"0.0000"},null,null,{"v":0,"d":"0.0000"},{"$nulls":3},{"v":0,"d":"0.0000"},{"v":0,"d":"0.000"},{"v":-0.7024,"d":"-0.702"}]
[null,"Овощи / зелень ",null,{"$f":"'Пн 1 день нед 2'!AG121","v":0},{"$nulls":7},{"v":0,"d":"0.0000"},{"v":0,"d":"0.0000"},{"$nulls":6},{"v":0,"d":"0.0000"},{"v":0,"d":"0.0000"},null,null,{"v":0,"d":"0.0000"},{"$nulls":3},{"v":0,"d":"0.0000"},{"v":0,"d":"0.000"},{"v":0,"d":"0.000"}]
[101,"капуста свежая","кг",{"$f":"'Пн 1 день нед 2'!AG122","v":-0.22999999999999998},{"$nulls":7},{"v":0,"d":"0.0000"},{"v":0,"d":"0.0000"},{"$nulls":6},{"v":0,"d":"0.0000"},{"v":0,"d":"0.0000"},null,null,{"v":0,"d":"0.0000"},0.0625,null,null,0.0625,{"v":0.0625,"d":"0.063"},{"v":-0.2925,"d":"-0.293"}]
[102,"картофель","кг",{"$f":"'Пн 1 день нед 2'!AG123","v":-0.98467},null,null,{"v":0.171,"d":"0.1710"},{"$nulls":4},{"v":0.171,"d":"0.1710"},{"v":0.171,"d":"0.1710"},null,{"v":0.171,"d":"0.1710"},{"$nulls":4},{"v":0.171,"d":"0.1710"},{"v":0.171,"d":"0.1710"},null,null,{"v":0,"d":"0.0000"},{"v":0.04,"d":"0.0400"},null,null,{"v":0.04,"d":"0.0400"},{"v":0.7240000000000001,"d":"0.724"},{"v":-1.7086700000000001,"d":"-1.709"}]
[103,"лук репчатый","кг",{"$f":"'Пн 1 день нед 2'!AG124","v":-0.2419},{"$nulls":3},{"v":0.012,"d":"0.0120"},{"$nulls":3},{"v":0,"d":"0.0000"},{"v":0.012,"d":"0.0120"},null,null,{"v":0.012,"d":"0.0120"},{"$nulls":3},{"v":0,"d":"0.0000"},{"v":0.012,"d":"0.0120"},null,null,{"v":0,"d":"0.0000"},{"v":0.013,"d":"0.0130"},null,null,{"v":0.013,"d":"0.0130"},0.037,{"v":-0.2789,"d":"-0.279"}]
[104,"морковь","кг",{"$f":"'Пн 1 день нед 2'!AG125","v":-0.14125000000000001},{"$nulls":7},{"v":0,"d":"0.0000"},{"v":0,"d":"0.0000"},{"$nulls":6},{"v":0,"d":"0.0000"},{"v":0,"d":"0.0000"},null,null,{"v":0,"d":"0.0000"},{"v":0.014,"d":"0.0140"},null,null,{"v":0.014,"d":"0.0140"},0.014,{"v":-0.15525000000000003,"d":"-0.155"}]
[105,"свекла","кг",{"$f":"'Пн 1 день нед 2'!AG126","v":-0.292},null,{"v":0.073,"d":"0.0730"},{"$nulls":5},{"v":0.073,"d":"0.0730"},{"v":0.073,"d":"0.0730"},{"v":0.119,"d":"0.1190"},{"$nulls":5},{"v":0.119,"d":"0.1190"},{"v":0.119,"d":"0.1190"},null,null,{"v":0,"d":"0.0000"},{"$nulls":3},{"v":0,"d":"0.0000"},0.384,{"v":-0.6759999999999999,"d":"-0.676"}]
[106,"огурцы св.","кг",{"$f":"'Пн 1 день нед 2'!AG127","v":0},{"$nulls":7},{"v":0,"d":"0.0000"},{"v":0,"d":"0.0000"},{"$nulls":6},{"v":0,"d":"0.0000"},{"v":0,"d":"0.0000"},null,null,{"v":0,"d":"0.0000"},{"$nulls":3},{"v":0,"d":"0.0000"},{"v":0,"d":"0.000"},{"v":0,"d":"0.000"}]
[107,"томаты св.","кг",{"$f":"'Пн 1 день нед 2'!AG128","v":0},{"$nulls":7},{"v":0,"d":"0.0000"},{"v":0,"d":"0.0000"},{"$nulls":6},{"v":0,"d":"0.0000"},{"v":0,"d":"0.0000"},null,null,{"v":0,"d":"0.0000"},{"$nulls":3},{"v":0,"d":"0.0000"},{"v":0,"d":"0.000"},{"v":0,"d":"0.000"}]
[108,"перец болг.красный","кг",{"$f":"'Пн 1 день нед 2'!AG129","v":0},{"$nulls":7},{"v":0,"d":"0.0000"},{"v":0,"d":"0.0000"},{"$nulls":6},{"v":0,"d":"0.0000"},{"v":0,"d":"0.0000"},null,null,{"v":0,"d":"0.0000"},{"$nulls":3},{"v":0,"d":"0.0000"},{"v":0,"d":"0.000"},{"v":0,"d":"0.000"}]
[109,"тыква","кг",{"$f":"'Пн 1 день нед 2'!AG130","v":0},{"$nulls":7},{"v":0,"d":"0.0000"},{"v":0,"d":"0.0000"},{"$nulls":6},{"v":0,"d":"0.0000"},{"v":0,"d":"0.0000"},null,null,{"v":0,"d":"0.0000"},{"$nulls":3},{"v":0,"d":"0.0000"},{"v":0,"d":"0.000"},{"v":0,"d":"0.000"}]
[null,"Овощи очищенные ",null,{"$f":"'Пн 1 день нед 2'!AG131","v":0},{"$nulls":7},{"v":0,"d":"0.0000"},{"v":0,"d":"0.0000"},{"$nulls":6},{"v":0,"d":"0.0000"},{"v":0,"d":"0.0000"},null,null,{"v":0,"d":"0.0000"},{"$nulls":3},{"v":0,"d":"0.0000"},{"v":0,"d":"0.000"},{"v":0,"d":"0.000"}]
[110,"капуста св.очищенная","кг",{"$f":"'Пн 1 день нед 2'!AG132","v":0},{"$nulls":7},{"v":0,"d":"0.0000"},{"v":0,"d":"0.0000"},{"$nulls":6},{"v":0,"d":"0.0000"},{"v":0,"d":"0.0000"},null,null,{"v":0,"d":"0.0000"},{"$nulls":3},{"v":0,"d":"0.0000"},{"v":0,"d":"0.000"},{"v":0,"d":"0.000"}]
[111,"картофель св. очищенный","кг",{"$f":"'Пн 1 день нед 2'!AG133","v":0},{"$nulls":7},{"v":0,"d":"0.0000"},{"v":0,"d":"0.0000"},{"$nulls":6},{"v":0,"d":"0.0000"},{"v":0,"d":"0.0000"},null,null,{"v":0,"d":"0.0000"},{"$nulls":3},{"v":0,"d":"0.0000"},{"v":0,"d":"0.000"},{"v":0,"d":"0.000"}]
[112,"лук репчатый св.очищенный","кг",{"$f":"'Пн 1 день нед 2'!AG134","v":0},{"$nulls":7},{"v":0,"d":"0.0000"},{"v":0,"d":"0.0000"},{"$nulls":6},{"v":0,"d":"0.0000"},{"v":0,"d":"0.0000"},null,null,{"v":0,"d":"0.0000"},{"$nulls":3},{"v":0,"d":"0.0000"},{"v":0,"d":"0.000"},{"v":0,"d":"0.000"}]
[113,"морковь св.очищенная","кг",{"$f":"'Пн 1 день нед 2'!AG135","v":0},{"$nulls":7},{"v":0,"d":"0.0000"},{"$f":"(K135+J135+H135+G135+F135)*$M$5","v":{"v":0,"d":"0.0000"}},{"$nulls":6},{"v":0,"d":"0.0000"},{"v":0,"d":"0.0000"},null,null,{"v":0,"d":"0.0000"},{"$nulls":3},{"v":0,"d":"0.0000"},{"v":0,"d":"0.000"},{"$f":"(D135+E135)-AC135","v":{"v":0,"d":"0.000"}}]
[114,"свекла св.очищенная","кг",{"$f":"'Пн 1 день нед 2'!AG136","v":0},{"$nulls":7},{"$f":"(F136+G136+I136+J136+K136)*$L$5","v":{"v":0,"d":"0.0000"}},{"v":0,"d":"0.0000"},{"$nulls":6},{"$f":"(N136+O136+Q136+R136+S136)*$T$5","v":{"v":0,"d":"0.0000"}},{"$f":"(N136+O136+P136+R136+S136)*$U$5","v":{"v":0,"d":"0.0000"}},null,null,{"$f":"(W136+V136)*$X$5","v":{"v":0,"d":"0.0000"}},{"$nulls":3},{"$f":"(AA136+Z136+Y136)*$AB$5","v":{"v":0,"d":"0.0000"}},{"$f":"L136+M136+T136+U136+X136+AB136","v":{"v":0,"d":"0.000"}},{"v":0,"d":"0.000"}]
[null,"Полуфабрикаты",null,{"$f":"'Пн 1 день нед 2'!AG137","v":0},{"$nulls":7},{"v":0,"d":"0.0000"},{"v":0,"d":"0.0000"},{"$nulls":6},{"v":0,"d":"0.0000"},{"v":0,"d":"0.0000"},null,null,{"v":0,"d":"0.0000"},{"$nulls":3},{"v":0,"d":"0.0000"},{"v":0,"d":"0.000"},{"v":0,"d":"0.000"}]
[115,"сырники ПФ","шт",{"$f":"'Пн 1 день нед 2'!AG138","v":-2},{"$nulls":7},{"v":0,"d":"0.0000"},{"v":0,"d":"0.0000"},{"$nulls":6},{"v":0,"d":"0.0000"},{"v":0,"d":"0.0000"},{"$nulls":7},{"v":0,"d":"0.000"},{"v":-2,"d":"-2.000"}]
[116,"пельмени ПФ","кг",{"$f":"'Пн 1 день нед 2'!AG139","v":0},{"$nulls":7},{"v":0,"d":"0.0000"},{"v":0,"d":"0.0000"},{"$nulls":6},{"v":0,"d":"0.0000"},{"v":0,"d":"0.0000"},null,null,{"v":0,"d":"0.0000"},{"$nulls":3},{"v":0,"d":"0.0000"},{"v":0,"d":"0.000"},{"v":0,"d":"0.000"}]
[117,"биточки рыбные","шт",{"$f":"'Пн 1 день нед 2'!AG140","v":-2},{"$nulls":4},1,null,null,{"v":1,"d":"1.0000"},{"v":0,"d":"0.0000"},{"$nulls":3},1,null,null,{"v":1,"d":"1.0000"},{"v":0,"d":"0.0000"},null,null,{"v":0,"d":"0.0000"},{"$nulls":3},{"v":0,"d":"0.0000"},{"v":2,"d":"2.000"},{"v":-4,"d":"-4.000"}]
[118,"фрикадельки мясные ","кг",{"$f":"'Пн 1 день нед 2'!AG141","v":0},{"$nulls":7},{"v":0,"d":"0.0000"},{"v":0,"d":"0.0000"},{"$nulls":6},{"v":0,"d":"0.0000"},{"v":0,"d":"0.0000"},null,null,{"v":0,"d":"0.0000"},{"$nulls":3},{"v":0,"d":"0.0000"},{"v":0,"d":"0.000"},{"v":0,"d":"0.000"}]
[119,"фрикадельки куриные","кг",{"$f":"'Пн 1 день нед 2'!AG142","v":0},{"$nulls":7},{"v":0,"d":"0.0000"},{"v":0,"d":"0.0000"},{"$nulls":6},{"v":0,"d":"0.0000"},{"v":0,"d":"0.0000"},null,null,{"v":0,"d":"0.0000"},{"$nulls":3},{"v":0,"d":"0.0000"},{"v":0,"d":"0.000"},{"v":0,"d":"0.000"}]
[120,"хинкали п/ф из говядины","кг",{"$f":"'Пн 1 день нед 2'!AG143","v":0},{"$nulls":7},{"v":0,"d":"0.0000"},{"v":0,"d":"0.0000"},{"$nulls":6},{"v":0,"d":"0.0000"},{"v":0,"d":"0.0000"},null,null,{"v":0,"d":"0.0000"},{"$nulls":3},{"v":0,"d":"0.0000"},{"v":0,"d":"0.000"},{"v":0,"d":"0.000"}]
[121,"котлеты из говядины \"Домашние\"  ","шт",{"$f":"'Пн 1 день нед 2'!AG144","v":-2},{"$nulls":7},{"v":0,"d":"0.0000"},{"v":0,"d":"0.0000"},{"$nulls":6},{"v":0,"d":"0.0000"},{"v":0,"d":"0.0000"},null,null,{"v":0,"d":"0.0000"},{"$nulls":3},{"v":0,"d":"0.0000"},{"v":0,"d":"0.000"},{"v":-2,"d":"-2.000"}]
[122,"бифштекс из говядины","шт",{"$f":"'Пн 1 день нед 2'!AG145","v":0},{"$nulls":7},{"v":0,"d":"0.0000"},{"v":0,"d":"0.0000"},{"$nulls":6},{"v":0,"d":"0.0000"},{"v":0,"d":"0.0000"},null,null,{"v":0,"d":"0.0000"},{"$nulls":3},{"v":0,"d":"0.0000"},{"v":0,"d":"0.000"},{"v":0,"d":"0.000"}]
[123,"котлеты из мяса кур","шт",{"$f":"'Пн 1 день нед 2'!AG146","v":0},{"$nulls":7},{"v":0,"d":"0.0000"},{"v":0,"d":"0.0000"},{"$nulls":6},{"v":0,"d":"0.0000"},{"v":0,"d":"0.0000"},null,null,{"v":0,"d":"0.0000"},{"$nulls":3},{"v":0,"d":"0.0000"},{"v":0,"d":"0.000"},{"v":0,"d":"0.000"}]
[124,"котлеты \"Аппетитные\" мясо-куриные  ","шт",{"$f":"'Пн 1 день нед 2'!AG147","v":0},{"$nulls":7},{"v":0,"d":"0.0000"},{"v":0,"d":"0.0000"},{"$nulls":6},{"v":0,"d":"0.0000"},{"v":0,"d":"0.0000"},null,null,{"v":0,"d":"0.0000"},{"$nulls":3},{"v":0,"d":"0.0000"},{"v":0,"d":"0.000"},{"v":0,"d":"0.000"}]
[125,"ежики мясные с рисом ","шт",{"$f":"'Пн 1 день нед 2'!AG148","v":0},{"$nulls":7},{"v":0,"d":"0.0000"},{"v":0,"d":"0.0000"},{"$nulls":6},{"v":0,"d":"0.0000"},{"v":0,"d":"0.0000"},null,null,{"v":0,"d":"0.0000"},{"$nulls":3},{"v":0,"d":"0.0000"},{"v":0,"d":"0.000"},{"v":0,"d":"0.000"}]

{"sheet":"Ср День 3 Нед 2","index":9,"n_rows":148,"n_cols":28,"rows_kept":148,"merged":[[0,0,0,25],[1,5,1,9],[1,10,3,10],[1,11,1,16],[1,17,3,17],[1,18,3,18],[1,19,1,20],[1,21,3,21],[1,22,1,24],[1,25,3,25],[1,26,3,26],[1,27,3,27]]}
["Расход продуктов питания в образовательных учереждениях  "]
[{"$nulls":5},"Меню с 1 по 4 класс   69,43  РУБ",{"$nulls":4},"ИТОГО","Меню с 5 по 11 класс  69,43 РУБ   ",{"$nulls":5},"ИТОГО",null,"Меню на сумму         9,60  РУБ",null,"ИТОГО","Меню   ",null,null,"ИТОГО","ВСЕГО ЗА ДЕНЬ расход продуктов по всем рационам","остаток на конец"]
[null,"ДЕНЬ 3 неделя 2",null,"остаток на начало","приход",null,"Яблоко свежее","Плов из куриной грудки с рисовой крупой","Чай с сахаром с лимоном","Хлеб пшеничн /ржаной",null,null,"Яблоко свежее","Плов из куриной грудки с рисовой крупой","Чай с сахаром с лимоном","Хлеб пшеничн /ржаной",{"$nulls":3},"пряники","Чай с сахаром",null,"суп с рисовой крупой с мясн фрикад ","напиток из шиповника","Хлеб ржаной "]
[null,"КОЛИЧЕСТВО ДЕТЕЙ",{"$nulls":3},"7-11","7-11","7-11","7-11","7-11",null,null,"12-18","12-18","7-11","12-18",{"$nulls":3},"12-18","12-18",null,"12-18","12-18","12-18"]
[null,"Выход,гр",{"$nulls":4},"100","50/150","185/10/5","25/20",1,null,"100","50/150","185/10/5","20/30",null,"1",null,"35","190/10",1,"250/10","200","30","1",{"$f":"K5+R5+V5+Z5","v":4}]
[null,"Хлеб"]
[1,"батон ","кг",{"$f":"'Вт День 2 Нед 2'!AD7","v":0},{"$nulls":6},{"$f":"(G7+H7+I7+J7)","v":{"v":0,"d":"0.0000"}},{"$nulls":6},{"$f":"(L7+M7+N7+O7+P7)*$R$5","v":{"v":0,"d":"0.0000"}},{"$nulls":3},{"$f":"(U7+T7)*$V$5","v":{"v":0,"d":"0.0000"}},{"$nulls":3},{"$f":"(Y7+X7+W7)*$Z$5","v":{"v":0,"d":"0.0000"}},{"$f":"K7+R7+V7+Z7","v":{"v":0,"d":"0.000"}},{"$f":"(D7+E7)-AA7","v":{"v":0,"d":"0.000"}}]
[2,"хлеб пшеничный ","кг",{"$f":"'Вт День 2 Нед 2'!AD8","v":-0.48519999999999996},{"$nulls":5},{"v":0.025,"d":"0.0250"},{"$f":"(G8+H8+I8+J8)","v":{"v":0.025,"d":"0.0250"}},{"$nulls":4},{"v":0.02,"d":"0.0200"},null,{"$f":"(L8+M8+N8+O8+P8)*$R$5","v":{"v":0.02,"d":"0.0200"}},{"$nulls":3},{"$f":"(U8+T8)*$V$5","v":{"v":0,"d":"0.0000"}},{"$nulls":3},{"$f":"(Y8+X8+W8)*$Z$5","v":{"v":0,"d":"0.0000"}},0.045,{"v":-0.5302,"d":"-0.530"}]
[3,"хлеб ржаной","кг",{"$f":"'Вт День 2 Нед 2'!AD9","v":-1.075},{"$nulls":5},{"v":0.02,"d":"0.0200"},{"v":0.02,"d":"0.0200"},{"$nulls":4},{"v":0.03,"d":"0.0300"},null,{"v":0.03,"d":"0.0300"},{"$nulls":3},{"v":0,"d":"0.0000"},null,null,{"v":0.03,"d":"0.0300"},{"v":0.03,"d":"0.0300"},{"v":0.08,"d":"0.080"},-1.155]
[4,"булоч/выпечка готов с х/ком","шт",{"$f":"'Вт День 2 Нед 2'!AD10","v":-1},{"$nulls":6},{"v":0,"d":"0.0000"},{"$nulls":6},{"v":0,"d":"0.0000"},{"$nulls":3},{"v":0,"d":"0.0000"},{"$nulls":3},{"v":0,"d":"0.0000"},{"v":0,"d":"0.000"},{"v":-1,"d":"-1.000"}]
[null,"Молочка",null,{"$f":"'Вт День 2 Нед 2'!AD11","v":0},{"$nulls":6},{"v":0,"d":"0.0000"},{"$nulls":6},{"v":0,"d":"0.0000"},{"$nulls":3},{"v":0,"d":"0.0000"},{"$nulls":3},{"v":0,"d":"0.0000"},{"v":0,"d":"0.000"},{"v":0,"d":"0.000"}]
[5,"молоко 2,5%","кг",{"$f":"'Вт День 2 Нед 2'!AD12","v":-0.5519000000000001},{"$nulls":6},{"v":0,"d":"0.0000"},{"$nulls":6},{"v":0,"d":"0.0000"},{"$nulls":3},{"v":0,"d":"0.0000"},{"$nulls":3},{"v":0,"d":"0.0000"},{"v":0,"d":"0.000"},{"v":-0.5519000000000001,"d":"-0.552"}]
[6,"творог 5%","кг",{"$f":"'Вт День 2 Нед 2'!AD13","v":0},{"$nulls":6},{"v":0,"d":"0.0000"},{"$nulls":6},{"v":0,"d":"0.0000"},{"$nulls":3},{"v":0,"d":"0.0000"},{"$nulls":3},{"v":0,"d":"0.0000"},{"v":0,"d":"0.000"},{"v":0,"d":"0.000"}]
[7,"сметана 15%","кг",{"$f":"'Вт День 2 Нед 2'!AD14","v":-0.08},{"$nulls":6},{"v":0,"d":"0.0000"},{"$nulls":6},{"v":0,"d":"0.0000"},{"$nulls":3},{"v":0,"d":"0.0000"},{"$nulls":3},{"v":0,"d":"0.0000"},{"v":0,"d":"0.000"},{"v":-0.08,"d":"-0.080"}]
[8,"йогурт фруктов ","кг",{"$f":"'Вт День 2 Нед 2'!AD15","v":0},{"$nulls":6},{"v":0,"d":"0.0000"},{"$nulls":6},{"v":0,"d":"0.0000"},{"$nulls":3},{"v":0,"d":"0.0000"},{"$nulls":3},{"v":0,"d":"0.0000"},{"v":0,"d":"0.000"},{"v":0,"d":"0.000"}]
[9,"катык 2,5%","кг",{"$f":"'Вт День 2 Нед 2'!AD16","v":0},{"$nulls":6},{"v":0,"d":"0.0000"},{"$nulls":6},{"v":0,"d":"0.0000"},{"$nulls":3},{"v":0,"d":"0.0000"},{"$nulls":3},{"v":0,"d":"0.0000"},{"v":0,"d":"0.000"},{"v":0,"d":"0.000"}]
[10,"кефир 2,5%","кг",{"$f":"'Вт День 2 Нед 2'!AD17","v":0},{"$nulls":6},{"v":0,"d":"0.0000"},{"$nulls":6},{"v":0,"d":"0.0000"},{"$nulls":3},{"v":0,"d":"0.0000"},{"$nulls":3},{"v":0,"d":"0.0000"},{"v":0,"d":"0.000"},{"v":0,"d":"0.000"}]
[11,"ряженка 2,5%","кг",{"$f":"'Вт День 2 Нед 2'!AD18","v":0},{"$nulls":6},{"v":0,"d":"0.0000"},{"$nulls":6},{"v":0,"d":"0.0000"},{"$nulls":3},{"v":0,"d":"0.0000"},{"$nulls":3},{"v":0,"d":"0.0000"},{"v":0,"d":"0.000"},{"v":0,"d":"0.000"}]
[12,"напиток ацидофильный ","кг",{"$f":"'Вт День 2 Нед 2'!AD19","v":0},{"$nulls":6},{"v":0,"d":"0.0000"},{"$nulls":6},{"v":0,"d":"0.0000"},{"$nulls":3},{"v":0,"d":"0.0000"},{"$nulls":3},{"v":0,"d":"0.0000"},{"v":0,"d":"0.000"},{"v":0,"d":"0.000"}]
[null,"Масло / сыр ",null,{"$f":"'Вт День 2 Нед 2'!AD20","v":0},{"$nulls":6},{"v":0,"d":"0.0000"},{"$nulls":6},{"v":0,"d":"0.0000"},{"$nulls":3},{"v":0,"d":"0.0000"},{"$nulls":3},{"v":0,"d":"0.0000"},{"v":0,"d":"0.000"},{"v":0,"d":"0.000"}]
[13,"масло растительное","кг",{"$f":"'Вт День 2 Нед 2'!AD21","v":-0.1258},{"$nulls":3},{"v":0.01,"d":"0.0100"},null,null,{"v":0.01,"d":"0.0100"},null,null,{"v":0.01,"d":"0.0100"},{"$nulls":3},{"v":0.01,"d":"0.0100"},{"$nulls":3},{"v":0,"d":"0.0000"},{"v":0.005,"d":"0.0050"},null,null,{"v":0.005,"d":"0.0050"},0.025,{"v":-0.1508,"d":"-0.151"}]
[14,"масло сливочное","кг",{"$f":"'Вт День 2 Нед 2'!AD22","v":-0.07559999999999999},{"$nulls":6},{"v":0,"d":"0.0000"},{"$nulls":6},{"v":0,"d":"0.0000"},{"$nulls":3},{"v":0,"d":"0.0000"},{"$nulls":3},{"v":0,"d":"0.0000"},{"v":0,"d":"0.000"},{"v":-0.07559999999999999,"d":"-0.076"}]
[15,"сыр голландский","кг",{"$f":"'Вт День 2 Нед 2'!AD23","v":-0.0102},{"$nulls":6},{"v":0,"d":"0.0000"},{"$nulls":6},{"v":0,"d":"0.0000"},{"$nulls":3},{"v":0,"d":"0.0000"},{"$nulls":3},{"v":0,"d":"0.0000"},{"v":0,"d":"0.000"},{"v":-0.0102,"d":"-0.010"}]
[null,"Мясо",null,{"$f":"'Вт День 2 Нед 2'!AD24","v":0},{"$nulls":6},{"v":0,"d":"0.0000"},{"$nulls":6},{"v":0,"d":"0.0000"},{"$nulls":3},{"v":0,"d":"0.0000"},{"$nulls":3},{"v":0,"d":"0.0000"},{"v":0,"d":"0.000"},{"v":0,"d":"0.000"}]
[16,"говядина (котлетное мясо) ","кг",{"$f":"'Вт День 2 Нед 2'!AD25","v":0},{"$nulls":6},{"v":0,"d":"0.0000"},{"$nulls":6},{"v":0,"d":"0.0000"},{"$nulls":3},{"v":0,"d":"0.0000"},{"$nulls":3},{"v":0,"d":"0.0000"},{"v":0,"d":"0.000"},{"v":0,"d":"0.000"}]
[17,"фарш говяжий","кг",{"$f":"'Вт День 2 Нед 2'!AD26","v":-0.09993999999999999},{"$nulls":6},{"v":0,"d":"0.0000"},{"$nulls":6},{"v":0,"d":"0.0000"},{"$nulls":3},{"v":0,"d":"0.0000"},{"v":0.01197,"d":"0.0120"},null,null,{"v":0.01197,"d":"0.0120"},{"v":0.01197,"d":"0.012"},{"v":-0.11190999999999998,"d":"-0.112"}]
[18,"говядина лопатка б/к","кг",{"$f":"'Вт День 2 Нед 2'!AD27","v":0},{"$nulls":6},{"v":0,"d":"0.0000"},{"$nulls":6},{"v":0,"d":"0.0000"},{"$nulls":3},{"v":0,"d":"0.0000"},{"$nulls":3},{"v":0,"d":"0.0000"},{"v":0,"d":"0.000"},{"v":0,"d":"0.000"}]
[19,"сосиски","кг",{"$f":"'Вт День 2 Нед 2'!AD28","v":-0.418},{"$nulls":6},{"v":0,"d":"0.0000"},{"$nulls":6},{"v":0,"d":"0.0000"},{"$nulls":3},{"v":0,"d":"0.0000"},{"$nulls":3},{"v":0,"d":"0.0000"},{"v":0,"d":"0.000"},-0.418]
[20,"колбаса п/к \"Халяль\"","кг",{"$f":"'Вт День 2 Нед 2'!AD29","v":0},{"$nulls":6},{"v":0,"d":"0.0000"},{"$nulls":6},{"v":0,"d":"0.0000"},{"$nulls":3},{"v":0,"d":"0.0000"},{"$nulls":3},{"v":0,"d":"0.0000"},{"v":0,"d":"0.000"},{"v":0,"d":"0.000"}]
[21,"куриное бедро","кг",{"$f":"'Вт День 2 Нед 2'!AD30","v":0},{"$nulls":6},{"v":0,"d":"0.0000"},{"$nulls":6},{"v":0,"d":"0.0000"},{"$nulls":3},{"v":0,"d":"0.0000"},{"$nulls":3},{"v":0,"d":"0.0000"},{"v":0,"d":"0.000"},{"v":0,"d":"0.000"}]
[22,"куриная грудка","кг",{"$f":"'Вт День 2 Нед 2'!AD31","v":-0.34575},{"$nulls":3},0.0812,null,null,0.0812,null,null,0.0812,{"$nulls":3},0.0812,{"$nulls":3},{"v":0,"d":"0.0000"},{"$nulls":3},{"v":0,"d":"0.0000"},{"v":0.1624,"d":"0.162"},{"v":-0.50815,"d":"-0.508"}]
[23,"куры/цыплята потрош.","кг",{"$f":"'Вт День 2 Нед 2'!AD32","v":0},{"$nulls":6},{"v":0,"d":"0.0000"},{"$nulls":6},{"v":0,"d":"0.0000"},{"$nulls":3},{"v":0,"d":"0.0000"},{"$nulls":3},{"v":0,"d":"0.0000"},{"v":0,"d":"0.000"},{"v":0,"d":"0.000"}]
[24,"фарш куриный","кг",{"$f":"'Вт День 2 Нед 2'!AD33","v":0},{"$nulls":6},{"v":0,"d":"0.0000"},{"$nulls":6},{"v":0,"d":"0.0000"},{"$nulls":3},{"v":0,"d":"0.0000"},{"$nulls":3},{"v":0,"d":"0.0000"},{"v":0,"d":"0.000"},{"v":0,"d":"0.000"}]
[25,"индейка бедро филе","кг",{"$f":"'Вт День 2 Нед 2'!AD34","v":-0.147},{"$nulls":6},{"v":0,"d":"0.0000"},{"$nulls":6},{"v":0,"d":"0.0000"},{"$nulls":3},{"v":0,"d":"0.0000"},{"$nulls":3},{"v":0,"d":"0.0000"},{"v":0,"d":"0.000"},-0.147]
[26,"индейка грудка филе","кг",{"$f":"'Вт День 2 Нед 2'!AD35","v":0},{"$nulls":6},{"v":0,"d":"0.0000"},{"$nulls":6},{"v":0,"d":"0.0000"},{"$nulls":3},{"v":0,"d":"0.0000"},{"$nulls":3},{"v":0,"d":"0.0000"},{"v":0,"d":"0.000"},{"v":0,"d":"0.000"}]
[null,"Рыба",null,{"$f":"'Вт День 2 Нед 2'!AD36","v":0},{"$nulls":6},{"v":0,"d":"0.0000"},{"$nulls":6},{"v":0,"d":"0.0000"},{"$nulls":3},{"v":0,"d":"0.0000"},{"$nulls":3},{"v":0,"d":"0.0000"},{"v":0,"d":"0.000"},{"v":0,"d":"0.000"}]
[27,"горбуша ПБГ с/м","кг",{"$f":"'Вт День 2 Нед 2'!AD37","v":0},{"$nulls":6},{"v":0,"d":"0.0000"},{"$nulls":6},{"v":0,"d":"0.0000"},{"$nulls":3},{"v":0,"d":"0.0000"},{"$nulls":3},{"v":0,"d":"0.0000"},{"v":0,"d":"0.000"},{"v":0,"d":"0.000"}]
[28,"минтай б/г с/м","кг",{"$f":"'Вт День 2 Нед 2'!AD38","v":-0.30932000000000004},{"$nulls":6},{"v":0,"d":"0.0000"},{"$nulls":6},{"v":0,"d":"0.0000"},{"$nulls":3},{"v":0,"d":"0.0000"},{"$nulls":3},{"v":0,"d":"0.0000"},{"v":0,"d":"0.000"},{"v":-0.30932000000000004,"d":"-0.309"}]
[29,"фарш минтая","кг",{"$f":"'Вт День 2 Нед 2'!AD39","v":-0.23624},{"$nulls":6},{"v":0,"d":"0.0000"},{"$nulls":6},{"v":0,"d":"0.0000"},{"$nulls":3},{"v":0,"d":"0.0000"},{"$nulls":3},{"v":0,"d":"0.0000"},{"$f":"K39+R39+V39+Z39","v":{"v":0,"d":"0.000"}},{"$f":"(D39+E39)-AA39","v":{"v":-0.23624,"d":"-0.236"}}]
[null,"Сыпучка",null,{"$f":"'Вт День 2 Нед 2'!AD40","v":0},{"$nulls":6},{"v":0,"d":"0.0000"},{"$nulls":6},{"v":0,"d":"0.0000"},{"$nulls":3},{"v":0,"d":"0.0000"},{"$nulls":3},{"v":0,"d":"0.0000"},{"v":0,"d":"0.000"},{"v":0,"d":"0.000"}]
[30,"вермишель","кг",{"$f":"'Вт День 2 Нед 2'!AD41","v":-0.01},{"$nulls":6},{"v":0,"d":"0.0000"},{"$nulls":6},{"v":0,"d":"0.0000"},{"$nulls":3},{"v":0,"d":"0.0000"},{"$nulls":3},{"v":0,"d":"0.0000"},{"v":0,"d":"0.000"},{"v":-0.01,"d":"-0.010"}]
[31,"геркулес","кг",{"$f":"'Вт День 2 Нед 2'!AD42","v":0},{"$nulls":6},{"v":0,"d":"0.0000"},{"$nulls":6},{"v":0,"d":"0.0000"},{"$nulls":3},{"v":0,"d":"0.0000"},{"$nulls":3},{"v":0,"d":"0.0000"},{"v":0,"d":"0.000"},{"v":0,"d":"0.000"}]
[32,"горох","кг",{"$f":"'Вт День 2 Нед 2'!AD43","v":0},{"$nulls":6},{"v":0,"d":"0.0000"},{"$nulls":6},{"v":0,"d":"0.0000"},{"$nulls":3},{"v":0,"d":"0.0000"},{"$nulls":3},{"v":0,"d":"0.0000"},{"v":0,"d":"0.000"},{"v":0,"d":"0.000"}]
[33,"гречневая крупа","кг",{"$f":"'Вт День 2 Нед 2'!AD44","v":-0.6048},{"$nulls":6},{"v":0,"d":"0.0000"},{"$nulls":6},{"v":0,"d":"0.0000"},{"$nulls":3},{"v":0,"d":"0.0000"},{"$nulls":3},{"v":0,"d":"0.0000"},{"v":0,"d":"0.000"},{"v":-0.6048,"d":"-0.605"}]
[34,"кукурузная крупа","кг",{"$f":"'Вт День 2 Нед 2'!AD45","v":0},{"$nulls":6},{"v":0,"d":"0.0000"},{"$nulls":6},{"v":0,"d":"0.0000"},{"$nulls":3},{"v":0,"d":"0.0000"},{"$nulls":3},{"v":0,"d":"0.0000"},{"v":0,"d":"0.000"},{"v":0,"d":"0.000"}]
[35,"макаронные изделия","кг",{"$f":"'Вт День 2 Нед 2'!AD46","v":-0.142},{"$nulls":6},{"v":0,"d":"0.0000"},{"$nulls":6},{"v":0,"d":"0.0000"},{"$nulls":3},{"v":0,"d":"0.0000"},{"$nulls":3},{"v":0,"d":"0.0000"},{"v":0,"d":"0.000"},-0.142]
[36,"манная крупа","кг",{"$f":"'Вт День 2 Нед 2'!AD47","v":0},{"$nulls":6},{"v":0,"d":"0.0000"},{"$nulls":6},{"v":0,"d":"0.0000"},{"$nulls":3},{"v":0,"d":"0.0000"},{"$nulls":3},{"v":0,"d":"0.0000"},{"v":0,"d":"0.000"},{"v":0,"d":"0.000"}]
[37,"перловая крупа","кг",{"$f":"'Вт День 2 Нед 2'!AD48","v":-0.005},{"$nulls":6},{"v":0,"d":"0.0000"},{"$nulls":6},{"v":0,"d":"0.0000"},{"$nulls":3},{"v":0,"d":"0.0000"},{"$nulls":3},{"v":0,"d":"0.0000"},{"v":0,"d":"0.000"},-0.005]
[38,"полбяная крупа","кг",{"$f":"'Вт День 2 Нед 2'!AD49","v":0},{"$nulls":6},{"v":0,"d":"0.0000"},{"$nulls":6},{"v":0,"d":"0.0000"},{"$nulls":3},{"v":0,"d":"0.0000"},{"$nulls":3},{"v":0,"d":"0.0000"},{"v":0,"d":"0.000"},{"v":0,"d":"0.000"}]
[39,"пшеничная крупа","кг",{"$f":"'Вт День 2 Нед 2'!AD50","v":0},{"$nulls":6},{"v":0,"d":"0.0000"},{"$nulls":6},{"v":0,"d":"0.0000"},{"$nulls":3},{"v":0,"d":"0.0000"},{"$nulls":3},{"v":0,"d":"0.0000"},{"v":0,"d":"0.000"},{"v":0,"d":"0.000"}]
[40,"пшено","кг",{"$f":"'Вт День 2 Нед 2'!AD51","v":-0.029500000000000002},{"$nulls":6},{"v":0,"d":"0.0000"},{"$nulls":6},{"v":0,"d":"0.0000"},{"$nulls":3},{"v":0,"d":"0.0000"},{"$nulls":3},{"v":0,"d":"0.0000"},{"v":0,"d":"0.000"},{"v":-0.029500000000000002,"d":"-0.030"}]
[41,"рис","кг",{"$f":"'Вт День 2 Нед 2'!AD52","v":-0.43420000000000003},{"$nulls":3},{"v":0.051,"d":"0.0510"},null,null,{"v":0.051,"d":"0.0510"},null,null,{"v":0.051,"d":"0.0510"},{"$nulls":3},{"v":0.051,"d":"0.0510"},{"$nulls":3},{"v":0,"d":"0.0000"},{"v":0.02,"d":"0.0200"},null,null,{"v":0.02,"d":"0.0200"},0.122,{"v":-0.5562,"d":"-0.556"}]
[42,"ячневая крупа","кг",{"$f":"'Вт День 2 Нед 2'!AD53","v":0},{"$nulls":6},{"v":0,"d":"0.0000"},{"$nulls":6},{"v":0,"d":"0.0000"},{"$nulls":3},{"v":0,"d":"0.0000"},{"$nulls":3},{"v":0,"d":"0.0000"},{"v":0,"d":"0.000"},{"v":0,"d":"0.000"}]
[43,"лапша домашняя п/ф","кг",{"$f":"'Вт День 2 Нед 2'!AD54","v":-0.02},{"$nulls":6},{"v":0,"d":"0.0000"},{"$nulls":6},{"v":0,"d":"0.0000"},{"$nulls":3},{"v":0,"d":"0.0000"},{"$nulls":3},{"v":0,"d":"0.0000"},{"v":0,"d":"0.000"},{"v":-0.02,"d":"-0.020"}]
[44,"мука пшеничная в/с","кг",{"$f":"'Вт День 2 Нед 2'!AD55","v":-0.0338},{"$nulls":6},{"v":0,"d":"0.0000"},{"$nulls":6},{"v":0,"d":"0.0000"},{"$nulls":3},{"v":0,"d":"0.0000"},{"$nulls":3},{"v":0,"d":"0.0000"},{"v":0,"d":"0.000"},{"v":-0.0338,"d":"-0.034"}]
[45,"сахарный песок","кг",{"$f":"'Вт День 2 Нед 2'!AD56","v":-0.4053},{"$nulls":4},{"v":0.01,"d":"0.0100"},null,{"v":0.01,"d":"0.0100"},{"$nulls":3},{"v":0.01,"d":"0.0100"},null,null,{"v":0.01,"d":"0.0100"},null,null,{"v":0.01,"d":"0.0100"},{"v":0.01,"d":"0.0100"},null,{"v":0.01,"d":"0.0100"},null,{"v":0.01,"d":"0.0100"},{"v":0.04,"d":"0.040"},{"v":-0.4453,"d":"-0.445"}]
[46,"соль","кг",{"$f":"'Вт День 2 Нед 2'!AD57","v":-0.0331},{"$nulls":3},0.0005,null,null,0.0005,null,null,0.0005,{"$nulls":3},0.0005,{"$nulls":3},{"v":0,"d":"0.0000"},{"v":1E-4,"d":"0.0001"},null,null,{"v":1E-4,"d":"0.0001"},{"v":0.0011,"d":"0.001"},{"v":-0.034199999999999994,"d":"-0.034"}]
[47,"сухари панировочные","кг",{"$f":"'Вт День 2 Нед 2'!AD58","v":-0.045},{"$nulls":6},{"v":0,"d":"0.0000"},{"$nulls":6},{"v":0,"d":"0.0000"},{"$nulls":3},{"v":0,"d":"0.0000"},{"$nulls":3},{"v":0,"d":"0.0000"},{"v":0,"d":"0.000"},-0.045]
[48,"дрожжи сухие","кг",{"$f":"'Вт День 2 Нед 2'!AD59","v":0},{"$nulls":6},{"v":0,"d":"0.0000"},{"$nulls":6},{"v":0,"d":"0.0000"},{"$nulls":3},{"v":0,"d":"0.0000"},{"$nulls":3},{"v":0,"d":"0.0000"},{"v":0,"d":"0.000"},{"v":0,"d":"0.000"}]
[49,"фасоль","кг",{"$f":"'Вт День 2 Нед 2'!AD60","v":0},{"$nulls":6},{"v":0,"d":"0.0000"},{"$nulls":6},{"v":0,"d":"0.0000"},{"$nulls":3},{"v":0,"d":"0.0000"},{"$nulls":3},{"v":0,"d":"0.0000"},{"v":0,"d":"0.000"},{"v":0,"d":"0.000"}]
[null,"Консервы",null,{"$f":"'Вт День 2 Нед 2'!AD61","v":0},{"$nulls":6},{"v":0,"d":"0.0000"},{"$nulls":6},{"v":0,"d":"0.0000"},{"$nulls":3},{"v":0,"d":"0.0000"},{"$nulls":3},{"v":0,"d":"0.0000"},{"v":0,"d":"0.000"},{"v":0,"d":"0.000"}]
[50,"зеленый горошек к/с","кг",{"$f":"'Вт День 2 Нед 2'!AD62","v":-0.2902},{"$nulls":6},{"v":0,"d":"0.0000"},{"$nulls":6},{"v":0,"d":"0.0000"},{"$nulls":3},{"v":0,"d":"0.0000"},{"$nulls":3},{"v":0,"d":"0.0000"},{"v":0,"d":"0.000"},{"v":-0.2902,"d":"-0.290"}]
[51,"кукуруза к/с","кг",{"$f":"'Вт День 2 Нед 2'!AD63","v":0},{"$nulls":6},{"v":0,"d":"0.0000"},{"$nulls":6},{"v":0,"d":"0.0000"},{"$nulls":3},{"v":0,"d":"0.0000"},{"$nulls":3},{"v":0,"d":"0.0000"},{"v":0,"d":"0.000"},{"v":0,"d":"0.000"}]
[52,"фасоль к/с","кг",{"$f":"'Вт День 2 Нед 2'!AD64","v":0},{"$nulls":6},{"v":0,"d":"0.0000"},{"$nulls":6},{"v":0,"d":"0.0000"},{"$nulls":3},{"v":0,"d":"0.0000"},{"$nulls":3},{"v":0,"d":"0.0000"},{"v":0,"d":"0.000"},{"v":0,"d":"0.000"}]
[53,"икра кабачк/икра баклаж","кг",{"$f":"'Вт День 2 Нед 2'!AD65","v":0},{"$nulls":6},{"v":0,"d":"0.0000"},{"$nulls":6},{"v":0,"d":"0.0000"},{"$nulls":3},{"v":0,"d":"0.0000"},{"$nulls":3},{"v":0,"d":"0.0000"},{"v":0,"d":"0.000"},{"v":0,"d":"0.000"}]
[54,"капуста морская сушеная","кг",{"$f":"'Вт День 2 Нед 2'!AD66","v":0},{"$nulls":6},{"v":0,"d":"0.0000"},{"$nulls":6},{"v":0,"d":"0.0000"},{"$nulls":3},{"v":0,"d":"0.0000"},{"$nulls":3},{"v":0,"d":"0.0000"},{"v":0,"d":"0.000"},{"v":0,"d":"0.000"}]
[55,"капуста квашеная ","кг",{"$f":"'Вт День 2 Нед 2'!AD67","v":0},{"$nulls":6},{"v":0,"d":"0.0000"},{"$nulls":6},{"v":0,"d":"0.0000"},{"$nulls":3},{"v":0,"d":"0.0000"},{"$nulls":3},{"v":0,"d":"0.0000"},{"v":0,"d":"0.000"},{"v":0,"d":"0.000"}]
[56,"молоко сгущенное  ","кг",{"$f":"'Вт День 2 Нед 2'!AD68","v":0},{"$nulls":6},{"v":0,"d":"0.0000"},{"$nulls":6},{"v":0,"d":"0.0000"},{"$nulls":3},{"v":0,"d":"0.0000"},{"$nulls":3},{"v":0,"d":"0.0000"},{"v":0,"d":"0.000"},{"v":0,"d":"0.000"}]
[57,"огурцы соленые","кг",{"$f":"'Вт День 2 Нед 2'!AD69","v":-0.0273},{"$nulls":6},{"v":0,"d":"0.0000"},{"$nulls":6},{"v":0,"d":"0.0000"},{"$nulls":3},{"v":0,"d":"0.0000"},{"$nulls":3},{"v":0,"d":"0.0000"},{"v":0,"d":"0.000"},{"v":-0.0273,"d":"-0.027"}]
[58,"повидло","кг",{"$f":"'Вт День 2 Нед 2'!AD70","v":0},{"$nulls":6},{"v":0,"d":"0.0000"},{"$nulls":6},{"v":0,"d":"0.0000"},{"$nulls":3},{"v":0,"d":"0.0000"},{"$nulls":3},{"v":0,"d":"0.0000"},{"v":0,"d":"0.000"},{"v":0,"d":"0.000"}]
[59,"томатная паста","кг",{"$f":"'Вт День 2 Нед 2'!AD71","v":-0.019700000000000002},{"$nulls":3},0.0049,null,null,0.0049,null,null,0.0049,{"$nulls":3},0.0049,{"$nulls":3},{"v":0,"d":"0.0000"},{"$nulls":3},{"v":0,"d":"0.0000"},{"$f":"K71+R71+V71+Z71","v":{"v":0.0098,"d":"0.010"}},{"$f":"(D71+E71)-AA71","v":{"v":-0.029500000000000002,"d":"-0.030"}}]
[60,"рыбные консервы","кг",{"$f":"'Вт День 2 Нед 2'!AD72","v":0},{"$nulls":6},{"$f":"(G72+H72+I72+J72)","v":{"v":0,"d":"0.0000"}},{"$nulls":6},{"$f":"(L72+M72+N72+O72+P72)*$R$5","v":{"v":0,"d":"0.0000"}},{"$nulls":3},{"$f":"(U72+T72)*$V$5","v":{"v":0,"d":"0.0000"}},{"$nulls":3},{"$f":"(Y72+X72+W72)*$Z$5","v":{"v":0,"d":"0.0000"}},{"v":0,"d":"0.000"},{"v":0,"d":"0.000"}]
[null,"Напитки",null,{"$f":"'Вт День 2 Нед 2'!AD73","v":0},{"$nulls":6},{"v":0,"d":"0.0000"},{"$nulls":6},{"v":0,"d":"0.0000"},{"$nulls":3},{"v":0,"d":"0.0000"},{"$nulls":3},{"v":0,"d":"0.0000"},{"v":0,"d":"0.000"},{"v":0,"d":"0.000"}]
[61,"чай весовой ","кг",{"$f":"'Вт День 2 Нед 2'!AD74","v":-0.015000000000000001},{"$nulls":6},{"v":0,"d":"0.0000"},{"$nulls":6},{"v":0,"d":"0.0000"},null,null,0.0005,0.0005,{"$nulls":3},{"v":0,"d":"0.0000"},{"v":0.0005,"d":"0.001"},{"v":-0.015500000000000002,"d":"-0.016"}]
[62,"какао","кг",{"$f":"'Вт День 2 Нед 2'!AD75","v":0},{"$nulls":6},{"v":0,"d":"0.0000"},{"$nulls":6},{"v":0,"d":"0.0000"},{"$nulls":3},{"v":0,"d":"0.0000"},{"$nulls":3},{"v":0,"d":"0.0000"},{"v":0,"d":"0.000"},{"v":0,"d":"0.000"}]
[63,"кисель","кг",{"$f":"'Вт День 2 Нед 2'!AD76","v":0},{"$nulls":6},{"v":0,"d":"0.0000"},{"$nulls":6},{"v":0,"d":"0.0000"},{"$nulls":3},{"v":0,"d":"0.0000"},{"$nulls":3},{"v":0,"d":"0.0000"},{"v":0,"d":"0.000"},{"v":0,"d":"0.000"}]
[64,"кофейный напиток","кг",{"$f":"'Вт День 2 Нед 2'!AD77","v":-0.01},{"$nulls":6},{"v":0,"d":"0.0000"},{"$nulls":6},{"v":0,"d":"0.0000"},{"$nulls":3},{"v":0,"d":"0.0000"},{"$nulls":3},{"v":0,"d":"0.0000"},{"v":0,"d":"0.000"},{"v":-0.01,"d":"-0.010"}]
[65,"цикорий","кг",{"$f":"'Вт День 2 Нед 2'!AD78","v":0},{"$nulls":6},{"v":0,"d":"0.0000"},{"$nulls":6},{"v":0,"d":"0.0000"},{"$nulls":3},{"v":0,"d":"0.0000"},{"$nulls":3},{"v":0,"d":"0.0000"},{"v":0,"d":"0.000"},{"v":0,"d":"0.000"}]
[null,"Сухофрукты",null,{"$f":"'Вт День 2 Нед 2'!AD79","v":0},{"$nulls":6},{"v":0,"d":"0.0000"},{"$nulls":6},{"v":0,"d":"0.0000"},{"$nulls":3},{"v":0,"d":"0.0000"},{"$nulls":3},{"v":0,"d":"0.0000"},{"v":0,"d":"0.000"},{"v":0,"d":"0.000"}]
[66,"ассорти для компота (сухофрукты)","кг",{"$f":"'Вт День 2 Нед 2'!AD80","v":-0.1836},{"$nulls":6},{"v":0,"d":"0.0000"},{"$nulls":6},{"v":0,"d":"0.0000"},{"$nulls":3},{"v":0,"d":"0.0000"},{"$nulls":3},{"v":0,"d":"0.0000"},{"v":0,"d":"0.000"},{"v":-0.1836,"d":"-0.184"}]
[67,"изюм","кг",{"$f":"'Вт День 2 Нед 2'!AD81","v":-0.0102},{"$nulls":6},{"v":0,"d":"0.0000"},{"$nulls":6},{"v":0,"d":"0.0000"},{"$nulls":3},{"v":0,"d":"0.0000"},{"$nulls":3},{"v":0,"d":"0.0000"},{"v":0,"d":"0.000"},{"v":-0.0102,"d":"-0.010"}]
[68,"курага","кг",{"$f":"'Вт День 2 Нед 2'!AD82","v":0},{"$nulls":6},{"v":0,"d":"0.0000"},{"$nulls":6},{"v":0,"d":"0.0000"},{"$nulls":3},{"v":0,"d":"0.0000"},{"$nulls":3},{"v":0,"d":"0.0000"},{"v":0,"d":"0.000"},{"v":0,"d":"0.000"}]
[69,"урюк","кг",{"$f":"'Вт День 2 Нед 2'!AD83","v":-0.0204},{"$nulls":6},{"v":0,"d":"0.0000"},{"$nulls":6},{"v":0,"d":"0.0000"},{"$nulls":3},{"v":0,"d":"0.0000"},{"$nulls":3},{"v":0,"d":"0.0000"},{"v":0,"d":"0.000"},{"v":-0.0204,"d":"-0.020"}]
[70,"шиповник","кг",{"$f":"'Вт День 2 Нед 2'!AD84","v":-0.0303},{"$nulls":6},{"v":0,"d":"0.0000"},{"$nulls":6},{"v":0,"d":"0.0000"},{"$nulls":3},{"v":0,"d":"0.0000"},null,0.0153,null,0.0153,{"v":0.0153,"d":"0.015"},{"v":-0.0456,"d":"-0.046"}]
[71,"компотная смесь с/м","кг",{"$f":"'Вт День 2 Нед 2'!AD85","v":0},{"$nulls":6},{"v":0,"d":"0.0000"},{"$nulls":6},{"v":0,"d":"0.0000"},{"$nulls":3},{"v":0,"d":"0.0000"},{"$nulls":3},{"v":0,"d":"0.0000"},{"v":0,"d":"0.000"},{"v":0,"d":"0.000"}]
[72,"вишня с/м","кг",{"$f":"'Вт День 2 Нед 2'!AD86","v":0},{"$nulls":6},{"v":0,"d":"0.0000"},{"$nulls":6},{"v":0,"d":"0.0000"},{"$nulls":3},{"v":0,"d":"0.0000"},{"$nulls":3},{"v":0,"d":"0.0000"},{"v":0,"d":"0.000"},{"v":0,"d":"0.000"}]
[73,"клюква с/м","кг",{"$f":"'Вт День 2 Нед 2'!AD87","v":0},{"$nulls":6},{"v":0,"d":"0.0000"},{"$nulls":6},{"v":0,"d":"0.0000"},{"$nulls":3},{"v":0,"d":"0.0000"},{"$nulls":3},{"v":0,"d":"0.0000"},{"v":0,"d":"0.000"},{"v":0,"d":"0.000"}]
[74,"смородина в ассорт с/м","кг",{"$f":"'Вт День 2 Нед 2'!AD88","v":0},{"$nulls":6},{"v":0,"d":"0.0000"},{"$nulls":6},{"v":0,"d":"0.0000"},{"$nulls":3},{"v":0,"d":"0.0000"},{"$nulls":3},{"v":0,"d":"0.0000"},{"v":0,"d":"0.000"},{"v":0,"d":"0.000"}]
[75,"облепиха с/м","кг",{"$f":"'Вт День 2 Нед 2'!AD89","v":0},{"$nulls":6},{"v":0,"d":"0.0000"},{"$nulls":6},{"v":0,"d":"0.0000"},{"$nulls":3},{"v":0,"d":"0.0000"},{"$nulls":3},{"v":0,"d":"0.0000"},{"v":0,"d":"0.000"},{"v":0,"d":"0.000"}]
[null,"Сок",null,{"$f":"'Вт День 2 Нед 2'!AD90","v":0},{"$nulls":6},{"v":0,"d":"0.0000"},{"$nulls":6},{"v":0,"d":"0.0000"},{"$nulls":3},{"v":0,"d":"0.0000"},{"$nulls":3},{"v":0,"d":"0.0000"},{"v":0,"d":"0.000"},{"v":0,"d":"0.000"}]
[76,"сок 0,125л или сок 0,2л","л",{"$f":"'Вт День 2 Нед 2'!AD91","v":0},{"$nulls":6},{"v":0,"d":"0.0000"},{"$nulls":6},{"v":0,"d":"0.0000"},{"$nulls":3},{"v":0,"d":"0.0000"},{"$nulls":3},{"v":0,"d":"0.0000"},{"v":0,"d":"0.000"},{"v":0,"d":"0.000"}]
[77,"нектар плодовый","л",{"$f":"'Вт День 2 Нед 2'!AD92","v":0},{"$nulls":6},{"v":0,"d":"0.0000"},{"$nulls":6},{"v":0,"d":"0.0000"},{"$nulls":3},{"v":0,"d":"0.0000"},{"$nulls":3},{"v":0,"d":"0.0000"},{"v":0,"d":"0.000"},{"v":0,"d":"0.000"}]
[null,"Кондитерка",null,{"$f":"'Вт День 2 Нед 2'!AD93","v":0},{"$nulls":6},{"v":0,"d":"0.0000"},{"$nulls":6},{"v":0,"d":"0.0000"},{"$nulls":3},{"v":0,"d":"0.0000"},{"$nulls":3},{"v":0,"d":"0.0000"},{"v":0,"d":"0.000"},{"v":0,"d":"0.000"}]
[78,"батончик злаковый","шт",{"$f":"'Вт День 2 Нед 2'!AD94","v":0},{"$nulls":6},{"v":0,"d":"0.0000"},{"$nulls":6},{"v":0,"d":"0.0000"},{"$nulls":3},{"v":0,"d":"0.0000"},{"$nulls":3},{"v":0,"d":"0.0000"},{"v":0,"d":"0.000"},{"v":0,"d":"0.000"}]
[79,"пряник","кг",{"$f":"'Вт День 2 Нед 2'!AD95","v":-0.035},{"$nulls":6},{"v":0,"d":"0.0000"},{"$nulls":6},{"v":0,"d":"0.0000"},null,{"v":0.035,"d":"0.0350"},null,{"v":0.035,"d":"0.0350"},{"$nulls":3},{"v":0,"d":"0.0000"},0.035,{"v":-0.07,"d":"-0.070"}]
[80,"вафли ","кг",{"$f":"'Вт День 2 Нед 2'!AD96","v":-0.2},{"$nulls":6},{"v":0,"d":"0.0000"},{"$nulls":6},{"v":0,"d":"0.0000"},{"$nulls":3},{"v":0,"d":"0.0000"},{"$nulls":3},{"v":0,"d":"0.0000"},{"v":0,"d":"0.000"},{"v":-0.2,"d":"-0.200"}]
[81,"печенье","кг",{"$f":"'Вт День 2 Нед 2'!AD97","v":-0.06},{"$nulls":6},{"v":0,"d":"0.0000"},{"$nulls":6},{"v":0,"d":"0.0000"},{"$nulls":3},{"v":0,"d":"0.0000"},{"$nulls":3},{"v":0,"d":"0.0000"},{"v":0,"d":"0.000"},{"v":-0.06,"d":"-0.060"}]
[82,"крекер","кг",{"$f":"'Вт День 2 Нед 2'!AD98","v":-0.03},{"$nulls":6},{"v":0,"d":"0.0000"},{"$nulls":6},{"v":0,"d":"0.0000"},{"$nulls":3},{"v":0,"d":"0.0000"},{"$nulls":3},{"v":0,"d":"0.0000"},{"v":0,"d":"0.000"},{"v":-0.03,"d":"-0.030"}]
[83,"сушки","кг",{"$f":"'Вт День 2 Нед 2'!AD99","v":-0.03},{"$nulls":6},{"v":0,"d":"0.0000"},{"$nulls":6},{"v":0,"d":"0.0000"},{"$nulls":3},{"v":0,"d":"0.0000"},{"$nulls":3},{"v":0,"d":"0.0000"},{"v":0,"d":"0.000"},{"v":-0.03,"d":"-0.030"}]
[84,"мармелад","кг",{"$f":"'Вт День 2 Нед 2'!AD100","v":0},{"$nulls":6},{"v":0,"d":"0.0000"},{"$nulls":6},{"v":0,"d":"0.0000"},{"$nulls":3},{"v":0,"d":"0.0000"},{"$nulls":3},{"v":0,"d":"0.0000"},{"v":0,"d":"0.000"},{"v":0,"d":"0.000"}]
[85,"блины п/ф","кг",{"$f":"'Вт День 2 Нед 2'!AD101","v":0},{"$nulls":6},{"v":0,"d":"0.0000"},{"$nulls":6},{"v":0,"d":"0.0000"},{"$nulls":3},{"v":0,"d":"0.0000"},{"$nulls":3},{"v":0,"d":"0.0000"},{"v":0,"d":"0.000"},{"v":0,"d":"0.000"}]
[86,"выпечка п/ф со склада","шт",{"$f":"'Вт День 2 Нед 2'!AD102","v":0},{"$nulls":6},{"v":0,"d":"0.0000"},{"$nulls":6},{"v":0,"d":"0.0000"},{"$nulls":3},{"v":0,"d":"0.0000"},{"$nulls":3},{"v":0,"d":"0.0000"},{"v":0,"d":"0.000"},{"v":0,"d":"0.000"}]
[null,"Яйцо",null,{"$f":"'Вт День 2 Нед 2'!AD103","v":0},{"$nulls":6},{"v":0,"d":"0.0000"},{"$nulls":6},{"v":0,"d":"0.0000"},{"$nulls":3},{"v":0,"d":"0.0000"},{"$nulls":3},{"v":0,"d":"0.0000"},{"$f":"K103+R103+V103+Z103","v":{"v":0,"d":"0.000"}},{"$f":"(D103+E103)-AA103","v":{"v":0,"d":"0.000"}}]
[87,"яйцо куриное","кг",{"$f":"'Вт День 2 Нед 2'!AD104","v":-4.8000000000000004E-3},{"$nulls":6},{"v":0,"d":"0.0000"},{"$nulls":6},{"v":0,"d":"0.0000"},{"$nulls":3},{"v":0,"d":"0.0000"},{"v":0.00096,"d":"0.0010"},null,null,{"v":0.00096,"d":"0.0010"},{"v":0.00096,"d":"0.001"},{"v":-0.00576,"d":"-0.006"}]
[null,0.048,"шт",{"$f":"'Вт День 2 Нед 2'!AD105","v":0},{"$nulls":6},{"v":0,"d":"0.0000"},{"$nulls":6},{"v":0,"d":"0.0000"},{"$nulls":3},{"v":0,"d":"0.0000"},{"$nulls":3},{"v":0,"d":"0.0000"},{"v":0,"d":"0.000"},{"v":0,"d":"0.000"}]
[null,"Овощи заморозка",null,{"$f":"'Вт День 2 Нед 2'!AD106","v":0},{"$nulls":6},{"v":0,"d":"0.0000"},{"$nulls":6},{"v":0,"d":"0.0000"},{"$nulls":3},{"v":0,"d":"0.0000"},{"$nulls":3},{"v":0,"d":"0.0000"},{"v":0,"d":"0.000"},{"v":0,"d":"0.000"}]
[88,"зеленый горошек с/м","кг",{"$f":"'Вт День 2 Нед 2'!AD107","v":0},{"$nulls":6},{"v":0,"d":"0.0000"},{"$nulls":6},{"v":0,"d":"0.0000"},{"$nulls":3},{"v":0,"d":"0.0000"},{"$nulls":3},{"v":0,"d":"0.0000"},{"v":0,"d":"0.000"},{"v":0,"d":"0.000"}]
[89,"кабачки с/м","кг",{"$f":"'Вт День 2 Нед 2'!AD108","v":0},{"$nulls":6},{"v":0,"d":"0.0000"},{"$nulls":6},{"v":0,"d":"0.0000"},{"$nulls":3},{"v":0,"d":"0.0000"},{"$nulls":3},{"v":0,"d":"0.0000"},{"v":0,"d":"0.000"},{"v":0,"d":"0.000"}]
[90,"мексиканс смесь с/м","кг",{"$f":"'Вт День 2 Нед 2'!AD109","v":0},{"$nulls":6},{"v":0,"d":"0.0000"},{"$nulls":6},{"v":0,"d":"0.0000"},{"$nulls":3},{"v":0,"d":"0.0000"},{"$nulls":3},{"v":0,"d":"0.0000"},{"v":0,"d":"0.000"},{"v":0,"d":"0.000"}]
[91,"капуста цветная с/м","кг",{"$f":"'Вт День 2 Нед 2'!AD110","v":0},{"$nulls":6},{"v":0,"d":"0.0000"},{"$nulls":6},{"v":0,"d":"0.0000"},{"$nulls":3},{"v":0,"d":"0.0000"},{"$nulls":3},{"v":0,"d":"0.0000"},{"v":0,"d":"0.000"},{"v":0,"d":"0.000"}]
[92,"брокколи с/м","кг",{"$f":"'Вт День 2 Нед 2'!AD111","v":0},{"$nulls":6},{"v":0,"d":"0.0000"},{"$nulls":6},{"v":0,"d":"0.0000"},{"$nulls":3},{"v":0,"d":"0.0000"},{"$nulls":3},{"v":0,"d":"0.0000"},{"v":0,"d":"0.000"},{"v":0,"d":"0.000"}]
[93,"кукуруза с/м","кг",{"$f":"'Вт День 2 Нед 2'!AD112","v":0},{"$nulls":6},{"v":0,"d":"0.0000"},{"$nulls":6},{"v":0,"d":"0.0000"},{"$nulls":3},{"v":0,"d":"0.0000"},{"$nulls":3},{"v":0,"d":"0.0000"},{"v":0,"d":"0.000"},{"v":0,"d":"0.000"}]
[94,"фасоль стручковая с/м","кг",{"$f":"'Вт День 2 Нед 2'!AD113","v":0},{"$nulls":6},{"v":0,"d":"0.0000"},{"$nulls":6},{"v":0,"d":"0.0000"},{"$nulls":3},{"v":0,"d":"0.0000"},{"$nulls":3},{"v":0,"d":"0.0000"},{"v":0,"d":"0.000"},{"v":0,"d":"0.000"}]
[null,"Фрукты",null,{"$f":"'Вт День 2 Нед 2'!AD114","v":0},{"$nulls":6},{"v":0,"d":"0.0000"},{"$nulls":6},{"v":0,"d":"0.0000"},{"$nulls":3},{"v":0,"d":"0.0000"},{"$nulls":3},{"v":0,"d":"0.0000"},{"v":0,"d":"0.000"},{"v":0,"d":"0.000"}]
[95,"апельсин","кг",{"$f":"'Вт День 2 Нед 2'!AD115","v":0},{"$nulls":6},{"v":0,"d":"0.0000"},{"$nulls":6},{"v":0,"d":"0.0000"},{"$nulls":3},{"v":0,"d":"0.0000"},{"$nulls":3},{"v":0,"d":"0.0000"},{"v":0,"d":"0.000"},{"v":0,"d":"0.000"}]
[96,"банан","кг",{"$f":"'Вт День 2 Нед 2'!AD116","v":0},{"$nulls":6},{"v":0,"d":"0.0000"},{"$nulls":6},{"v":0,"d":"0.0000"},{"$nulls":3},{"v":0,"d":"0.0000"},{"$nulls":3},{"v":0,"d":"0.0000"},{"v":0,"d":"0.000"},{"v":0,"d":"0.000"}]
[97,"груши","кг",{"$f":"'Вт День 2 Нед 2'!AD117","v":0},{"$nulls":6},{"v":0,"d":"0.0000"},{"$nulls":6},{"v":0,"d":"0.0000"},{"$nulls":3},{"v":0,"d":"0.0000"},{"$nulls":3},{"v":0,"d":"0.0000"},{"v":0,"d":"0.000"},{"v":0,"d":"0.000"}]
[98,"мандарины","кг",{"$f":"'Вт День 2 Нед 2'!AD118","v":0},{"$nulls":6},{"v":0,"d":"0.0000"},{"$nulls":6},{"v":0,"d":"0.0000"},{"$nulls":3},{"v":0,"d":"0.0000"},{"$nulls":3},{"v":0,"d":"0.0000"},{"v":0,"d":"0.000"},{"v":0,"d":"0.000"}]
[99,"лимон","кг",{"$f":"'Вт День 2 Нед 2'!AD119","v":-0.04},{"$nulls":4},{"v":0.005,"d":"0.0050"},null,{"v":0.005,"d":"0.0050"},{"$nulls":3},{"v":0.005,"d":"0.0050"},null,null,{"v":0.005,"d":"0.0050"},{"$nulls":3},{"v":0,"d":"0.0000"},{"$nulls":3},{"v":0,"d":"0.0000"},{"v":0.01,"d":"0.010"},{"v":-0.05,"d":"-0.050"}]
[100,"яблоки свежие","кг",{"$f":"'Вт День 2 Нед 2'!AD120","v":-0.7024},null,null,{"v":0.1,"d":"0.1000"},{"$nulls":3},{"v":0.1,"d":"0.1000"},null,{"v":0.1,"d":"0.1000"},{"$nulls":4},{"v":0.1,"d":"0.1000"},{"$nulls":3},{"v":0,"d":"0.0000"},{"$nulls":3},{"v":0,"d":"0.0000"},{"v":0.2,"d":"0.200"},{"v":-0.9024000000000001,"d":"-0.902"}]
[null,"Овощи / зелень ",null,{"$f":"'Вт День 2 Нед 2'!AD121","v":0},{"$nulls":6},{"v":0,"d":"0.0000"},{"$nulls":6},{"v":0,"d":"0.0000"},{"$nulls":3},{"v":0,"d":"0.0000"},{"$nulls":3},{"v":0,"d":"0.0000"},{"v":0,"d":"0.000"},{"v":0,"d":"0.000"}]
[101,"капуста свежая","кг",{"$f":"'Вт День 2 Нед 2'!AD122","v":-0.2925},{"$nulls":6},{"v":0,"d":"0.0000"},{"$nulls":6},{"v":0,"d":"0.0000"},{"$nulls":3},{"v":0,"d":"0.0000"},{"$nulls":3},{"v":0,"d":"0.0000"},{"v":0,"d":"0.000"},{"v":-0.2925,"d":"-0.293"}]
[102,"картофель","кг",{"$f":"'Вт День 2 Нед 2'!AD123","v":-1.7086700000000001},{"$nulls":6},{"v":0,"d":"0.0000"},{"$nulls":6},{"v":0,"d":"0.0000"},{"$nulls":3},{"v":0,"d":"0.0000"},{"$nulls":3},{"v":0,"d":"0.0000"},{"v":0,"d":"0.000"},{"v":-1.7086700000000001,"d":"-1.709"}]
[103,"лук репчатый","кг",{"$f":"'Вт День 2 Нед 2'!AD124","v":-0.2789},{"$nulls":3},{"v":0.009,"d":"0.0090"},null,null,{"v":0.009,"d":"0.0090"},null,null,{"v":0.009,"d":"0.0090"},{"$nulls":3},{"v":0.009,"d":"0.0090"},{"$nulls":3},{"v":0,"d":"0.0000"},0.0132,null,null,0.0132,{"v":0.0312,"d":"0.031"},{"v":-0.3101,"d":"-0.310"}]
[104,"морковь","кг",{"$f":"'Вт День 2 Нед 2'!AD125","v":-0.15525000000000003},{"$nulls":3},{"v":0.015,"d":"0.0150"},null,null,{"v":0.015,"d":"0.0150"},null,null,{"v":0.015,"d":"0.0150"},{"$nulls":3},{"v":0.015,"d":"0.0150"},{"$nulls":3},{"v":0,"d":"0.0000"},0.0125,null,null,0.0125,{"v":0.042499999999999996,"d":"0.043"},{"v":-0.19775000000000004,"d":"-0.198"}]
[105,"свекла","кг",{"$f":"'Вт День 2 Нед 2'!AD126","v":-0.6759999999999999},{"$nulls":6},{"v":0,"d":"0.0000"},{"$nulls":6},{"v":0,"d":"0.0000"},{"$nulls":3},{"v":0,"d":"0.0000"},{"$nulls":3},{"v":0,"d":"0.0000"},{"v":0,"d":"0.000"},{"v":-0.6759999999999999,"d":"-0.676"}]
[106,"огурцы св.","кг",{"$f":"'Вт День 2 Нед 2'!AD127","v":0},{"$nulls":6},{"v":0,"d":"0.0000"},{"$nulls":6},{"v":0,"d":"0.0000"},{"$nulls":3},{"v":0,"d":"0.0000"},{"$nulls":3},{"v":0,"d":"0.0000"},{"v":0,"d":"0.000"},{"v":0,"d":"0.000"}]
[107,"томаты св.","кг",{"$f":"'Вт День 2 Нед 2'!AD128","v":0},{"$nulls":6},{"v":0,"d":"0.0000"},{"$nulls":6},{"v":0,"d":"0.0000"},{"$nulls":3},{"v":0,"d":"0.0000"},{"$nulls":3},{"v":0,"d":"0.0000"},{"v":0,"d":"0.000"},{"v":0,"d":"0.000"}]
[108,"перец болг.красный","кг",{"$f":"'Вт День 2 Нед 2'!AD129","v":0},{"$nulls":6},{"v":0,"d":"0.0000"},{"$nulls":6},{"v":0,"d":"0.0000"},{"$nulls":3},{"v":0,"d":"0.0000"},{"$nulls":3},{"v":0,"d":"0.0000"},{"v":0,"d":"0.000"},{"v":0,"d":"0.000"}]
[109,"тыква","кг",{"$f":"'Вт День 2 Нед 2'!AD130","v":0},{"$nulls":6},{"v":0,"d":"0.0000"},{"$nulls":6},{"v":0,"d":"0.0000"},{"$nulls":3},{"v":0,"d":"0.0000"},{"$nulls":3},{"v":0,"d":"0.0000"},{"v":0,"d":"0.000"},{"v":0,"d":"0.000"}]
[null,"Овощи очищенные ",null,{"$f":"'Вт День 2 Нед 2'!AD131","v":0},{"$nulls":6},{"v":0,"d":"0.0000"},{"$nulls":6},{"v":0,"d":"0.0000"},{"$nulls":3},{"v":0,"d":"0.0000"},{"$nulls":3},{"v":0,"d":"0.0000"},{"v":0,"d":"0.000"},{"v":0,"d":"0.000"}]
[110,"капуста св.очищенная","кг",{"$f":"'Вт День 2 Нед 2'!AD132","v":0},{"$nulls":6},{"v":0,"d":"0.0000"},{"$nulls":6},{"v":0,"d":"0.0000"},{"$nulls":3},{"v":0,"d":"0.0000"},{"$nulls":3},{"v":0,"d":"0.0000"},{"v":0,"d":"0.000"},{"v":0,"d":"0.000"}]
[111,"картофель св. очищенный","кг",{"$f":"'Вт День 2 Нед 2'!AD133","v":0},{"$nulls":6},{"v":0,"d":"0.0000"},{"$nulls":6},{"v":0,"d":"0.0000"},{"$nulls":3},{"v":0,"d":"0.0000"},{"$nulls":3},{"v":0,"d":"0.0000"},{"v":0,"d":"0.000"},{"v":0,"d":"0.000"}]
[112,"лук репчатый св.очищенный","кг",{"$f":"'Вт День 2 Нед 2'!AD134","v":0},{"$nulls":6},{"v":0,"d":"0.0000"},{"$nulls":6},{"v":0,"d":"0.0000"},{"$nulls":3},{"v":0,"d":"0.0000"},{"$nulls":3},{"v":0,"d":"0.0000"},{"v":0,"d":"0.000"},{"v":0,"d":"0.000"}]
[113,"морковь св.очищенная","кг",{"$f":"'Вт День 2 Нед 2'!AD135","v":0},{"$nulls":6},{"v":0,"d":"0.0000"},{"$nulls":6},{"v":0,"d":"0.0000"},{"$nulls":3},{"v":0,"d":"0.0000"},{"$nulls":3},{"v":0,"d":"0.0000"},{"$f":"K135+R135+V135+Z135","v":{"v":0,"d":"0.000"}},{"$f":"(D135+E135)-AA135","v":{"v":0,"d":"0.000"}}]
[114,"свекла св.очищенная","кг",{"$f":"'Вт День 2 Нед 2'!AD136","v":0},{"$nulls":6},{"$f":"(G136+H136+I136+J136)","v":{"v":0,"d":"0.0000"}},{"$nulls":6},{"$f":"(L136+M136+N136+O136+P136)*$R$5","v":{"v":0,"d":"0.0000"}},{"$nulls":3},{"$f":"(U136+T136)*$V$5","v":{"v":0,"d":"0.0000"}},{"$nulls":3},{"$f":"(Y136+X136+W136)*$Z$5","v":{"v":0,"d":"0.0000"}},{"v":0,"d":"0.000"},{"v":0,"d":"0.000"}]
[null,"Полуфабрикаты",null,{"$f":"'Вт День 2 Нед 2'!AD137","v":0},{"$nulls":6},{"v":0,"d":"0.0000"},{"$nulls":6},{"v":0,"d":"0.0000"},{"$nulls":3},{"v":0,"d":"0.0000"},{"$nulls":3},{"v":0,"d":"0.0000"},{"v":0,"d":"0.000"},{"v":0,"d":"0.000"}]
[115,"сырники ПФ","шт",{"$f":"'Вт День 2 Нед 2'!AD138","v":-2},{"$nulls":6},{"v":0,"d":"0.0000"},{"$nulls":6},{"v":0,"d":"0.0000"},{"$nulls":8},{"v":0,"d":"0.000"},{"v":-2,"d":"-2.000"}]
[116,"пельмени ПФ","кг",{"$f":"'Вт День 2 Нед 2'!AD139","v":0},{"$nulls":6},{"v":0,"d":"0.0000"},{"$nulls":6},{"v":0,"d":"0.0000"},{"$nulls":3},{"v":0,"d":"0.0000"},{"$nulls":3},{"v":0,"d":"0.0000"},{"v":0,"d":"0.000"},{"v":0,"d":"0.000"}]
[117,"биточки рыбные","шт",{"$f":"'Вт День 2 Нед 2'!AD140","v":-4},{"$nulls":6},{"v":0,"d":"0.0000"},{"$nulls":6},{"v":0,"d":"0.0000"},{"$nulls":3},{"v":0,"d":"0.0000"},{"$nulls":3},{"v":0,"d":"0.0000"},{"v":0,"d":"0.000"},{"v":-4,"d":"-4.000"}]
[118,"фрикадельки мясные ","кг",{"$f":"'Вт День 2 Нед 2'!AD141","v":0},{"$nulls":6},{"v":0,"d":"0.0000"},{"$nulls":6},{"v":0,"d":"0.0000"},{"$nulls":3},{"v":0,"d":"0.0000"},{"$nulls":3},{"v":0,"d":"0.0000"},{"v":0,"d":"0.000"},{"v":0,"d":"0.000"}]
[119,"фрикадельки куриные","кг",{"$f":"'Вт День 2 Нед 2'!AD142","v":0},{"$nulls":6},{"v":0,"d":"0.0000"},{"$nulls":6},{"v":0,"d":"0.0000"},{"$nulls":3},{"v":0,"d":"0.0000"},{"$nulls":3},{"v":0,"d":"0.0000"},{"v":0,"d":"0.000"},{"v":0,"d":"0.000"}]
[120,"хинкали п/ф из говядины","кг",{"$f":"'Вт День 2 Нед 2'!AD143","v":0},{"$nulls":6},{"v":0,"d":"0.0000"},{"$nulls":6},{"v":0,"d":"0.0000"},{"$nulls":3},{"v":0,"d":"0.0000"},{"$nulls":3},{"v":0,"d":"0.0000"},{"v":0,"d":"0.000"},{"v":0,"d":"0.000"}]
[121,"котлеты из говядины \"Домашние\"  ","шт",{"$f":"'Вт День 2 Нед 2'!AD144","v":-2},{"$nulls":6},{"v":0,"d":"0.0000"},{"$nulls":6},{"v":0,"d":"0.0000"},{"$nulls":3},{"v":0,"d":"0.0000"},{"$nulls":3},{"v":0,"d":"0.0000"},{"v":0,"d":"0.000"},{"v":-2,"d":"-2.000"}]
[122,"бифштекс из говядины","шт",{"$f":"'Вт День 2 Нед 2'!AD145","v":0},{"$nulls":6},{"v":0,"d":"0.0000"},{"$nulls":6},{"v":0,"d":"0.0000"},{"$nulls":3},{"v":0,"d":"0.0000"},{"$nulls":3},{"v":0,"d":"0.0000"},{"v":0,"d":"0.000"},{"v":0,"d":"0.000"}]
[123,"котлеты из мяса кур","шт",{"$f":"'Вт День 2 Нед 2'!AD146","v":0},{"$nulls":6},{"v":0,"d":"0.0000"},{"$nulls":6},{"v":0,"d":"0.0000"},{"$nulls":3},{"v":0,"d":"0.0000"},{"$nulls":3},{"v":0,"d":"0.0000"},{"v":0,"d":"0.000"},{"v":0,"d":"0.000"}]
[124,"котлеты \"Аппетитные\" мясо-куриные  ","шт",{"$f":"'Вт День 2 Нед 2'!AD147","v":0},{"$nulls":6},{"v":0,"d":"0.0000"},{"$nulls":6},{"v":0,"d":"0.0000"},{"$nulls":3},{"v":0,"d":"0.0000"},{"$nulls":3},{"v":0,"d":"0.0000"},{"v":0,"d":"0.000"},{"v":0,"d":"0.000"}]
[125,"ежики мясные с рисом ","шт",{"$f":"'Вт День 2 Нед 2'!AD148","v":0},{"$nulls":6},{"v":0,"d":"0.0000"},{"$nulls":6},{"v":0,"d":"0.0000"},{"$nulls":3},{"v":0,"d":"0.0000"},{"$nulls":3},{"v":0,"d":"0.0000"},{"v":0,"d":"0.000"},{"v":0,"d":"0.000"}]

{"sheet":"Чт День 4 Нед 2","index":10,"n_rows":148,"n_cols":30,"rows_kept":148,"merged":[[0,0,0,28],[1,5,1,10],[1,11,2,11],[1,12,2,12],[1,13,1,18],[1,19,3,19],[1,20,3,20],[1,21,1,22],[1,23,3,23],[1,24,1,26],[1,27,3,27],[1,28,3,28],[1,29,3,29]]}
["Расход продуктов питания в образовательных учереждениях  "]
[{"$nulls":5},"Меню с 1 по 4 класс  69,43  РУБ",{"$nulls":5},"Итого с пельменями","Итого с тефтелями","Меню с 5 по 11 класс  69,43  РУБ  ",{"$nulls":5},"Итого с пельменями","Итого с тефтелями","Меню на сумму         9,60  РУБ",null,"ИТОГО","Меню   СУПА  ",null,null,"ИТОГО","ВСЕГО ЗА ДЕНЬ расход продуктов по всем рационам","остатолк на конец"]
[null,"ДЕНЬ 4 неделя 2",null,"остаток на начало","приход","сыр порционно","Пельмени отварные с маслом сливочным (отдаем с яблоком)","тефтели мясные в смет томат соусе","макарон идел отварные с маслом слив","Компот из с/ф","Хлеб пшеничн /ржаной",null,null,"сыр порционно","Пельмени отварные с маслом сливочным (отдаем с яблоком)","тефтели мясные в смет томат соусе","макарон идел отварные с маслом слив","Компот из с/ф","Хлеб пшеничн /ржаной",null,null,"булочка готовая х/з","напиток из свежих фруктов",null,"Суп горох с картоф с курин фрик","чай с сахаром ","Хлеб ржаной "]
[null,"КОЛИЧЕСТВО ДЕТЕЙ",{"$nulls":3},"7-11","7-11","7-11","7-11","7-11","7-11","7-11","7-11","12-18","12-18","12-18","12-18",null,"12-18",null,null,"12-18","12-18",null,"12-18","12-18","12-18"]
[null,"Выход,гр",{"$nulls":3},"15","150/5","60/40","180/3","200","0/30","1","1","10","195/5","60/40","180/3","200","25/35","1","1","50","200",1,"250/10","190/10","30","1",{"$f":"L5+M5+T5+U5+X5+AB5","v":6}]
[null,"Хлеб"]
[1,"батон ","кг",{"$f":"'Ср День 3 Нед 2'!AB7","v":0},{"$nulls":7},{"$f":"(G7+J7)*$L$5","v":{"v":0,"d":"0.0000"}},{"$f":"(F7+H7+I7+J7+K7)*$M$5","v":{"v":0,"d":"0.0000"}},{"$nulls":6},{"$f":"(O7+R7)*$T$5","v":{"v":0,"d":"0.0000"}},{"$f":"(N7+P7+Q7+R7+S7)*$U$5","v":{"v":0,"d":"0.0000"}},null,null,{"$f":"(W7+V7)*$X$5","v":{"v":0,"d":"0.0000"}},{"$nulls":3},{"$f":"(AA7+Z7+Y7)*$AB$5","v":{"v":0,"d":"0.0000"}},{"$f":"L7+M7+T7+U7+X7+AB7","v":{"v":0,"d":"0.000"}},{"$f":"(D7+E7)-AC7","v":{"v":0,"d":"0.000"}}]
[2,"хлеб пшеничный ","кг",{"$f":"'Ср День 3 Нед 2'!AB8","v":-0.5302},null,null,{"v":0.02,"d":"0.0200"},{"$nulls":4},{"$f":"(G8+J8+K8)*$L$5","v":{"v":0.02,"d":"0.0200"}},{"$f":"(F8+H8+I8+J8+K8)*$M$5","v":{"v":0,"d":"0.0000"}},null,{"v":0.02,"d":"0.0200"},{"$nulls":3},{"v":0.025,"d":"0.0250"},{"$f":"(O8+R8)*$T$5","v":{"v":0.02,"d":"0.0200"}},{"$f":"(O8+P8+Q8+S8)*$U$5","v":{"v":0.045,"d":"0.0450"}},null,null,{"$f":"(W8+V8)*$X$5","v":{"v":0,"d":"0.0000"}},{"$nulls":3},{"v":0,"d":"0.0000"},{"$f":"L8+M8+T8+U8+X8+AB8","v":{"v":0.08499999999999999,"d":"0.085"}},{"v":-0.6152,"d":"-0.615"}]
[3,"хлеб ржаной","кг",{"$f":"'Ср День 3 Нед 2'!AB9","v":-1.155},null,null,{"v":0.03,"d":"0.0300"},{"$nulls":3},{"v":0.03,"d":"0.0300"},{"v":0.06,"d":"0.0600"},{"v":0.03,"d":"0.0300"},null,{"v":0.03,"d":"0.0300"},{"$nulls":3},{"v":0.035,"d":"0.0350"},{"v":0.03,"d":"0.0300"},{"v":0.065,"d":"0.0650"},null,null,{"v":0,"d":"0.0000"},null,null,{"v":0.03,"d":"0.0300"},{"v":0.03,"d":"0.0300"},0.215,{"v":-1.37,"d":"-1.370"}]
[4,"булоч/выпечка готов с х/ком","кг",{"$f":"'Ср День 3 Нед 2'!AB10","v":-1},{"$nulls":7},{"v":0,"d":"0.0000"},{"v":0,"d":"0.0000"},{"$nulls":6},{"v":0,"d":"0.0000"},{"v":0,"d":"0.0000"},{"v":1,"d":"1.0000"},null,{"v":1,"d":"1.0000"},{"$nulls":3},{"v":0,"d":"0.0000"},{"v":1,"d":"1.000"},{"v":-2,"d":"-2.000"}]
[null,"Молочка",null,{"$f":"'Ср День 3 Нед 2'!AB11","v":0},{"$nulls":7},{"v":0,"d":"0.0000"},{"v":0,"d":"0.0000"},{"$nulls":6},{"v":0,"d":"0.0000"},{"v":0,"d":"0.0000"},null,null,{"v":0,"d":"0.0000"},{"$nulls":3},{"v":0,"d":"0.0000"},{"v":0,"d":"0.000"},{"v":0,"d":"0.000"}]
[5,"молоко 2,5%","кг",{"$f":"'Ср День 3 Нед 2'!AB12","v":-0.5519000000000001},{"$nulls":7},{"v":0,"d":"0.0000"},{"v":0,"d":"0.0000"},{"$nulls":6},{"v":0,"d":"0.0000"},{"v":0,"d":"0.0000"},null,null,{"v":0,"d":"0.0000"},{"$nulls":3},{"v":0,"d":"0.0000"},{"v":0,"d":"0.000"},{"v":-0.5519000000000001,"d":"-0.552"}]
[6,"творог 5%","кг",{"$f":"'Ср День 3 Нед 2'!AB13","v":0},{"$nulls":7},{"v":0,"d":"0.0000"},{"v":0,"d":"0.0000"},{"$nulls":6},{"v":0,"d":"0.0000"},{"v":0,"d":"0.0000"},null,null,{"v":0,"d":"0.0000"},{"$nulls":3},{"v":0,"d":"0.0000"},{"v":0,"d":"0.000"},{"v":0,"d":"0.000"}]
[7,"сметана 15%","кг",{"$f":"'Ср День 3 Нед 2'!AB14","v":-0.08},{"$nulls":3},{"v":0.01,"d":"0.0100"},{"$nulls":3},{"v":0,"d":"0.0000"},{"v":0.01,"d":"0.0100"},{"$nulls":6},{"v":0,"d":"0.0000"},{"v":0,"d":"0.0000"},null,null,{"v":0,"d":"0.0000"},{"$nulls":3},{"v":0,"d":"0.0000"},{"v":0.01,"d":"0.010"},{"v":-0.09,"d":"-0.090"}]
[8,"йогурт фруктов ","кг",{"$f":"'Ср День 3 Нед 2'!AB15","v":0},{"$nulls":7},{"v":0,"d":"0.0000"},{"v":0,"d":"0.0000"},{"$nulls":6},{"v":0,"d":"0.0000"},{"v":0,"d":"0.0000"},null,null,{"v":0,"d":"0.0000"},{"$nulls":3},{"v":0,"d":"0.0000"},{"v":0,"d":"0.000"},{"v":0,"d":"0.000"}]
[9,"катык 2,5%","кг",{"$f":"'Ср День 3 Нед 2'!AB16","v":0},{"$nulls":7},{"v":0,"d":"0.0000"},{"v":0,"d":"0.0000"},{"$nulls":6},{"v":0,"d":"0.0000"},{"v":0,"d":"0.0000"},null,null,{"v":0,"d":"0.0000"},{"$nulls":3},{"v":0,"d":"0.0000"},{"v":0,"d":"0.000"},{"v":0,"d":"0.000"}]
[10,"кефир 2,5%","кг",{"$f":"'Ср День 3 Нед 2'!AB17","v":0},{"$nulls":7},{"v":0,"d":"0.0000"},{"v":0,"d":"0.0000"},{"$nulls":6},{"v":0,"d":"0.0000"},{"v":0,"d":"0.0000"},null,null,{"v":0,"d":"0.0000"},{"$nulls":3},{"v":0,"d":"0.0000"},{"v":0,"d":"0.000"},{"v":0,"d":"0.000"}]
[11,"ряженка 2,5%","кг",{"$f":"'Ср День 3 Нед 2'!AB18","v":0},{"$nulls":7},{"v":0,"d":"0.0000"},{"v":0,"d":"0.0000"},{"$nulls":6},{"v":0,"d":"0.0000"},{"v":0,"d":"0.0000"},null,null,{"v":0,"d":"0.0000"},{"$nulls":3},{"v":0,"d":"0.0000"},{"v":0,"d":"0.000"},{"v":0,"d":"0.000"}]
[12,"напиток ацидофильный ","кг",{"$f":"'Ср День 3 Нед 2'!AB19","v":0},{"$nulls":7},{"v":0,"d":"0.0000"},{"v":0,"d":"0.0000"},{"$nulls":6},{"v":0,"d":"0.0000"},{"v":0,"d":"0.0000"},null,null,{"v":0,"d":"0.0000"},{"$nulls":3},{"v":0,"d":"0.0000"},{"v":0,"d":"0.000"},{"v":0,"d":"0.000"}]
[null,"Масло / сыр ",null,{"$f":"'Ср День 3 Нед 2'!AB20","v":0},{"$nulls":7},{"v":0,"d":"0.0000"},{"v":0,"d":"0.0000"},{"$nulls":6},{"v":0,"d":"0.0000"},{"v":0,"d":"0.0000"},null,null,{"v":0,"d":"0.0000"},{"$nulls":3},{"v":0,"d":"0.0000"},{"v":0,"d":"0.000"},{"v":0,"d":"0.000"}]
[13,"масло растительное","кг",{"$f":"'Ср День 3 Нед 2'!AB21","v":-0.1508},{"$nulls":3},{"v":0.005,"d":"0.0050"},{"$nulls":3},{"v":0,"d":"0.0000"},{"v":0.005,"d":"0.0050"},{"$nulls":6},{"v":0,"d":"0.0000"},{"v":0,"d":"0.0000"},null,null,{"v":0,"d":"0.0000"},{"v":0.005,"d":"0.0050"},null,null,{"v":0.005,"d":"0.0050"},{"v":0.01,"d":"0.010"},{"v":-0.1608,"d":"-0.161"}]
[14,"масло сливочное","кг",{"$f":"'Ср День 3 Нед 2'!AB22","v":-0.07559999999999999},null,null,{"v":0.005,"d":"0.0050"},null,{"v":0.003,"d":"0.0030"},null,null,{"v":0.005,"d":"0.0050"},{"v":0.003,"d":"0.0030"},null,{"v":0.005,"d":"0.0050"},0.0026,{"$nulls":3},{"v":0.005,"d":"0.0050"},{"v":7.6E-3,"d":"0.0076"},null,null,{"v":0,"d":"0.0000"},{"$nulls":3},{"v":0,"d":"0.0000"},{"v":0.0206,"d":"0.021"},{"v":-0.09619999999999998,"d":"-0.096"}]
[15,"сыр голландский","кг",{"$f":"'Ср День 3 Нед 2'!AB23","v":-0.0102},null,0.0153,{"$nulls":5},{"v":0,"d":"0.0000"},0.0153,0.0103,{"$nulls":5},{"v":0,"d":"0.0000"},{"v":0,"d":"0.0000"},null,null,{"v":0,"d":"0.0000"},{"$nulls":3},{"v":0,"d":"0.0000"},{"v":0.0153,"d":"0.015"},{"v":-0.025500000000000002,"d":"-0.026"}]
[null,"Мясо",null,{"$f":"'Ср День 3 Нед 2'!AB24","v":0},{"$nulls":7},{"v":0,"d":"0.0000"},{"v":0,"d":"0.0000"},{"$nulls":6},{"v":0,"d":"0.0000"},{"v":0,"d":"0.0000"},null,null,{"v":0,"d":"0.0000"},{"$nulls":3},{"v":0,"d":"0.0000"},{"v":0,"d":"0.000"},{"v":0,"d":"0.000"}]
[16,"говядина (котлетное мясо) ","кг",{"$f":"'Ср День 3 Нед 2'!AB25","v":0},{"$nulls":7},{"v":0,"d":"0.0000"},{"v":0,"d":"0.0000"},{"$nulls":6},{"v":0,"d":"0.0000"},{"v":0,"d":"0.0000"},null,null,{"v":0,"d":"0.0000"},{"$nulls":3},{"v":0,"d":"0.0000"},{"v":0,"d":"0.000"},{"v":0,"d":"0.000"}]
[17,"фарш говяжий","кг",{"$f":"'Ср День 3 Нед 2'!AB26","v":-0.11190999999999998},{"$nulls":3},{"v":0.038,"d":"0.0380"},{"$nulls":3},{"v":0,"d":"0.0000"},{"v":0.038,"d":"0.0380"},{"$nulls":6},{"v":0,"d":"0.0000"},{"v":0,"d":"0.0000"},null,null,{"v":0,"d":"0.0000"},{"$nulls":3},{"v":0,"d":"0.0000"},0.038,{"v":-0.14991,"d":"-0.150"}]
[18,"говядина лопатка б/к","кг",{"$f":"'Ср День 3 Нед 2'!AB27","v":0},{"$nulls":7},{"v":0,"d":"0.0000"},{"v":0,"d":"0.0000"},{"$nulls":6},{"v":0,"d":"0.0000"},{"v":0,"d":"0.0000"},null,null,{"v":0,"d":"0.0000"},{"$nulls":3},{"v":0,"d":"0.0000"},{"v":0,"d":"0.000"},{"v":0,"d":"0.000"}]
[19,"сосиски","кг",{"$f":"'Ср День 3 Нед 2'!AB28","v":-0.418},{"$nulls":7},{"v":0,"d":"0.0000"},{"v":0,"d":"0.0000"},{"$nulls":6},{"v":0,"d":"0.0000"},{"v":0,"d":"0.0000"},null,null,{"v":0,"d":"0.0000"},{"$nulls":3},{"v":0,"d":"0.0000"},{"v":0,"d":"0.000"},-0.418]
[20,"колбаса п/к \"Халяль\"","кг",{"$f":"'Ср День 3 Нед 2'!AB29","v":0},{"$nulls":7},{"v":0,"d":"0.0000"},{"v":0,"d":"0.0000"},{"$nulls":6},{"v":0,"d":"0.0000"},{"v":0,"d":"0.0000"},null,null,{"v":0,"d":"0.0000"},{"$nulls":3},{"v":0,"d":"0.0000"},{"v":0,"d":"0.000"},{"v":0,"d":"0.000"}]
[21,"куриное бедро","кг",{"$f":"'Ср День 3 Нед 2'!AB30","v":0},{"$nulls":7},{"v":0,"d":"0.0000"},{"v":0,"d":"0.0000"},{"$nulls":6},{"v":0,"d":"0.0000"},{"v":0,"d":"0.0000"},null,null,{"v":0,"d":"0.0000"},{"$nulls":3},{"v":0,"d":"0.0000"},{"v":0,"d":"0.000"},{"v":0,"d":"0.000"}]
[22,"куриная грудка","кг",{"$f":"'Ср День 3 Нед 2'!AB31","v":-0.50815},{"$nulls":7},{"v":0,"d":"0.0000"},{"v":0,"d":"0.0000"},{"$nulls":6},{"v":0,"d":"0.0000"},{"v":0,"d":"0.0000"},null,null,{"v":0,"d":"0.0000"},{"v":0.01317,"d":"0.0132"},null,null,{"v":0.01317,"d":"0.0132"},{"v":0.01317,"d":"0.013"},{"v":-0.52132,"d":"-0.521"}]
[23,"куры/цыплята потрош.","кг",{"$f":"'Ср День 3 Нед 2'!AB32","v":0},{"$nulls":7},{"v":0,"d":"0.0000"},{"v":0,"d":"0.0000"},{"$nulls":6},{"v":0,"d":"0.0000"},{"v":0,"d":"0.0000"},null,null,{"v":0,"d":"0.0000"},{"$nulls":3},{"v":0,"d":"0.0000"},{"v":0,"d":"0.000"},{"v":0,"d":"0.000"}]
[24,"фарш куриный","кг",{"$f":"'Ср День 3 Нед 2'!AB33","v":0},{"$nulls":7},{"v":0,"d":"0.0000"},{"v":0,"d":"0.0000"},{"$nulls":6},{"v":0,"d":"0.0000"},{"v":0,"d":"0.0000"},null,null,{"v":0,"d":"0.0000"},{"$nulls":3},{"v":0,"d":"0.0000"},{"v":0,"d":"0.000"},{"v":0,"d":"0.000"}]
[25,"индейка бедро филе","кг",{"$f":"'Ср День 3 Нед 2'!AB34","v":-0.147},{"$nulls":7},{"v":0,"d":"0.0000"},{"v":0,"d":"0.0000"},{"$nulls":6},{"v":0,"d":"0.0000"},{"v":0,"d":"0.0000"},null,null,{"v":0,"d":"0.0000"},{"$nulls":3},{"v":0,"d":"0.0000"},{"v":0,"d":"0.000"},-0.147]
[26,"индейка грудка филе","кг",{"$f":"'Ср День 3 Нед 2'!AB35","v":0},{"$nulls":7},{"v":0,"d":"0.0000"},{"v":0,"d":"0.0000"},{"$nulls":6},{"v":0,"d":"0.0000"},{"v":0,"d":"0.0000"},null,null,{"v":0,"d":"0.0000"},{"$nulls":3},{"v":0,"d":"0.0000"},{"v":0,"d":"0.000"},{"v":0,"d":"0.000"}]
[null,"Рыба",null,{"$f":"'Ср День 3 Нед 2'!AB36","v":0},{"$nulls":7},{"v":0,"d":"0.0000"},{"v":0,"d":"0.0000"},{"$nulls":6},{"v":0,"d":"0.0000"},{"v":0,"d":"0.0000"},null,null,{"v":0,"d":"0.0000"},{"$nulls":3},{"v":0,"d":"0.0000"},{"v":0,"d":"0.000"},{"v":0,"d":"0.000"}]
[27,"горбуша ПБГ с/м","кг",{"$f":"'Ср День 3 Нед 2'!AB37","v":0},{"$nulls":7},{"v":0,"d":"0.0000"},{"v":0,"d":"0.0000"},{"$nulls":6},{"v":0,"d":"0.0000"},{"v":0,"d":"0.0000"},null,null,{"v":0,"d":"0.0000"},{"$nulls":3},{"v":0,"d":"0.0000"},{"v":0,"d":"0.000"},{"v":0,"d":"0.000"}]
[28,"минтай б/г с/м","кг",{"$f":"'Ср День 3 Нед 2'!AB38","v":-0.30932000000000004},{"$nulls":7},{"v":0,"d":"0.0000"},{"v":0,"d":"0.0000"},{"$nulls":6},{"v":0,"d":"0.0000"},{"v":0,"d":"0.0000"},null,null,{"v":0,"d":"0.0000"},{"$nulls":3},{"v":0,"d":"0.0000"},{"v":0,"d":"0.000"},{"v":-0.30932000000000004,"d":"-0.309"}]
[29,"фарш минтая","кг",{"$f":"'Ср День 3 Нед 2'!AB39","v":-0.23624},{"$nulls":7},{"v":0,"d":"0.0000"},{"v":0,"d":"0.0000"},{"$nulls":6},{"v":0,"d":"0.0000"},{"v":0,"d":"0.0000"},null,null,{"v":0,"d":"0.0000"},{"$nulls":3},{"$f":"(AA39+Z39+Y39)*$AB$5","v":{"v":0,"d":"0.0000"}},{"v":0,"d":"0.000"},{"$f":"(D39+E39)-AC39","v":{"v":-0.23624,"d":"-0.236"}}]
[null,"Сыпучка",null,{"$f":"'Ср День 3 Нед 2'!AB40","v":0},{"$nulls":7},{"v":0,"d":"0.0000"},{"v":0,"d":"0.0000"},{"$nulls":6},{"v":0,"d":"0.0000"},{"$f":"(O40+P40+Q40+S40)*$U$5","v":{"v":0,"d":"0.0000"}},null,null,{"v":0,"d":"0.0000"},{"$nulls":3},{"v":0,"d":"0.0000"},{"v":0,"d":"0.000"},{"v":0,"d":"0.000"}]
[30,"вермишель","кг",{"$f":"'Ср День 3 Нед 2'!AB41","v":-0.01},{"$nulls":7},{"v":0,"d":"0.0000"},{"v":0,"d":"0.0000"},{"$nulls":6},{"v":0,"d":"0.0000"},{"v":0,"d":"0.0000"},null,null,{"v":0,"d":"0.0000"},{"$nulls":3},{"v":0,"d":"0.0000"},{"v":0,"d":"0.000"},{"v":-0.01,"d":"-0.010"}]
[31,"геркулес","кг",{"$f":"'Ср День 3 Нед 2'!AB42","v":0},{"$nulls":7},{"v":0,"d":"0.0000"},{"v":0,"d":"0.0000"},{"$nulls":6},{"v":0,"d":"0.0000"},{"v":0,"d":"0.0000"},null,null,{"v":0,"d":"0.0000"},{"$nulls":3},{"v":0,"d":"0.0000"},{"v":0,"d":"0.000"},{"v":0,"d":"0.000"}]
[32,"горох","кг",{"$f":"'Ср День 3 Нед 2'!AB43","v":0},{"$nulls":7},{"v":0,"d":"0.0000"},{"v":0,"d":"0.0000"},{"$nulls":6},{"v":0,"d":"0.0000"},{"v":0,"d":"0.0000"},null,null,{"v":0,"d":"0.0000"},0.0203,null,null,0.0203,{"v":0.0203,"d":"0.020"},{"v":-0.0203,"d":"-0.020"}]
[33,"гречневая крупа","кг",{"$f":"'Ср День 3 Нед 2'!AB44","v":-0.6048},{"$nulls":7},{"v":0,"d":"0.0000"},{"v":0,"d":"0.0000"},{"$nulls":6},{"v":0,"d":"0.0000"},{"v":0,"d":"0.0000"},null,null,{"v":0,"d":"0.0000"},{"$nulls":3},{"v":0,"d":"0.0000"},{"v":0,"d":"0.000"},{"v":-0.6048,"d":"-0.605"}]
[34,"кукурузная крупа","кг",{"$f":"'Ср День 3 Нед 2'!AB45","v":0},{"$nulls":7},{"v":0,"d":"0.0000"},{"v":0,"d":"0.0000"},{"$nulls":6},{"v":0,"d":"0.0000"},{"v":0,"d":"0.0000"},null,null,{"v":0,"d":"0.0000"},{"$nulls":3},{"v":0,"d":"0.0000"},{"v":0,"d":"0.000"},{"v":0,"d":"0.000"}]
[35,"макаронные изделия","кг",{"$f":"'Ср День 3 Нед 2'!AB46","v":-0.142},{"$nulls":4},0.0732,null,null,{"v":0,"d":"0.0000"},0.0732,null,null,{"v":0.081,"d":"0.0810"},{"$nulls":3},{"v":0,"d":"0.0000"},{"v":0.081,"d":"0.0810"},null,null,{"v":0,"d":"0.0000"},{"$nulls":3},{"v":0,"d":"0.0000"},{"v":0.1542,"d":"0.154"},{"v":-0.2962,"d":"-0.296"}]
[36,"манная крупа","кг",{"$f":"'Ср День 3 Нед 2'!AB47","v":0},{"$nulls":7},{"v":0,"d":"0.0000"},{"v":0,"d":"0.0000"},{"$nulls":6},{"v":0,"d":"0.0000"},{"v":0,"d":"0.0000"},null,null,{"v":0,"d":"0.0000"},{"$nulls":3},{"v":0,"d":"0.0000"},{"v":0,"d":"0.000"},{"v":0,"d":"0.000"}]
[37,"перловая крупа","кг",{"$f":"'Ср День 3 Нед 2'!AB48","v":-0.005},{"$nulls":7},{"v":0,"d":"0.0000"},{"v":0,"d":"0.0000"},{"$nulls":6},{"v":0,"d":"0.0000"},{"v":0,"d":"0.0000"},null,null,{"v":0,"d":"0.0000"},{"$nulls":3},{"v":0,"d":"0.0000"},{"v":0,"d":"0.000"},-0.005]
[38,"полбяная крупа","кг",{"$f":"'Ср День 3 Нед 2'!AB49","v":0},{"$nulls":7},{"v":0,"d":"0.0000"},{"v":0,"d":"0.0000"},{"$nulls":6},{"v":0,"d":"0.0000"},{"v":0,"d":"0.0000"},null,null,{"v":0,"d":"0.0000"},{"$nulls":3},{"v":0,"d":"0.0000"},{"v":0,"d":"0.000"},{"v":0,"d":"0.000"}]
[39,"пшеничная крупа","кг",{"$f":"'Ср День 3 Нед 2'!AB50","v":0},{"$nulls":7},{"v":0,"d":"0.0000"},{"v":0,"d":"0.0000"},{"$nulls":6},{"v":0,"d":"0.0000"},{"v":0,"d":"0.0000"},null,null,{"v":0,"d":"0.0000"},{"$nulls":3},{"v":0,"d":"0.0000"},{"v":0,"d":"0.000"},{"v":0,"d":"0.000"}]
[40,"пшено","кг",{"$f":"'Ср День 3 Нед 2'!AB51","v":-0.029500000000000002},{"$nulls":7},{"v":0,"d":"0.0000"},{"v":0,"d":"0.0000"},{"$nulls":6},{"v":0,"d":"0.0000"},{"v":0,"d":"0.0000"},null,null,{"v":0,"d":"0.0000"},{"$nulls":3},{"v":0,"d":"0.0000"},{"v":0,"d":"0.000"},{"v":-0.029500000000000002,"d":"-0.030"}]
[41,"рис","кг",{"$f":"'Ср День 3 Нед 2'!AB52","v":-0.5562},{"$nulls":3},{"v":0.005,"d":"0.0050"},{"$nulls":3},{"v":0,"d":"0.0000"},{"v":0.005,"d":"0.0050"},{"$nulls":6},{"v":0,"d":"0.0000"},{"v":0,"d":"0.0000"},null,null,{"v":0,"d":"0.0000"},{"$nulls":3},{"v":0,"d":"0.0000"},0.005,{"v":-0.5612,"d":"-0.561"}]
[42,"ячневая крупа","кг",{"$f":"'Ср День 3 Нед 2'!AB53","v":0},{"$nulls":7},{"v":0,"d":"0.0000"},{"v":0,"d":"0.0000"},{"$nulls":6},{"v":0,"d":"0.0000"},{"v":0,"d":"0.0000"},null,null,{"v":0,"d":"0.0000"},{"$nulls":3},{"v":0,"d":"0.0000"},{"v":0,"d":"0.000"},{"v":0,"d":"0.000"}]
[43,"лапша домашняя п/ф","кг",{"$f":"'Ср День 3 Нед 2'!AB54","v":-0.02},{"$nulls":7},{"v":0,"d":"0.0000"},{"v":0,"d":"0.0000"},{"$nulls":6},{"v":0,"d":"0.0000"},{"v":0,"d":"0.0000"},null,null,{"v":0,"d":"0.0000"},{"$nulls":3},{"v":0,"d":"0.0000"},{"v":0,"d":"0.000"},{"v":-0.02,"d":"-0.020"}]
[44,"мука пшеничная в/с","кг",{"$f":"'Ср День 3 Нед 2'!AB55","v":-0.0338},{"$nulls":3},{"v":0.007,"d":"0.0070"},{"$nulls":3},{"v":0,"d":"0.0000"},{"v":0.007,"d":"0.0070"},{"$nulls":6},{"v":0,"d":"0.0000"},{"v":0,"d":"0.0000"},null,null,{"v":0,"d":"0.0000"},{"$nulls":3},{"v":0,"d":"0.0000"},0.007,{"v":-0.040799999999999996,"d":"-0.041"}]
[45,"сахарный песок","кг",{"$f":"'Ср День 3 Нед 2'!AB56","v":-0.4453},{"$nulls":5},{"v":0.01,"d":"0.0100"},null,{"v":0.01,"d":"0.0100"},{"v":0.01,"d":"0.0100"},{"$nulls":3},{"v":0.01,"d":"0.0100"},{"v":0.01,"d":"0.0100"},null,{"v":0.01,"d":"0.0100"},{"v":0.01,"d":"0.0100"},null,{"v":0.01,"d":"0.0100"},{"v":0.01,"d":"0.0100"},null,{"v":0.01,"d":"0.0100"},null,{"v":0.01,"d":"0.0100"},{"v":0.060000000000000005,"d":"0.060"},{"v":-0.5053,"d":"-0.505"}]
[46,"соль","кг",{"$f":"'Ср День 3 Нед 2'!AB57","v":-0.034199999999999994},null,null,0.0003,0.0004,{"v":0.006,"d":"0.0060"},null,null,0.0003,0.0064,null,0.0004,0.0006,{"$nulls":3},0.0004,{"v":1E-3,"d":"0.0010"},null,null,{"v":0,"d":"0.0000"},0.0009,null,null,0.0009,0.009,{"v":-0.043199999999999995,"d":"-0.043"}]
[47,"сухари панировочные","кг",{"$f":"'Ср День 3 Нед 2'!AB58","v":-0.045},{"$nulls":7},{"v":0,"d":"0.0000"},{"v":0,"d":"0.0000"},{"$nulls":6},{"v":0,"d":"0.0000"},{"v":0,"d":"0.0000"},null,null,{"v":0,"d":"0.0000"},{"$nulls":3},{"v":0,"d":"0.0000"},{"v":0,"d":"0.000"},-0.045]
[48,"дрожжи сухие","кг",{"$f":"'Ср День 3 Нед 2'!AB59","v":0},{"$nulls":7},{"v":0,"d":"0.0000"},{"v":0,"d":"0.0000"},{"$nulls":6},{"v":0,"d":"0.0000"},{"v":0,"d":"0.0000"},null,null,{"v":0,"d":"0.0000"},{"$nulls":3},{"v":0,"d":"0.0000"},{"v":0,"d":"0.000"},{"v":0,"d":"0.000"}]
[49,"фасоль ","кг",{"$f":"'Ср День 3 Нед 2'!AB60","v":0},{"$nulls":7},{"v":0,"d":"0.0000"},{"v":0,"d":"0.0000"},{"$nulls":6},{"v":0,"d":"0.0000"},{"v":0,"d":"0.0000"},null,null,{"v":0,"d":"0.0000"},{"$nulls":3},{"v":0,"d":"0.0000"},{"v":0,"d":"0.000"},{"v":0,"d":"0.000"}]
[null,"Консервы",null,{"$f":"'Ср День 3 Нед 2'!AB61","v":0},{"$nulls":7},{"v":0,"d":"0.0000"},{"v":0,"d":"0.0000"},{"$nulls":6},{"v":0,"d":"0.0000"},{"v":0,"d":"0.0000"},null,null,{"v":0,"d":"0.0000"},{"$nulls":3},{"v":0,"d":"0.0000"},{"v":0,"d":"0.000"},{"v":0,"d":"0.000"}]
[50,"зеленый горошек к/с","кг",{"$f":"'Ср День 3 Нед 2'!AB62","v":-0.2902},{"$nulls":7},{"v":0,"d":"0.0000"},{"v":0,"d":"0.0000"},{"$nulls":6},{"v":0,"d":"0.0000"},{"v":0,"d":"0.0000"},null,null,{"v":0,"d":"0.0000"},{"$nulls":3},{"v":0,"d":"0.0000"},{"v":0,"d":"0.000"},{"v":-0.2902,"d":"-0.290"}]
[51,"кукуруза к/с","кг",{"$f":"'Ср День 3 Нед 2'!AB63","v":0},{"$nulls":7},{"v":0,"d":"0.0000"},{"v":0,"d":"0.0000"},{"$nulls":6},{"v":0,"d":"0.0000"},{"v":0,"d":"0.0000"},null,null,{"v":0,"d":"0.0000"},{"$nulls":3},{"v":0,"d":"0.0000"},{"v":0,"d":"0.000"},{"v":0,"d":"0.000"}]
[52,"фасоль к/с","кг",{"$f":"'Ср День 3 Нед 2'!AB64","v":0},{"$nulls":7},{"v":0,"d":"0.0000"},{"v":0,"d":"0.0000"},{"$nulls":6},{"v":0,"d":"0.0000"},{"v":0,"d":"0.0000"},null,null,{"v":0,"d":"0.0000"},{"$nulls":3},{"v":0,"d":"0.0000"},{"v":0,"d":"0.000"},{"v":0,"d":"0.000"}]
[53,"икра кабач/икра баклаж","кг",{"$f":"'Ср День 3 Нед 2'!AB65","v":0},{"$nulls":7},{"v":0,"d":"0.0000"},{"v":0,"d":"0.0000"},{"$nulls":6},{"v":0,"d":"0.0000"},{"v":0,"d":"0.0000"},null,null,{"v":0,"d":"0.0000"},{"$nulls":3},{"v":0,"d":"0.0000"},{"v":0,"d":"0.000"},{"v":0,"d":"0.000"}]
[54,"капуста морская сушеная","кг",{"$f":"'Ср День 3 Нед 2'!AB66","v":0},{"$nulls":7},{"v":0,"d":"0.0000"},{"v":0,"d":"0.0000"},{"$nulls":6},{"v":0,"d":"0.0000"},{"v":0,"d":"0.0000"},null,null,{"v":0,"d":"0.0000"},{"$nulls":3},{"v":0,"d":"0.0000"},{"v":0,"d":"0.000"},{"v":0,"d":"0.000"}]
[55,"квашеная капуста ","кг",{"$f":"'Ср День 3 Нед 2'!AB67","v":0},{"$nulls":7},{"v":0,"d":"0.0000"},{"v":0,"d":"0.0000"},{"$nulls":6},{"v":0,"d":"0.0000"},{"v":0,"d":"0.0000"},null,null,{"v":0,"d":"0.0000"},{"$nulls":3},{"v":0,"d":"0.0000"},{"v":0,"d":"0.000"},{"v":0,"d":"0.000"}]
[56,"молоко сгущенное  ","кг",{"$f":"'Ср День 3 Нед 2'!AB68","v":0},{"$nulls":7},{"v":0,"d":"0.0000"},{"v":0,"d":"0.0000"},{"$nulls":6},{"v":0,"d":"0.0000"},{"v":0,"d":"0.0000"},null,null,{"v":0,"d":"0.0000"},{"$nulls":3},{"v":0,"d":"0.0000"},{"v":0,"d":"0.000"},{"v":0,"d":"0.000"}]
[57,"огурцы соленые","кг",{"$f":"'Ср День 3 Нед 2'!AB69","v":-0.0273},{"$nulls":7},{"v":0,"d":"0.0000"},{"v":0,"d":"0.0000"},{"$nulls":6},{"v":0,"d":"0.0000"},{"v":0,"d":"0.0000"},null,null,{"v":0,"d":"0.0000"},{"$nulls":3},{"v":0,"d":"0.0000"},{"v":0,"d":"0.000"},{"v":-0.0273,"d":"-0.027"}]
[58,"повидло","кг",{"$f":"'Ср День 3 Нед 2'!AB70","v":0},{"$nulls":7},{"v":0,"d":"0.0000"},{"v":0,"d":"0.0000"},{"$nulls":6},{"v":0,"d":"0.0000"},{"v":0,"d":"0.0000"},null,null,{"v":0,"d":"0.0000"},{"$nulls":3},{"v":0,"d":"0.0000"},{"v":0,"d":"0.000"},{"v":0,"d":"0.000"}]
[59,"томатная паста","кг",{"$f":"'Ср День 3 Нед 2'!AB71","v":-0.029500000000000002},{"$nulls":3},0.0016,{"$nulls":3},{"v":0,"d":"0.0000"},0.0016,{"$nulls":6},{"v":0,"d":"0.0000"},{"v":0,"d":"0.0000"},null,null,{"v":0,"d":"0.0000"},{"$nulls":3},{"$f":"(AA71+Z71+Y71)*$AB$5","v":{"v":0,"d":"0.0000"}},{"v":0.0016,"d":"0.002"},{"$f":"(D71+E71)-AC71","v":{"v":-0.031100000000000003,"d":"-0.031"}}]
[60,"рыбные консервы","кг",{"$f":"'Ср День 3 Нед 2'!AB72","v":0},{"$nulls":7},{"$f":"(G72+J72+K72)*$L$5","v":{"v":0,"d":"0.0000"}},{"$f":"(F72+H72+I72+J72+K72)*$M$5","v":{"v":0,"d":"0.0000"}},{"$nulls":6},{"$f":"(O72+R72)*$T$5","v":{"v":0,"d":"0.0000"}},{"$f":"(O72+P72+Q72+S72)*$U$5","v":{"v":0,"d":"0.0000"}},null,null,{"$f":"(W72+V72)*$X$5","v":{"v":0,"d":"0.0000"}},{"$nulls":3},{"v":0,"d":"0.0000"},{"$f":"L72+M72+T72+U72+X72+AB72","v":{"v":0,"d":"0.000"}},{"v":0,"d":"0.000"}]
[null,"Напитки",null,{"$f":"'Ср День 3 Нед 2'!AB73","v":0},{"$nulls":7},{"v":0,"d":"0.0000"},{"v":0,"d":"0.0000"},{"$nulls":6},{"v":0,"d":"0.0000"},{"v":0,"d":"0.0000"},null,null,{"v":0,"d":"0.0000"},{"$nulls":3},{"v":0,"d":"0.0000"},{"v":0,"d":"0.000"},{"v":0,"d":"0.000"}]
[61,"чай весовой ","кг",{"$f":"'Ср День 3 Нед 2'!AB74","v":-0.015500000000000002},{"$nulls":7},{"v":0,"d":"0.0000"},{"v":0,"d":"0.0000"},{"$nulls":3},0.0005,null,null,{"v":0,"d":"0.0000"},0.0005,null,null,{"v":0,"d":"0.0000"},null,0.0005,null,0.0005,{"v":1E-3,"d":"0.001"},{"v":-0.0165,"d":"-0.017"}]
[62,"какао","кг",{"$f":"'Ср День 3 Нед 2'!AB75","v":0},{"$nulls":7},{"v":0,"d":"0.0000"},{"v":0,"d":"0.0000"},{"$nulls":6},{"v":0,"d":"0.0000"},{"v":0,"d":"0.0000"},null,null,{"v":0,"d":"0.0000"},{"$nulls":3},{"v":0,"d":"0.0000"},{"v":0,"d":"0.000"},{"v":0,"d":"0.000"}]
[63,"кисель","кг",{"$f":"'Ср День 3 Нед 2'!AB76","v":0},{"$nulls":7},{"v":0,"d":"0.0000"},{"v":0,"d":"0.0000"},{"$nulls":6},{"v":0,"d":"0.0000"},{"v":0,"d":"0.0000"},null,null,{"v":0,"d":"0.0000"},{"$nulls":3},{"v":0,"d":"0.0000"},{"v":0,"d":"0.000"},{"v":0,"d":"0.000"}]
[64,"кофейный напиток","кг",{"$f":"'Ср День 3 Нед 2'!AB77","v":-0.01},{"$nulls":7},{"v":0,"d":"0.0000"},{"v":0,"d":"0.0000"},{"$nulls":6},{"v":0,"d":"0.0000"},{"v":0,"d":"0.0000"},null,null,{"v":0,"d":"0.0000"},{"$nulls":3},{"v":0,"d":"0.0000"},{"v":0,"d":"0.000"},{"v":-0.01,"d":"-0.010"}]
[65,"цикорий","кг",{"$f":"'Ср День 3 Нед 2'!AB78","v":0},{"$nulls":7},{"v":0,"d":"0.0000"},{"v":0,"d":"0.0000"},{"$nulls":6},{"v":0,"d":"0.0000"},{"v":0,"d":"0.0000"},null,null,{"v":0,"d":"0.0000"},{"$nulls":3},{"v":0,"d":"0.0000"},{"v":0,"d":"0.000"},{"v":0,"d":"0.000"}]
[null,"Сухофрукты",null,{"$f":"'Ср День 3 Нед 2'!AB79","v":0},{"$nulls":7},{"v":0,"d":"0.0000"},{"v":0,"d":"0.0000"},{"$nulls":6},{"v":0,"d":"0.0000"},{"v":0,"d":"0.0000"},null,null,{"v":0,"d":"0.0000"},{"$nulls":3},{"v":0,"d":"0.0000"},{"v":0,"d":"0.000"},{"v":0,"d":"0.000"}]
[66,"ассорти для компота (сухофрукты)","кг",{"$f":"'Ср День 3 Нед 2'!AB80","v":-0.1836},{"$nulls":5},0.0204,null,0.0204,0.0204,{"$nulls":4},0.0204,null,0.0204,{"v":0,"d":"0.0000"},null,null,{"v":0,"d":"0.0000"},{"$nulls":3},{"v":0,"d":"0.0000"},{"v":0.061200000000000004,"d":"0.061"},{"v":-0.24480000000000002,"d":"-0.245"}]
[67,"изюм","кг",{"$f":"'Ср День 3 Нед 2'!AB81","v":-0.0102},{"$nulls":7},{"v":0,"d":"0.0000"},{"v":0,"d":"0.0000"},{"$nulls":6},{"v":0,"d":"0.0000"},{"v":0,"d":"0.0000"},null,null,{"v":0,"d":"0.0000"},{"$nulls":3},{"v":0,"d":"0.0000"},{"v":0,"d":"0.000"},{"v":-0.0102,"d":"-0.010"}]
[68,"курага","кг",{"$f":"'Ср День 3 Нед 2'!AB82","v":0},{"$nulls":7},{"v":0,"d":"0.0000"},{"v":0,"d":"0.0000"},{"$nulls":6},{"v":0,"d":"0.0000"},{"v":0,"d":"0.0000"},null,null,{"v":0,"d":"0.0000"},{"$nulls":3},{"v":0,"d":"0.0000"},{"v":0,"d":"0.000"},{"v":0,"d":"0.000"}]
[69,"урюк","кг",{"$f":"'Ср День 3 Нед 2'!AB83","v":-0.0204},{"$nulls":7},{"v":0,"d":"0.0000"},{"v":0,"d":"0.0000"},{"$nulls":6},{"v":0,"d":"0.0000"},{"v":0,"d":"0.0000"},null,null,{"v":0,"d":"0.0000"},{"$nulls":3},{"v":0,"d":"0.0000"},{"v":0,"d":"0.000"},{"v":-0.0204,"d":"-0.020"}]
[70,"шиповник","кг",{"$f":"'Ср День 3 Нед 2'!AB84","v":-0.0456},{"$nulls":7},{"v":0,"d":"0.0000"},{"v":0,"d":"0.0000"},{"$nulls":3},{"v":0.005,"d":"0.0050"},null,null,{"v":0,"d":"0.0000"},{"v":0.005,"d":"0.0050"},null,null,{"v":0,"d":"0.0000"},{"$nulls":3},{"v":0,"d":"0.0000"},0.005,{"v":-0.0506,"d":"-0.051"}]
[71,"компотная смесь с/м","кг",{"$f":"'Ср День 3 Нед 2'!AB85","v":0},{"$nulls":7},{"v":0,"d":"0.0000"},{"v":0,"d":"0.0000"},{"$nulls":6},{"v":0,"d":"0.0000"},{"v":0,"d":"0.0000"},null,null,{"v":0,"d":"0.0000"},{"$nulls":3},{"v":0,"d":"0.0000"},{"v":0,"d":"0.000"},{"v":0,"d":"0.000"}]
[72,"вишня с/м","кг",{"$f":"'Ср День 3 Нед 2'!AB86","v":0},{"$nulls":7},{"v":0,"d":"0.0000"},{"v":0,"d":"0.0000"},{"$nulls":6},{"v":0,"d":"0.0000"},{"v":0,"d":"0.0000"},null,null,{"v":0,"d":"0.0000"},{"$nulls":3},{"v":0,"d":"0.0000"},{"v":0,"d":"0.000"},{"v":0,"d":"0.000"}]
[73,"клюква с/м","кг",{"$f":"'Ср День 3 Нед 2'!AB87","v":0},{"$nulls":7},{"v":0,"d":"0.0000"},{"v":0,"d":"0.0000"},{"$nulls":6},{"v":0,"d":"0.0000"},{"v":0,"d":"0.0000"},null,null,{"v":0,"d":"0.0000"},{"$nulls":3},{"v":0,"d":"0.0000"},{"v":0,"d":"0.000"},{"v":0,"d":"0.000"}]
[74,"смородина в ассорт с/м","кг",{"$f":"'Ср День 3 Нед 2'!AB88","v":0},{"$nulls":7},{"v":0,"d":"0.0000"},{"v":0,"d":"0.0000"},{"$nulls":6},{"v":0,"d":"0.0000"},{"v":0,"d":"0.0000"},null,null,{"v":0,"d":"0.0000"},{"$nulls":3},{"v":0,"d":"0.0000"},{"v":0,"d":"0.000"},{"v":0,"d":"0.000"}]
[75,"облепиха с/м","кг",{"$f":"'Ср День 3 Нед 2'!AB89","v":0},{"$nulls":7},{"v":0,"d":"0.0000"},{"v":0,"d":"0.0000"},{"$nulls":6},{"v":0,"d":"0.0000"},{"v":0,"d":"0.0000"},null,null,{"v":0,"d":"0.0000"},{"$nulls":3},{"v":0,"d":"0.0000"},{"v":0,"d":"0.000"},{"v":0,"d":"0.000"}]
[null,"Сок",null,{"$f":"'Ср День 3 Нед 2'!AB90","v":0},{"$nulls":7},{"v":0,"d":"0.0000"},{"v":0,"d":"0.0000"},{"$nulls":6},{"v":0,"d":"0.0000"},{"v":0,"d":"0.0000"},null,null,{"v":0,"d":"0.0000"},{"$nulls":3},{"v":0,"d":"0.0000"},{"v":0,"d":"0.000"},{"v":0,"d":"0.000"}]
[76,"сок 0,125л или сок 0,2л","л",{"$f":"'Ср День 3 Нед 2'!AB91","v":0},{"$nulls":7},{"v":0,"d":"0.0000"},{"v":0,"d":"0.0000"},{"$nulls":6},{"v":0,"d":"0.0000"},{"v":0,"d":"0.0000"},null,null,{"v":0,"d":"0.0000"},{"$nulls":3},{"v":0,"d":"0.0000"},{"v":0,"d":"0.000"},{"v":0,"d":"0.000"}]
[77,"нектар плодовый","л",{"$f":"'Ср День 3 Нед 2'!AB92","v":0},{"$nulls":7},{"v":0,"d":"0.0000"},{"v":0,"d":"0.0000"},{"$nulls":6},{"v":0,"d":"0.0000"},{"v":0,"d":"0.0000"},null,null,{"v":0,"d":"0.0000"},{"$nulls":3},{"v":0,"d":"0.0000"},{"v":0,"d":"0.000"},{"v":0,"d":"0.000"}]
[null,"Кондитерка",null,{"$f":"'Ср День 3 Нед 2'!AB93","v":0},{"$nulls":7},{"v":0,"d":"0.0000"},{"v":0,"d":"0.0000"},{"$nulls":6},{"v":0,"d":"0.0000"},{"v":0,"d":"0.0000"},null,null,{"v":0,"d":"0.0000"},{"$nulls":3},{"v":0,"d":"0.0000"},{"v":0,"d":"0.000"},{"v":0,"d":"0.000"}]
[78,"батончик злаковый","шт",{"$f":"'Ср День 3 Нед 2'!AB94","v":0},{"$nulls":7},{"v":0,"d":"0.0000"},{"v":0,"d":"0.0000"},{"$nulls":6},{"v":0,"d":"0.0000"},{"v":0,"d":"0.0000"},null,null,{"v":0,"d":"0.0000"},{"$nulls":3},{"v":0,"d":"0.0000"},{"v":0,"d":"0.000"},{"v":0,"d":"0.000"}]
[79,"пряник","кг",{"$f":"'Ср День 3 Нед 2'!AB95","v":-0.07},{"$nulls":7},{"v":0,"d":"0.0000"},{"v":0,"d":"0.0000"},{"$nulls":6},{"v":0,"d":"0.0000"},{"v":0,"d":"0.0000"},null,null,{"v":0,"d":"0.0000"},{"$nulls":3},{"v":0,"d":"0.0000"},{"v":0,"d":"0.000"},{"v":-0.07,"d":"-0.070"}]
[80,"вафли ","кг",{"$f":"'Ср День 3 Нед 2'!AB96","v":-0.2},{"$nulls":7},{"v":0,"d":"0.0000"},{"v":0,"d":"0.0000"},{"$nulls":6},{"v":0,"d":"0.0000"},{"v":0,"d":"0.0000"},null,null,{"v":0,"d":"0.0000"},{"$nulls":3},{"v":0,"d":"0.0000"},{"v":0,"d":"0.000"},{"v":-0.2,"d":"-0.200"}]
[81,"печенье","кг",{"$f":"'Ср День 3 Нед 2'!AB97","v":-0.06},{"$nulls":7},{"v":0,"d":"0.0000"},{"v":0,"d":"0.0000"},{"$nulls":6},{"v":0,"d":"0.0000"},{"v":0,"d":"0.0000"},null,null,{"v":0,"d":"0.0000"},{"$nulls":3},{"v":0,"d":"0.0000"},{"v":0,"d":"0.000"},{"v":-0.06,"d":"-0.060"}]
[82,"крекер","кг",{"$f":"'Ср День 3 Нед 2'!AB98","v":-0.03},{"$nulls":7},{"v":0,"d":"0.0000"},{"v":0,"d":"0.0000"},{"$nulls":6},{"v":0,"d":"0.0000"},{"v":0,"d":"0.0000"},null,null,{"v":0,"d":"0.0000"},{"$nulls":3},{"v":0,"d":"0.0000"},{"v":0,"d":"0.000"},{"v":-0.03,"d":"-0.030"}]
[83,"сушки","кг",{"$f":"'Ср День 3 Нед 2'!AB99","v":-0.03},{"$nulls":7},{"v":0,"d":"0.0000"},{"v":0,"d":"0.0000"},{"$nulls":6},{"v":0,"d":"0.0000"},{"v":0,"d":"0.0000"},null,null,{"v":0,"d":"0.0000"},{"$nulls":3},{"v":0,"d":"0.0000"},{"v":0,"d":"0.000"},{"v":-0.03,"d":"-0.030"}]
[85,"мармелад","кг",{"$f":"'Ср День 3 Нед 2'!AB100","v":0},{"$nulls":7},{"v":0,"d":"0.0000"},{"v":0,"d":"0.0000"},{"$nulls":6},{"v":0,"d":"0.0000"},{"v":0,"d":"0.0000"},null,null,{"v":0,"d":"0.0000"},{"$nulls":3},{"v":0,"d":"0.0000"},{"v":0,"d":"0.000"},{"v":0,"d":"0.000"}]
[84,"блины п/ф","кг",{"$f":"'Ср День 3 Нед 2'!AB101","v":0},{"$nulls":7},{"v":0,"d":"0.0000"},{"v":0,"d":"0.0000"},{"$nulls":6},{"v":0,"d":"0.0000"},{"v":0,"d":"0.0000"},null,null,{"v":0,"d":"0.0000"},{"$nulls":3},{"v":0,"d":"0.0000"},{"v":0,"d":"0.000"},{"v":0,"d":"0.000"}]
[86,"выпечка п/ф со склада","шт",{"$f":"'Ср День 3 Нед 2'!AB102","v":0},{"$nulls":7},{"v":0,"d":"0.0000"},{"v":0,"d":"0.0000"},{"$nulls":6},{"v":0,"d":"0.0000"},{"v":0,"d":"0.0000"},null,null,{"v":0,"d":"0.0000"},{"$nulls":3},{"v":0,"d":"0.0000"},{"v":0,"d":"0.000"},{"v":0,"d":"0.000"}]
[null,"Яйцо",null,{"$f":"'Ср День 3 Нед 2'!AB103","v":0},{"$nulls":7},{"v":0,"d":"0.0000"},{"v":0,"d":"0.0000"},{"$nulls":6},{"v":0,"d":"0.0000"},{"v":0,"d":"0.0000"},null,null,{"v":0,"d":"0.0000"},{"$nulls":3},{"$f":"(AA103+Z103+Y103)*$AB$5","v":{"v":0,"d":"0.0000"}},{"v":0,"d":"0.000"},{"$f":"(D103+E103)-AC103","v":{"v":0,"d":"0.000"}}]
[87,"яйцо куриное","кг",{"$f":"'Ср День 3 Нед 2'!AB104","v":-0.00576},{"$nulls":7},{"v":0,"d":"0.0000"},{"v":0,"d":"0.0000"},{"$nulls":6},{"v":0,"d":"0.0000"},{"$f":"(O104+P104+Q104+S104)*$U$5","v":{"v":0,"d":"0.0000"}},null,null,{"v":0,"d":"0.0000"},{"v":0.00096,"d":"0.0010"},null,null,{"v":0.00096,"d":"0.0010"},{"v":0.00096,"d":"0.001"},{"v":-0.00672,"d":"-0.007"}]
[null,0.048,"шт",{"$f":"'Ср День 3 Нед 2'!AB105","v":0},{"$nulls":7},{"v":0,"d":"0.0000"},{"v":0,"d":"0.0000"},{"$nulls":6},{"v":0,"d":"0.0000"},{"v":0,"d":"0.0000"},null,null,{"v":0,"d":"0.0000"},{"$nulls":3},{"v":0,"d":"0.0000"},{"v":0,"d":"0.000"},{"v":0,"d":"0.000"}]
[null,"Овощи заморозка",null,{"$f":"'Ср День 3 Нед 2'!AB106","v":0},{"$nulls":7},{"v":0,"d":"0.0000"},{"v":0,"d":"0.0000"},{"$nulls":6},{"v":0,"d":"0.0000"},{"v":0,"d":"0.0000"},null,null,{"v":0,"d":"0.0000"},{"$nulls":3},{"v":0,"d":"0.0000"},{"v":0,"d":"0.000"},{"v":0,"d":"0.000"}]
[88,"зеленый горошек с/м","кг",{"$f":"'Ср День 3 Нед 2'!AB107","v":0},{"$nulls":7},{"v":0,"d":"0.0000"},{"v":0,"d":"0.0000"},{"$nulls":6},{"v":0,"d":"0.0000"},{"v":0,"d":"0.0000"},null,null,{"v":0,"d":"0.0000"},{"$nulls":3},{"v":0,"d":"0.0000"},{"v":0,"d":"0.000"},{"v":0,"d":"0.000"}]
[89,"кабачки с/м","кг",{"$f":"'Ср День 3 Нед 2'!AB108","v":0},{"$nulls":7},{"v":0,"d":"0.0000"},{"v":0,"d":"0.0000"},{"$nulls":6},{"v":0,"d":"0.0000"},{"v":0,"d":"0.0000"},null,null,{"v":0,"d":"0.0000"},{"$nulls":3},{"v":0,"d":"0.0000"},{"v":0,"d":"0.000"},{"v":0,"d":"0.000"}]
[90,"мексиканс смесь с/м","кг",{"$f":"'Ср День 3 Нед 2'!AB109","v":0},{"$nulls":7},{"v":0,"d":"0.0000"},{"v":0,"d":"0.0000"},{"$nulls":6},{"v":0,"d":"0.0000"},{"v":0,"d":"0.0000"},null,null,{"v":0,"d":"0.0000"},{"$nulls":3},{"v":0,"d":"0.0000"},{"v":0,"d":"0.000"},{"v":0,"d":"0.000"}]
[91,"капуста цветная с/м","кг",{"$f":"'Ср День 3 Нед 2'!AB110","v":0},{"$nulls":7},{"v":0,"d":"0.0000"},{"v":0,"d":"0.0000"},{"$nulls":6},{"v":0,"d":"0.0000"},{"v":0,"d":"0.0000"},null,null,{"v":0,"d":"0.0000"},{"$nulls":3},{"v":0,"d":"0.0000"},{"v":0,"d":"0.000"},{"v":0,"d":"0.000"}]
[92,"брокколи с/м","кг",{"$f":"'Ср День 3 Нед 2'!AB111","v":0},{"$nulls":7},{"v":0,"d":"0.0000"},{"v":0,"d":"0.0000"},{"$nulls":6},{"v":0,"d":"0.0000"},{"v":0,"d":"0.0000"},null,null,{"v":0,"d":"0.0000"},{"$nulls":3},{"v":0,"d":"0.0000"},{"v":0,"d":"0.000"},{"v":0,"d":"0.000"}]
[93,"кукуруза с/м","кг",{"$f":"'Ср День 3 Нед 2'!AB112","v":0},{"$nulls":7},{"v":0,"d":"0.0000"},{"v":0,"d":"0.0000"},{"$nulls":6},{"v":0,"d":"0.0000"},{"v":0,"d":"0.0000"},null,null,{"v":0,"d":"0.0000"},{"$nulls":3},{"v":0,"d":"0.0000"},{"v":0,"d":"0.000"},{"v":0,"d":"0.000"}]
[94,"фасоль стручковая с/м","кг",{"$f":"'Ср День 3 Нед 2'!AB113","v":0},{"$nulls":7},{"v":0,"d":"0.0000"},{"v":0,"d":"0.0000"},{"$nulls":6},{"v":0,"d":"0.0000"},{"v":0,"d":"0.0000"},null,null,{"v":0,"d":"0.0000"},{"$nulls":3},{"v":0,"d":"0.0000"},{"v":0,"d":"0.000"},{"v":0,"d":"0.000"}]
[null,"Фрукты",null,{"$f":"'Ср День 3 Нед 2'!AB114","v":0},{"$nulls":7},{"v":0,"d":"0.0000"},{"v":0,"d":"0.0000"},{"$nulls":6},{"v":0,"d":"0.0000"},{"v":0,"d":"0.0000"},null,null,{"v":0,"d":"0.0000"},{"$nulls":3},{"v":0,"d":"0.0000"},{"v":0,"d":"0.000"},{"v":0,"d":"0.000"}]
[95,"апельсин","кг",{"$f":"'Ср День 3 Нед 2'!AB115","v":0},{"$nulls":7},{"v":0,"d":"0.0000"},{"v":0,"d":"0.0000"},{"$nulls":6},{"v":0,"d":"0.0000"},{"v":0,"d":"0.0000"},null,{"v":0.015,"d":"0.0150"},{"v":0.015,"d":"0.0150"},{"$nulls":3},{"v":0,"d":"0.0000"},0.015,-0.015]
[96,"банан","кг",{"$f":"'Ср День 3 Нед 2'!AB116","v":0},{"$nulls":7},{"v":0,"d":"0.0000"},{"v":0,"d":"0.0000"},{"$nulls":6},{"v":0,"d":"0.0000"},{"v":0,"d":"0.0000"},null,null,{"v":0,"d":"0.0000"},{"$nulls":3},{"v":0,"d":"0.0000"},{"v":0,"d":"0.000"},{"v":0,"d":"0.000"}]
[97,"груши","кг",{"$f":"'Ср День 3 Нед 2'!AB117","v":0},{"$nulls":7},{"v":0,"d":"0.0000"},{"v":0,"d":"0.0000"},{"$nulls":6},{"v":0,"d":"0.0000"},{"v":0,"d":"0.0000"},null,null,{"v":0,"d":"0.0000"},{"$nulls":3},{"v":0,"d":"0.0000"},{"v":0,"d":"0.000"},{"v":0,"d":"0.000"}]
[98,"мандарины","кг",{"$f":"'Ср День 3 Нед 2'!AB118","v":0},{"$nulls":7},{"v":0,"d":"0.0000"},{"v":0,"d":"0.0000"},{"$nulls":6},{"v":0,"d":"0.0000"},{"v":0,"d":"0.0000"},null,null,{"v":0,"d":"0.0000"},{"$nulls":3},{"v":0,"d":"0.0000"},{"v":0,"d":"0.000"},{"v":0,"d":"0.000"}]
[99,"лимон","кг",{"$f":"'Ср День 3 Нед 2'!AB119","v":-0.05},{"$nulls":7},{"v":0,"d":"0.0000"},{"v":0,"d":"0.0000"},{"$nulls":6},{"v":0,"d":"0.0000"},{"v":0,"d":"0.0000"},null,0.0055,0.0055,{"$nulls":3},{"v":0,"d":"0.0000"},{"v":0.0055,"d":"0.006"},{"v":-0.0555,"d":"-0.056"}]
[100,"яблоки свежие","кг",{"$f":"'Ср День 3 Нед 2'!AB120","v":-0.9024000000000001},null,null,{"v":0.1,"d":"0.1000"},{"$nulls":4},{"v":0.1,"d":"0.1000"},{"v":0,"d":"0.0000"},{"$nulls":6},{"v":0,"d":"0.0000"},{"v":0,"d":"0.0000"},null,0.0228,0.0228,{"$nulls":3},{"v":0,"d":"0.0000"},{"v":0.1228,"d":"0.123"},{"v":-1.0252000000000001,"d":"-1.025"}]
[null,"Овощи / зелень ",null,{"$f":"'Ср День 3 Нед 2'!AB121","v":0},{"$nulls":7},{"v":0,"d":"0.0000"},{"v":0,"d":"0.0000"},{"$nulls":6},{"v":0,"d":"0.0000"},{"v":0,"d":"0.0000"},null,null,{"v":0,"d":"0.0000"},{"$nulls":3},{"v":0,"d":"0.0000"},{"v":0,"d":"0.000"},{"v":0,"d":"0.000"}]
[101,"капуста свежая","кг",{"$f":"'Ср День 3 Нед 2'!AB122","v":-0.2925},{"$nulls":7},{"v":0,"d":"0.0000"},{"v":0,"d":"0.0000"},{"$nulls":6},{"v":0,"d":"0.0000"},{"v":0,"d":"0.0000"},null,null,{"v":0,"d":"0.0000"},{"$nulls":3},{"v":0,"d":"0.0000"},{"v":0,"d":"0.000"},{"v":-0.2925,"d":"-0.293"}]
[102,"картофель","кг",{"$f":"'Ср День 3 Нед 2'!AB123","v":-1.7086700000000001},{"$nulls":7},{"v":0,"d":"0.0000"},{"v":0,"d":"0.0000"},{"$nulls":6},{"v":0,"d":"0.0000"},{"v":0,"d":"0.0000"},null,null,{"v":0,"d":"0.0000"},0.0665,null,null,0.0665,{"v":0.0665,"d":"0.067"},{"v":-1.7751700000000001,"d":"-1.775"}]
[103,"лук репчатый","кг",{"$f":"'Ср День 3 Нед 2'!AB124","v":-0.3101},{"$nulls":3},0.0216,{"$nulls":3},{"v":0,"d":"0.0000"},0.0216,{"$nulls":6},{"v":0,"d":"0.0000"},{"v":0,"d":"0.0000"},null,null,{"v":0,"d":"0.0000"},{"v":0.01319,"d":"0.0132"},null,null,{"v":0.01319,"d":"0.0132"},{"v":0.03479,"d":"0.035"},{"v":-0.34489,"d":"-0.345"}]
[104,"морковь","кг",{"$f":"'Ср День 3 Нед 2'!AB125","v":-0.19775000000000004},{"$nulls":7},{"v":0,"d":"0.0000"},{"v":0,"d":"0.0000"},{"$nulls":6},{"v":0,"d":"0.0000"},{"v":0,"d":"0.0000"},null,null,{"v":0,"d":"0.0000"},{"v":0.01625,"d":"0.0163"},null,null,{"v":0.01625,"d":"0.0163"},{"v":0.01625,"d":"0.016"},{"v":-0.21400000000000002,"d":"-0.214"}]
[105,"свекла","кг",{"$f":"'Ср День 3 Нед 2'!AB126","v":-0.6759999999999999},{"$nulls":7},{"v":0,"d":"0.0000"},{"v":0,"d":"0.0000"},{"$nulls":6},{"v":0,"d":"0.0000"},{"v":0,"d":"0.0000"},null,null,{"v":0,"d":"0.0000"},{"$nulls":3},{"v":0,"d":"0.0000"},{"v":0,"d":"0.000"},{"v":-0.6759999999999999,"d":"-0.676"}]
[106,"огурцы св.","кг",{"$f":"'Ср День 3 Нед 2'!AB127","v":0},{"$nulls":7},{"v":0,"d":"0.0000"},{"v":0,"d":"0.0000"},{"$nulls":6},{"v":0,"d":"0.0000"},{"v":0,"d":"0.0000"},null,null,{"v":0,"d":"0.0000"},{"$nulls":3},{"v":0,"d":"0.0000"},{"v":0,"d":"0.000"},{"v":0,"d":"0.000"}]
[107,"томаты св.","кг",{"$f":"'Ср День 3 Нед 2'!AB128","v":0},{"$nulls":7},{"v":0,"d":"0.0000"},{"v":0,"d":"0.0000"},{"$nulls":6},{"v":0,"d":"0.0000"},{"v":0,"d":"0.0000"},null,null,{"v":0,"d":"0.0000"},{"$nulls":3},{"v":0,"d":"0.0000"},{"v":0,"d":"0.000"},{"v":0,"d":"0.000"}]
[108,"перец болг.красный","кг",{"$f":"'Ср День 3 Нед 2'!AB129","v":0},{"$nulls":7},{"v":0,"d":"0.0000"},{"v":0,"d":"0.0000"},{"$nulls":6},{"v":0,"d":"0.0000"},{"v":0,"d":"0.0000"},null,null,{"v":0,"d":"0.0000"},{"$nulls":3},{"v":0,"d":"0.0000"},{"v":0,"d":"0.000"},{"v":0,"d":"0.000"}]
[109,"тыква","кг",{"$f":"'Ср День 3 Нед 2'!AB130","v":0},{"$nulls":7},{"v":0,"d":"0.0000"},{"v":0,"d":"0.0000"},{"$nulls":6},{"v":0,"d":"0.0000"},{"v":0,"d":"0.0000"},null,null,{"v":0,"d":"0.0000"},{"$nulls":3},{"v":0,"d":"0.0000"},{"v":0,"d":"0.000"},{"v":0,"d":"0.000"}]
[null,"Овощи очищенные ",null,{"$f":"'Ср День 3 Нед 2'!AB131","v":0},{"$nulls":7},{"v":0,"d":"0.0000"},{"v":0,"d":"0.0000"},{"$nulls":6},{"v":0,"d":"0.0000"},{"v":0,"d":"0.0000"},null,null,{"v":0,"d":"0.0000"},{"$nulls":3},{"v":0,"d":"0.0000"},{"v":0,"d":"0.000"},{"v":0,"d":"0.000"}]
[110,"капуста св.очищенная","кг",{"$f":"'Ср День 3 Нед 2'!AB132","v":0},{"$nulls":7},{"v":0,"d":"0.0000"},{"v":0,"d":"0.0000"},{"$nulls":6},{"v":0,"d":"0.0000"},{"v":0,"d":"0.0000"},null,null,{"v":0,"d":"0.0000"},{"$nulls":3},{"v":0,"d":"0.0000"},{"v":0,"d":"0.000"},{"v":0,"d":"0.000"}]
[111,"картофель св. очищенный","кг",{"$f":"'Ср День 3 Нед 2'!AB133","v":0},{"$nulls":7},{"v":0,"d":"0.0000"},{"v":0,"d":"0.0000"},{"$nulls":6},{"v":0,"d":"0.0000"},{"v":0,"d":"0.0000"},null,null,{"v":0,"d":"0.0000"},{"$nulls":3},{"v":0,"d":"0.0000"},{"v":0,"d":"0.000"},{"v":0,"d":"0.000"}]
[112,"лук репчатый св.очищенный","кг",{"$f":"'Ср День 3 Нед 2'!AB134","v":0},{"$nulls":7},{"v":0,"d":"0.0000"},{"v":0,"d":"0.0000"},{"$nulls":6},{"v":0,"d":"0.0000"},{"v":0,"d":"0.0000"},null,null,{"v":0,"d":"0.0000"},{"$nulls":3},{"v":0,"d":"0.0000"},{"v":0,"d":"0.000"},{"v":0,"d":"0.000"}]
[113,"морковь св.очищенная","кг",{"$f":"'Ср День 3 Нед 2'!AB135","v":0},{"$nulls":7},{"v":0,"d":"0.0000"},{"v":0,"d":"0.0000"},{"$nulls":6},{"v":0,"d":"0.0000"},{"v":0,"d":"0.0000"},null,null,{"v":0,"d":"0.0000"},{"$nulls":3},{"$f":"(AA135+Z135+Y135)*$AB$5","v":{"v":0,"d":"0.0000"}},{"v":0,"d":"0.000"},{"$f":"(D135+E135)-AC135","v":{"v":0,"d":"0.000"}}]
[114,"свекла св.очищенная","кг",{"$f":"'Ср День 3 Нед 2'!AB136","v":0},{"$nulls":7},{"$f":"(G136+J136+K136)*$L$5","v":{"v":0,"d":"0.0000"}},{"$f":"(F136+H136+I136+J136+K136)*$M$5","v":{"v":0,"d":"0.0000"}},{"$nulls":6},{"$f":"(O136+R136)*$T$5","v":{"v":0,"d":"0.0000"}},{"$f":"(O136+P136+Q136+S136)*$U$5","v":{"v":0,"d":"0.0000"}},null,null,{"$f":"(W136+V136)*$X$5","v":{"v":0,"d":"0.0000"}},{"$nulls":3},{"v":0,"d":"0.0000"},{"$f":"L136+M136+T136+U136+X136+AB136","v":{"v":0,"d":"0.000"}},{"v":0,"d":"0.000"}]
[null,"Полуфабрикаты",null,{"$f":"'Ср День 3 Нед 2'!AB137","v":0},{"$nulls":7},{"v":0,"d":"0.0000"},{"v":0,"d":"0.0000"},{"$nulls":6},{"v":0,"d":"0.0000"},{"v":0,"d":"0.0000"},null,null,{"v":0,"d":"0.0000"},{"$nulls":3},{"v":0,"d":"0.0000"},{"v":0,"d":"0.000"},{"v":0,"d":"0.000"}]
[115,"сырники ПФ","шт",{"$f":"'Ср День 3 Нед 2'!AB138","v":-2},{"$nulls":7},{"v":0,"d":"0.0000"},{"v":0,"d":"0.0000"},{"$nulls":6},{"v":0,"d":"0.0000"},{"v":0,"d":"0.0000"},{"$nulls":7},{"v":0,"d":"0.000"},{"v":-2,"d":"-2.000"}]
[116,"пельмени ПФ","кг",{"$f":"'Ср День 3 Нед 2'!AB139","v":0},null,null,0.138,{"$nulls":4},{"v":0.138,"d":"0.1380"},{"v":0,"d":"0.0000"},null,{"v":0.18,"d":"0.180"},{"$nulls":4},{"v":0.18,"d":"0.1800"},{"v":0.18,"d":"0.1800"},null,null,{"v":0,"d":"0.0000"},{"$nulls":3},{"v":0,"d":"0.0000"},0.498,-0.498]
[117,"биточки рыбные","шт",{"$f":"'Ср День 3 Нед 2'!AB140","v":-4},{"$nulls":7},{"v":0,"d":"0.0000"},{"v":0,"d":"0.0000"},{"$nulls":6},{"v":0,"d":"0.0000"},{"v":0,"d":"0.0000"},null,null,{"v":0,"d":"0.0000"},{"$nulls":3},{"v":0,"d":"0.0000"},{"v":0,"d":"0.000"},{"v":-4,"d":"-4.000"}]
[118,"фрикадельки мясные ","кг",{"$f":"'Ср День 3 Нед 2'!AB141","v":0},{"$nulls":7},{"v":0,"d":"0.0000"},{"v":0,"d":"0.0000"},{"$nulls":6},{"v":0,"d":"0.0000"},{"v":0,"d":"0.0000"},null,null,{"v":0,"d":"0.0000"},{"$nulls":3},{"v":0,"d":"0.0000"},{"v":0,"d":"0.000"},{"v":0,"d":"0.000"}]
[119,"фрикадельки куриные","кг",{"$f":"'Ср День 3 Нед 2'!AB142","v":0},{"$nulls":7},{"v":0,"d":"0.0000"},{"v":0,"d":"0.0000"},{"$nulls":6},{"v":0,"d":"0.0000"},{"v":0,"d":"0.0000"},null,null,{"v":0,"d":"0.0000"},{"$nulls":3},{"v":0,"d":"0.0000"},{"v":0,"d":"0.000"},{"v":0,"d":"0.000"}]
[120,"хинкали п/ф из говядины","кг",{"$f":"'Ср День 3 Нед 2'!AB143","v":0},{"$nulls":7},{"v":0,"d":"0.0000"},{"v":0,"d":"0.0000"},{"$nulls":6},{"v":0,"d":"0.0000"},{"v":0,"d":"0.0000"},null,null,{"v":0,"d":"0.0000"},{"$nulls":3},{"v":0,"d":"0.0000"},{"v":0,"d":"0.000"},{"v":0,"d":"0.000"}]
[121,"котлеты из говядины \"Домашние\"  ","шт",{"$f":"'Ср День 3 Нед 2'!AB144","v":-2},{"$nulls":7},{"v":0,"d":"0.0000"},{"v":0,"d":"0.0000"},{"$nulls":6},{"v":0,"d":"0.0000"},{"v":0,"d":"0.0000"},null,null,{"v":0,"d":"0.0000"},{"$nulls":3},{"v":0,"d":"0.0000"},{"v":0,"d":"0.000"},{"v":-2,"d":"-2.000"}]
[122,"бифштекс из говядины","шт",{"$f":"'Ср День 3 Нед 2'!AB145","v":0},{"$nulls":7},{"v":0,"d":"0.0000"},{"v":0,"d":"0.0000"},{"$nulls":6},{"v":0,"d":"0.0000"},{"v":0,"d":"0.0000"},null,null,{"v":0,"d":"0.0000"},{"$nulls":3},{"v":0,"d":"0.0000"},{"v":0,"d":"0.000"},{"v":0,"d":"0.000"}]
[123,"котлеты из мяса кур","шт",{"$f":"'Ср День 3 Нед 2'!AB146","v":0},{"$nulls":7},{"v":0,"d":"0.0000"},{"v":0,"d":"0.0000"},{"$nulls":6},{"v":0,"d":"0.0000"},{"v":0,"d":"0.0000"},null,null,{"v":0,"d":"0.0000"},{"$nulls":3},{"v":0,"d":"0.0000"},{"v":0,"d":"0.000"},{"v":0,"d":"0.000"}]
[124,"котлеты \"Аппетитные\" мясо-куриные  ","шт",{"$f":"'Ср День 3 Нед 2'!AB147","v":0},{"$nulls":7},{"v":0,"d":"0.0000"},{"v":0,"d":"0.0000"},{"$nulls":6},{"v":0,"d":"0.0000"},{"v":0,"d":"0.0000"},null,null,{"v":0,"d":"0.0000"},{"$nulls":3},{"v":0,"d":"0.0000"},{"v":0,"d":"0.000"},{"v":0,"d":"0.000"}]
[125,"ежики мясные с рисом ","шт",{"$f":"'Ср День 3 Нед 2'!AB148","v":0},{"$nulls":7},{"v":0,"d":"0.0000"},{"v":0,"d":"0.0000"},{"$nulls":6},{"v":0,"d":"0.0000"},{"v":0,"d":"0.0000"},null,null,{"v":0,"d":"0.0000"},{"$nulls":3},{"v":0,"d":"0.0000"},{"v":0,"d":"0.000"},{"v":0,"d":"0.000"}]

{"sheet":"Пт День 5 Нед 2","index":11,"n_rows":148,"n_cols":29,"rows_kept":148,"merged":[[0,0,0,27],[1,5,1,9],[1,10,3,10],[1,11,1,14],[1,15,3,15],[1,16,1,17],[1,18,3,18],[1,19,1,21],[1,22,3,22],[1,23,1,25],[1,26,3,26],[1,27,3,27],[1,28,3,28]]}
["Расход продуктов питания в образовательных учереждениях  "]
[{"$nulls":5},"Меню с 1 по 4 класс  69,43  РУБ",{"$nulls":4},"ИТОГО","Меню с 5 по 11 класс  69,43  РУБ ",{"$nulls":3},"ИТОГО","Меню на сумму         9,60  РУБ",null,"ИТОГО","Меню КАШИ  НА молоке                          ",null,null,"ИТОГО","Меню   СУПА  ",null,null,"ИТОГО","ВСЕГО ЗА ДЕНЬ расход продуктов по всем рационам","остаток на конец"]
[null,"ДЕНЬ 5 неделя 2",null,"остаток на начало","приход","птица запеченная","гороховое пюре",null,"Компот из св. яблок","Хлеб пшеничн /ржаной",null,"птица запеченная","гороховое пюре","Компот из св. яблок","Хлеб пшеничн /ржаной",null,"печенье","Чай с сахаром с яблоком",null,"Каша  манная с маслом слив","напиток из шиповника","Хлеб ржаной ",null,"Рассольник домаш с мясн фрикад  ","компот из изюма и урюка","Хлеб ржаной "]
[null,"КОЛИЧЕСТВО ДЕТЕЙ",{"$nulls":3},"7-11","7-11",null,"7-11","7-11",null,"12-18","12-18","12-18","12-18",null,"12-18","12-18",null,"12-18","12-18","12-18",null,"12-18","12-18","12-18"]
[null,"Выход,гр",{"$nulls":3},"100","180",null,"200","20/30",1,"100","200","200","30/30","1","20","180/10/10",1,"150/3","200","30",0,"250/10","200","30","1",{"$f":"K5+P5+S5+AA5","v":4}]
[null,"Хлеб"]
[1,"батон ","кг",{"$f":"'Чт День 4 Нед 2'!AD7","v":0},{"$nulls":6},{"$f":"(J7+I7+H7+G7+F7)*$K$5","v":{"v":0,"d":"0.0000"}},{"$nulls":4},{"$f":"(L7+M7+N7+O7)*$P$5","v":{"v":0,"d":"0.0000"}},null,null,{"$f":"(R7+Q7)*$S$5","v":{"v":0,"d":"0.0000"}},{"$nulls":3},{"$f":"(V7+U7+T7)*$W$5","v":{"v":0,"d":"0.0000"}},{"$nulls":3},{"$f":"(Z7+Y7+X7)*$AA$5","v":{"v":0,"d":"0.0000"}},{"$f":"K7+P7+S7+AA7","v":{"v":0,"d":"0.000"}},{"$f":"(D7+E7)-AB7","v":{"v":0,"d":"0.000"}}]
[2,"хлеб пшеничный ","кг",{"$f":"'Чт День 4 Нед 2'!AD8","v":-0.6152},{"$nulls":5},{"v":0.02,"d":"0.0200"},{"$f":"(J8+I8+H8+G8+F8)*$K$5","v":{"v":0.02,"d":"0.0200"}},{"$nulls":3},{"v":0.03,"d":"0.0300"},{"$f":"(L8+M8+N8+O8)*$P$5","v":{"v":0.03,"d":"0.0300"}},null,null,{"$f":"(R8+Q8)*$S$5","v":{"v":0,"d":"0.0000"}},{"$nulls":3},{"$f":"(V8+U8+T8)*$W$5","v":{"v":0,"d":"0.0000"}},{"$nulls":3},{"$f":"(Z8+Y8+X8)*$AA$5","v":{"v":0,"d":"0.0000"}},{"v":0.05,"d":"0.050"},{"v":-0.6652,"d":"-0.665"}]
[3,"хлеб ржаной","кг",{"$f":"'Чт День 4 Нед 2'!AD9","v":-1.37},{"$nulls":5},{"v":0.03,"d":"0.0300"},{"v":0.03,"d":"0.0300"},{"$nulls":3},{"v":0.03,"d":"0.0300"},{"v":0.03,"d":"0.0300"},null,null,{"v":0,"d":"0.0000"},null,null,{"v":0.03,"d":"0.0300"},{"v":0,"d":"0.0000"},null,null,{"v":0.03,"d":"0.0300"},{"v":0.03,"d":"0.0300"},{"v":0.09,"d":"0.090"},{"v":-1.4600000000000002,"d":"-1.460"}]
[4,"булоч/выпечка с х/ком","кг",{"$f":"'Чт День 4 Нед 2'!AD10","v":-2},{"$nulls":6},{"v":0,"d":"0.0000"},{"$nulls":4},{"v":0,"d":"0.0000"},null,null,{"v":0,"d":"0.0000"},{"$nulls":3},{"v":0,"d":"0.0000"},{"$nulls":3},{"v":0,"d":"0.0000"},{"v":0,"d":"0.000"},{"v":-2,"d":"-2.000"}]
[null,"Молочка",null,{"$f":"'Чт День 4 Нед 2'!AD11","v":0},{"$nulls":6},{"v":0,"d":"0.0000"},{"$nulls":4},{"v":0,"d":"0.0000"},null,null,{"v":0,"d":"0.0000"},{"$nulls":3},{"v":0,"d":"0.0000"},{"$nulls":3},{"v":0,"d":"0.0000"},{"v":0,"d":"0.000"},{"v":0,"d":"0.000"}]
[5,"молоко 2,5%","кг",{"$f":"'Чт День 4 Нед 2'!AD12","v":-0.5519000000000001},{"$nulls":6},{"v":0,"d":"0.0000"},{"$nulls":4},{"v":0,"d":"0.0000"},null,null,{"v":0,"d":"0.0000"},{"v":0.075,"d":"0.0750"},null,null,{"v":0,"d":"0.0000"},{"$nulls":3},{"v":0,"d":"0.0000"},{"v":0,"d":"0.000"},{"v":-0.5519000000000001,"d":"-0.552"}]
[6,"творог 5%","кг",{"$f":"'Чт День 4 Нед 2'!AD13","v":0},{"$nulls":6},{"v":0,"d":"0.0000"},{"$nulls":4},{"v":0,"d":"0.0000"},null,null,{"v":0,"d":"0.0000"},{"$nulls":3},{"v":0,"d":"0.0000"},{"$nulls":3},{"v":0,"d":"0.0000"},{"v":0,"d":"0.000"},{"v":0,"d":"0.000"}]
[7,"сметана 15%","кг",{"$f":"'Чт День 4 Нед 2'!AD14","v":-0.09},null,{"v":3.3E-3,"d":"0.0033"},{"$nulls":4},{"v":3.3E-3,"d":"0.0033"},{"v":3.3E-3,"d":"0.0033"},{"$nulls":3},{"v":3.3E-3,"d":"0.0033"},null,null,{"v":0,"d":"0.0000"},{"$nulls":3},{"v":0,"d":"0.0000"},{"$nulls":3},{"v":0,"d":"0.0000"},{"v":6.6E-3,"d":"0.007"},{"v":-0.09659999999999999,"d":"-0.097"}]
[8,"йогурт фруктов ","кг",{"$f":"'Чт День 4 Нед 2'!AD15","v":0},{"$nulls":6},{"v":0,"d":"0.0000"},{"$nulls":4},{"v":0,"d":"0.0000"},null,null,{"v":0,"d":"0.0000"},{"$nulls":3},{"v":0,"d":"0.0000"},{"$nulls":3},{"v":0,"d":"0.0000"},{"v":0,"d":"0.000"},{"v":0,"d":"0.000"}]
[9,"катык 2,5%","кг",{"$f":"'Чт День 4 Нед 2'!AD16","v":0},{"$nulls":6},{"v":0,"d":"0.0000"},{"$nulls":4},{"v":0,"d":"0.0000"},null,null,{"v":0,"d":"0.0000"},{"$nulls":3},{"v":0,"d":"0.0000"},{"$nulls":3},{"v":0,"d":"0.0000"},{"v":0,"d":"0.000"},{"v":0,"d":"0.000"}]
[10,"кефир 2,5%","кг",{"$f":"'Чт День 4 Нед 2'!AD17","v":0},{"$nulls":6},{"v":0,"d":"0.0000"},{"$nulls":4},{"v":0,"d":"0.0000"},null,null,{"v":0,"d":"0.0000"},{"$nulls":3},{"v":0,"d":"0.0000"},{"$nulls":3},{"v":0,"d":"0.0000"},{"v":0,"d":"0.000"},{"v":0,"d":"0.000"}]
[11,"ряженка 2,5%","кг",{"$f":"'Чт День 4 Нед 2'!AD18","v":0},{"$nulls":6},{"v":0,"d":"0.0000"},{"$nulls":4},{"v":0,"d":"0.0000"},null,null,{"v":0,"d":"0.0000"},{"$nulls":3},{"v":0,"d":"0.0000"},{"$nulls":3},{"v":0,"d":"0.0000"},{"v":0,"d":"0.000"},{"v":0,"d":"0.000"}]
[12,"напиток ацидофильный ","кг",{"$f":"'Чт День 4 Нед 2'!AD19","v":0},{"$nulls":6},{"v":0,"d":"0.0000"},{"$nulls":4},{"v":0,"d":"0.0000"},null,null,{"v":0,"d":"0.0000"},{"$nulls":3},{"v":0,"d":"0.0000"},{"$nulls":3},{"v":0,"d":"0.0000"},{"v":0,"d":"0.000"},{"v":0,"d":"0.000"}]
[null,"Масло / сыр ",null,{"$f":"'Чт День 4 Нед 2'!AD20","v":0},{"$nulls":6},{"v":0,"d":"0.0000"},{"$nulls":4},{"v":0,"d":"0.0000"},null,null,{"v":0,"d":"0.0000"},{"$nulls":3},{"v":0,"d":"0.0000"},{"$nulls":3},{"v":0,"d":"0.0000"},{"v":0,"d":"0.000"},{"v":0,"d":"0.000"}]
[13,"масло растительное","кг",{"$f":"'Чт День 4 Нед 2'!AD21","v":-0.1608},null,0.0044,{"$nulls":4},0.0044,0.0044,{"$nulls":3},0.0044,null,null,{"v":0,"d":"0.0000"},{"$nulls":3},{"v":0,"d":"0.0000"},{"v":0.005,"d":"0.0050"},null,null,{"v":0.005,"d":"0.0050"},{"v":0.0138,"d":"0.014"},{"v":-0.1746,"d":"-0.175"}]
[14,"масло сливочное","кг",{"$f":"'Чт День 4 Нед 2'!AD22","v":-0.09619999999999998},{"$nulls":6},{"v":0,"d":"0.0000"},{"$nulls":4},{"v":0,"d":"0.0000"},null,null,{"v":0,"d":"0.0000"},{"v":0.003,"d":"0.0030"},null,null,{"v":0,"d":"0.0000"},{"$nulls":3},{"v":0,"d":"0.0000"},{"v":0,"d":"0.000"},{"v":-0.09619999999999998,"d":"-0.096"}]
[15,"сыр голландский","кг",{"$f":"'Чт День 4 Нед 2'!AD23","v":-0.025500000000000002},{"$nulls":6},{"v":0,"d":"0.0000"},{"$nulls":4},{"v":0,"d":"0.0000"},null,null,{"v":0,"d":"0.0000"},{"$nulls":3},{"v":0,"d":"0.0000"},{"$nulls":3},{"v":0,"d":"0.0000"},{"v":0,"d":"0.000"},{"v":-0.025500000000000002,"d":"-0.026"}]
[null,"Мясо",null,{"$f":"'Чт День 4 Нед 2'!AD24","v":0},{"$nulls":6},{"v":0,"d":"0.0000"},{"$nulls":4},{"v":0,"d":"0.0000"},null,null,{"v":0,"d":"0.0000"},{"$nulls":3},{"v":0,"d":"0.0000"},{"$nulls":3},{"v":0,"d":"0.0000"},{"v":0,"d":"0.000"},{"v":0,"d":"0.000"}]
[16,"говядина (котлетное мясо) ","кг",{"$f":"'Чт День 4 Нед 2'!AD25","v":0},{"$nulls":6},{"v":0,"d":"0.0000"},{"$nulls":4},{"v":0,"d":"0.0000"},null,null,{"v":0,"d":"0.0000"},{"$nulls":3},{"v":0,"d":"0.0000"},{"$nulls":3},{"v":0,"d":"0.0000"},{"v":0,"d":"0.000"},{"v":0,"d":"0.000"}]
[17," фарш говяжий","кг",{"$f":"'Чт День 4 Нед 2'!AD26","v":-0.14991},{"$nulls":6},{"v":0,"d":"0.0000"},{"$nulls":4},{"v":0,"d":"0.0000"},null,null,{"v":0,"d":"0.0000"},{"$nulls":3},{"v":0,"d":"0.0000"},{"v":0.01197,"d":"0.0120"},null,null,{"v":0.01197,"d":"0.0120"},{"v":0.01197,"d":"0.012"},{"v":-0.16188,"d":"-0.162"}]
[18,"говядина лопатка б/к","кг",{"$f":"'Чт День 4 Нед 2'!AD27","v":0},{"$nulls":6},{"v":0,"d":"0.0000"},{"$nulls":4},{"v":0,"d":"0.0000"},null,null,{"v":0,"d":"0.0000"},{"$nulls":3},{"v":0,"d":"0.0000"},{"$nulls":3},{"v":0,"d":"0.0000"},{"v":0,"d":"0.000"},{"v":0,"d":"0.000"}]
[19,"сосиски","кг",{"$f":"'Чт День 4 Нед 2'!AD28","v":-0.418},{"$nulls":6},{"v":0,"d":"0.0000"},{"$nulls":4},{"v":0,"d":"0.0000"},null,null,{"v":0,"d":"0.0000"},{"$nulls":3},{"v":0,"d":"0.0000"},{"$nulls":3},{"v":0,"d":"0.0000"},{"v":0,"d":"0.000"},-0.418]
[20,"колбаса п/к \"Халяль\"","кг",{"$f":"'Чт День 4 Нед 2'!AD29","v":0},{"$nulls":6},{"v":0,"d":"0.0000"},{"$nulls":4},{"v":0,"d":"0.0000"},null,null,{"v":0,"d":"0.0000"},{"$nulls":3},{"v":0,"d":"0.0000"},{"$nulls":3},{"v":0,"d":"0.0000"},{"v":0,"d":"0.000"},{"v":0,"d":"0.000"}]
[21,"куриное бедро","кг",{"$f":"'Чт День 4 Нед 2'!AD30","v":0},{"$nulls":6},{"v":0,"d":"0.0000"},{"$nulls":4},{"v":0,"d":"0.0000"},null,null,{"v":0,"d":"0.0000"},{"$nulls":3},{"v":0,"d":"0.0000"},{"$nulls":3},{"v":0,"d":"0.0000"},{"v":0,"d":"0.000"},{"v":0,"d":"0.000"}]
[22,"куриная грудка","кг",{"$f":"'Чт День 4 Нед 2'!AD31","v":-0.52132},null,{"v":0.153,"d":"0.1530"},{"$nulls":4},{"v":0.153,"d":"0.1530"},{"v":0.153,"d":"0.1530"},{"$nulls":3},{"v":0.153,"d":"0.1530"},null,null,{"v":0,"d":"0.0000"},{"$nulls":3},{"v":0,"d":"0.0000"},{"$nulls":3},{"v":0,"d":"0.0000"},0.306,{"v":-0.82732,"d":"-0.827"}]
[23,"куры/цыплята потрош.","кг",{"$f":"'Чт День 4 Нед 2'!AD32","v":0},{"$nulls":6},{"v":0,"d":"0.0000"},{"$nulls":4},{"v":0,"d":"0.0000"},null,null,{"v":0,"d":"0.0000"},{"$nulls":3},{"v":0,"d":"0.0000"},{"$nulls":3},{"v":0,"d":"0.0000"},{"v":0,"d":"0.000"},{"v":0,"d":"0.000"}]
[24,"фарш куриный","кг",{"$f":"'Чт День 4 Нед 2'!AD33","v":0},{"$nulls":6},{"v":0,"d":"0.0000"},{"$nulls":4},{"v":0,"d":"0.0000"},null,null,{"v":0,"d":"0.0000"},{"$nulls":3},{"v":0,"d":"0.0000"},{"$nulls":3},{"v":0,"d":"0.0000"},{"v":0,"d":"0.000"},{"v":0,"d":"0.000"}]
[25,"индейка бедро филе","кг",{"$f":"'Чт День 4 Нед 2'!AD34","v":-0.147},{"$nulls":6},{"v":0,"d":"0.0000"},{"$nulls":4},{"v":0,"d":"0.0000"},null,null,{"v":0,"d":"0.0000"},{"$nulls":3},{"v":0,"d":"0.0000"},{"$nulls":3},{"v":0,"d":"0.0000"},{"v":0,"d":"0.000"},-0.147]
[26,"индейка грудка филе","кг",{"$f":"'Чт День 4 Нед 2'!AD35","v":0},{"$nulls":6},{"v":0,"d":"0.0000"},{"$nulls":4},{"v":0,"d":"0.0000"},null,null,{"v":0,"d":"0.0000"},{"$nulls":3},{"v":0,"d":"0.0000"},{"$nulls":3},{"v":0,"d":"0.0000"},{"v":0,"d":"0.000"},{"v":0,"d":"0.000"}]
[null,"Рыба",null,{"$f":"'Чт День 4 Нед 2'!AD36","v":0},{"$nulls":6},{"v":0,"d":"0.0000"},{"$nulls":4},{"v":0,"d":"0.0000"},null,null,{"v":0,"d":"0.0000"},{"$nulls":3},{"v":0,"d":"0.0000"},{"$nulls":3},{"v":0,"d":"0.0000"},{"v":0,"d":"0.000"},{"v":0,"d":"0.000"}]
[27,"горбуша ПБГ с/м","кг",{"$f":"'Чт День 4 Нед 2'!AD37","v":0},{"$nulls":6},{"v":0,"d":"0.0000"},{"$nulls":4},{"v":0,"d":"0.0000"},null,null,{"v":0,"d":"0.0000"},{"$nulls":3},{"v":0,"d":"0.0000"},{"$nulls":3},{"v":0,"d":"0.0000"},{"v":0,"d":"0.000"},{"v":0,"d":"0.000"}]
[28,"минтай б/г с/м","кг",{"$f":"'Чт День 4 Нед 2'!AD38","v":-0.30932000000000004},{"$nulls":6},{"v":0,"d":"0.0000"},{"$nulls":4},{"v":0,"d":"0.0000"},null,null,{"v":0,"d":"0.0000"},{"$nulls":3},{"v":0,"d":"0.0000"},{"$nulls":3},{"v":0,"d":"0.0000"},{"v":0,"d":"0.000"},{"v":-0.30932000000000004,"d":"-0.309"}]
[29,"фарш минтая","кг",{"$f":"'Чт День 4 Нед 2'!AD39","v":-0.23624},{"$nulls":6},{"$f":"(J39+I39+H39+G39+F39)*$K$5","v":{"v":0,"d":"0.0000"}},{"$nulls":4},{"v":0,"d":"0.0000"},null,null,{"v":0,"d":"0.0000"},{"$nulls":3},{"v":0,"d":"0.0000"},{"$nulls":3},{"v":0,"d":"0.0000"},{"$f":"K39+P39+S39+AA39","v":{"v":0,"d":"0.000"}},{"$f":"(D39+E39)-AB39","v":{"v":-0.23624,"d":"-0.236"}}]
[null,"Сыпучка",null,{"$f":"'Чт День 4 Нед 2'!AD40","v":0},{"$nulls":6},{"v":0,"d":"0.0000"},{"$nulls":4},{"v":0,"d":"0.0000"},null,null,{"v":0,"d":"0.0000"},{"$nulls":3},{"v":0,"d":"0.0000"},{"$nulls":3},{"v":0,"d":"0.0000"},{"v":0,"d":"0.000"},{"v":0,"d":"0.000"}]
[30,"вермишель","кг",{"$f":"'Чт День 4 Нед 2'!AD41","v":-0.01},{"$nulls":6},{"v":0,"d":"0.0000"},{"$nulls":4},{"v":0,"d":"0.0000"},null,null,{"v":0,"d":"0.0000"},{"$nulls":3},{"v":0,"d":"0.0000"},{"$nulls":3},{"v":0,"d":"0.0000"},{"v":0,"d":"0.000"},{"v":-0.01,"d":"-0.010"}]
[31,"геркулес","кг",{"$f":"'Чт День 4 Нед 2'!AD42","v":0},{"$nulls":6},{"v":0,"d":"0.0000"},{"$nulls":4},{"v":0,"d":"0.0000"},null,null,{"v":0,"d":"0.0000"},{"$nulls":3},{"v":0,"d":"0.0000"},{"$nulls":3},{"v":0,"d":"0.0000"},{"v":0,"d":"0.000"},{"v":0,"d":"0.000"}]
[32,"горох","кг",{"$f":"'Чт День 4 Нед 2'!AD43","v":-0.0203},null,null,{"v":0.092,"d":"0.0920"},{"$nulls":3},{"v":0.092,"d":"0.0920"},null,{"v":0.102,"d":"0.1020"},null,null,{"v":0.102,"d":"0.1020"},null,null,{"v":0,"d":"0.0000"},{"$nulls":3},{"v":0,"d":"0.0000"},{"$nulls":3},{"v":0,"d":"0.0000"},0.194,{"v":-0.2143,"d":"-0.214"}]
[33,"гречневая крупа","кг",{"$f":"'Чт День 4 Нед 2'!AD44","v":-0.6048},{"$nulls":6},{"v":0,"d":"0.0000"},{"$nulls":4},{"v":0,"d":"0.0000"},null,null,{"v":0,"d":"0.0000"},{"$nulls":3},{"v":0,"d":"0.0000"},{"$nulls":3},{"v":0,"d":"0.0000"},{"v":0,"d":"0.000"},{"v":-0.6048,"d":"-0.605"}]
[34,"кукурузная крупа","кг",{"$f":"'Чт День 4 Нед 2'!AD45","v":0},{"$nulls":6},{"v":0,"d":"0.0000"},{"$nulls":4},{"v":0,"d":"0.0000"},null,null,{"v":0,"d":"0.0000"},{"$nulls":3},{"v":0,"d":"0.0000"},{"$nulls":3},{"v":0,"d":"0.0000"},{"v":0,"d":"0.000"},{"v":0,"d":"0.000"}]
[35,"макаронные изделия","кг",{"$f":"'Чт День 4 Нед 2'!AD46","v":-0.2962},{"$nulls":6},{"v":0,"d":"0.0000"},{"$nulls":4},{"v":0,"d":"0.0000"},null,null,{"v":0,"d":"0.0000"},{"$nulls":3},{"v":0,"d":"0.0000"},{"$nulls":3},{"v":0,"d":"0.0000"},{"v":0,"d":"0.000"},{"v":-0.2962,"d":"-0.296"}]
[36,"манная крупа","кг",{"$f":"'Чт День 4 Нед 2'!AD47","v":0},{"$nulls":6},{"v":0,"d":"0.0000"},{"$nulls":4},{"v":0,"d":"0.0000"},null,null,{"v":0,"d":"0.0000"},{"v":0.028,"d":"0.0280"},null,null,{"v":0,"d":"0.0000"},{"$nulls":3},{"v":0,"d":"0.0000"},{"v":0,"d":"0.000"},{"v":0,"d":"0.000"}]
[37,"перловая крупа","кг",{"$f":"'Чт День 4 Нед 2'!AD48","v":-0.005},{"$nulls":6},{"v":0,"d":"0.0000"},{"$nulls":4},{"v":0,"d":"0.0000"},null,null,{"v":0,"d":"0.0000"},{"$nulls":3},{"v":0,"d":"0.0000"},{"$nulls":3},{"v":0,"d":"0.0000"},{"v":0,"d":"0.000"},-0.005]
[38,"полбяная крупа","кг",{"$f":"'Чт День 4 Нед 2'!AD49","v":0},{"$nulls":6},{"v":0,"d":"0.0000"},{"$nulls":4},{"v":0,"d":"0.0000"},null,null,{"v":0,"d":"0.0000"},{"$nulls":3},{"v":0,"d":"0.0000"},{"$nulls":3},{"v":0,"d":"0.0000"},{"v":0,"d":"0.000"},{"v":0,"d":"0.000"}]
[39,"пшеничная крупа","кг",{"$f":"'Чт День 4 Нед 2'!AD50","v":0},{"$nulls":6},{"v":0,"d":"0.0000"},{"$nulls":4},{"v":0,"d":"0.0000"},null,null,{"v":0,"d":"0.0000"},{"$nulls":3},{"v":0,"d":"0.0000"},{"$nulls":3},{"v":0,"d":"0.0000"},{"v":0,"d":"0.000"},{"v":0,"d":"0.000"}]
[40,"пшено","кг",{"$f":"'Чт День 4 Нед 2'!AD51","v":-0.029500000000000002},{"$nulls":6},{"v":0,"d":"0.0000"},{"$nulls":4},{"v":0,"d":"0.0000"},null,null,{"v":0,"d":"0.0000"},{"$nulls":3},{"v":0,"d":"0.0000"},{"$nulls":3},{"v":0,"d":"0.0000"},{"v":0,"d":"0.000"},{"v":-0.029500000000000002,"d":"-0.030"}]
[41,"рис","кг",{"$f":"'Чт День 4 Нед 2'!AD52","v":-0.5612},{"$nulls":6},{"v":0,"d":"0.0000"},{"$nulls":4},{"v":0,"d":"0.0000"},null,null,{"v":0,"d":"0.0000"},{"$nulls":3},{"v":0,"d":"0.0000"},{"$nulls":3},{"v":0,"d":"0.0000"},{"v":0,"d":"0.000"},{"v":-0.5612,"d":"-0.561"}]
[42,"ячневая крупа","кг",{"$f":"'Чт День 4 Нед 2'!AD53","v":0},{"$nulls":6},{"v":0,"d":"0.0000"},{"$nulls":4},{"v":0,"d":"0.0000"},null,null,{"v":0,"d":"0.0000"},{"$nulls":3},{"v":0,"d":"0.0000"},{"$nulls":3},{"v":0,"d":"0.0000"},{"v":0,"d":"0.000"},{"v":0,"d":"0.000"}]
[43,"лапша домашняя п/ф","кг",{"$f":"'Чт День 4 Нед 2'!AD54","v":-0.02},{"$nulls":6},{"v":0,"d":"0.0000"},{"$nulls":4},{"v":0,"d":"0.0000"},null,null,{"v":0,"d":"0.0000"},{"$nulls":3},{"v":0,"d":"0.0000"},{"$nulls":3},{"v":0,"d":"0.0000"},{"v":0,"d":"0.000"},{"v":-0.02,"d":"-0.020"}]
[44,"мука пшеничная в/с","кг",{"$f":"'Чт День 4 Нед 2'!AD55","v":-0.040799999999999996},{"$nulls":6},{"v":0,"d":"0.0000"},{"$nulls":4},{"v":0,"d":"0.0000"},null,null,{"v":0,"d":"0.0000"},{"$nulls":3},{"v":0,"d":"0.0000"},{"$nulls":3},{"v":0,"d":"0.0000"},{"v":0,"d":"0.000"},{"v":-0.040799999999999996,"d":"-0.041"}]
[45,"сахарный песок","кг",{"$f":"'Чт День 4 Нед 2'!AD56","v":-0.5053},{"$nulls":4},{"$f":"10/1000","v":{"v":0.01,"d":"0.0100"}},null,{"v":0.01,"d":"0.0100"},null,null,{"$f":"10/1000","v":{"v":0.01,"d":"0.0100"}},null,{"v":0.01,"d":"0.0100"},null,{"v":0.01,"d":"0.0100"},{"v":0.01,"d":"0.0100"},0.0005,{"v":0.01,"d":"0.0100"},null,{"v":0,"d":"0.0000"},null,{"v":0.01,"d":"0.0100"},null,{"v":0.01,"d":"0.0100"},{"v":0.04,"d":"0.040"},{"v":-0.5453,"d":"-0.545"}]
[46,"соль","кг",{"$f":"'Чт День 4 Нед 2'!AD57","v":-0.043199999999999995},null,0.0004,0.0002,{"$nulls":3},{"v":6.0000000000000006E-4,"d":"0.0006"},0.0004,0.0006,null,null,{"v":1E-3,"d":"0.0010"},null,null,{"v":0,"d":"0.0000"},0.0003,null,null,{"v":0,"d":"0.0000"},{"v":1E-3,"d":"0.0010"},null,null,{"v":1E-3,"d":"0.0010"},{"v":0.0026,"d":"0.003"},{"v":-0.045799999999999993,"d":"-0.046"}]
[47,"сухари панировочные","кг",{"$f":"'Чт День 4 Нед 2'!AD58","v":-0.045},{"$nulls":6},{"v":0,"d":"0.0000"},{"$nulls":4},{"v":0,"d":"0.0000"},null,null,{"v":0,"d":"0.0000"},{"$nulls":3},{"v":0,"d":"0.0000"},{"$nulls":3},{"v":0,"d":"0.0000"},{"v":0,"d":"0.000"},-0.045]
[48,"дрожжи сухие","кг",{"$f":"'Чт День 4 Нед 2'!AD59","v":0},{"$nulls":6},{"v":0,"d":"0.0000"},{"$nulls":4},{"v":0,"d":"0.0000"},null,null,{"v":0,"d":"0.0000"},{"$nulls":3},{"v":0,"d":"0.0000"},{"$nulls":3},{"v":0,"d":"0.0000"},{"v":0,"d":"0.000"},{"v":0,"d":"0.000"}]
[49,"фасоль","кг",{"$f":"'Чт День 4 Нед 2'!AD60","v":0},{"$nulls":6},{"v":0,"d":"0.0000"},{"$nulls":4},{"v":0,"d":"0.0000"},null,null,{"v":0,"d":"0.0000"},{"$nulls":3},{"v":0,"d":"0.0000"},{"$nulls":3},{"v":0,"d":"0.0000"},{"v":0,"d":"0.000"},{"v":0,"d":"0.000"}]
[null,"Консервы",null,{"$f":"'Чт День 4 Нед 2'!AD61","v":0},{"$nulls":6},{"v":0,"d":"0.0000"},{"$nulls":4},{"v":0,"d":"0.0000"},null,null,{"v":0,"d":"0.0000"},{"$nulls":3},{"v":0,"d":"0.0000"},{"$nulls":3},{"v":0,"d":"0.0000"},{"v":0,"d":"0.000"},{"v":0,"d":"0.000"}]
[50,"зеленый горошек к/с","кг",{"$f":"'Чт День 4 Нед 2'!AD62","v":-0.2902},{"$nulls":6},{"v":0,"d":"0.0000"},{"$nulls":4},{"v":0,"d":"0.0000"},null,null,{"v":0,"d":"0.0000"},{"$nulls":3},{"v":0,"d":"0.0000"},{"$nulls":3},{"v":0,"d":"0.0000"},{"v":0,"d":"0.000"},{"v":-0.2902,"d":"-0.290"}]
[51,"кукуруза к/с","кг",{"$f":"'Чт День 4 Нед 2'!AD63","v":0},{"$nulls":6},{"v":0,"d":"0.0000"},{"$nulls":4},{"v":0,"d":"0.0000"},null,null,{"v":0,"d":"0.0000"},{"$nulls":3},{"v":0,"d":"0.0000"},{"$nulls":3},{"v":0,"d":"0.0000"},{"v":0,"d":"0.000"},{"v":0,"d":"0.000"}]
[52,"фасоль к/с","кг",{"$f":"'Чт День 4 Нед 2'!AD64","v":0},{"$nulls":6},{"v":0,"d":"0.0000"},{"$nulls":4},{"v":0,"d":"0.0000"},null,null,{"v":0,"d":"0.0000"},{"$nulls":3},{"v":0,"d":"0.0000"},{"$nulls":3},{"v":0,"d":"0.0000"},{"v":0,"d":"0.000"},{"v":0,"d":"0.000"}]
[53,"икра кабач/икра баклаж","кг",{"$f":"'Чт День 4 Нед 2'!AD65","v":0},{"$nulls":6},{"v":0,"d":"0.0000"},{"$nulls":4},{"v":0,"d":"0.0000"},null,null,{"v":0,"d":"0.0000"},{"$nulls":3},{"v":0,"d":"0.0000"},{"$nulls":3},{"v":0,"d":"0.0000"},{"v":0,"d":"0.000"},{"v":0,"d":"0.000"}]
[54,"капуста морская сушеная","кг",{"$f":"'Чт День 4 Нед 2'!AD66","v":0},{"$nulls":6},{"v":0,"d":"0.0000"},{"$nulls":4},{"v":0,"d":"0.0000"},null,null,{"v":0,"d":"0.0000"},{"$nulls":3},{"v":0,"d":"0.0000"},{"$nulls":3},{"v":0,"d":"0.0000"},{"v":0,"d":"0.000"},{"v":0,"d":"0.000"}]
[55,"капуста квашеная","кг",{"$f":"'Чт День 4 Нед 2'!AD67","v":0},{"$nulls":6},{"v":0,"d":"0.0000"},{"$nulls":4},{"v":0,"d":"0.0000"},null,null,{"v":0,"d":"0.0000"},{"$nulls":3},{"v":0,"d":"0.0000"},{"$nulls":3},{"v":0,"d":"0.0000"},{"v":0,"d":"0.000"},{"v":0,"d":"0.000"}]
[56,"молоко сгущенное  ","кг",{"$f":"'Чт День 4 Нед 2'!AD68","v":0},{"$nulls":6},{"v":0,"d":"0.0000"},{"$nulls":4},{"v":0,"d":"0.0000"},null,null,{"v":0,"d":"0.0000"},{"$nulls":3},{"v":0,"d":"0.0000"},{"$nulls":3},{"v":0,"d":"0.0000"},{"v":0,"d":"0.000"},{"v":0,"d":"0.000"}]
[57,"огурцы соленые","кг",{"$f":"'Чт День 4 Нед 2'!AD69","v":-0.0273},{"$nulls":6},{"v":0,"d":"0.0000"},{"$nulls":4},{"v":0,"d":"0.0000"},null,null,{"v":0,"d":"0.0000"},{"$nulls":3},{"v":0,"d":"0.0000"},0.0273,null,null,0.0273,{"v":0.0273,"d":"0.027"},{"v":-0.0546,"d":"-0.055"}]
[58,"повидло","кг",{"$f":"'Чт День 4 Нед 2'!AD70","v":0},{"$nulls":6},{"v":0,"d":"0.0000"},{"$nulls":4},{"v":0,"d":"0.0000"},null,null,{"v":0,"d":"0.0000"},{"$nulls":3},{"v":0,"d":"0.0000"},{"$nulls":3},{"v":0,"d":"0.0000"},{"v":0,"d":"0.000"},{"v":0,"d":"0.000"}]
[59,"томатная паста","кг",{"$f":"'Чт День 4 Нед 2'!AD71","v":-0.031100000000000003},{"$nulls":6},{"$f":"(J71+I71+H71+G71+F71)*$K$5","v":{"v":0,"d":"0.0000"}},{"$nulls":4},{"v":0,"d":"0.0000"},null,null,{"v":0,"d":"0.0000"},{"$nulls":3},{"v":0,"d":"0.0000"},{"$nulls":3},{"v":0,"d":"0.0000"},{"$f":"K71+P71+S71+AA71","v":{"v":0,"d":"0.000"}},{"$f":"(D71+E71)-AB71","v":{"v":-0.031100000000000003,"d":"-0.031"}}]
[60,"рыбные консервы","кг",{"$f":"'Чт День 4 Нед 2'!AD72","v":0},{"$nulls":6},{"v":0,"d":"0.0000"},{"$nulls":4},{"$f":"(L72+M72+N72+O72)*$P$5","v":{"v":0,"d":"0.0000"}},null,null,{"$f":"(R72+Q72)*$S$5","v":{"v":0,"d":"0.0000"}},{"$nulls":3},{"$f":"(V72+U72+T72)*$W$5","v":{"v":0,"d":"0.0000"}},{"$nulls":3},{"$f":"(Z72+Y72+X72)*$AA$5","v":{"v":0,"d":"0.0000"}},{"v":0,"d":"0.000"},{"v":0,"d":"0.000"}]
[null,"Напитки",null,{"$f":"'Чт День 4 Нед 2'!AD73","v":0},{"$nulls":6},{"v":0,"d":"0.0000"},{"$nulls":4},{"v":0,"d":"0.0000"},null,null,{"v":0,"d":"0.0000"},{"$nulls":3},{"v":0,"d":"0.0000"},{"$nulls":3},{"v":0,"d":"0.0000"},{"v":0,"d":"0.000"},{"v":0,"d":"0.000"}]
[61,"чай весовой ","кг",{"$f":"'Чт День 4 Нед 2'!AD74","v":-0.0165},{"$nulls":6},{"v":0,"d":"0.0000"},{"$nulls":4},{"v":0,"d":"0.0000"},null,0.0005,0.0005,{"$nulls":3},{"v":0,"d":"0.0000"},{"$nulls":3},{"v":0,"d":"0.0000"},{"v":0.0005,"d":"0.001"},-0.017]
[62,"какао","кг",{"$f":"'Чт День 4 Нед 2'!AD75","v":0},{"$nulls":6},{"v":0,"d":"0.0000"},{"$nulls":4},{"v":0,"d":"0.0000"},null,null,{"v":0,"d":"0.0000"},{"$nulls":3},{"v":0,"d":"0.0000"},{"$nulls":3},{"v":0,"d":"0.0000"},{"v":0,"d":"0.000"},{"v":0,"d":"0.000"}]
[63,"кисель","кг",{"$f":"'Чт День 4 Нед 2'!AD76","v":0},{"$nulls":6},{"v":0,"d":"0.0000"},{"$nulls":4},{"v":0,"d":"0.0000"},null,null,{"v":0,"d":"0.0000"},{"$nulls":3},{"v":0,"d":"0.0000"},{"$nulls":3},{"v":0,"d":"0.0000"},{"v":0,"d":"0.000"},{"v":0,"d":"0.000"}]
[64,"кофейный напиток","кг",{"$f":"'Чт День 4 Нед 2'!AD77","v":-0.01},{"$nulls":6},{"v":0,"d":"0.0000"},{"$nulls":4},{"v":0,"d":"0.0000"},null,null,{"v":0,"d":"0.0000"},{"$nulls":3},{"v":0,"d":"0.0000"},{"$nulls":3},{"v":0,"d":"0.0000"},{"v":0,"d":"0.000"},{"v":-0.01,"d":"-0.010"}]
[65,"цикорий","кг",{"$f":"'Чт День 4 Нед 2'!AD78","v":0},{"$nulls":6},{"v":0,"d":"0.0000"},{"$nulls":4},{"v":0,"d":"0.0000"},null,null,{"v":0,"d":"0.0000"},{"$nulls":3},{"v":0,"d":"0.0000"},{"$nulls":3},{"v":0,"d":"0.0000"},{"v":0,"d":"0.000"},{"v":0,"d":"0.000"}]
[null,"Сухофрукты",null,{"$f":"'Чт День 4 Нед 2'!AD79","v":0},{"$nulls":6},{"v":0,"d":"0.0000"},{"$nulls":4},{"v":0,"d":"0.0000"},null,null,{"v":0,"d":"0.0000"},{"$nulls":3},{"v":0,"d":"0.0000"},{"$nulls":3},{"v":0,"d":"0.0000"},{"v":0,"d":"0.000"},{"v":0,"d":"0.000"}]
[66,"ассорти для компота (сухофрукты)","кг",{"$f":"'Чт День 4 Нед 2'!AD80","v":-0.24480000000000002},{"$nulls":6},{"v":0,"d":"0.0000"},{"$nulls":4},{"v":0,"d":"0.0000"},null,null,{"v":0,"d":"0.0000"},{"$nulls":3},{"v":0,"d":"0.0000"},{"$nulls":3},{"v":0,"d":"0.0000"},{"v":0,"d":"0.000"},{"v":-0.24480000000000002,"d":"-0.245"}]
[67,"изюм","кг",{"$f":"'Чт День 4 Нед 2'!AD81","v":-0.0102},{"$nulls":6},{"v":0,"d":"0.0000"},{"$nulls":4},{"v":0,"d":"0.0000"},null,null,{"v":0,"d":"0.0000"},{"$nulls":3},{"v":0,"d":"0.0000"},null,0.0102,null,0.0102,{"v":0.0102,"d":"0.010"},{"v":-0.0204,"d":"-0.020"}]
[68,"курага","кг",{"$f":"'Чт День 4 Нед 2'!AD82","v":0},{"$nulls":6},{"v":0,"d":"0.0000"},{"$nulls":4},{"v":0,"d":"0.0000"},null,null,{"v":0,"d":"0.0000"},{"$nulls":3},{"v":0,"d":"0.0000"},{"$nulls":3},{"v":0,"d":"0.0000"},{"v":0,"d":"0.000"},{"v":0,"d":"0.000"}]
[69,"урюк","кг",{"$f":"'Чт День 4 Нед 2'!AD83","v":-0.0204},{"$nulls":6},{"v":0,"d":"0.0000"},{"$nulls":4},{"v":0,"d":"0.0000"},null,null,{"v":0,"d":"0.0000"},{"$nulls":3},{"v":0,"d":"0.0000"},null,0.0102,null,0.0102,{"v":0.0102,"d":"0.010"},{"v":-0.030600000000000002,"d":"-0.031"}]
[70,"шиповник","кг",{"$f":"'Чт День 4 Нед 2'!AD84","v":-0.0506},{"$nulls":6},{"v":0,"d":"0.0000"},{"$nulls":4},{"v":0,"d":"0.0000"},null,null,{"v":0,"d":"0.0000"},null,0.0153,null,{"v":0,"d":"0.0000"},{"$nulls":3},{"v":0,"d":"0.0000"},{"v":0,"d":"0.000"},{"v":-0.0506,"d":"-0.051"}]
[71,"компотная смесь с/м","кг",{"$f":"'Чт День 4 Нед 2'!AD85","v":0},{"$nulls":6},{"v":0,"d":"0.0000"},{"$nulls":4},{"v":0,"d":"0.0000"},null,null,{"v":0,"d":"0.0000"},{"$nulls":3},{"v":0,"d":"0.0000"},{"$nulls":3},{"v":0,"d":"0.0000"},{"v":0,"d":"0.000"},{"v":0,"d":"0.000"}]
[72,"вишня с/м","кг",{"$f":"'Чт День 4 Нед 2'!AD86","v":0},{"$nulls":6},{"v":0,"d":"0.0000"},{"$nulls":4},{"v":0,"d":"0.0000"},null,null,{"v":0,"d":"0.0000"},{"$nulls":3},{"v":0,"d":"0.0000"},{"$nulls":3},{"v":0,"d":"0.0000"},{"v":0,"d":"0.000"},{"v":0,"d":"0.000"}]
[73,"клюква с/м","кг",{"$f":"'Чт День 4 Нед 2'!AD87","v":0},{"$nulls":6},{"v":0,"d":"0.0000"},{"$nulls":4},{"v":0,"d":"0.0000"},null,null,{"v":0,"d":"0.0000"},{"$nulls":3},{"v":0,"d":"0.0000"},{"$nulls":3},{"v":0,"d":"0.0000"},{"v":0,"d":"0.000"},{"v":0,"d":"0.000"}]
[74,"смородина в ассорт с/м","кг",{"$f":"'Чт День 4 Нед 2'!AD88","v":0},{"$nulls":6},{"v":0,"d":"0.0000"},{"$nulls":4},{"v":0,"d":"0.0000"},null,null,{"v":0,"d":"0.0000"},{"$nulls":3},{"v":0,"d":"0.0000"},{"$nulls":3},{"v":0,"d":"0.0000"},{"v":0,"d":"0.000"},{"v":0,"d":"0.000"}]
[75,"облепиха с/м","кг",{"$f":"'Чт День 4 Нед 2'!AD89","v":0},{"$nulls":6},{"v":0,"d":"0.0000"},{"$nulls":4},{"v":0,"d":"0.0000"},null,null,{"v":0,"d":"0.0000"},{"$nulls":3},{"v":0,"d":"0.0000"},{"$nulls":3},{"v":0,"d":"0.0000"},{"v":0,"d":"0.000"},{"v":0,"d":"0.000"}]
[null,"Сок",null,{"$f":"'Чт День 4 Нед 2'!AD90","v":0},{"$nulls":6},{"v":0,"d":"0.0000"},{"$nulls":4},{"v":0,"d":"0.0000"},null,null,{"v":0,"d":"0.0000"},{"$nulls":3},{"v":0,"d":"0.0000"},{"$nulls":3},{"v":0,"d":"0.0000"},{"v":0,"d":"0.000"},{"v":0,"d":"0.000"}]
[76,"сок 0,125л или сок 0,2л","л",{"$f":"'Чт День 4 Нед 2'!AD91","v":0},{"$nulls":6},{"v":0,"d":"0.0000"},{"$nulls":4},{"v":0,"d":"0.0000"},null,null,{"v":0,"d":"0.0000"},{"$nulls":3},{"v":0,"d":"0.0000"},{"$nulls":3},{"v":0,"d":"0.0000"},{"v":0,"d":"0.000"},{"v":0,"d":"0.000"}]
[77,"нектар плодовый","л",{"$f":"'Чт День 4 Нед 2'!AD92","v":0},{"$nulls":6},{"v":0,"d":"0.0000"},{"$nulls":4},{"v":0,"d":"0.0000"},null,null,{"v":0,"d":"0.0000"},{"$nulls":3},{"v":0,"d":"0.0000"},{"$nulls":3},{"v":0,"d":"0.0000"},{"v":0,"d":"0.000"},{"v":0,"d":"0.000"}]
[null,"Кондитерка",null,{"$f":"'Чт День 4 Нед 2'!AD93","v":0},{"$nulls":6},{"v":0,"d":"0.0000"},{"$nulls":4},{"v":0,"d":"0.0000"},null,null,{"v":0,"d":"0.0000"},{"$nulls":3},{"v":0,"d":"0.0000"},{"$nulls":3},{"v":0,"d":"0.0000"},{"v":0,"d":"0.000"},{"v":0,"d":"0.000"}]
[78,"батончик злак","шт",{"$f":"'Чт День 4 Нед 2'!AD94","v":0},{"$nulls":6},{"v":0,"d":"0.0000"},{"$nulls":4},{"v":0,"d":"0.0000"},null,null,{"v":0,"d":"0.0000"},{"$nulls":3},{"v":0,"d":"0.0000"},{"$nulls":3},{"v":0,"d":"0.0000"},{"v":0,"d":"0.000"},{"v":0,"d":"0.000"}]
[79,"пряник","кг",{"$f":"'Чт День 4 Нед 2'!AD95","v":-0.07},{"$nulls":6},{"v":0,"d":"0.0000"},{"$nulls":4},{"v":0,"d":"0.0000"},null,null,{"v":0,"d":"0.0000"},{"$nulls":3},{"v":0,"d":"0.0000"},{"$nulls":3},{"v":0,"d":"0.0000"},{"v":0,"d":"0.000"},{"v":-0.07,"d":"-0.070"}]
[80,"вафли ","кг",{"$f":"'Чт День 4 Нед 2'!AD96","v":-0.2},{"$nulls":6},{"v":0,"d":"0.0000"},{"$nulls":4},{"v":0,"d":"0.0000"},null,null,{"v":0,"d":"0.0000"},{"$nulls":3},{"v":0,"d":"0.0000"},{"$nulls":3},{"v":0,"d":"0.0000"},{"v":0,"d":"0.000"},{"v":-0.2,"d":"-0.200"}]
[81,"печенье","кг",{"$f":"'Чт День 4 Нед 2'!AD97","v":-0.06},{"$nulls":6},{"v":0,"d":"0.0000"},{"$nulls":4},{"v":0,"d":"0.0000"},{"v":0.02,"d":"0.0200"},null,{"v":0.02,"d":"0.0200"},{"$nulls":3},{"v":0,"d":"0.0000"},{"$nulls":3},{"v":0,"d":"0.0000"},{"v":0.02,"d":"0.020"},{"v":-0.08,"d":"-0.080"}]
[82,"крекер","кг",{"$f":"'Чт День 4 Нед 2'!AD98","v":-0.03},{"$nulls":6},{"v":0,"d":"0.0000"},{"$nulls":4},{"v":0,"d":"0.0000"},null,null,{"v":0,"d":"0.0000"},{"$nulls":3},{"v":0,"d":"0.0000"},{"$nulls":3},{"v":0,"d":"0.0000"},{"v":0,"d":"0.000"},{"v":-0.03,"d":"-0.030"}]
[83,"сушка","кг",{"$f":"'Чт День 4 Нед 2'!AD99","v":-0.03},{"$nulls":6},{"v":0,"d":"0.0000"},{"$nulls":4},{"v":0,"d":"0.0000"},null,null,{"v":0,"d":"0.0000"},{"$nulls":3},{"v":0,"d":"0.0000"},{"$nulls":3},{"v":0,"d":"0.0000"},{"v":0,"d":"0.000"},{"v":-0.03,"d":"-0.030"}]
[85,"мармелад","кг",{"$f":"'Чт День 4 Нед 2'!AD100","v":0},{"$nulls":6},{"v":0,"d":"0.0000"},{"$nulls":4},{"v":0,"d":"0.0000"},null,null,{"v":0,"d":"0.0000"},{"$nulls":3},{"v":0,"d":"0.0000"},{"$nulls":3},{"v":0,"d":"0.0000"},{"v":0,"d":"0.000"},{"v":0,"d":"0.000"}]
[84,"блины п/ф","кг",{"$f":"'Чт День 4 Нед 2'!AD101","v":0},{"$nulls":6},{"v":0,"d":"0.0000"},{"$nulls":4},{"v":0,"d":"0.0000"},null,null,{"v":0,"d":"0.0000"},{"$nulls":3},{"v":0,"d":"0.0000"},{"$nulls":3},{"v":0,"d":"0.0000"},{"v":0,"d":"0.000"},{"v":0,"d":"0.000"}]
[86,"выпечка п/ф со склада","шт",{"$f":"'Чт День 4 Нед 2'!AD102","v":0},{"$nulls":6},{"v":0,"d":"0.0000"},{"$nulls":4},{"v":0,"d":"0.0000"},null,null,{"v":0,"d":"0.0000"},{"$nulls":3},{"v":0,"d":"0.0000"},{"$nulls":3},{"v":0,"d":"0.0000"},{"v":0,"d":"0.000"},{"v":0,"d":"0.000"}]
[null,"Яйцо",null,{"$f":"'Чт День 4 Нед 2'!AD103","v":0},{"$nulls":6},{"$f":"(J103+I103+H103+G103+F103)*$K$5","v":{"v":0,"d":"0.0000"}},{"$nulls":4},{"v":0,"d":"0.0000"},null,null,{"v":0,"d":"0.0000"},{"$nulls":3},{"v":0,"d":"0.0000"},{"$nulls":3},{"v":0,"d":"0.0000"},{"$f":"K103+P103+S103+AA103","v":{"v":0,"d":"0.000"}},{"$f":"(D103+E103)-AB103","v":{"v":0,"d":"0.000"}}]
[87,"яйцо куриное","кг",{"$f":"'Чт День 4 Нед 2'!AD104","v":-0.00672},{"$nulls":6},{"v":0,"d":"0.0000"},{"$nulls":4},{"v":0,"d":"0.0000"},null,null,{"v":0,"d":"0.0000"},{"$nulls":3},{"v":0,"d":"0.0000"},{"v":0.00096,"d":"0.0010"},null,null,{"v":0.00096,"d":"0.0010"},{"v":0.00096,"d":"0.001"},{"v":-0.00768,"d":"-0.008"}]
[null,"0,048","шт",{"$f":"'Чт День 4 Нед 2'!AD105","v":0},{"$nulls":6},{"v":0,"d":"0.0000"},{"$nulls":4},{"v":0,"d":"0.0000"},null,null,{"v":0,"d":"0.0000"},{"$nulls":3},{"v":0,"d":"0.0000"},{"$nulls":3},{"v":0,"d":"0.0000"},{"v":0,"d":"0.000"},{"v":0,"d":"0.000"}]
[null,"Овощи заморозка",null,{"$f":"'Чт День 4 Нед 2'!AD106","v":0},{"$nulls":6},{"v":0,"d":"0.0000"},{"$nulls":4},{"v":0,"d":"0.0000"},null,null,{"v":0,"d":"0.0000"},{"$nulls":3},{"v":0,"d":"0.0000"},{"$nulls":3},{"v":0,"d":"0.0000"},{"v":0,"d":"0.000"},{"v":0,"d":"0.000"}]
[88,"зеленый горошек с/м","кг",{"$f":"'Чт День 4 Нед 2'!AD107","v":0},{"$nulls":6},{"v":0,"d":"0.0000"},{"$nulls":4},{"v":0,"d":"0.0000"},null,null,{"v":0,"d":"0.0000"},{"$nulls":3},{"v":0,"d":"0.0000"},{"$nulls":3},{"v":0,"d":"0.0000"},{"v":0,"d":"0.000"},{"v":0,"d":"0.000"}]
[89,"кабачки с/м","кг",{"$f":"'Чт День 4 Нед 2'!AD108","v":0},{"$nulls":6},{"v":0,"d":"0.0000"},{"$nulls":4},{"v":0,"d":"0.0000"},null,null,{"v":0,"d":"0.0000"},{"$nulls":3},{"v":0,"d":"0.0000"},{"$nulls":3},{"v":0,"d":"0.0000"},{"v":0,"d":"0.000"},{"v":0,"d":"0.000"}]
[90,"мексиканс смесь с/м","кг",{"$f":"'Чт День 4 Нед 2'!AD109","v":0},{"$nulls":6},{"v":0,"d":"0.0000"},{"$nulls":4},{"v":0,"d":"0.0000"},null,null,{"v":0,"d":"0.0000"},{"$nulls":3},{"v":0,"d":"0.0000"},{"$nulls":3},{"v":0,"d":"0.0000"},{"v":0,"d":"0.000"},{"v":0,"d":"0.000"}]
[91,"капуста цветная с/м","кг",{"$f":"'Чт День 4 Нед 2'!AD110","v":0},{"$nulls":6},{"v":0,"d":"0.0000"},{"$nulls":4},{"v":0,"d":"0.0000"},null,null,{"v":0,"d":"0.0000"},{"$nulls":3},{"v":0,"d":"0.0000"},{"$nulls":3},{"v":0,"d":"0.0000"},{"v":0,"d":"0.000"},{"v":0,"d":"0.000"}]
[92,"брокколи с/м","кг",{"$f":"'Чт День 4 Нед 2'!AD111","v":0},{"$nulls":6},{"v":0,"d":"0.0000"},{"$nulls":4},{"v":0,"d":"0.0000"},null,null,{"v":0,"d":"0.0000"},{"$nulls":3},{"v":0,"d":"0.0000"},{"$nulls":3},{"v":0,"d":"0.0000"},{"v":0,"d":"0.000"},{"v":0,"d":"0.000"}]
[93,"кукуруза с/м","кг",{"$f":"'Чт День 4 Нед 2'!AD112","v":0},{"$nulls":6},{"v":0,"d":"0.0000"},{"$nulls":4},{"v":0,"d":"0.0000"},null,null,{"v":0,"d":"0.0000"},{"$nulls":3},{"v":0,"d":"0.0000"},{"$nulls":3},{"v":0,"d":"0.0000"},{"v":0,"d":"0.000"},{"v":0,"d":"0.000"}]
[94,"фасоль стручковая с/м","кг",{"$f":"'Чт День 4 Нед 2'!AD113","v":0},{"$nulls":6},{"v":0,"d":"0.0000"},{"$nulls":4},{"v":0,"d":"0.0000"},null,null,{"v":0,"d":"0.0000"},{"$nulls":3},{"v":0,"d":"0.0000"},{"$nulls":3},{"v":0,"d":"0.0000"},{"v":0,"d":"0.000"},{"v":0,"d":"0.000"}]
[null,"Фрукты",null,{"$f":"'Чт День 4 Нед 2'!AD114","v":0},{"$nulls":6},{"v":0,"d":"0.0000"},{"$nulls":4},{"v":0,"d":"0.0000"},null,null,{"v":0,"d":"0.0000"},{"$nulls":3},{"v":0,"d":"0.0000"},{"$nulls":3},{"v":0,"d":"0.0000"},{"v":0,"d":"0.000"},{"v":0,"d":"0.000"}]
[95,"апельсин","кг",{"$f":"'Чт День 4 Нед 2'!AD115","v":-0.015},{"$nulls":6},{"v":0,"d":"0.0000"},{"$nulls":4},{"v":0,"d":"0.0000"},null,null,{"v":0,"d":"0.0000"},{"$nulls":3},{"v":0,"d":"0.0000"},{"$nulls":3},{"v":0,"d":"0.0000"},{"v":0,"d":"0.000"},-0.015]
[96,"банан","кг",{"$f":"'Чт День 4 Нед 2'!AD116","v":0},{"$nulls":6},{"v":0,"d":"0.0000"},{"$nulls":4},{"v":0,"d":"0.0000"},null,null,{"v":0,"d":"0.0000"},{"$nulls":3},{"v":0,"d":"0.0000"},{"$nulls":3},{"v":0,"d":"0.0000"},{"v":0,"d":"0.000"},{"v":0,"d":"0.000"}]
[97,"груши","кг",{"$f":"'Чт День 4 Нед 2'!AD117","v":0},{"$nulls":6},{"v":0,"d":"0.0000"},{"$nulls":4},{"v":0,"d":"0.0000"},null,null,{"v":0,"d":"0.0000"},{"$nulls":3},{"v":0,"d":"0.0000"},{"$nulls":3},{"v":0,"d":"0.0000"},{"v":0,"d":"0.000"},{"v":0,"d":"0.000"}]
[98,"мандарины","кг",{"$f":"'Чт День 4 Нед 2'!AD118","v":0},{"$nulls":6},{"v":0,"d":"0.0000"},{"$nulls":4},{"v":0,"d":"0.0000"},null,null,{"v":0,"d":"0.0000"},{"$nulls":3},{"v":0,"d":"0.0000"},{"$nulls":3},{"v":0,"d":"0.0000"},{"v":0,"d":"0.000"},{"v":0,"d":"0.000"}]
[99,"лимон","кг",{"$f":"'Чт День 4 Нед 2'!AD119","v":-0.0555},{"$nulls":6},{"v":0,"d":"0.0000"},{"$nulls":4},{"v":0,"d":"0.0000"},null,null,{"v":0,"d":"0.0000"},{"$nulls":3},{"v":0,"d":"0.0000"},{"$nulls":3},{"v":0,"d":"0.0000"},{"v":0,"d":"0.000"},{"v":-0.0555,"d":"-0.056"}]
[100,"яблоки свежие","кг",{"$f":"'Чт День 4 Нед 2'!AD120","v":-1.0252000000000001},{"$nulls":4},0.0454,null,0.0454,null,null,0.0454,null,0.0454,null,0.0114,0.0114,{"$nulls":3},{"v":0,"d":"0.0000"},{"$nulls":3},{"v":0,"d":"0.0000"},{"v":0.10220000000000001,"d":"0.102"},{"v":-1.1274000000000002,"d":"-1.127"}]
[null,"Овощи / зелень ",null,{"$f":"'Чт День 4 Нед 2'!AD121","v":0},{"$nulls":6},{"v":0,"d":"0.0000"},{"$nulls":4},{"v":0,"d":"0.0000"},null,null,{"v":0,"d":"0.0000"},{"$nulls":3},{"v":0,"d":"0.0000"},{"$nulls":3},{"v":0,"d":"0.0000"},{"v":0,"d":"0.000"},{"v":0,"d":"0.000"}]
[101,"капуста свежая","кг",{"$f":"'Чт День 4 Нед 2'!AD122","v":-0.2925},{"$nulls":6},{"v":0,"d":"0.0000"},{"$nulls":4},{"v":0,"d":"0.0000"},null,null,{"v":0,"d":"0.0000"},{"$nulls":3},{"v":0,"d":"0.0000"},{"v":0.025,"d":"0.0250"},null,null,{"v":0.025,"d":"0.0250"},0.025,{"v":-0.3175,"d":"-0.318"}]
[102,"картофель","кг",{"$f":"'Чт День 4 Нед 2'!AD123","v":-1.7751700000000001},{"$nulls":6},{"v":0,"d":"0.0000"},{"$nulls":4},{"v":0,"d":"0.0000"},null,null,{"v":0,"d":"0.0000"},{"$nulls":3},{"v":0,"d":"0.0000"},{"v":0.09975,"d":"0.0998"},null,null,{"v":0.09975,"d":"0.0998"},{"v":0.09975,"d":"0.100"},{"v":-1.8749200000000001,"d":"-1.875"}]
[103,"лук репчатый","кг",{"$f":"'Чт День 4 Нед 2'!AD124","v":-0.34489},{"$nulls":6},{"v":0,"d":"0.0000"},{"$nulls":4},{"v":0,"d":"0.0000"},null,null,{"v":0,"d":"0.0000"},{"$nulls":3},{"v":0,"d":"0.0000"},0.0132,null,null,0.0132,{"v":0.0132,"d":"0.013"},{"v":-0.35808999999999996,"d":"-0.358"}]
[104,"морковь","кг",{"$f":"'Чт День 4 Нед 2'!AD125","v":-0.21400000000000002},{"$nulls":6},{"v":0,"d":"0.0000"},{"$nulls":4},{"v":0,"d":"0.0000"},null,null,{"v":0,"d":"0.0000"},{"$nulls":3},{"v":0,"d":"0.0000"},0.0125,null,null,0.0125,{"v":0.0125,"d":"0.013"},{"v":-0.22650000000000003,"d":"-0.227"}]
[105,"свекла","кг",{"$f":"'Чт День 4 Нед 2'!AD126","v":-0.6759999999999999},{"$nulls":6},{"v":0,"d":"0.0000"},{"$nulls":4},{"v":0,"d":"0.0000"},null,null,{"v":0,"d":"0.0000"},{"$nulls":3},{"v":0,"d":"0.0000"},{"$nulls":3},{"v":0,"d":"0.0000"},{"v":0,"d":"0.000"},{"v":-0.6759999999999999,"d":"-0.676"}]
[106,"огурцы св.","кг",{"$f":"'Чт День 4 Нед 2'!AD127","v":0},{"$nulls":6},{"v":0,"d":"0.0000"},{"$nulls":4},{"v":0,"d":"0.0000"},null,null,{"v":0,"d":"0.0000"},{"$nulls":3},{"v":0,"d":"0.0000"},{"$nulls":3},{"v":0,"d":"0.0000"},{"v":0,"d":"0.000"},{"v":0,"d":"0.000"}]
[107,"томаты св.","кг",{"$f":"'Чт День 4 Нед 2'!AD128","v":0},{"$nulls":6},{"v":0,"d":"0.0000"},{"$nulls":4},{"v":0,"d":"0.0000"},null,null,{"v":0,"d":"0.0000"},{"$nulls":3},{"v":0,"d":"0.0000"},{"$nulls":3},{"v":0,"d":"0.0000"},{"v":0,"d":"0.000"},{"v":0,"d":"0.000"}]
[108,"перец болг.красный","кг",{"$f":"'Чт День 4 Нед 2'!AD129","v":0},{"$nulls":6},{"v":0,"d":"0.0000"},{"$nulls":4},{"v":0,"d":"0.0000"},null,null,{"v":0,"d":"0.0000"},{"$nulls":3},{"v":0,"d":"0.0000"},{"$nulls":3},{"v":0,"d":"0.0000"},{"v":0,"d":"0.000"},{"v":0,"d":"0.000"}]
[109,"тыква","кг",{"$f":"'Чт День 4 Нед 2'!AD130","v":0},{"$nulls":6},{"v":0,"d":"0.0000"},{"$nulls":4},{"v":0,"d":"0.0000"},null,null,{"v":0,"d":"0.0000"},{"$nulls":3},{"v":0,"d":"0.0000"},{"$nulls":3},{"v":0,"d":"0.0000"},{"v":0,"d":"0.000"},{"v":0,"d":"0.000"}]
[null,"Овощи очищенные ",null,{"$f":"'Чт День 4 Нед 2'!AD131","v":0},{"$nulls":6},{"v":0,"d":"0.0000"},{"$nulls":4},{"v":0,"d":"0.0000"},null,null,{"v":0,"d":"0.0000"},{"$nulls":3},{"v":0,"d":"0.0000"},{"$nulls":3},{"v":0,"d":"0.0000"},{"v":0,"d":"0.000"},{"v":0,"d":"0.000"}]
[110,"капуста св.очищенная","кг",{"$f":"'Чт День 4 Нед 2'!AD132","v":0},{"$nulls":6},{"v":0,"d":"0.0000"},{"$nulls":4},{"v":0,"d":"0.0000"},null,null,{"v":0,"d":"0.0000"},{"$nulls":3},{"v":0,"d":"0.0000"},{"$nulls":3},{"v":0,"d":"0.0000"},{"v":0,"d":"0.000"},{"v":0,"d":"0.000"}]
[111,"картофель св. очищенный","кг",{"$f":"'Чт День 4 Нед 2'!AD133","v":0},{"$nulls":6},{"v":0,"d":"0.0000"},{"$nulls":4},{"v":0,"d":"0.0000"},null,null,{"v":0,"d":"0.0000"},{"$nulls":3},{"v":0,"d":"0.0000"},{"$nulls":3},{"v":0,"d":"0.0000"},{"v":0,"d":"0.000"},{"v":0,"d":"0.000"}]
[112,"лук репчатый св.очищенный","кг",{"$f":"'Чт День 4 Нед 2'!AD134","v":0},{"$nulls":6},{"v":0,"d":"0.0000"},{"$nulls":4},{"v":0,"d":"0.0000"},null,null,{"v":0,"d":"0.0000"},{"$nulls":3},{"v":0,"d":"0.0000"},{"$nulls":3},{"v":0,"d":"0.0000"},{"v":0,"d":"0.000"},{"v":0,"d":"0.000"}]
[113,"морковь св.очищенная","кг",{"$f":"'Чт День 4 Нед 2'!AD135","v":0},{"$nulls":6},{"$f":"(J135+I135+H135+G135+F135)*$K$5","v":{"v":0,"d":"0.0000"}},{"$nulls":4},{"v":0,"d":"0.0000"},null,null,{"v":0,"d":"0.0000"},{"$nulls":3},{"v":0,"d":"0.0000"},{"$nulls":3},{"v":0,"d":"0.0000"},{"$f":"K135+P135+S135+AA135","v":{"v":0,"d":"0.000"}},{"$f":"(D135+E135)-AB135","v":{"v":0,"d":"0.000"}}]
[114,"свекла св.очищенная","кг",{"$f":"'Чт День 4 Нед 2'!AD136","v":0},{"$nulls":6},{"v":0,"d":"0.0000"},{"$nulls":4},{"$f":"(L136+M136+N136+O136)*$P$5","v":{"v":0,"d":"0.0000"}},null,null,{"$f":"(R136+Q136)*$S$5","v":{"v":0,"d":"0.0000"}},{"$nulls":3},{"$f":"(V136+U136+T136)*$W$5","v":{"v":0,"d":"0.0000"}},{"$nulls":3},{"$f":"(Z136+Y136+X136)*$AA$5","v":{"v":0,"d":"0.0000"}},{"v":0,"d":"0.000"},{"v":0,"d":"0.000"}]
[null,"Полуфабрикаты",null,{"$f":"'Чт День 4 Нед 2'!AD137","v":0},{"$nulls":6},{"v":0,"d":"0.0000"},{"$nulls":4},{"v":0,"d":"0.0000"},null,null,{"v":0,"d":"0.0000"},{"$nulls":3},{"v":0,"d":"0.0000"},{"$nulls":3},{"v":0,"d":"0.0000"},{"v":0,"d":"0.000"},{"v":0,"d":"0.000"}]
[115,"сырники ПФ","шт",{"$f":"'Чт День 4 Нед 2'!AD138","v":-2},{"$nulls":6},{"v":0,"d":"0.0000"},{"$nulls":4},{"v":0,"d":"0.0000"},{"$nulls":11},{"v":0,"d":"0.000"},{"v":-2,"d":"-2.000"}]
[116,"пельмени ПФ","кг",{"$f":"'Чт День 4 Нед 2'!AD139","v":-0.498},{"$nulls":6},{"v":0,"d":"0.0000"},{"$nulls":4},{"v":0,"d":"0.0000"},null,null,{"v":0,"d":"0.0000"},{"$nulls":3},{"v":0,"d":"0.0000"},{"$nulls":3},{"v":0,"d":"0.0000"},{"v":0,"d":"0.000"},-0.498]
[117,"биточки рыбные","шт",{"$f":"'Чт День 4 Нед 2'!AD140","v":-4},{"$nulls":6},{"v":0,"d":"0.0000"},{"$nulls":4},{"v":0,"d":"0.0000"},null,null,{"v":0,"d":"0.0000"},{"$nulls":3},{"v":0,"d":"0.0000"},{"$nulls":3},{"v":0,"d":"0.0000"},{"v":0,"d":"0.000"},{"v":-4,"d":"-4.000"}]
[118,"фрикадельки мясные ","кг",{"$f":"'Чт День 4 Нед 2'!AD141","v":0},{"$nulls":6},{"v":0,"d":"0.0000"},{"$nulls":4},{"v":0,"d":"0.0000"},null,null,{"v":0,"d":"0.0000"},{"$nulls":3},{"v":0,"d":"0.0000"},{"$nulls":3},{"v":0,"d":"0.0000"},{"v":0,"d":"0.000"},{"v":0,"d":"0.000"}]
[119,"фрикадельки куриные","кг",{"$f":"'Чт День 4 Нед 2'!AD142","v":0},{"$nulls":6},{"v":0,"d":"0.0000"},{"$nulls":4},{"v":0,"d":"0.0000"},null,null,{"v":0,"d":"0.0000"},{"$nulls":3},{"v":0,"d":"0.0000"},{"$nulls":3},{"v":0,"d":"0.0000"},{"v":0,"d":"0.000"},{"v":0,"d":"0.000"}]
[120,"хинкали п/ф из говядины","кг",{"$f":"'Чт День 4 Нед 2'!AD143","v":0},{"$nulls":6},{"v":0,"d":"0.0000"},{"$nulls":4},{"v":0,"d":"0.0000"},null,null,{"v":0,"d":"0.0000"},{"$nulls":3},{"v":0,"d":"0.0000"},{"$nulls":3},{"v":0,"d":"0.0000"},{"v":0,"d":"0.000"},{"v":0,"d":"0.000"}]
[121,"котлеты из говядины \"Домашние\"  ","шт",{"$f":"'Чт День 4 Нед 2'!AD144","v":-2},{"$nulls":6},{"v":0,"d":"0.0000"},{"$nulls":4},{"v":0,"d":"0.0000"},null,null,{"v":0,"d":"0.0000"},{"$nulls":3},{"v":0,"d":"0.0000"},{"$nulls":3},{"v":0,"d":"0.0000"},{"v":0,"d":"0.000"},{"v":-2,"d":"-2.000"}]
[122,"бифштекс из говядины","шт",{"$f":"'Чт День 4 Нед 2'!AD145","v":0},{"$nulls":6},{"v":0,"d":"0.0000"},{"$nulls":4},{"v":0,"d":"0.0000"},null,null,{"v":0,"d":"0.0000"},{"$nulls":3},{"v":0,"d":"0.0000"},{"$nulls":3},{"v":0,"d":"0.0000"},{"v":0,"d":"0.000"},{"v":0,"d":"0.000"}]
[123,"котлеты из мяса кур","шт",{"$f":"'Чт День 4 Нед 2'!AD146","v":0},{"$nulls":6},{"v":0,"d":"0.0000"},{"$nulls":4},{"v":0,"d":"0.0000"},null,null,{"v":0,"d":"0.0000"},{"$nulls":3},{"v":0,"d":"0.0000"},{"$nulls":3},{"v":0,"d":"0.0000"},{"v":0,"d":"0.000"},{"v":0,"d":"0.000"}]
[124,"котлеты \"Аппетитные\" мясо-куриные  ","шт",{"$f":"'Чт День 4 Нед 2'!AD147","v":0},{"$nulls":6},{"v":0,"d":"0.0000"},{"$nulls":4},{"v":0,"d":"0.0000"},null,null,{"v":0,"d":"0.0000"},{"$nulls":3},{"v":0,"d":"0.0000"},{"$nulls":3},{"v":0,"d":"0.0000"},{"v":0,"d":"0.000"},{"v":0,"d":"0.000"}]
[125,"ежики мясные с рисом ","шт",{"$f":"'Чт День 4 Нед 2'!AD148","v":0},{"$nulls":6},{"v":0,"d":"0.0000"},{"$nulls":4},{"v":0,"d":"0.0000"},null,null,{"v":0,"d":"0.0000"},{"$nulls":3},{"v":0,"d":"0.0000"},{"$nulls":3},{"v":0,"d":"0.0000"},{"v":0,"d":"0.000"},{"v":0,"d":"0.000"}]

{"sheet":"Сб День 6 Нед 2","index":12,"n_rows":148,"n_cols":34,"rows_kept":148,"merged":[[0,0,0,32],[1,5,1,8],[1,9,3,9],[1,10,3,10],[1,11,3,11],[1,12,1,17],[1,18,3,18],[1,19,3,19],[1,20,3,20],[1,21,1,22],[1,23,3,23],[1,24,1,26],[1,27,3,27],[1,28,1,30],[1,31,3,31],[1,32,3,32],[1,33,2,33],[130,0,130,1]]}
["Расход продуктов питания в образовательных учереждениях  "]
[{"$nulls":5},"Меню с 1 по 4 класс  69,43  РУБ",{"$nulls":5},"ИТОГО",{"$nulls":6},"ИТОГО",null,null,"Меню на сумму         9,60  РУБ",null,"ИТОГО","Меню КАШИ  НА молоке                          ",null,null,"ИТОГО","Меню   СУПА  ",null,null,"ИТОГО","ВСЕГО ЗА ДЕНЬ расход продуктов по всем рационам","остаток на конец"]
[null,"ДЕНЬ 6 неделя 2",null,"остаток на начало","приход","яблоко свежее","котлеты Аппетитные с овощным рагу","чай с сахаром с лимоном","Хлеб пшеничн /ржаной",{"$nulls":4},"яблоко свежее","котлеты Аппетитные с овощным рагу","чай с сахаром с лимоном","Хлеб пшеничн /ржаной",{"$nulls":4},"печенье /крекер/","чай с сахаром",null,"макарон изд  отварн с  маслом слив","компот из урюка","Хлеб ржаной ",null,null,"чай с мармеладом","Хлеб ржаной "]
[null,"КОЛИЧЕСТВО ДЕТЕЙ",{"$nulls":3},"7-11","7-11","7-11","7-11",{"$nulls":4},"12-18","7-11","7-11","12-18",{"$nulls":4},"12-18","12-18",null,"12-18","12-18","12-18",null,null,"12-18","12-18"]
[null,"Выход,гр",{"$nulls":3},"100","75/150","185/10/5","20/30",null,null,1,null,"100","75/150","185/10/5","20/30",null,"1",null,null,"30","190/10",1,"150/3","200","30",0,null,"190/10","30","1",{"$f":"L7+S7+X7+AF7","v":0}]
[null,"Хлеб"]
[1,"батон ","кг",{"$f":"'Пт День 5 Нед 2'!AC7","v":0},{"$nulls":5},{"$f":"(F7+#REF!+H7+I7)*$J$5","v":{"$error":"#REF!"}},{"$f":"(F7+G7+#REF!+H7+I7)*$K$5","v":{"$error":"#REF!"}},{"$f":"(F7+G7+H7+I7)*$L$5","v":{"v":0,"d":"0.0000"}},{"$nulls":6},{"$f":"(M7+N7+O7+P7+Q7)*$S$5","v":{"v":0,"d":"0.0000"}},{"$f":"(N7+O7+P7+R7+M7)*$T$5","v":{"v":0,"d":"0.0000"}},{"$nulls":3},{"$f":"(W7+V7)*$X$5","v":{"v":0,"d":"0.0000"}},{"$nulls":3},{"$f":"(Z7+Y7+AA7)*$AB$5","v":{"v":0,"d":"0.0000"}},{"$nulls":3},{"$f":"(AD7+AC7+AE7)*$AF$5","v":{"v":0,"d":"0.0000"}},{"$f":"L7+S7+X7+AF7","v":{"v":0,"d":"0.000"}},{"$f":"(D7+E6)-AG7","v":{"v":0,"d":"0.000"}}]
[2,"хлеб пшеничный ","кг",{"$f":"'Пт День 5 Нед 2'!AC8","v":-0.6652},null,null,{"v":0.007,"d":"0.0070"},null,{"v":0.02,"d":"0.0200"},{"$f":"(F8+#REF!+H8+I8)*$J$5","v":{"$error":"#REF!"}},{"$f":"(F8+G8+#REF!+H8+I8)*$K$5","v":{"$error":"#REF!"}},{"$f":"(F8+G8+H8+I8)*$L$5","v":{"v":0.027,"d":"0.0270"}},null,null,{"v":0.007,"d":"0.0070"},null,{"v":0.02,"d":"0.0200"},null,{"v":0.027,"d":"0.0270"},{"v":0,"d":"0.0000"},{"$nulls":3},{"$f":"(W8+V8)*$X$5","v":{"v":0,"d":"0.0000"}},{"$nulls":3},{"$f":"(Z8+Y8+AA8)*$AB$5","v":{"v":0,"d":"0.0000"}},{"$nulls":3},{"$f":"(AD8+AC8+AE8)*$AF$5","v":{"v":0,"d":"0.0000"}},{"$f":"L8+S8+X8+AF8","v":0.054},{"v":-0.7192000000000001,"d":"-0.719"}]
[3,"хлеб ржаной","кг",{"$f":"'Пт День 5 Нед 2'!AC9","v":-1.4600000000000002},{"$nulls":4},{"v":0.03,"d":"0.0300"},{"$f":"(F9+#REF!+H9+I9)*$J$5","v":{"$error":"#REF!"}},{"$f":"(F9+G9+#REF!+H9+I9)*$K$5","v":{"$error":"#REF!"}},{"v":0.03,"d":"0.0300"},{"$nulls":4},{"v":0.03,"d":"0.0300"},null,{"v":0.03,"d":"0.0300"},{"v":0,"d":"0.0000"},{"$nulls":3},{"v":0,"d":"0.0000"},null,null,{"v":0.03,"d":"0.0300"},{"v":0,"d":"0.0000"},null,null,{"v":0.03,"d":"0.0300"},{"v":0.03,"d":"0.0300"},{"v":0.09,"d":"0.090"},{"v":-1.5500000000000003,"d":"-1.550"}]
[4,"булоч/выпечка готов с х/ком","шт",{"$f":"'Пт День 5 Нед 2'!AC10","v":-2},{"$nulls":5},{"$f":"(F10+#REF!+H10+I10)*$J$5","v":{"$error":"#REF!"}},{"$f":"(F10+G10+#REF!+H10+I10)*$K$5","v":{"$error":"#REF!"}},{"v":0,"d":"0.0000"},{"$nulls":6},{"v":0,"d":"0.0000"},{"v":0,"d":"0.0000"},{"$nulls":3},{"v":0,"d":"0.0000"},{"$nulls":3},{"v":0,"d":"0.0000"},{"$nulls":3},{"v":0,"d":"0.0000"},{"v":0,"d":"0.000"},{"v":-2,"d":"-2.000"}]
[null,"Молочка",null,{"$f":"'Пт День 5 Нед 2'!AC11","v":0},{"$nulls":5},{"$f":"(F11+#REF!+H11+I11)*$J$5","v":{"$error":"#REF!"}},{"$f":"(F11+G11+#REF!+H11+I11)*$K$5","v":{"$error":"#REF!"}},{"v":0,"d":"0.0000"},{"$nulls":6},{"v":0,"d":"0.0000"},{"v":0,"d":"0.0000"},{"$nulls":3},{"v":0,"d":"0.0000"},{"$nulls":3},{"v":0,"d":"0.0000"},{"$nulls":3},{"v":0,"d":"0.0000"},{"v":0,"d":"0.000"},{"v":0,"d":"0.000"}]
[5,"молоко 2,5%","кг",{"$f":"'Пт День 5 Нед 2'!AC12","v":-0.5519000000000001},{"$nulls":5},{"$f":"(F12+#REF!+H12+I12)*$J$5","v":{"$error":"#REF!"}},{"$f":"(F12+G12+#REF!+H12+I12)*$K$5","v":{"$error":"#REF!"}},{"v":0,"d":"0.0000"},{"$nulls":6},{"v":0,"d":"0.0000"},{"v":0,"d":"0.0000"},{"$nulls":3},{"v":0,"d":"0.0000"},{"$nulls":3},{"v":0,"d":"0.0000"},{"$nulls":3},{"v":0,"d":"0.0000"},{"v":0,"d":"0.000"},{"v":-0.5519000000000001,"d":"-0.552"}]
[6,"творог 5%","кг",{"$f":"'Пт День 5 Нед 2'!AC13","v":0},{"$nulls":5},{"$f":"(F13+#REF!+H13+I13)*$J$5","v":{"$error":"#REF!"}},{"$f":"(F13+G13+#REF!+H13+I13)*$K$5","v":{"$error":"#REF!"}},{"v":0,"d":"0.0000"},{"$nulls":6},{"v":0,"d":"0.0000"},{"v":0,"d":"0.0000"},{"$nulls":3},{"v":0,"d":"0.0000"},{"$nulls":3},{"v":0,"d":"0.0000"},{"$nulls":3},{"v":0,"d":"0.0000"},{"v":0,"d":"0.000"},{"v":0,"d":"0.000"}]
[7,"сметана 15%","кг",{"$f":"'Пт День 5 Нед 2'!AC14","v":-0.09659999999999999},{"$nulls":5},{"$f":"(F14+#REF!+H14+I14)*$J$5","v":{"$error":"#REF!"}},{"$f":"(F14+G14+#REF!+H14+I14)*$K$5","v":{"$error":"#REF!"}},{"v":0,"d":"0.0000"},{"$nulls":6},{"v":0,"d":"0.0000"},{"v":0,"d":"0.0000"},{"$nulls":3},{"v":0,"d":"0.0000"},{"$nulls":3},{"v":0,"d":"0.0000"},{"$nulls":3},{"v":0,"d":"0.0000"},{"v":0,"d":"0.000"},{"v":-0.09659999999999999,"d":"-0.097"}]
[8,"йогурт фруктов ","кг",{"$f":"'Пт День 5 Нед 2'!AC15","v":0},{"$nulls":5},{"$f":"(F15+#REF!+H15+I15)*$J$5","v":{"$error":"#REF!"}},{"$f":"(F15+G15+#REF!+H15+I15)*$K$5","v":{"$error":"#REF!"}},{"v":0,"d":"0.0000"},{"$nulls":6},{"v":0,"d":"0.0000"},{"v":0,"d":"0.0000"},{"$nulls":3},{"v":0,"d":"0.0000"},{"$nulls":3},{"v":0,"d":"0.0000"},{"$nulls":3},{"v":0,"d":"0.0000"},{"v":0,"d":"0.000"},{"v":0,"d":"0.000"}]
[9,"катык 2,5%","кг",{"$f":"'Пт День 5 Нед 2'!AC16","v":0},{"$nulls":5},{"$f":"(F16+#REF!+H16+I16)*$J$5","v":{"$error":"#REF!"}},{"$f":"(F16+G16+#REF!+H16+I16)*$K$5","v":{"$error":"#REF!"}},{"v":0,"d":"0.0000"},{"$nulls":6},{"v":0,"d":"0.0000"},{"v":0,"d":"0.0000"},{"$nulls":3},{"v":0,"d":"0.0000"},{"$nulls":3},{"v":0,"d":"0.0000"},{"$nulls":3},{"v":0,"d":"0.0000"},{"v":0,"d":"0.000"},{"v":0,"d":"0.000"}]
[10,"кефир 2,5%","кг",{"$f":"'Пт День 5 Нед 2'!AC17","v":0},{"$nulls":5},{"$f":"(F17+#REF!+H17+I17)*$J$5","v":{"$error":"#REF!"}},{"$f":"(F17+G17+#REF!+H17+I17)*$K$5","v":{"$error":"#REF!"}},{"v":0,"d":"0.0000"},{"$nulls":6},{"v":0,"d":"0.0000"},{"v":0,"d":"0.0000"},{"$nulls":3},{"v":0,"d":"0.0000"},{"$nulls":3},{"v":0,"d":"0.0000"},{"$nulls":3},{"v":0,"d":"0.0000"},{"v":0,"d":"0.000"},{"v":0,"d":"0.000"}]
[11,"ряженка 2,5%","кг",{"$f":"'Пт День 5 Нед 2'!AC18","v":0},{"$nulls":5},{"$f":"(F18+#REF!+H18+I18)*$J$5","v":{"$error":"#REF!"}},{"$f":"(F18+G18+#REF!+H18+I18)*$K$5","v":{"$error":"#REF!"}},{"v":0,"d":"0.0000"},{"$nulls":6},{"v":0,"d":"0.0000"},{"v":0,"d":"0.0000"},{"$nulls":3},{"v":0,"d":"0.0000"},{"$nulls":3},{"v":0,"d":"0.0000"},{"$nulls":3},{"v":0,"d":"0.0000"},{"v":0,"d":"0.000"},{"v":0,"d":"0.000"}]
[12,"напиток ацидофильный","кг",{"$f":"'Пт День 5 Нед 2'!AC19","v":0},{"$nulls":5},{"$f":"(F19+#REF!+H19+I19)*$J$5","v":{"$error":"#REF!"}},{"$f":"(F19+G19+#REF!+H19+I19)*$K$5","v":{"$error":"#REF!"}},{"v":0,"d":"0.0000"},{"$nulls":6},{"v":0,"d":"0.0000"},{"v":0,"d":"0.0000"},{"$nulls":3},{"v":0,"d":"0.0000"},{"$nulls":3},{"v":0,"d":"0.0000"},{"$nulls":3},{"v":0,"d":"0.0000"},{"v":0,"d":"0.000"},{"v":0,"d":"0.000"}]
[null,"Масло / сыр ",null,{"$f":"'Пт День 5 Нед 2'!AC20","v":0},{"$nulls":5},{"$f":"(F20+#REF!+H20+I20)*$J$5","v":{"$error":"#REF!"}},{"$f":"(F20+G20+#REF!+H20+I20)*$K$5","v":{"$error":"#REF!"}},{"v":0,"d":"0.0000"},{"$nulls":6},{"v":0,"d":"0.0000"},{"v":0,"d":"0.0000"},{"$nulls":3},{"v":0,"d":"0.0000"},{"$nulls":3},{"v":0,"d":"0.0000"},{"$nulls":3},{"v":0,"d":"0.0000"},{"v":0,"d":"0.000"},{"v":0,"d":"0.000"}]
[13,"масло растительное","кг",{"$f":"'Пт День 5 Нед 2'!AC21","v":-0.1746},null,null,{"v":2E-3,"d":"0.0020"},null,null,{"$f":"(F21+#REF!+H21+I21)*$J$5","v":{"$error":"#REF!"}},{"$f":"(F21+G21+#REF!+H21+I21)*$K$5","v":{"$error":"#REF!"}},{"v":2E-3,"d":"0.0020"},null,null,{"v":2E-3,"d":"0.0020"},{"$nulls":3},{"v":2E-3,"d":"0.0020"},{"v":0,"d":"0.0000"},{"$nulls":3},{"v":0,"d":"0.0000"},{"$nulls":3},{"v":0,"d":"0.0000"},{"$nulls":3},{"v":0,"d":"0.0000"},0.004,{"v":-0.1786,"d":"-0.179"}]
[14,"масло сливочное","кг",{"$f":"'Пт День 5 Нед 2'!AC22","v":-0.09619999999999998},null,null,0.0005,null,null,{"$f":"(F22+#REF!+H22+I22)*$J$5","v":{"$error":"#REF!"}},{"$f":"(F22+G22+#REF!+H22+I22)*$K$5","v":{"$error":"#REF!"}},0.0005,null,null,0.0005,{"$nulls":3},0.0005,{"v":0,"d":"0.0000"},{"$nulls":3},{"v":0,"d":"0.0000"},{"v":0.003,"d":"0.0030"},null,null,{"v":0,"d":"0.0000"},{"$nulls":3},{"v":0,"d":"0.0000"},{"v":1E-3,"d":"0.001"},{"v":-0.09719999999999998,"d":"-0.097"}]
[15,"сыр голландский","кг",{"$f":"'Пт День 5 Нед 2'!AC23","v":-0.025500000000000002},{"$nulls":5},{"$f":"(F23+#REF!+H23+I23)*$J$5","v":{"$error":"#REF!"}},{"$f":"(F23+G23+#REF!+H23+I23)*$K$5","v":{"$error":"#REF!"}},{"v":0,"d":"0.0000"},{"$nulls":6},{"v":0,"d":"0.0000"},{"v":0,"d":"0.0000"},{"$nulls":3},{"v":0,"d":"0.0000"},{"$nulls":3},{"v":0,"d":"0.0000"},{"$nulls":3},{"v":0,"d":"0.0000"},{"v":0,"d":"0.000"},{"v":-0.025500000000000002,"d":"-0.026"}]
[null,"Мясо",null,{"$f":"'Пт День 5 Нед 2'!AC24","v":0},{"$nulls":5},{"$f":"(F24+#REF!+H24+I24)*$J$5","v":{"$error":"#REF!"}},{"$f":"(F24+G24+#REF!+H24+I24)*$K$5","v":{"$error":"#REF!"}},{"v":0,"d":"0.0000"},{"$nulls":6},{"v":0,"d":"0.0000"},{"v":0,"d":"0.0000"},{"$nulls":3},{"v":0,"d":"0.0000"},{"$nulls":3},{"v":0,"d":"0.0000"},{"$nulls":3},{"v":0,"d":"0.0000"},{"v":0,"d":"0.000"},{"v":0,"d":"0.000"}]
[16,"говядина (котлетное мясо) ","кг",{"$f":"'Пт День 5 Нед 2'!AC25","v":0},null,null,{"v":0.042,"d":"0.0420"},null,null,{"$f":"(F25+#REF!+H25+I25)*$J$5","v":{"$error":"#REF!"}},{"$f":"(F25+G25+#REF!+H25+I25)*$K$5","v":{"$error":"#REF!"}},{"v":0.042,"d":"0.0420"},null,null,{"v":0.042,"d":"0.0420"},{"$nulls":3},{"v":0.042,"d":"0.0420"},{"v":0,"d":"0.0000"},{"$nulls":3},{"v":0,"d":"0.0000"},{"$nulls":3},{"v":0,"d":"0.0000"},{"$nulls":3},{"v":0,"d":"0.0000"},0.084,-0.084]
[17,"фарш говяжий","кг",{"$f":"'Пт День 5 Нед 2'!AC26","v":-0.16188},{"$nulls":5},{"$f":"(F26+#REF!+H26+I26)*$J$5","v":{"$error":"#REF!"}},{"$f":"(F26+G26+#REF!+H26+I26)*$K$5","v":{"$error":"#REF!"}},{"v":0,"d":"0.0000"},{"$nulls":6},{"v":0,"d":"0.0000"},{"v":0,"d":"0.0000"},{"$nulls":3},{"v":0,"d":"0.0000"},{"$nulls":3},{"v":0,"d":"0.0000"},{"$nulls":3},{"v":0,"d":"0.0000"},{"v":0,"d":"0.000"},{"v":-0.16188,"d":"-0.162"}]
[18,"говядина лопатка б/к","кг",{"$f":"'Пт День 5 Нед 2'!AC27","v":0},{"$nulls":5},{"$f":"(F27+#REF!+H27+I27)*$J$5","v":{"$error":"#REF!"}},{"$f":"(F27+G27+#REF!+H27+I27)*$K$5","v":{"$error":"#REF!"}},{"v":0,"d":"0.0000"},{"$nulls":6},{"v":0,"d":"0.0000"},{"v":0,"d":"0.0000"},{"$nulls":3},{"v":0,"d":"0.0000"},{"$nulls":3},{"v":0,"d":"0.0000"},{"$nulls":3},{"v":0,"d":"0.0000"},{"v":0,"d":"0.000"},{"v":0,"d":"0.000"}]
[19,"сосиски","кг",{"$f":"'Пт День 5 Нед 2'!AC28","v":-0.418},{"$nulls":5},{"$f":"(F28+#REF!+H28+I28)*$J$5","v":{"$error":"#REF!"}},{"$f":"(F28+G28+#REF!+H28+I28)*$K$5","v":{"$error":"#REF!"}},{"v":0,"d":"0.0000"},{"$nulls":6},{"v":0,"d":"0.0000"},{"v":0,"d":"0.0000"},{"$nulls":3},{"v":0,"d":"0.0000"},{"$nulls":3},{"v":0,"d":"0.0000"},{"$nulls":3},{"v":0,"d":"0.0000"},{"v":0,"d":"0.000"},-0.418]
[20,"колбаса п/к \"Халяль\"","кг",{"$f":"'Пт День 5 Нед 2'!AC29","v":0},{"$nulls":5},{"$f":"(F29+#REF!+H29+I29)*$J$5","v":{"$error":"#REF!"}},{"$f":"(F29+G29+#REF!+H29+I29)*$K$5","v":{"$error":"#REF!"}},{"v":0,"d":"0.0000"},{"$nulls":6},{"v":0,"d":"0.0000"},{"v":0,"d":"0.0000"},{"$nulls":3},{"v":0,"d":"0.0000"},{"$nulls":3},{"v":0,"d":"0.0000"},{"$nulls":3},{"v":0,"d":"0.0000"},{"v":0,"d":"0.000"},{"v":0,"d":"0.000"}]
[21,"куриное бедро","кг",{"$f":"'Пт День 5 Нед 2'!AC30","v":0},{"$nulls":5},{"$f":"(F30+#REF!+H30+I30)*$J$5","v":{"$error":"#REF!"}},{"$f":"(F30+G30+#REF!+H30+I30)*$K$5","v":{"$error":"#REF!"}},{"v":0,"d":"0.0000"},{"$nulls":6},{"v":0,"d":"0.0000"},{"v":0,"d":"0.0000"},{"$nulls":3},{"v":0,"d":"0.0000"},{"$nulls":3},{"v":0,"d":"0.0000"},{"$nulls":3},{"v":0,"d":"0.0000"},{"v":0,"d":"0.000"},{"v":0,"d":"0.000"}]
[22,"куриная грудка","кг",{"$f":"'Пт День 5 Нед 2'!AC31","v":-0.82732},null,null,0.0232,null,null,{"$f":"(F31+#REF!+H31+I31)*$J$5","v":{"$error":"#REF!"}},{"$f":"(F31+G31+#REF!+H31+I31)*$K$5","v":{"$error":"#REF!"}},0.0232,null,null,0.0232,{"$nulls":3},0.0232,{"v":0,"d":"0.0000"},{"$nulls":3},{"v":0,"d":"0.0000"},{"$nulls":3},{"v":0,"d":"0.0000"},{"$nulls":3},{"v":0,"d":"0.0000"},{"v":0.0464,"d":"0.046"},{"v":-0.87372,"d":"-0.874"}]
[23,"куры/цыплята потрош.","кг",{"$f":"'Пт День 5 Нед 2'!AC32","v":0},{"$nulls":5},{"$f":"(F32+#REF!+H32+I32)*$J$5","v":{"$error":"#REF!"}},{"$f":"(F32+G32+#REF!+H32+I32)*$K$5","v":{"$error":"#REF!"}},{"v":0,"d":"0.0000"},{"$nulls":6},{"v":0,"d":"0.0000"},{"v":0,"d":"0.0000"},{"$nulls":3},{"v":0,"d":"0.0000"},{"$nulls":3},{"v":0,"d":"0.0000"},{"$nulls":3},{"v":0,"d":"0.0000"},{"v":0,"d":"0.000"},{"v":0,"d":"0.000"}]
[24,"фарш куриный","кг",{"$f":"'Пт День 5 Нед 2'!AC33","v":0},{"$nulls":5},{"$f":"(F33+#REF!+H33+I33)*$J$5","v":{"$error":"#REF!"}},{"$f":"(F33+G33+#REF!+H33+I33)*$K$5","v":{"$error":"#REF!"}},{"v":0,"d":"0.0000"},{"$nulls":6},{"v":0,"d":"0.0000"},{"v":0,"d":"0.0000"},{"$nulls":3},{"v":0,"d":"0.0000"},{"$nulls":3},{"v":0,"d":"0.0000"},{"$nulls":3},{"v":0,"d":"0.0000"},{"v":0,"d":"0.000"},{"v":0,"d":"0.000"}]
[25,"индейка бедро филе","кг",{"$f":"'Пт День 5 Нед 2'!AC34","v":-0.147},{"$nulls":5},{"$f":"(F34+#REF!+H34+I34)*$J$5","v":{"$error":"#REF!"}},{"$f":"(F34+G34+#REF!+H34+I34)*$K$5","v":{"$error":"#REF!"}},{"v":0,"d":"0.0000"},{"$nulls":6},{"v":0,"d":"0.0000"},{"v":0,"d":"0.0000"},{"$nulls":3},{"v":0,"d":"0.0000"},{"$nulls":3},{"v":0,"d":"0.0000"},{"$nulls":3},{"v":0,"d":"0.0000"},{"v":0,"d":"0.000"},-0.147]
[26,"индейка грудка филе","кг",{"$f":"'Пт День 5 Нед 2'!AC35","v":0},{"$nulls":5},{"$f":"(F35+#REF!+H35+I35)*$J$5","v":{"$error":"#REF!"}},{"$f":"(F35+G35+#REF!+H35+I35)*$K$5","v":{"$error":"#REF!"}},{"v":0,"d":"0.0000"},{"$nulls":6},{"v":0,"d":"0.0000"},{"v":0,"d":"0.0000"},{"$nulls":3},{"v":0,"d":"0.0000"},{"$nulls":3},{"v":0,"d":"0.0000"},{"$nulls":3},{"v":0,"d":"0.0000"},{"v":0,"d":"0.000"},{"v":0,"d":"0.000"}]
[null,"Рыба",null,{"$f":"'Пт День 5 Нед 2'!AC36","v":0},{"$nulls":5},{"$f":"(F36+#REF!+H36+I36)*$J$5","v":{"$error":"#REF!"}},{"$f":"(F36+G36+#REF!+H36+I36)*$K$5","v":{"$error":"#REF!"}},{"v":0,"d":"0.0000"},{"$nulls":6},{"v":0,"d":"0.0000"},{"v":0,"d":"0.0000"},{"$nulls":3},{"v":0,"d":"0.0000"},{"$nulls":3},{"v":0,"d":"0.0000"},{"$nulls":3},{"v":0,"d":"0.0000"},{"v":0,"d":"0.000"},{"v":0,"d":"0.000"}]
[27,"горбуша ПБГ с/м","кг",{"$f":"'Пт День 5 Нед 2'!AC37","v":0},{"$nulls":5},{"$f":"(F37+#REF!+H37+I37)*$J$5","v":{"$error":"#REF!"}},{"$f":"(F37+G37+#REF!+H37+I37)*$K$5","v":{"$error":"#REF!"}},{"v":0,"d":"0.0000"},{"$nulls":6},{"v":0,"d":"0.0000"},{"v":0,"d":"0.0000"},{"$nulls":3},{"v":0,"d":"0.0000"},{"$nulls":3},{"v":0,"d":"0.0000"},{"$nulls":3},{"v":0,"d":"0.0000"},{"v":0,"d":"0.000"},{"v":0,"d":"0.000"}]
[28,"минтай б/г с/м","кг",{"$f":"'Пт День 5 Нед 2'!AC38","v":-0.30932000000000004},{"$nulls":5},{"$f":"(F38+#REF!+H38+I38)*$J$5","v":{"$error":"#REF!"}},{"$f":"(F38+G38+#REF!+H38+I38)*$K$5","v":{"$error":"#REF!"}},{"v":0,"d":"0.0000"},{"$nulls":6},{"v":0,"d":"0.0000"},{"v":0,"d":"0.0000"},{"$nulls":3},{"v":0,"d":"0.0000"},{"$nulls":3},{"v":0,"d":"0.0000"},{"$nulls":3},{"v":0,"d":"0.0000"},{"v":0,"d":"0.000"},{"v":-0.30932000000000004,"d":"-0.309"}]
[29,"фарш минтая","кг",{"$f":"'Пт День 5 Нед 2'!AC39","v":-0.23624},{"$nulls":5},{"$f":"(F39+#REF!+H39+I39)*$J$5","v":{"$error":"#REF!"}},{"$f":"(F39+G39+#REF!+H39+I39)*$K$5","v":{"$error":"#REF!"}},{"v":0,"d":"0.0000"},{"$nulls":6},{"$f":"(M39+N39+O39+P39+Q39)*$S$5","v":{"v":0,"d":"0.0000"}},{"$f":"(N39+O39+P39+R39+M39)*$T$5","v":{"v":0,"d":"0.0000"}},{"$nulls":3},{"v":0,"d":"0.0000"},{"$nulls":3},{"v":0,"d":"0.0000"},{"$nulls":3},{"v":0,"d":"0.0000"},{"v":0,"d":"0.000"},{"$f":"(D39+E38)-AG39","v":{"v":-0.23624,"d":"-0.236"}}]
[null,"Сыпучка",null,{"$f":"'Пт День 5 Нед 2'!AC40","v":0},{"$nulls":5},{"$f":"(F40+#REF!+H40+I40)*$J$5","v":{"$error":"#REF!"}},{"$f":"(F40+G40+#REF!+H40+I40)*$K$5","v":{"$error":"#REF!"}},{"v":0,"d":"0.0000"},{"$nulls":6},{"v":0,"d":"0.0000"},{"v":0,"d":"0.0000"},{"$nulls":3},{"v":0,"d":"0.0000"},{"$nulls":3},{"v":0,"d":"0.0000"},{"$nulls":3},{"v":0,"d":"0.0000"},{"v":0,"d":"0.000"},{"v":0,"d":"0.000"}]
[30,"вермишель","кг",{"$f":"'Пт День 5 Нед 2'!AC41","v":-0.01},{"$nulls":5},{"$f":"(F41+#REF!+H41+I41)*$J$5","v":{"$error":"#REF!"}},{"$f":"(F41+G41+#REF!+H41+I41)*$K$5","v":{"$error":"#REF!"}},{"v":0,"d":"0.0000"},{"$nulls":6},{"v":0,"d":"0.0000"},{"v":0,"d":"0.0000"},{"$nulls":3},{"v":0,"d":"0.0000"},{"$nulls":3},{"v":0,"d":"0.0000"},{"$nulls":3},{"v":0,"d":"0.0000"},{"v":0,"d":"0.000"},{"v":-0.01,"d":"-0.010"}]
[31,"геркулес","кг",{"$f":"'Пт День 5 Нед 2'!AC42","v":0},{"$nulls":5},{"$f":"(F42+#REF!+H42+I42)*$J$5","v":{"$error":"#REF!"}},{"$f":"(F42+G42+#REF!+H42+I42)*$K$5","v":{"$error":"#REF!"}},{"v":0,"d":"0.0000"},{"$nulls":6},{"v":0,"d":"0.0000"},{"v":0,"d":"0.0000"},{"$nulls":3},{"v":0,"d":"0.0000"},{"$nulls":3},{"v":0,"d":"0.0000"},{"$nulls":3},{"v":0,"d":"0.0000"},{"v":0,"d":"0.000"},{"v":0,"d":"0.000"}]
[32,"горох","кг",{"$f":"'Пт День 5 Нед 2'!AC43","v":-0.2143},{"$nulls":5},{"$f":"(F43+#REF!+H43+I43)*$J$5","v":{"$error":"#REF!"}},{"$f":"(F43+G43+#REF!+H43+I43)*$K$5","v":{"$error":"#REF!"}},{"v":0,"d":"0.0000"},{"$nulls":6},{"v":0,"d":"0.0000"},{"v":0,"d":"0.0000"},{"$nulls":3},{"v":0,"d":"0.0000"},{"$nulls":3},{"v":0,"d":"0.0000"},{"$nulls":3},{"v":0,"d":"0.0000"},{"v":0,"d":"0.000"},{"v":-0.2143,"d":"-0.214"}]
[33,"гречневая крупа","кг",{"$f":"'Пт День 5 Нед 2'!AC44","v":-0.6048},{"$nulls":5},{"$f":"(F44+#REF!+H44+I44)*$J$5","v":{"$error":"#REF!"}},{"$f":"(F44+G44+#REF!+H44+I44)*$K$5","v":{"$error":"#REF!"}},{"v":0,"d":"0.0000"},{"$nulls":6},{"v":0,"d":"0.0000"},{"v":0,"d":"0.0000"},{"$nulls":3},{"v":0,"d":"0.0000"},{"$nulls":3},{"v":0,"d":"0.0000"},{"$nulls":3},{"v":0,"d":"0.0000"},{"v":0,"d":"0.000"},{"v":-0.6048,"d":"-0.605"}]
[34,"кукурузная крупа","кг",{"$f":"'Пт День 5 Нед 2'!AC45","v":0},{"$nulls":5},{"$f":"(F45+#REF!+H45+I45)*$J$5","v":{"$error":"#REF!"}},{"$f":"(F45+G45+#REF!+H45+I45)*$K$5","v":{"$error":"#REF!"}},{"v":0,"d":"0.0000"},{"$nulls":6},{"v":0,"d":"0.0000"},{"v":0,"d":"0.0000"},{"$nulls":3},{"v":0,"d":"0.0000"},{"$nulls":3},{"v":0,"d":"0.0000"},{"$nulls":3},{"v":0,"d":"0.0000"},{"v":0,"d":"0.000"},{"v":0,"d":"0.000"}]
[35,"макаронные изделия","кг",{"$f":"'Пт День 5 Нед 2'!AC46","v":-0.2962},{"$nulls":5},{"$f":"(F46+#REF!+H46+I46)*$J$5","v":{"$error":"#REF!"}},{"$f":"(F46+G46+#REF!+H46+I46)*$K$5","v":{"$error":"#REF!"}},{"v":0,"d":"0.0000"},{"$nulls":6},{"v":0,"d":"0.0000"},{"v":0,"d":"0.0000"},{"$nulls":3},{"v":0,"d":"0.0000"},{"v":0.061,"d":"0.0610"},null,null,{"v":0,"d":"0.0000"},{"$nulls":3},{"v":0,"d":"0.0000"},{"v":0,"d":"0.000"},{"v":-0.2962,"d":"-0.296"}]
[36,"манная крупа","кг",{"$f":"'Пт День 5 Нед 2'!AC47","v":0},{"$nulls":5},{"$f":"(F47+#REF!+H47+I47)*$J$5","v":{"$error":"#REF!"}},{"$f":"(F47+G47+#REF!+H47+I47)*$K$5","v":{"$error":"#REF!"}},{"v":0,"d":"0.0000"},{"$nulls":6},{"v":0,"d":"0.0000"},{"v":0,"d":"0.0000"},{"$nulls":3},{"v":0,"d":"0.0000"},{"$nulls":3},{"v":0,"d":"0.0000"},{"$nulls":3},{"v":0,"d":"0.0000"},{"v":0,"d":"0.000"},{"v":0,"d":"0.000"}]
[37,"перловая крупа","кг",{"$f":"'Пт День 5 Нед 2'!AC48","v":-0.005},{"$nulls":5},{"$f":"(F48+#REF!+H48+I48)*$J$5","v":{"$error":"#REF!"}},{"$f":"(F48+G48+#REF!+H48+I48)*$K$5","v":{"$error":"#REF!"}},{"v":0,"d":"0.0000"},{"$nulls":6},{"v":0,"d":"0.0000"},{"v":0,"d":"0.0000"},{"$nulls":3},{"v":0,"d":"0.0000"},{"$nulls":3},{"v":0,"d":"0.0000"},{"$nulls":3},{"v":0,"d":"0.0000"},{"v":0,"d":"0.000"},-0.005]
[38,"полбяная крупа","кг",{"$f":"'Пт День 5 Нед 2'!AC49","v":0},{"$nulls":5},{"$f":"(F49+#REF!+H49+I49)*$J$5","v":{"$error":"#REF!"}},{"$f":"(F49+G49+#REF!+H49+I49)*$K$5","v":{"$error":"#REF!"}},{"v":0,"d":"0.0000"},{"$nulls":6},{"v":0,"d":"0.0000"},{"v":0,"d":"0.0000"},{"$nulls":3},{"v":0,"d":"0.0000"},{"$nulls":3},{"v":0,"d":"0.0000"},{"$nulls":3},{"v":0,"d":"0.0000"},{"v":0,"d":"0.000"},{"v":0,"d":"0.000"}]
[39,"пшеничная крупа","кг",{"$f":"'Пт День 5 Нед 2'!AC50","v":0},{"$nulls":5},{"$f":"(F50+#REF!+H50+I50)*$J$5","v":{"$error":"#REF!"}},{"$f":"(F50+G50+#REF!+H50+I50)*$K$5","v":{"$error":"#REF!"}},{"v":0,"d":"0.0000"},{"$nulls":6},{"v":0,"d":"0.0000"},{"v":0,"d":"0.0000"},{"$nulls":3},{"v":0,"d":"0.0000"},{"$nulls":3},{"v":0,"d":"0.0000"},{"$nulls":3},{"v":0,"d":"0.0000"},{"v":0,"d":"0.000"},{"v":0,"d":"0.000"}]
[40,"пшено","кг",{"$f":"'Пт День 5 Нед 2'!AC51","v":-0.029500000000000002},{"$nulls":5},{"$f":"(F51+#REF!+H51+I51)*$J$5","v":{"$error":"#REF!"}},{"$f":"(F51+G51+#REF!+H51+I51)*$K$5","v":{"$error":"#REF!"}},{"v":0,"d":"0.0000"},{"$nulls":6},{"v":0,"d":"0.0000"},{"v":0,"d":"0.0000"},{"$nulls":3},{"v":0,"d":"0.0000"},{"$nulls":3},{"v":0,"d":"0.0000"},{"$nulls":3},{"v":0,"d":"0.0000"},{"v":0,"d":"0.000"},{"v":-0.029500000000000002,"d":"-0.030"}]
[41,"рис","кг",{"$f":"'Пт День 5 Нед 2'!AC52","v":-0.5612},{"$nulls":5},{"$f":"(F52+#REF!+H52+I52)*$J$5","v":{"$error":"#REF!"}},{"$f":"(F52+G52+#REF!+H52+I52)*$K$5","v":{"$error":"#REF!"}},{"v":0,"d":"0.0000"},{"$nulls":6},{"v":0,"d":"0.0000"},{"v":0,"d":"0.0000"},{"$nulls":3},{"v":0,"d":"0.0000"},{"$nulls":3},{"v":0,"d":"0.0000"},{"$nulls":3},{"v":0,"d":"0.0000"},{"v":0,"d":"0.000"},{"v":-0.5612,"d":"-0.561"}]
[42,"ячневая крупа","кг",{"$f":"'Пт День 5 Нед 2'!AC53","v":0},{"$nulls":5},{"$f":"(F53+#REF!+H53+I53)*$J$5","v":{"$error":"#REF!"}},{"$f":"(F53+G53+#REF!+H53+I53)*$K$5","v":{"$error":"#REF!"}},{"v":0,"d":"0.0000"},{"$nulls":6},{"v":0,"d":"0.0000"},{"v":0,"d":"0.0000"},{"$nulls":3},{"v":0,"d":"0.0000"},{"$nulls":3},{"v":0,"d":"0.0000"},{"$nulls":3},{"v":0,"d":"0.0000"},{"v":0,"d":"0.000"},{"v":0,"d":"0.000"}]
[43,"лапша домашняя п/ф","кг",{"$f":"'Пт День 5 Нед 2'!AC54","v":-0.02},{"$nulls":5},{"$f":"(F54+#REF!+H54+I54)*$J$5","v":{"$error":"#REF!"}},{"$f":"(F54+G54+#REF!+H54+I54)*$K$5","v":{"$error":"#REF!"}},{"v":0,"d":"0.0000"},{"$nulls":6},{"v":0,"d":"0.0000"},{"v":0,"d":"0.0000"},{"$nulls":3},{"v":0,"d":"0.0000"},{"$nulls":3},{"v":0,"d":"0.0000"},{"$nulls":3},{"v":0,"d":"0.0000"},{"v":0,"d":"0.000"},{"v":-0.02,"d":"-0.020"}]
[44,"мука пшеничная в/с","кг",{"$f":"'Пт День 5 Нед 2'!AC55","v":-0.040799999999999996},{"$nulls":5},{"$f":"(F55+#REF!+H55+I55)*$J$5","v":{"$error":"#REF!"}},{"$f":"(F55+G55+#REF!+H55+I55)*$K$5","v":{"$error":"#REF!"}},{"v":0,"d":"0.0000"},{"$nulls":6},{"v":0,"d":"0.0000"},{"v":0,"d":"0.0000"},{"$nulls":3},{"v":0,"d":"0.0000"},{"$nulls":3},{"v":0,"d":"0.0000"},{"$nulls":3},{"v":0,"d":"0.0000"},{"v":0,"d":"0.000"},{"v":-0.040799999999999996,"d":"-0.041"}]
[45,"сахарный песок","кг",{"$f":"'Пт День 5 Нед 2'!AC56","v":-0.5453},null,null,0.0003,{"v":0.01,"d":"0.0100"},null,{"$f":"(F56+#REF!+H56+I56)*$J$5","v":{"$error":"#REF!"}},{"$f":"(F56+G56+#REF!+H56+I56)*$K$5","v":{"$error":"#REF!"}},0.0103,null,null,0.0003,{"v":0.01,"d":"0.0100"},null,null,0.0103,{"v":0,"d":"0.0000"},null,null,{"v":0.01,"d":"0.0100"},{"v":0.01,"d":"0.0100"},null,{"v":0.01,"d":"0.0100"},null,{"v":0,"d":"0.0000"},{"$nulls":3},{"v":0,"d":"0.0000"},{"v":0.030600000000000002,"d":"0.031"},{"v":-0.5759,"d":"-0.576"}]
[46,"соль","кг",{"$f":"'Пт День 5 Нед 2'!AC57","v":-0.045799999999999993},null,null,{"$f":"0.00055+0.0003","v":{"v":8.5000000000000006E-4,"d":"0.0009"}},null,null,{"$f":"(F57+#REF!+H57+I57)*$J$5","v":{"$error":"#REF!"}},{"$f":"(F57+G57+#REF!+H57+I57)*$K$5","v":{"$error":"#REF!"}},{"v":8.5000000000000006E-4,"d":"0.0009"},null,null,{"$f":"0.00055+0.0003","v":{"v":8.5000000000000006E-4,"d":"0.0009"}},{"$nulls":3},{"v":8.5000000000000006E-4,"d":"0.0009"},{"v":0,"d":"0.0000"},{"$nulls":3},{"v":0,"d":"0.0000"},0.0005,null,null,{"v":0,"d":"0.0000"},{"$nulls":3},{"v":0,"d":"0.0000"},{"v":1.7000000000000001E-3,"d":"0.002"},{"v":-0.047499999999999994,"d":"-0.048"}]
[47,"сухари панировочные","кг",{"$f":"'Пт День 5 Нед 2'!AC58","v":-0.045},null,null,{"v":0.006,"d":"0.0060"},null,null,{"$f":"(F58+#REF!+H58+I58)*$J$5","v":{"$error":"#REF!"}},{"$f":"(F58+G58+#REF!+H58+I58)*$K$5","v":{"$error":"#REF!"}},{"v":0.006,"d":"0.0060"},null,null,{"v":0.006,"d":"0.0060"},{"$nulls":3},{"v":0.006,"d":"0.0060"},{"v":0,"d":"0.0000"},{"$nulls":3},{"v":0,"d":"0.0000"},{"$nulls":3},{"v":0,"d":"0.0000"},{"$nulls":3},{"v":0,"d":"0.0000"},0.012,{"v":-0.056999999999999995,"d":"-0.057"}]
[48,"дрожжи сухие","кг",{"$f":"'Пт День 5 Нед 2'!AC59","v":0},{"$nulls":5},{"$f":"(F59+#REF!+H59+I59)*$J$5","v":{"$error":"#REF!"}},{"$f":"(F59+G59+#REF!+H59+I59)*$K$5","v":{"$error":"#REF!"}},{"v":0,"d":"0.0000"},{"$nulls":6},{"v":0,"d":"0.0000"},{"v":0,"d":"0.0000"},{"$nulls":3},{"v":0,"d":"0.0000"},{"$nulls":3},{"v":0,"d":"0.0000"},{"$nulls":3},{"v":0,"d":"0.0000"},{"v":0,"d":"0.000"},{"v":0,"d":"0.000"}]
[49,"фасоль","кг",{"$f":"'Пт День 5 Нед 2'!AC60","v":0},{"$nulls":5},{"$f":"(F60+#REF!+H60+I60)*$J$5","v":{"$error":"#REF!"}},{"$f":"(F60+G60+#REF!+H60+I60)*$K$5","v":{"$error":"#REF!"}},{"v":0,"d":"0.0000"},{"$nulls":6},{"v":0,"d":"0.0000"},{"v":0,"d":"0.0000"},{"$nulls":3},{"v":0,"d":"0.0000"},{"$nulls":3},{"v":0,"d":"0.0000"},{"$nulls":3},{"v":0,"d":"0.0000"},{"v":0,"d":"0.000"},{"v":0,"d":"0.000"}]
[null,"Консервы",null,{"$f":"'Пт День 5 Нед 2'!AC61","v":0},{"$nulls":5},{"$f":"(F61+#REF!+H61+I61)*$J$5","v":{"$error":"#REF!"}},{"$f":"(F61+G61+#REF!+H61+I61)*$K$5","v":{"$error":"#REF!"}},{"v":0,"d":"0.0000"},{"$nulls":6},{"v":0,"d":"0.0000"},{"v":0,"d":"0.0000"},{"$nulls":3},{"v":0,"d":"0.0000"},{"$nulls":3},{"v":0,"d":"0.0000"},{"$nulls":3},{"v":0,"d":"0.0000"},{"v":0,"d":"0.000"},{"v":0,"d":"0.000"}]
[50,"зеленый горошек к/с","кг",{"$f":"'Пт День 5 Нед 2'!AC62","v":-0.2902},{"$nulls":5},{"$f":"(F62+#REF!+H62+I62)*$J$5","v":{"$error":"#REF!"}},{"$f":"(F62+G62+#REF!+H62+I62)*$K$5","v":{"$error":"#REF!"}},{"v":0,"d":"0.0000"},{"$nulls":6},{"v":0,"d":"0.0000"},{"v":0,"d":"0.0000"},{"$nulls":3},{"v":0,"d":"0.0000"},{"$nulls":3},{"v":0,"d":"0.0000"},{"$nulls":3},{"v":0,"d":"0.0000"},{"v":0,"d":"0.000"},{"v":-0.2902,"d":"-0.290"}]
[51,"кукуруза к/с","кг",{"$f":"'Пт День 5 Нед 2'!AC63","v":0},{"$nulls":5},{"$f":"(F63+#REF!+H63+I63)*$J$5","v":{"$error":"#REF!"}},{"$f":"(F63+G63+#REF!+H63+I63)*$K$5","v":{"$error":"#REF!"}},{"v":0,"d":"0.0000"},{"$nulls":6},{"v":0,"d":"0.0000"},{"v":0,"d":"0.0000"},{"$nulls":3},{"v":0,"d":"0.0000"},{"$nulls":3},{"v":0,"d":"0.0000"},{"$nulls":3},{"v":0,"d":"0.0000"},{"v":0,"d":"0.000"},{"v":0,"d":"0.000"}]
[52,"фасоль к/с","кг",{"$f":"'Пт День 5 Нед 2'!AC64","v":0},{"$nulls":5},{"$f":"(F64+#REF!+H64+I64)*$J$5","v":{"$error":"#REF!"}},{"$f":"(F64+G64+#REF!+H64+I64)*$K$5","v":{"$error":"#REF!"}},{"v":0,"d":"0.0000"},{"$nulls":6},{"v":0,"d":"0.0000"},{"v":0,"d":"0.0000"},{"$nulls":3},{"v":0,"d":"0.0000"},{"$nulls":3},{"v":0,"d":"0.0000"},{"$nulls":3},{"v":0,"d":"0.0000"},{"v":0,"d":"0.000"},{"v":0,"d":"0.000"}]
[53,"икра кабач/икра баклаж","кг",{"$f":"'Пт День 5 Нед 2'!AC65","v":0},{"$nulls":5},{"$f":"(F65+#REF!+H65+I65)*$J$5","v":{"$error":"#REF!"}},{"$f":"(F65+G65+#REF!+H65+I65)*$K$5","v":{"$error":"#REF!"}},{"v":0,"d":"0.0000"},{"$nulls":6},{"v":0,"d":"0.0000"},{"v":0,"d":"0.0000"},{"$nulls":3},{"v":0,"d":"0.0000"},{"$nulls":3},{"v":0,"d":"0.0000"},{"$nulls":3},{"v":0,"d":"0.0000"},{"v":0,"d":"0.000"},{"v":0,"d":"0.000"}]
[54,"капуста морская сушеная","кг",{"$f":"'Пт День 5 Нед 2'!AC66","v":0},{"$nulls":5},{"$f":"(F66+#REF!+H66+I66)*$J$5","v":{"$error":"#REF!"}},{"$f":"(F66+G66+#REF!+H66+I66)*$K$5","v":{"$error":"#REF!"}},{"v":0,"d":"0.0000"},{"$nulls":6},{"v":0,"d":"0.0000"},{"v":0,"d":"0.0000"},{"$nulls":3},{"v":0,"d":"0.0000"},{"$nulls":3},{"v":0,"d":"0.0000"},{"$nulls":3},{"v":0,"d":"0.0000"},{"v":0,"d":"0.000"},{"v":0,"d":"0.000"}]
[55,"капуста квашеная ","кг",{"$f":"'Пт День 5 Нед 2'!AC67","v":0},{"$nulls":5},{"$f":"(F67+#REF!+H67+I67)*$J$5","v":{"$error":"#REF!"}},{"$f":"(F67+G67+#REF!+H67+I67)*$K$5","v":{"$error":"#REF!"}},{"v":0,"d":"0.0000"},{"$nulls":6},{"v":0,"d":"0.0000"},{"v":0,"d":"0.0000"},{"$nulls":3},{"v":0,"d":"0.0000"},{"$nulls":3},{"v":0,"d":"0.0000"},{"$nulls":3},{"v":0,"d":"0.0000"},{"v":0,"d":"0.000"},{"v":0,"d":"0.000"}]
[56,"молоко сгущенное  ","кг",{"$f":"'Пт День 5 Нед 2'!AC68","v":0},{"$nulls":5},{"$f":"(F68+#REF!+H68+I68)*$J$5","v":{"$error":"#REF!"}},{"$f":"(F68+G68+#REF!+H68+I68)*$K$5","v":{"$error":"#REF!"}},{"v":0,"d":"0.0000"},{"$nulls":6},{"v":0,"d":"0.0000"},{"v":0,"d":"0.0000"},{"$nulls":3},{"v":0,"d":"0.0000"},{"$nulls":3},{"v":0,"d":"0.0000"},{"$nulls":3},{"v":0,"d":"0.0000"},{"v":0,"d":"0.000"},{"v":0,"d":"0.000"}]
[57,"огурцы соленые","кг",{"$f":"'Пт День 5 Нед 2'!AC69","v":-0.0546},{"$nulls":5},{"$f":"(F69+#REF!+H69+I69)*$J$5","v":{"$error":"#REF!"}},{"$f":"(F69+G69+#REF!+H69+I69)*$K$5","v":{"$error":"#REF!"}},{"v":0,"d":"0.0000"},{"$nulls":6},{"v":0,"d":"0.0000"},{"v":0,"d":"0.0000"},{"$nulls":3},{"v":0,"d":"0.0000"},{"$nulls":3},{"v":0,"d":"0.0000"},{"$nulls":3},{"v":0,"d":"0.0000"},{"v":0,"d":"0.000"},{"v":-0.0546,"d":"-0.055"}]
[58,"повидло","кг",{"$f":"'Пт День 5 Нед 2'!AC70","v":0},{"$nulls":5},{"$f":"(F70+#REF!+H70+I70)*$J$5","v":{"$error":"#REF!"}},{"$f":"(F70+G70+#REF!+H70+I70)*$K$5","v":{"$error":"#REF!"}},{"v":0,"d":"0.0000"},{"$nulls":6},{"v":0,"d":"0.0000"},{"v":0,"d":"0.0000"},{"$nulls":3},{"v":0,"d":"0.0000"},{"$nulls":3},{"v":0,"d":"0.0000"},{"$nulls":3},{"v":0,"d":"0.0000"},{"v":0,"d":"0.000"},{"v":0,"d":"0.000"}]
[59,"томатная паста","кг",{"$f":"'Пт День 5 Нед 2'!AC71","v":-0.031100000000000003},null,null,0.0012,null,null,{"$f":"(F71+#REF!+H71+I71)*$J$5","v":{"$error":"#REF!"}},{"$f":"(F71+G71+#REF!+H71+I71)*$K$5","v":{"$error":"#REF!"}},0.0012,null,null,0.0012,{"$nulls":3},{"$f":"(M71+N71+O71+P71+Q71)*$S$5","v":0.0012},{"$f":"(N71+O71+P71+R71+M71)*$T$5","v":{"v":0,"d":"0.0000"}},{"$nulls":3},{"v":0,"d":"0.0000"},{"$nulls":3},{"v":0,"d":"0.0000"},{"$nulls":3},{"v":0,"d":"0.0000"},{"v":0.0024,"d":"0.002"},{"$f":"(D71+E70)-AG71","v":{"v":-0.0335,"d":"-0.034"}}]
[60,"рыбные консервы","кг",{"$f":"'Пт День 5 Нед 2'!AC72","v":0},{"$nulls":5},{"$f":"(F72+#REF!+H72+I72)*$J$5","v":{"$error":"#REF!"}},{"$f":"(F72+G72+#REF!+H72+I72)*$K$5","v":{"$error":"#REF!"}},{"$f":"(F72+G72+H72+I72)*$L$5","v":{"v":0,"d":"0.0000"}},{"$nulls":6},{"v":0,"d":"0.0000"},{"v":0,"d":"0.0000"},{"$nulls":3},{"$f":"(W72+V72)*$X$5","v":{"v":0,"d":"0.0000"}},{"$nulls":3},{"$f":"(Z72+Y72+AA72)*$AB$5","v":{"v":0,"d":"0.0000"}},{"$nulls":3},{"$f":"(AD72+AC72+AE72)*$AF$5","v":{"v":0,"d":"0.0000"}},{"$f":"L72+S72+X72+AF72","v":{"v":0,"d":"0.000"}},{"v":0,"d":"0.000"}]
[null,"Напитки",null,{"$f":"'Пт День 5 Нед 2'!AC73","v":0},{"$nulls":5},{"$f":"(F73+#REF!+H73+I73)*$J$5","v":{"$error":"#REF!"}},{"$f":"(F73+G73+#REF!+H73+I73)*$K$5","v":{"$error":"#REF!"}},{"v":0,"d":"0.0000"},{"$nulls":6},{"v":0,"d":"0.0000"},{"v":0,"d":"0.0000"},{"$nulls":3},{"v":0,"d":"0.0000"},{"$nulls":3},{"v":0,"d":"0.0000"},{"$nulls":3},{"v":0,"d":"0.0000"},{"v":0,"d":"0.000"},{"v":0,"d":"0.000"}]
[61,"чай весовой ","кг",{"$f":"'Пт День 5 Нед 2'!AC74","v":-0.017},{"$nulls":3},{"v":1E-3,"d":"0.0010"},null,{"$f":"(F74+#REF!+H74+I74)*$J$5","v":{"$error":"#REF!"}},{"$f":"(F74+G74+#REF!+H74+I74)*$K$5","v":{"$error":"#REF!"}},{"v":1E-3,"d":"0.0010"},{"$nulls":3},{"v":1E-3,"d":"0.0010"},null,null,{"v":1E-3,"d":"0.0010"},{"v":0,"d":"0.0000"},null,null,{"v":0.005,"d":"0.0050"},{"v":0.005,"d":"0.0050"},{"$nulls":3},{"v":0,"d":"0.0000"},null,0.0005,null,0.0005,{"v":0.0075,"d":"0.008"},{"v":-0.0245,"d":"-0.025"}]
[62,"какао","кг",{"$f":"'Пт День 5 Нед 2'!AC75","v":0},{"$nulls":5},{"$f":"(F75+#REF!+H75+I75)*$J$5","v":{"$error":"#REF!"}},{"$f":"(F75+G75+#REF!+H75+I75)*$K$5","v":{"$error":"#REF!"}},{"v":0,"d":"0.0000"},{"$nulls":6},{"v":0,"d":"0.0000"},{"v":0,"d":"0.0000"},{"$nulls":3},{"v":0,"d":"0.0000"},{"$nulls":3},{"v":0,"d":"0.0000"},{"$nulls":3},{"v":0,"d":"0.0000"},{"v":0,"d":"0.000"},{"v":0,"d":"0.000"}]
[63,"кисель","кг",{"$f":"'Пт День 5 Нед 2'!AC76","v":0},{"$nulls":5},{"$f":"(F76+#REF!+H76+I76)*$J$5","v":{"$error":"#REF!"}},{"$f":"(F76+G76+#REF!+H76+I76)*$K$5","v":{"$error":"#REF!"}},{"v":0,"d":"0.0000"},{"$nulls":6},{"v":0,"d":"0.0000"},{"v":0,"d":"0.0000"},{"$nulls":3},{"v":0,"d":"0.0000"},{"$nulls":3},{"v":0,"d":"0.0000"},{"$nulls":3},{"v":0,"d":"0.0000"},{"v":0,"d":"0.000"},{"v":0,"d":"0.000"}]
[64,"кофейный напиток","кг",{"$f":"'Пт День 5 Нед 2'!AC77","v":-0.01},{"$nulls":5},{"$f":"(F77+#REF!+H77+I77)*$J$5","v":{"$error":"#REF!"}},{"$f":"(F77+G77+#REF!+H77+I77)*$K$5","v":{"$error":"#REF!"}},{"v":0,"d":"0.0000"},{"$nulls":6},{"v":0,"d":"0.0000"},{"v":0,"d":"0.0000"},{"$nulls":3},{"v":0,"d":"0.0000"},{"$nulls":3},{"v":0,"d":"0.0000"},{"$nulls":3},{"v":0,"d":"0.0000"},{"v":0,"d":"0.000"},{"v":-0.01,"d":"-0.010"}]
[65,"цикорий","кг",{"$f":"'Пт День 5 Нед 2'!AC78","v":0},{"$nulls":5},{"$f":"(F78+#REF!+H78+I78)*$J$5","v":{"$error":"#REF!"}},{"$f":"(F78+G78+#REF!+H78+I78)*$K$5","v":{"$error":"#REF!"}},{"v":0,"d":"0.0000"},{"$nulls":6},{"v":0,"d":"0.0000"},{"v":0,"d":"0.0000"},{"$nulls":3},{"v":0,"d":"0.0000"},{"$nulls":3},{"v":0,"d":"0.0000"},{"$nulls":3},{"v":0,"d":"0.0000"},{"v":0,"d":"0.000"},{"v":0,"d":"0.000"}]
[null,"Сухофрукты",null,{"$f":"'Пт День 5 Нед 2'!AC79","v":0},{"$nulls":5},{"$f":"(F79+#REF!+H79+I79)*$J$5","v":{"$error":"#REF!"}},{"$f":"(F79+G79+#REF!+H79+I79)*$K$5","v":{"$error":"#REF!"}},{"v":0,"d":"0.0000"},{"$nulls":6},{"v":0,"d":"0.0000"},{"v":0,"d":"0.0000"},{"$nulls":3},{"v":0,"d":"0.0000"},{"$nulls":3},{"v":0,"d":"0.0000"},{"$nulls":3},{"v":0,"d":"0.0000"},{"v":0,"d":"0.000"},{"v":0,"d":"0.000"}]
[66,"ассорти для компота (сухофрукты)","кг",{"$f":"'Пт День 5 Нед 2'!AC80","v":-0.24480000000000002},{"$nulls":5},{"$f":"(F80+#REF!+H80+I80)*$J$5","v":{"$error":"#REF!"}},{"$f":"(F80+G80+#REF!+H80+I80)*$K$5","v":{"$error":"#REF!"}},{"v":0,"d":"0.0000"},{"$nulls":6},{"v":0,"d":"0.0000"},{"v":0,"d":"0.0000"},{"$nulls":3},{"v":0,"d":"0.0000"},{"$nulls":3},{"v":0,"d":"0.0000"},{"$nulls":3},{"v":0,"d":"0.0000"},{"v":0,"d":"0.000"},{"v":-0.24480000000000002,"d":"-0.245"}]
[67,"изюм","кг",{"$f":"'Пт День 5 Нед 2'!AC81","v":-0.0204},{"$nulls":5},{"$f":"(F81+#REF!+H81+I81)*$J$5","v":{"$error":"#REF!"}},{"$f":"(F81+G81+#REF!+H81+I81)*$K$5","v":{"$error":"#REF!"}},{"v":0,"d":"0.0000"},{"$nulls":6},{"v":0,"d":"0.0000"},{"v":0,"d":"0.0000"},{"$nulls":3},{"v":0,"d":"0.0000"},{"$nulls":3},{"v":0,"d":"0.0000"},{"$nulls":3},{"v":0,"d":"0.0000"},{"v":0,"d":"0.000"},{"v":-0.0204,"d":"-0.020"}]
[68,"курага","кг",{"$f":"'Пт День 5 Нед 2'!AC82","v":0},{"$nulls":5},{"$f":"(F82+#REF!+H82+I82)*$J$5","v":{"$error":"#REF!"}},{"$f":"(F82+G82+#REF!+H82+I82)*$K$5","v":{"$error":"#REF!"}},{"v":0,"d":"0.0000"},{"$nulls":6},{"v":0,"d":"0.0000"},{"v":0,"d":"0.0000"},{"$nulls":3},{"v":0,"d":"0.0000"},{"$nulls":3},{"v":0,"d":"0.0000"},{"$nulls":3},{"v":0,"d":"0.0000"},{"v":0,"d":"0.000"},{"v":0,"d":"0.000"}]
[69,"урюк","кг",{"$f":"'Пт День 5 Нед 2'!AC83","v":-0.030600000000000002},{"$nulls":5},{"$f":"(F83+#REF!+H83+I83)*$J$5","v":{"$error":"#REF!"}},{"$f":"(F83+G83+#REF!+H83+I83)*$K$5","v":{"$error":"#REF!"}},{"v":0,"d":"0.0000"},{"$nulls":6},{"v":0,"d":"0.0000"},{"v":0,"d":"0.0000"},{"$nulls":3},{"v":0,"d":"0.0000"},null,0.0204,null,{"v":0,"d":"0.0000"},{"$nulls":3},{"v":0,"d":"0.0000"},{"v":0,"d":"0.000"},{"v":-0.030600000000000002,"d":"-0.031"}]
[70,"шиповник","кг",{"$f":"'Пт День 5 Нед 2'!AC84","v":-0.0506},{"$nulls":5},{"$f":"(F84+#REF!+H84+I84)*$J$5","v":{"$error":"#REF!"}},{"$f":"(F84+G84+#REF!+H84+I84)*$K$5","v":{"$error":"#REF!"}},{"v":0,"d":"0.0000"},{"$nulls":6},{"v":0,"d":"0.0000"},{"v":0,"d":"0.0000"},{"$nulls":3},{"v":0,"d":"0.0000"},{"$nulls":3},{"v":0,"d":"0.0000"},{"$nulls":3},{"v":0,"d":"0.0000"},{"v":0,"d":"0.000"},{"v":-0.0506,"d":"-0.051"}]
[71,"компотная смесь с/м","кг",{"$f":"'Пт День 5 Нед 2'!AC85","v":0},{"$nulls":5},{"$f":"(F85+#REF!+H85+I85)*$J$5","v":{"$error":"#REF!"}},{"$f":"(F85+G85+#REF!+H85+I85)*$K$5","v":{"$error":"#REF!"}},{"v":0,"d":"0.0000"},{"$nulls":6},{"v":0,"d":"0.0000"},{"v":0,"d":"0.0000"},{"$nulls":3},{"v":0,"d":"0.0000"},{"$nulls":3},{"v":0,"d":"0.0000"},{"$nulls":3},{"v":0,"d":"0.0000"},{"v":0,"d":"0.000"},{"v":0,"d":"0.000"}]
[72,"вишня с/м","кг",{"$f":"'Пт День 5 Нед 2'!AC86","v":0},{"$nulls":5},{"$f":"(F86+#REF!+H86+I86)*$J$5","v":{"$error":"#REF!"}},{"$f":"(F86+G86+#REF!+H86+I86)*$K$5","v":{"$error":"#REF!"}},{"v":0,"d":"0.0000"},{"$nulls":6},{"v":0,"d":"0.0000"},{"v":0,"d":"0.0000"},{"$nulls":3},{"v":0,"d":"0.0000"},{"$nulls":3},{"v":0,"d":"0.0000"},{"$nulls":3},{"v":0,"d":"0.0000"},{"v":0,"d":"0.000"},{"v":0,"d":"0.000"}]
[73,"клюква с/м","кг",{"$f":"'Пт День 5 Нед 2'!AC87","v":0},{"$nulls":5},{"$f":"(F87+#REF!+H87+I87)*$J$5","v":{"$error":"#REF!"}},{"$f":"(F87+G87+#REF!+H87+I87)*$K$5","v":{"$error":"#REF!"}},{"v":0,"d":"0.0000"},{"$nulls":6},{"v":0,"d":"0.0000"},{"v":0,"d":"0.0000"},{"$nulls":3},{"v":0,"d":"0.0000"},{"$nulls":3},{"v":0,"d":"0.0000"},{"$nulls":3},{"v":0,"d":"0.0000"},{"v":0,"d":"0.000"},{"v":0,"d":"0.000"}]
[74,"смородина в ассорт с/м","кг",{"$f":"'Пт День 5 Нед 2'!AC88","v":0},{"$nulls":5},{"$f":"(F88+#REF!+H88+I88)*$J$5","v":{"$error":"#REF!"}},{"$f":"(F88+G88+#REF!+H88+I88)*$K$5","v":{"$error":"#REF!"}},{"v":0,"d":"0.0000"},{"$nulls":6},{"v":0,"d":"0.0000"},{"v":0,"d":"0.0000"},{"$nulls":3},{"v":0,"d":"0.0000"},{"$nulls":3},{"v":0,"d":"0.0000"},{"$nulls":3},{"v":0,"d":"0.0000"},{"v":0,"d":"0.000"},{"v":0,"d":"0.000"}]
[75,"облепиха с/м","кг",{"$f":"'Пт День 5 Нед 2'!AC89","v":0},{"$nulls":5},{"$f":"(F89+#REF!+H89+I89)*$J$5","v":{"$error":"#REF!"}},{"$f":"(F89+G89+#REF!+H89+I89)*$K$5","v":{"$error":"#REF!"}},{"v":0,"d":"0.0000"},{"$nulls":6},{"v":0,"d":"0.0000"},{"v":0,"d":"0.0000"},{"$nulls":3},{"v":0,"d":"0.0000"},{"$nulls":3},{"v":0,"d":"0.0000"},{"$nulls":3},{"v":0,"d":"0.0000"},{"v":0,"d":"0.000"},{"v":0,"d":"0.000"}]
[null,"Сок",null,{"$f":"'Пт День 5 Нед 2'!AC90","v":0},{"$nulls":5},{"$f":"(F90+#REF!+H90+I90)*$J$5","v":{"$error":"#REF!"}},{"$f":"(F90+G90+#REF!+H90+I90)*$K$5","v":{"$error":"#REF!"}},{"v":0,"d":"0.0000"},{"$nulls":6},{"v":0,"d":"0.0000"},{"v":0,"d":"0.0000"},{"$nulls":3},{"v":0,"d":"0.0000"},{"$nulls":3},{"v":0,"d":"0.0000"},{"$nulls":3},{"v":0,"d":"0.0000"},{"v":0,"d":"0.000"},{"v":0,"d":"0.000"}]
[76,"сок 0,125л или сок 0,2л","л",{"$f":"'Пт День 5 Нед 2'!AC91","v":0},{"$nulls":5},{"$f":"(F91+#REF!+H91+I91)*$J$5","v":{"$error":"#REF!"}},{"$f":"(F91+G91+#REF!+H91+I91)*$K$5","v":{"$error":"#REF!"}},{"v":0,"d":"0.0000"},{"$nulls":6},{"v":0,"d":"0.0000"},{"v":0,"d":"0.0000"},{"$nulls":3},{"v":0,"d":"0.0000"},{"$nulls":3},{"v":0,"d":"0.0000"},{"$nulls":3},{"v":0,"d":"0.0000"},{"v":0,"d":"0.000"},{"v":0,"d":"0.000"}]
[77,"нектар плодовый","л",{"$f":"'Пт День 5 Нед 2'!AC92","v":0},{"$nulls":5},{"$f":"(F92+#REF!+H92+I92)*$J$5","v":{"$error":"#REF!"}},{"$f":"(F92+G92+#REF!+H92+I92)*$K$5","v":{"$error":"#REF!"}},{"v":0,"d":"0.0000"},{"$nulls":6},{"v":0,"d":"0.0000"},{"v":0,"d":"0.0000"},{"$nulls":3},{"v":0,"d":"0.0000"},{"$nulls":3},{"v":0,"d":"0.0000"},{"$nulls":3},{"v":0,"d":"0.0000"},{"v":0,"d":"0.000"},{"v":0,"d":"0.000"}]
[null,"Кондитерка",null,{"$f":"'Пт День 5 Нед 2'!AC93","v":0},{"$nulls":5},{"$f":"(F93+#REF!+H93+I93)*$J$5","v":{"$error":"#REF!"}},{"$f":"(F93+G93+#REF!+H93+I93)*$K$5","v":{"$error":"#REF!"}},{"v":0,"d":"0.0000"},{"$nulls":6},{"v":0,"d":"0.0000"},{"v":0,"d":"0.0000"},{"$nulls":3},{"v":0,"d":"0.0000"},{"$nulls":3},{"v":0,"d":"0.0000"},{"$nulls":3},{"v":0,"d":"0.0000"},{"v":0,"d":"0.000"},{"v":0,"d":"0.000"}]
[78,"батончик злаковый","шт",{"$f":"'Пт День 5 Нед 2'!AC94","v":0},{"$nulls":5},{"$f":"(F94+#REF!+H94+I94)*$J$5","v":{"$error":"#REF!"}},{"$f":"(F94+G94+#REF!+H94+I94)*$K$5","v":{"$error":"#REF!"}},{"v":0,"d":"0.0000"},{"$nulls":6},{"v":0,"d":"0.0000"},{"v":0,"d":"0.0000"},{"$nulls":3},{"v":0,"d":"0.0000"},{"$nulls":3},{"v":0,"d":"0.0000"},{"$nulls":3},{"v":0,"d":"0.0000"},{"v":0,"d":"0.000"},{"v":0,"d":"0.000"}]
[79,"пряник","кг",{"$f":"'Пт День 5 Нед 2'!AC95","v":-0.07},{"$nulls":5},{"$f":"(F95+#REF!+H95+I95)*$J$5","v":{"$error":"#REF!"}},{"$f":"(F95+G95+#REF!+H95+I95)*$K$5","v":{"$error":"#REF!"}},{"v":0,"d":"0.0000"},{"$nulls":6},{"v":0,"d":"0.0000"},{"v":0,"d":"0.0000"},{"$nulls":3},{"v":0,"d":"0.0000"},{"$nulls":3},{"v":0,"d":"0.0000"},{"$nulls":3},{"v":0,"d":"0.0000"},{"v":0,"d":"0.000"},{"v":-0.07,"d":"-0.070"}]
[80,"вафли ","кг",{"$f":"'Пт День 5 Нед 2'!AC96","v":-0.2},{"$nulls":5},{"$f":"(F96+#REF!+H96+I96)*$J$5","v":{"$error":"#REF!"}},{"$f":"(F96+G96+#REF!+H96+I96)*$K$5","v":{"$error":"#REF!"}},{"v":0,"d":"0.0000"},{"$nulls":6},{"v":0,"d":"0.0000"},{"v":0,"d":"0.0000"},{"$nulls":3},{"v":0,"d":"0.0000"},{"$nulls":3},{"v":0,"d":"0.0000"},{"$nulls":3},{"v":0,"d":"0.0000"},{"v":0,"d":"0.000"},{"v":-0.2,"d":"-0.200"}]
[81,"печенье","кг",{"$f":"'Пт День 5 Нед 2'!AC97","v":-0.08},{"$nulls":5},{"$f":"(F97+#REF!+H97+I97)*$J$5","v":{"$error":"#REF!"}},{"$f":"(F97+G97+#REF!+H97+I97)*$K$5","v":{"$error":"#REF!"}},{"v":0,"d":"0.0000"},{"$nulls":6},{"v":0,"d":"0.0000"},{"v":0,"d":"0.0000"},{"$nulls":3},{"v":0,"d":"0.0000"},{"$nulls":3},{"v":0,"d":"0.0000"},{"$nulls":3},{"v":0,"d":"0.0000"},{"v":0,"d":"0.000"},{"v":-0.08,"d":"-0.080"}]
[82,"крекер","кг",{"$f":"'Пт День 5 Нед 2'!AC98","v":-0.03},{"$nulls":5},{"$f":"(F98+#REF!+H98+I98)*$J$5","v":{"$error":"#REF!"}},{"$f":"(F98+G98+#REF!+H98+I98)*$K$5","v":{"$error":"#REF!"}},{"v":0,"d":"0.0000"},{"$nulls":6},{"v":0,"d":"0.0000"},{"v":0,"d":"0.0000"},null,{"v":0.03,"d":"0.0300"},null,{"v":0.03,"d":"0.0300"},{"$nulls":3},{"v":0,"d":"0.0000"},{"$nulls":3},{"v":0,"d":"0.0000"},{"v":0.03,"d":"0.030"},{"v":-0.06,"d":"-0.060"}]
[83,"сушки","кг",{"$f":"'Пт День 5 Нед 2'!AC99","v":-0.03},{"$nulls":5},{"$f":"(F99+#REF!+H99+I99)*$J$5","v":{"$error":"#REF!"}},{"$f":"(F99+G99+#REF!+H99+I99)*$K$5","v":{"$error":"#REF!"}},{"v":0,"d":"0.0000"},{"$nulls":6},{"v":0,"d":"0.0000"},{"v":0,"d":"0.0000"},{"$nulls":3},{"v":0,"d":"0.0000"},{"$nulls":3},{"v":0,"d":"0.0000"},{"$nulls":3},{"v":0,"d":"0.0000"},{"v":0,"d":"0.000"},{"v":-0.03,"d":"-0.030"}]
[84,"мармелад","кг",{"$f":"'Пт День 5 Нед 2'!AC100","v":0},{"$nulls":5},{"$f":"(F100+#REF!+H100+I100)*$J$5","v":{"$error":"#REF!"}},{"$f":"(F100+G100+#REF!+H100+I100)*$K$5","v":{"$error":"#REF!"}},{"v":0,"d":"0.0000"},{"$nulls":6},{"v":0,"d":"0.0000"},{"v":0,"d":"0.0000"},{"$nulls":3},{"v":0,"d":"0.0000"},{"$nulls":3},{"v":0,"d":"0.0000"},null,{"v":0.015,"d":"0.0150"},null,{"v":0.015,"d":"0.0150"},0.015,-0.015]
[85,"блины п/ф","кг",{"$f":"'Пт День 5 Нед 2'!AC101","v":0},{"$nulls":5},{"$f":"(F101+#REF!+H101+I101)*$J$5","v":{"$error":"#REF!"}},{"$f":"(F101+G101+#REF!+H101+I101)*$K$5","v":{"$error":"#REF!"}},{"v":0,"d":"0.0000"},{"$nulls":6},{"v":0,"d":"0.0000"},{"v":0,"d":"0.0000"},{"$nulls":3},{"v":0,"d":"0.0000"},{"$nulls":3},{"v":0,"d":"0.0000"},{"$nulls":3},{"v":0,"d":"0.0000"},{"v":0,"d":"0.000"},{"v":0,"d":"0.000"}]
[86,"выпечка п/ф со склада","шт",{"$f":"'Пт День 5 Нед 2'!AC102","v":0},{"$nulls":5},{"$f":"(F102+#REF!+H102+I102)*$J$5","v":{"$error":"#REF!"}},{"$f":"(F102+G102+#REF!+H102+I102)*$K$5","v":{"$error":"#REF!"}},{"v":0,"d":"0.0000"},{"$nulls":6},{"v":0,"d":"0.0000"},{"v":0,"d":"0.0000"},{"$nulls":3},{"v":0,"d":"0.0000"},{"$nulls":3},{"v":0,"d":"0.0000"},{"$nulls":3},{"v":0,"d":"0.0000"},{"v":0,"d":"0.000"},{"v":0,"d":"0.000"}]
[null,"Яйцо",null,{"$f":"'Пт День 5 Нед 2'!AC103","v":0},{"$nulls":5},{"$f":"(F103+#REF!+H103+I103)*$J$5","v":{"$error":"#REF!"}},{"$f":"(F103+G103+#REF!+H103+I103)*$K$5","v":{"$error":"#REF!"}},{"v":0,"d":"0.0000"},{"$nulls":6},{"$f":"(M103+N103+O103+P103+Q103)*$S$5","v":{"v":0,"d":"0.0000"}},{"$f":"(N103+O103+P103+R103+M103)*$T$5","v":{"v":0,"d":"0.0000"}},{"$nulls":3},{"v":0,"d":"0.0000"},{"$nulls":3},{"v":0,"d":"0.0000"},{"$nulls":3},{"v":0,"d":"0.0000"},{"v":0,"d":"0.000"},{"$f":"(D103+E102)-AG103","v":{"v":0,"d":"0.000"}}]
[87,"яйцо куриное","кг",{"$f":"'Пт День 5 Нед 2'!AC104","v":-0.00768},{"$nulls":5},{"$f":"(F104+#REF!+H104+I104)*$J$5","v":{"$error":"#REF!"}},{"$f":"(F104+G104+#REF!+H104+I104)*$K$5","v":{"$error":"#REF!"}},{"v":0,"d":"0.0000"},{"$nulls":6},{"v":0,"d":"0.0000"},{"v":0,"d":"0.0000"},{"$nulls":3},{"v":0,"d":"0.0000"},{"$nulls":3},{"v":0,"d":"0.0000"},{"$nulls":3},{"v":0,"d":"0.0000"},{"v":0,"d":"0.000"},{"v":-0.00768,"d":"-0.008"}]
[null,0.048,"шт",{"$f":"'Пт День 5 Нед 2'!AC105","v":0},{"$nulls":5},{"$f":"(F105+#REF!+H105+I105)*$J$5","v":{"$error":"#REF!"}},{"$f":"(F105+G105+#REF!+H105+I105)*$K$5","v":{"$error":"#REF!"}},{"v":0,"d":"0.0000"},{"$nulls":6},{"v":0,"d":"0.0000"},{"v":0,"d":"0.0000"},{"$nulls":3},{"v":0,"d":"0.0000"},{"$nulls":3},{"v":0,"d":"0.0000"},{"$nulls":3},{"v":0,"d":"0.0000"},{"v":0,"d":"0.000"},{"v":0,"d":"0.000"}]
[null,"Овощи заморозка",null,{"$f":"'Пт День 5 Нед 2'!AC106","v":0},{"$nulls":5},{"$f":"(F106+#REF!+H106+I106)*$J$5","v":{"$error":"#REF!"}},{"$f":"(F106+G106+#REF!+H106+I106)*$K$5","v":{"$error":"#REF!"}},{"v":0,"d":"0.0000"},{"$nulls":6},{"v":0,"d":"0.0000"},{"v":0,"d":"0.0000"},{"$nulls":3},{"v":0,"d":"0.0000"},{"$nulls":3},{"v":0,"d":"0.0000"},{"$nulls":3},{"v":0,"d":"0.0000"},{"v":0,"d":"0.000"},{"v":0,"d":"0.000"}]
[88,"зеленый горошек с/м","кг",{"$f":"'Пт День 5 Нед 2'!AC107","v":0},{"$nulls":5},{"$f":"(F107+#REF!+H107+I107)*$J$5","v":{"$error":"#REF!"}},{"$f":"(F107+G107+#REF!+H107+I107)*$K$5","v":{"$error":"#REF!"}},{"v":0,"d":"0.0000"},{"$nulls":6},{"v":0,"d":"0.0000"},{"v":0,"d":"0.0000"},{"$nulls":3},{"v":0,"d":"0.0000"},{"$nulls":3},{"v":0,"d":"0.0000"},{"$nulls":3},{"v":0,"d":"0.0000"},{"v":0,"d":"0.000"},{"v":0,"d":"0.000"}]
[89,"кабачки с/м","кг",{"$f":"'Пт День 5 Нед 2'!AC108","v":0},{"$nulls":5},{"$f":"(F108+#REF!+H108+I108)*$J$5","v":{"$error":"#REF!"}},{"$f":"(F108+G108+#REF!+H108+I108)*$K$5","v":{"$error":"#REF!"}},{"v":0,"d":"0.0000"},{"$nulls":6},{"v":0,"d":"0.0000"},{"v":0,"d":"0.0000"},{"$nulls":3},{"v":0,"d":"0.0000"},{"$nulls":3},{"v":0,"d":"0.0000"},{"$nulls":3},{"v":0,"d":"0.0000"},{"v":0,"d":"0.000"},{"v":0,"d":"0.000"}]
[90,"мексиканс смесь с/м","кг",{"$f":"'Пт День 5 Нед 2'!AC109","v":0},{"$nulls":5},{"$f":"(F109+#REF!+H109+I109)*$J$5","v":{"$error":"#REF!"}},{"$f":"(F109+G109+#REF!+H109+I109)*$K$5","v":{"$error":"#REF!"}},{"v":0,"d":"0.0000"},{"$nulls":6},{"v":0,"d":"0.0000"},{"v":0,"d":"0.0000"},{"$nulls":3},{"v":0,"d":"0.0000"},{"$nulls":3},{"v":0,"d":"0.0000"},{"$nulls":3},{"v":0,"d":"0.0000"},{"v":0,"d":"0.000"},{"v":0,"d":"0.000"}]
[91,"капуста цветная с/м","кг",{"$f":"'Пт День 5 Нед 2'!AC110","v":0},{"$nulls":5},{"$f":"(F110+#REF!+H110+I110)*$J$5","v":{"$error":"#REF!"}},{"$f":"(F110+G110+#REF!+H110+I110)*$K$5","v":{"$error":"#REF!"}},{"v":0,"d":"0.0000"},{"$nulls":6},{"v":0,"d":"0.0000"},{"v":0,"d":"0.0000"},{"$nulls":3},{"v":0,"d":"0.0000"},{"$nulls":3},{"v":0,"d":"0.0000"},{"$nulls":3},{"v":0,"d":"0.0000"},{"v":0,"d":"0.000"},{"v":0,"d":"0.000"}]
[92,"брокколи с/м","кг",{"$f":"'Пт День 5 Нед 2'!AC111","v":0},{"$nulls":5},{"$f":"(F111+#REF!+H111+I111)*$J$5","v":{"$error":"#REF!"}},{"$f":"(F111+G111+#REF!+H111+I111)*$K$5","v":{"$error":"#REF!"}},{"v":0,"d":"0.0000"},{"$nulls":6},{"v":0,"d":"0.0000"},{"v":0,"d":"0.0000"},{"$nulls":3},{"v":0,"d":"0.0000"},{"$nulls":3},{"v":0,"d":"0.0000"},{"$nulls":3},{"v":0,"d":"0.0000"},{"v":0,"d":"0.000"},{"v":0,"d":"0.000"}]
[93,"кукуруза с/м","кг",{"$f":"'Пт День 5 Нед 2'!AC112","v":0},{"$nulls":5},{"$f":"(F112+#REF!+H112+I112)*$J$5","v":{"$error":"#REF!"}},{"$f":"(F112+G112+#REF!+H112+I112)*$K$5","v":{"$error":"#REF!"}},{"v":0,"d":"0.0000"},{"$nulls":6},{"v":0,"d":"0.0000"},{"v":0,"d":"0.0000"},{"$nulls":3},{"v":0,"d":"0.0000"},{"$nulls":3},{"v":0,"d":"0.0000"},{"$nulls":3},{"v":0,"d":"0.0000"},{"v":0,"d":"0.000"},{"v":0,"d":"0.000"}]
[94,"фасоль стручковая с/м","кг",{"$f":"'Пт День 5 Нед 2'!AC113","v":0},{"$nulls":5},{"$f":"(F113+#REF!+H113+I113)*$J$5","v":{"$error":"#REF!"}},{"$f":"(F113+G113+#REF!+H113+I113)*$K$5","v":{"$error":"#REF!"}},{"v":0,"d":"0.0000"},{"$nulls":6},{"v":0,"d":"0.0000"},{"v":0,"d":"0.0000"},{"$nulls":3},{"v":0,"d":"0.0000"},{"$nulls":3},{"v":0,"d":"0.0000"},{"$nulls":3},{"v":0,"d":"0.0000"},{"v":0,"d":"0.000"},{"v":0,"d":"0.000"}]
[null,"Фрукты",null,{"$f":"'Пт День 5 Нед 2'!AC114","v":0},{"$nulls":5},{"$f":"(F114+#REF!+H114+I114)*$J$5","v":{"$error":"#REF!"}},{"$f":"(F114+G114+#REF!+H114+I114)*$K$5","v":{"$error":"#REF!"}},{"v":0,"d":"0.0000"},{"$nulls":6},{"v":0,"d":"0.0000"},{"v":0,"d":"0.0000"},{"$nulls":3},{"v":0,"d":"0.0000"},{"$nulls":3},{"v":0,"d":"0.0000"},{"$nulls":3},{"v":0,"d":"0.0000"},{"v":0,"d":"0.000"},{"v":0,"d":"0.000"}]
[95,"апельсин","кг",{"$f":"'Пт День 5 Нед 2'!AC115","v":-0.015},{"$nulls":5},{"$f":"(F115+#REF!+H115+I115)*$J$5","v":{"$error":"#REF!"}},{"$f":"(F115+G115+#REF!+H115+I115)*$K$5","v":{"$error":"#REF!"}},{"v":0,"d":"0.0000"},{"$nulls":6},{"v":0,"d":"0.0000"},{"v":0,"d":"0.0000"},{"$nulls":3},{"v":0,"d":"0.0000"},{"$nulls":3},{"v":0,"d":"0.0000"},{"$nulls":3},{"v":0,"d":"0.0000"},{"v":0,"d":"0.000"},-0.015]
[96,"банан","кг",{"$f":"'Пт День 5 Нед 2'!AC116","v":0},{"$nulls":5},{"$f":"(F116+#REF!+H116+I116)*$J$5","v":{"$error":"#REF!"}},{"$f":"(F116+G116+#REF!+H116+I116)*$K$5","v":{"$error":"#REF!"}},{"v":0,"d":"0.0000"},{"$nulls":6},{"v":0,"d":"0.0000"},{"v":0,"d":"0.0000"},{"$nulls":3},{"v":0,"d":"0.0000"},{"$nulls":3},{"v":0,"d":"0.0000"},{"$nulls":3},{"v":0,"d":"0.0000"},{"v":0,"d":"0.000"},{"v":0,"d":"0.000"}]
[97,"груши","кг",{"$f":"'Пт День 5 Нед 2'!AC117","v":0},{"$nulls":5},{"$f":"(F117+#REF!+H117+I117)*$J$5","v":{"$error":"#REF!"}},{"$f":"(F117+G117+#REF!+H117+I117)*$K$5","v":{"$error":"#REF!"}},{"v":0,"d":"0.0000"},{"$nulls":6},{"v":0,"d":"0.0000"},{"v":0,"d":"0.0000"},{"$nulls":3},{"v":0,"d":"0.0000"},{"$nulls":3},{"v":0,"d":"0.0000"},{"$nulls":3},{"v":0,"d":"0.0000"},{"v":0,"d":"0.000"},{"v":0,"d":"0.000"}]
[98,"мандарины","кг",{"$f":"'Пт День 5 Нед 2'!AC118","v":0},{"$nulls":5},{"$f":"(F118+#REF!+H118+I118)*$J$5","v":{"$error":"#REF!"}},{"$f":"(F118+G118+#REF!+H118+I118)*$K$5","v":{"$error":"#REF!"}},{"v":0,"d":"0.0000"},{"$nulls":6},{"v":0,"d":"0.0000"},{"v":0,"d":"0.0000"},{"$nulls":3},{"v":0,"d":"0.0000"},{"$nulls":3},{"v":0,"d":"0.0000"},{"$nulls":3},{"v":0,"d":"0.0000"},{"v":0,"d":"0.000"},{"v":0,"d":"0.000"}]
[99,"лимон","кг",{"$f":"'Пт День 5 Нед 2'!AC119","v":-0.0555},{"$nulls":3},0.0056,null,{"$f":"(F119+#REF!+H119+I119)*$J$5","v":{"$error":"#REF!"}},{"$f":"(F119+G119+#REF!+H119+I119)*$K$5","v":{"$error":"#REF!"}},0.0056,{"$nulls":3},0.0056,null,null,0.0056,{"v":0,"d":"0.0000"},{"$nulls":3},{"v":0,"d":"0.0000"},{"$nulls":3},{"v":0,"d":"0.0000"},{"$nulls":3},{"v":0,"d":"0.0000"},{"v":0.0112,"d":"0.011"},{"v":-0.0667,"d":"-0.067"}]
[100,"яблоки свежие","кг",{"$f":"'Пт День 5 Нед 2'!AC120","v":-1.1274000000000002},null,{"v":0.1,"d":"0.1000"},{"$nulls":3},{"$f":"(F120+#REF!+H120+I120)*$J$5","v":{"$error":"#REF!"}},{"$f":"(F120+G120+#REF!+H120+I120)*$K$5","v":{"$error":"#REF!"}},{"v":0.1,"d":"0.1000"},null,{"v":0.1,"d":"0.1000"},{"$nulls":4},{"v":0.1,"d":"0.1000"},{"v":0,"d":"0.0000"},{"$nulls":3},{"v":0,"d":"0.0000"},{"$nulls":3},{"v":0,"d":"0.0000"},{"$nulls":3},{"v":0,"d":"0.0000"},{"v":0.2,"d":"0.200"},{"v":-1.3274000000000001,"d":"-1.327"}]
[null,"Овощи / зелень ",null,{"$f":"'Пт День 5 Нед 2'!AC121","v":0},{"$nulls":5},{"$f":"(F121+#REF!+H121+I121)*$J$5","v":{"$error":"#REF!"}},{"$f":"(F121+G121+#REF!+H121+I121)*$K$5","v":{"$error":"#REF!"}},{"v":0,"d":"0.0000"},{"$nulls":6},{"v":0,"d":"0.0000"},{"v":0,"d":"0.0000"},{"$nulls":3},{"v":0,"d":"0.0000"},{"$nulls":3},{"v":0,"d":"0.0000"},{"$nulls":3},{"v":0,"d":"0.0000"},{"v":0,"d":"0.000"},{"v":0,"d":"0.000"}]
[101,"капуста свежая","кг",{"$f":"'Пт День 5 Нед 2'!AC122","v":-0.3175},null,null,0.0563,null,null,{"$f":"(F122+#REF!+H122+I122)*$J$5","v":{"$error":"#REF!"}},{"$f":"(F122+G122+#REF!+H122+I122)*$K$5","v":{"$error":"#REF!"}},0.0563,null,null,0.0563,{"$nulls":3},0.0563,{"v":0,"d":"0.0000"},{"$nulls":3},{"v":0,"d":"0.0000"},{"$nulls":3},{"v":0,"d":"0.0000"},{"$nulls":3},{"v":0,"d":"0.0000"},{"v":0.1126,"d":"0.113"},{"v":-0.43010000000000004,"d":"-0.430"}]
[102,"картофель","кг",{"$f":"'Пт День 5 Нед 2'!AC123","v":-1.8749200000000001},null,null,0.0778,null,null,{"$f":"(F123+#REF!+H123+I123)*$J$5","v":{"$error":"#REF!"}},{"$f":"(F123+G123+#REF!+H123+I123)*$K$5","v":{"$error":"#REF!"}},0.0778,null,null,0.0778,{"$nulls":3},0.0778,{"v":0,"d":"0.0000"},{"$nulls":3},{"v":0,"d":"0.0000"},{"$nulls":3},{"v":0,"d":"0.0000"},{"$nulls":3},{"v":0,"d":"0.0000"},{"v":0.1556,"d":"0.156"},{"v":-2.03052,"d":"-2.031"}]
[103,"лук репчатый","кг",{"$f":"'Пт День 5 Нед 2'!AC124","v":-0.35808999999999996},null,null,{"$f":"0.018+0.00072","v":{"v":0.018719999999999997,"d":"0.0187"}},null,null,{"$f":"(F124+#REF!+H124+I124)*$J$5","v":{"$error":"#REF!"}},{"$f":"(F124+G124+#REF!+H124+I124)*$K$5","v":{"$error":"#REF!"}},{"v":0.018719999999999997,"d":"0.0187"},null,null,{"$f":"0.018+0.00072","v":{"v":0.018719999999999997,"d":"0.0187"}},{"$nulls":3},{"v":0.018719999999999997,"d":"0.0187"},{"v":0,"d":"0.0000"},{"$nulls":3},{"v":0,"d":"0.0000"},{"$nulls":3},{"v":0,"d":"0.0000"},{"$nulls":3},{"v":0,"d":"0.0000"},{"v":0.037439999999999994,"d":"0.037"},{"v":-0.39552999999999994,"d":"-0.396"}]
[104,"морковь","кг",{"$f":"'Пт День 5 Нед 2'!AC125","v":-0.22650000000000003},null,null,{"v":0.021,"d":"0.0210"},null,null,{"$f":"(F125+#REF!+H125+I125)*$J$5","v":{"$error":"#REF!"}},{"$f":"(F125+G125+#REF!+H125+I125)*$K$5","v":{"$error":"#REF!"}},{"v":0.021,"d":"0.0210"},null,null,{"v":0.021,"d":"0.0210"},{"$nulls":3},{"v":0.021,"d":"0.0210"},{"v":0,"d":"0.0000"},{"$nulls":3},{"v":0,"d":"0.0000"},{"$nulls":3},{"v":0,"d":"0.0000"},{"$nulls":3},{"v":0,"d":"0.0000"},0.042,{"v":-0.2685,"d":"-0.269"}]
[105,"свекла","кг",{"$f":"'Пт День 5 Нед 2'!AC126","v":-0.6759999999999999},{"$nulls":5},{"$f":"(F126+#REF!+H126+I126)*$J$5","v":{"$error":"#REF!"}},{"$f":"(F126+G126+#REF!+H126+I126)*$K$5","v":{"$error":"#REF!"}},{"v":0,"d":"0.0000"},{"$nulls":6},{"v":0,"d":"0.0000"},{"v":0,"d":"0.0000"},{"$nulls":3},{"v":0,"d":"0.0000"},{"$nulls":3},{"v":0,"d":"0.0000"},{"$nulls":3},{"v":0,"d":"0.0000"},{"v":0,"d":"0.000"},{"v":-0.6759999999999999,"d":"-0.676"}]
[106,"огурцы св.","кг",{"$f":"'Пт День 5 Нед 2'!AC127","v":0},{"$nulls":5},{"$f":"(F127+#REF!+H127+I127)*$J$5","v":{"$error":"#REF!"}},{"$f":"(F127+G127+#REF!+H127+I127)*$K$5","v":{"$error":"#REF!"}},{"v":0,"d":"0.0000"},{"$nulls":6},{"v":0,"d":"0.0000"},{"v":0,"d":"0.0000"},{"$nulls":3},{"v":0,"d":"0.0000"},{"$nulls":3},{"v":0,"d":"0.0000"},{"$nulls":3},{"v":0,"d":"0.0000"},{"v":0,"d":"0.000"},{"v":0,"d":"0.000"}]
[107,"томаты св.","кг",{"$f":"'Пт День 5 Нед 2'!AC128","v":0},{"$nulls":5},{"$f":"(F128+#REF!+H128+I128)*$J$5","v":{"$error":"#REF!"}},{"$f":"(F128+G128+#REF!+H128+I128)*$K$5","v":{"$error":"#REF!"}},{"v":0,"d":"0.0000"},{"$nulls":6},{"v":0,"d":"0.0000"},{"v":0,"d":"0.0000"},{"$nulls":3},{"v":0,"d":"0.0000"},{"$nulls":3},{"v":0,"d":"0.0000"},{"$nulls":3},{"v":0,"d":"0.0000"},{"v":0,"d":"0.000"},{"v":0,"d":"0.000"}]
[108,"перец болг.красный","кг",{"$f":"'Пт День 5 Нед 2'!AC129","v":0},{"$nulls":5},{"$f":"(F129+#REF!+H129+I129)*$J$5","v":{"$error":"#REF!"}},{"$f":"(F129+G129+#REF!+H129+I129)*$K$5","v":{"$error":"#REF!"}},{"v":0,"d":"0.0000"},{"$nulls":6},{"v":0,"d":"0.0000"},{"v":0,"d":"0.0000"},{"$nulls":3},{"v":0,"d":"0.0000"},{"$nulls":3},{"v":0,"d":"0.0000"},{"$nulls":3},{"v":0,"d":"0.0000"},{"v":0,"d":"0.000"},{"v":0,"d":"0.000"}]
[109,"тыква","кг",{"$f":"'Пт День 5 Нед 2'!AC130","v":0},{"$nulls":5},{"$f":"(F130+#REF!+H130+I130)*$J$5","v":{"$error":"#REF!"}},{"$f":"(F130+G130+#REF!+H130+I130)*$K$5","v":{"$error":"#REF!"}},{"v":0,"d":"0.0000"},{"$nulls":6},{"v":0,"d":"0.0000"},{"v":0,"d":"0.0000"},{"$nulls":3},{"v":0,"d":"0.0000"},{"$nulls":3},{"v":0,"d":"0.0000"},{"$nulls":3},{"v":0,"d":"0.0000"},{"v":0,"d":"0.000"},{"v":0,"d":"0.000"}]
["Овощи очищенные ",null,null,{"$f":"'Пт День 5 Нед 2'!AC131","v":0},{"$nulls":5},{"$f":"(F131+#REF!+H131+I131)*$J$5","v":{"$error":"#REF!"}},{"$f":"(F131+G131+#REF!+H131+I131)*$K$5","v":{"$error":"#REF!"}},{"v":0,"d":"0.0000"},{"$nulls":6},{"v":0,"d":"0.0000"},{"v":0,"d":"0.0000"},{"$nulls":3},{"v":0,"d":"0.0000"},{"$nulls":3},{"v":0,"d":"0.0000"},{"$nulls":3},{"v":0,"d":"0.0000"},{"v":0,"d":"0.000"},{"v":0,"d":"0.000"}]
[110,"капуста св.очищенная","кг",{"$f":"'Пт День 5 Нед 2'!AC132","v":0},{"$nulls":5},{"$f":"(F132+#REF!+H132+I132)*$J$5","v":{"$error":"#REF!"}},{"$f":"(F132+G132+#REF!+H132+I132)*$K$5","v":{"$error":"#REF!"}},{"v":0,"d":"0.0000"},{"$nulls":6},{"v":0,"d":"0.0000"},{"v":0,"d":"0.0000"},{"$nulls":3},{"v":0,"d":"0.0000"},{"$nulls":3},{"v":0,"d":"0.0000"},{"$nulls":3},{"v":0,"d":"0.0000"},{"v":0,"d":"0.000"},{"v":0,"d":"0.000"}]
[111,"картофель св. очищенный","кг",{"$f":"'Пт День 5 Нед 2'!AC133","v":0},{"$nulls":5},{"$f":"(F133+#REF!+H133+I133)*$J$5","v":{"$error":"#REF!"}},{"$f":"(F133+G133+#REF!+H133+I133)*$K$5","v":{"$error":"#REF!"}},{"v":0,"d":"0.0000"},{"$nulls":6},{"v":0,"d":"0.0000"},{"v":0,"d":"0.0000"},{"$nulls":3},{"v":0,"d":"0.0000"},{"$nulls":3},{"v":0,"d":"0.0000"},{"$nulls":3},{"v":0,"d":"0.0000"},{"v":0,"d":"0.000"},{"v":0,"d":"0.000"}]
[112,"лук репчатый св.очищенный","кг",{"$f":"'Пт День 5 Нед 2'!AC134","v":0},{"$nulls":5},{"$f":"(F134+#REF!+H134+I134)*$J$5","v":{"$error":"#REF!"}},{"$f":"(F134+G134+#REF!+H134+I134)*$K$5","v":{"$error":"#REF!"}},{"v":0,"d":"0.0000"},{"$nulls":6},{"v":0,"d":"0.0000"},{"v":0,"d":"0.0000"},{"$nulls":3},{"v":0,"d":"0.0000"},{"$nulls":3},{"v":0,"d":"0.0000"},{"$nulls":3},{"v":0,"d":"0.0000"},{"v":0,"d":"0.000"},{"v":0,"d":"0.000"}]
[113,"морковь св.очищенная","кг",{"$f":"'Пт День 5 Нед 2'!AC135","v":0},{"$nulls":5},{"$f":"(F135+#REF!+H135+I135)*$J$5","v":{"$error":"#REF!"}},{"$f":"(F135+G135+#REF!+H135+I135)*$K$5","v":{"$error":"#REF!"}},{"v":0,"d":"0.0000"},{"$nulls":6},{"$f":"(M135+N135+O135+P135+Q135)*$S$5","v":{"v":0,"d":"0.0000"}},{"$f":"(N135+O135+P135+R135+M135)*$T$5","v":{"v":0,"d":"0.0000"}},{"$nulls":3},{"v":0,"d":"0.0000"},{"$nulls":3},{"v":0,"d":"0.0000"},{"$nulls":3},{"v":0,"d":"0.0000"},{"v":0,"d":"0.000"},{"$f":"(D135+E134)-AG135","v":{"v":0,"d":"0.000"}}]
[114,"свекла св.очищенная","кг",{"$f":"'Пт День 5 Нед 2'!AC136","v":0},{"$nulls":5},{"$f":"(F136+#REF!+H136+I136)*$J$5","v":{"$error":"#REF!"}},{"$f":"(F136+G136+#REF!+H136+I136)*$K$5","v":{"$error":"#REF!"}},{"$f":"(F136+G136+H136+I136)*$L$5","v":{"v":0,"d":"0.0000"}},{"$nulls":6},{"v":0,"d":"0.0000"},{"v":0,"d":"0.0000"},{"$nulls":3},{"$f":"(W136+V136)*$X$5","v":{"v":0,"d":"0.0000"}},{"$nulls":3},{"$f":"(Z136+Y136+AA136)*$AB$5","v":{"v":0,"d":"0.0000"}},{"$nulls":3},{"$f":"(AD136+AC136+AE136)*$AF$5","v":{"v":0,"d":"0.0000"}},{"$f":"L136+S136+X136+AF136","v":{"v":0,"d":"0.000"}},{"v":0,"d":"0.000"}]
[null,"Полуфабрикаты",null,{"$f":"'Пт День 5 Нед 2'!AC137","v":0},{"$nulls":5},{"$f":"(F137+#REF!+H137+I137)*$J$5","v":{"$error":"#REF!"}},{"$f":"(F137+G137+#REF!+H137+I137)*$K$5","v":{"$error":"#REF!"}},{"v":0,"d":"0.0000"},{"$nulls":6},{"v":0,"d":"0.0000"},{"v":0,"d":"0.0000"},{"$nulls":3},{"v":0,"d":"0.0000"},{"$nulls":3},{"v":0,"d":"0.0000"},{"$nulls":3},{"v":0,"d":"0.0000"},{"v":0,"d":"0.000"},{"v":0,"d":"0.000"}]
[115,"сырники ПФ","шт",{"$f":"'Пт День 5 Нед 2'!AC138","v":-2},{"$nulls":5},{"$f":"(F138+#REF!+H138+I138)*$J$5","v":{"$error":"#REF!"}},{"$f":"(F138+G138+#REF!+H138+I138)*$K$5","v":{"$error":"#REF!"}},{"v":0,"d":"0.0000"},{"$nulls":6},{"v":0,"d":"0.0000"},{"v":0,"d":"0.0000"},{"$nulls":12},{"v":0,"d":"0.000"},{"v":-2,"d":"-2.000"}]
[116,"пельмени ПФ","кг",{"$f":"'Пт День 5 Нед 2'!AC139","v":-0.498},{"$nulls":5},{"$f":"(F139+#REF!+H139+I139)*$J$5","v":{"$error":"#REF!"}},{"$f":"(F139+G139+#REF!+H139+I139)*$K$5","v":{"$error":"#REF!"}},{"v":0,"d":"0.0000"},{"$nulls":6},{"v":0,"d":"0.0000"},{"v":0,"d":"0.0000"},{"$nulls":3},{"v":0,"d":"0.0000"},{"$nulls":3},{"v":0,"d":"0.0000"},{"$nulls":3},{"v":0,"d":"0.0000"},{"v":0,"d":"0.000"},-0.498]
[117,"биточки рыбные","шт",{"$f":"'Пт День 5 Нед 2'!AC140","v":-4},{"$nulls":5},{"$f":"(F140+#REF!+H140+I140)*$J$5","v":{"$error":"#REF!"}},{"$f":"(F140+G140+#REF!+H140+I140)*$K$5","v":{"$error":"#REF!"}},{"v":0,"d":"0.0000"},{"$nulls":6},{"v":0,"d":"0.0000"},{"v":0,"d":"0.0000"},{"$nulls":3},{"v":0,"d":"0.0000"},{"$nulls":3},{"v":0,"d":"0.0000"},{"$nulls":3},{"v":0,"d":"0.0000"},{"v":0,"d":"0.000"},{"v":-4,"d":"-4.000"}]
[118,"фрикадельки мясные ","кг",{"$f":"'Пт День 5 Нед 2'!AC141","v":0},{"$nulls":5},{"$f":"(F141+#REF!+H141+I141)*$J$5","v":{"$error":"#REF!"}},{"$f":"(F141+G141+#REF!+H141+I141)*$K$5","v":{"$error":"#REF!"}},{"v":0,"d":"0.0000"},{"$nulls":6},{"v":0,"d":"0.0000"},{"v":0,"d":"0.0000"},{"$nulls":3},{"v":0,"d":"0.0000"},{"$nulls":3},{"v":0,"d":"0.0000"},{"$nulls":3},{"v":0,"d":"0.0000"},{"v":0,"d":"0.000"},{"v":0,"d":"0.000"}]
[119,"фрикадельки куриные","кг",{"$f":"'Пт День 5 Нед 2'!AC142","v":0},{"$nulls":5},{"$f":"(F142+#REF!+H142+I142)*$J$5","v":{"$error":"#REF!"}},{"$f":"(F142+G142+#REF!+H142+I142)*$K$5","v":{"$error":"#REF!"}},{"v":0,"d":"0.0000"},{"$nulls":6},{"v":0,"d":"0.0000"},{"v":0,"d":"0.0000"},{"$nulls":3},{"v":0,"d":"0.0000"},{"$nulls":3},{"v":0,"d":"0.0000"},{"$nulls":3},{"v":0,"d":"0.0000"},{"v":0,"d":"0.000"},{"v":0,"d":"0.000"}]
[120,"хинкали п/ф из говядины","кг",{"$f":"'Пт День 5 Нед 2'!AC143","v":0},{"$nulls":5},{"$f":"(F143+#REF!+H143+I143)*$J$5","v":{"$error":"#REF!"}},{"$f":"(F143+G143+#REF!+H143+I143)*$K$5","v":{"$error":"#REF!"}},{"v":0,"d":"0.0000"},{"$nulls":6},{"v":0,"d":"0.0000"},{"v":0,"d":"0.0000"},{"$nulls":3},{"v":0,"d":"0.0000"},{"$nulls":3},{"v":0,"d":"0.0000"},{"$nulls":3},{"v":0,"d":"0.0000"},{"v":0,"d":"0.000"},{"v":0,"d":"0.000"}]
[121,"котлеты из говядины \"Домашние\"  ","шт",{"$f":"'Пт День 5 Нед 2'!AC144","v":-2},{"$nulls":5},{"$f":"(F144+#REF!+H144+I144)*$J$5","v":{"$error":"#REF!"}},{"$f":"(F144+G144+#REF!+H144+I144)*$K$5","v":{"$error":"#REF!"}},{"v":0,"d":"0.0000"},{"$nulls":6},{"v":0,"d":"0.0000"},{"v":0,"d":"0.0000"},{"$nulls":3},{"v":0,"d":"0.0000"},{"$nulls":3},{"v":0,"d":"0.0000"},{"$nulls":3},{"v":0,"d":"0.0000"},{"v":0,"d":"0.000"},{"v":-2,"d":"-2.000"}]
[122,"бифштекс из говядины","шт",{"$f":"'Пт День 5 Нед 2'!AC145","v":0},{"$nulls":5},{"$f":"(F145+#REF!+H145+I145)*$J$5","v":{"$error":"#REF!"}},{"$f":"(F145+G145+#REF!+H145+I145)*$K$5","v":{"$error":"#REF!"}},{"v":0,"d":"0.0000"},{"$nulls":6},{"v":0,"d":"0.0000"},{"v":0,"d":"0.0000"},{"$nulls":3},{"v":0,"d":"0.0000"},{"$nulls":3},{"v":0,"d":"0.0000"},{"$nulls":3},{"v":0,"d":"0.0000"},{"v":0,"d":"0.000"},{"v":0,"d":"0.000"}]
[123,"котлеты из мяса кур","шт",{"$f":"'Пт День 5 Нед 2'!AC146","v":0},{"$nulls":5},{"$f":"(F146+#REF!+H146+I146)*$J$5","v":{"$error":"#REF!"}},{"$f":"(F146+G146+#REF!+H146+I146)*$K$5","v":{"$error":"#REF!"}},{"v":0,"d":"0.0000"},{"$nulls":6},{"v":0,"d":"0.0000"},{"v":0,"d":"0.0000"},{"$nulls":3},{"v":0,"d":"0.0000"},{"$nulls":3},{"v":0,"d":"0.0000"},{"$nulls":3},{"v":0,"d":"0.0000"},{"v":0,"d":"0.000"},{"v":0,"d":"0.000"}]
[124,"котлеты \"Аппетитные\" мясо-куриные  ","шт",{"$f":"'Пт День 5 Нед 2'!AC147","v":0},{"$nulls":5},{"$f":"(F147+#REF!+H147+I147)*$J$5","v":{"$error":"#REF!"}},{"$f":"(F147+G147+#REF!+H147+I147)*$K$5","v":{"$error":"#REF!"}},{"v":0,"d":"0.0000"},{"$nulls":6},{"v":0,"d":"0.0000"},{"v":0,"d":"0.0000"},{"$nulls":3},{"v":0,"d":"0.0000"},{"$nulls":3},{"v":0,"d":"0.0000"},{"$nulls":3},{"v":0,"d":"0.0000"},{"v":0,"d":"0.000"},{"v":0,"d":"0.000"}]
[125,"ежики мясные с рисом ","шт",{"$f":"'Пт День 5 Нед 2'!AC148","v":0},{"$nulls":5},{"$f":"(F148+#REF!+H148+I148)*$J$5","v":{"$error":"#REF!"}},{"$f":"(F148+G148+#REF!+H148+I148)*$K$5","v":{"$error":"#REF!"}},{"v":0,"d":"0.0000"},{"$nulls":6},{"v":0,"d":"0.0000"},{"v":0,"d":"0.0000"},{"$nulls":3},{"v":0,"d":"0.0000"},{"$nulls":3},{"v":0,"d":"0.0000"},{"$nulls":3},{"v":0,"d":"0.0000"},{"v":0,"d":"0.000"},{"v":0,"d":"0.000"}]

{"sheet":"Итого 6 дней 2 нед","index":13,"n_rows":148,"n_cols":9,"rows_kept":148,"merged":[[0,0,0,7],[1,3,2,3],[1,4,2,4],[1,5,2,5],[1,6,2,6],[1,7,2,7],[1,8,2,8]]}
["Расход продуктов питания в образовательных учереждениях  "]
[{"$nulls":3},"ИТОГО   Кол-во учащихся   1 - 4 кл                                        69,43 РУБ","ИТОГО  Кол-во учащихся  5-11 кл                                              69,43  РУБ","ИТОГО  Кол-во учащихся по меню на           9,60 РУБ","ИТОГО  Кол-во учащихся по меню на     КАШИ на молоке ","ИТОГО  Кол-во учащихся по меню на          СУПА             ","ВСЕГО ЗА неделю расход продуктов по всем рационам"]
[null,"итого за 6 дней 2 неделя"]
[null,"КОЛИЧЕСТВО ДЕТЕЙ",null,{"$f":"'Пн 1 день нед 2'!K5+'Пн 1 день нед 2'!L5+'Вт День 2 Нед 2'!M5+'Ср День 3 Нед 2'!K5+'Чт День 4 Нед 2'!L5+'Чт День 4 Нед 2'!M5+'Пт День 5 Нед 2'!K5+'Сб День 6 Нед 2'!L5","v":8},{"$f":"'Пн 1 день нед 2'!S5+'Пн 1 день нед 2'!T5+'Вт День 2 Нед 2'!T5+'Ср День 3 Нед 2'!R5+'Чт День 4 Нед 2'!T5+'Чт День 4 Нед 2'!U5+'Пт День 5 Нед 2'!P5+'Сб День 6 Нед 2'!S5","v":8},{"$f":"'Сб День 6 Нед 2'!X5+'Пт День 5 Нед 2'!S5+'Чт День 4 Нед 2'!X5+'Ср День 3 Нед 2'!V5+'Вт День 2 Нед 2'!X5+'Пн 1 день нед 2'!W5","v":6},{"$f":"'Сб День 6 Нед 2'!AB5+'Пт День 5 Нед 2'!W5+'Чт День 4 Нед 2'!#REF!+'Ср День 3 Нед 2'!#REF!+'Вт День 2 Нед 2'!#REF!+'Пн 1 день нед 2'!AA5","v":{"$error":"#REF!"}},{"$f":"'Сб День 6 Нед 2'!AF5+'Пт День 5 Нед 2'!AA5+'Чт День 4 Нед 2'!AB5+'Ср День 3 Нед 2'!Z5+'Вт День 2 Нед 2'!AB5+'Пн 1 день нед 2'!AE5","v":6},{"$f":"D4+E4+F4+H4","v":28}]
[null,"Выход,гр"]
[null,"Хлеб"]
[1,"батон ","кг",{"$f":"'Пн 1 день нед 2'!K7+'Пн 1 день нед 2'!L7+'Вт День 2 Нед 2'!M7+'Ср День 3 Нед 2'!K7+'Чт День 4 Нед 2'!L7+'Чт День 4 Нед 2'!M7+'Пт День 5 Нед 2'!K7+'Сб День 6 Нед 2'!L7","v":{"v":0,"d":"0.0000"}},{"$f":"'Пн 1 день нед 2'!S7+'Пн 1 день нед 2'!T7+'Вт День 2 Нед 2'!T7+'Ср День 3 Нед 2'!R7+'Чт День 4 Нед 2'!T7+'Чт День 4 Нед 2'!U7+'Пт День 5 Нед 2'!P7+'Сб День 6 Нед 2'!S7","v":{"v":0,"d":"0.0000"}},{"$f":"'Сб День 6 Нед 2'!X7+'Пт День 5 Нед 2'!S7+'Чт День 4 Нед 2'!X7+'Ср День 3 Нед 2'!V7+'Вт День 2 Нед 2'!X7+'Пн 1 день нед 2'!W7","v":{"v":0,"d":"0.0000"}},{"$f":"'Сб День 6 Нед 2'!AB7+'Пт День 5 Нед 2'!W7+'Ср День 3 Нед 2'!#REF!+'Вт День 2 Нед 2'!#REF!+'Пн 1 день нед 2'!AA7","v":{"$error":"#REF!"}},{"$f":"'Сб День 6 Нед 2'!AF7+'Пт День 5 Нед 2'!AA7+'Чт День 4 Нед 2'!AB7+'Ср День 3 Нед 2'!Z7+'Вт День 2 Нед 2'!AB7+'Пн 1 день нед 2'!AE7","v":{"v":0,"d":"0.0000"}},{"$f":"D7+E7+F7+H7","v":{"v":0,"d":"0.000"}}]
[2,"хлеб пшеничный ","кг",{"$f":"'Пн 1 день нед 2'!K8+'Пн 1 день нед 2'!L8+'Вт День 2 Нед 2'!M8+'Ср День 3 Нед 2'!K8+'Чт День 4 Нед 2'!L8+'Чт День 4 Нед 2'!M8+'Пт День 5 Нед 2'!K8+'Сб День 6 Нед 2'!L8","v":{"v":0.18379999999999996,"d":"0.1838"}},{"$f":"'Пн 1 день нед 2'!S8+'Пн 1 день нед 2'!T8+'Вт День 2 Нед 2'!T8+'Ср День 3 Нед 2'!R8+'Чт День 4 Нед 2'!T8+'Чт День 4 Нед 2'!U8+'Пт День 5 Нед 2'!P8+'Сб День 6 Нед 2'!S8","v":0.2455},{"$f":"'Сб День 6 Нед 2'!X8+'Пт День 5 Нед 2'!S8+'Чт День 4 Нед 2'!X8+'Ср День 3 Нед 2'!V8+'Вт День 2 Нед 2'!X8+'Пн 1 день нед 2'!W8","v":{"v":0,"d":"0.0000"}},{"$f":"'Сб День 6 Нед 2'!AB8+'Пт День 5 Нед 2'!W8+'Ср День 3 Нед 2'!#REF!+'Вт День 2 Нед 2'!#REF!+'Пн 1 день нед 2'!AA8","v":{"$error":"#REF!"}},{"$f":"'Сб День 6 Нед 2'!AF8+'Пт День 5 Нед 2'!AA8+'Чт День 4 Нед 2'!AB8+'Ср День 3 Нед 2'!Z8+'Вт День 2 Нед 2'!AB8+'Пн 1 день нед 2'!AE8","v":{"v":0,"d":"0.0000"}},{"$f":"D8+E8+F8+H8","v":{"v":0.42929999999999996,"d":"0.429"}}]
[3,"хлеб ржаной","кг",{"$f":"'Пн 1 день нед 2'!K9+'Пн 1 день нед 2'!L9+'Вт День 2 Нед 2'!M9+'Ср День 3 Нед 2'!K9+'Чт День 4 Нед 2'!L9+'Чт День 4 Нед 2'!M9+'Пт День 5 Нед 2'!K9+'Сб День 6 Нед 2'!L9","v":{"v":0.28,"d":"0.2800"}},{"$f":"'Пн 1 день нед 2'!S9+'Пн 1 день нед 2'!T9+'Вт День 2 Нед 2'!T9+'Ср День 3 Нед 2'!R9+'Чт День 4 Нед 2'!T9+'Чт День 4 Нед 2'!U9+'Пт День 5 Нед 2'!P9+'Сб День 6 Нед 2'!S9","v":{"v":0.32500000000000007,"d":"0.3250"}},{"$f":"'Сб День 6 Нед 2'!X9+'Пт День 5 Нед 2'!S9+'Чт День 4 Нед 2'!X9+'Ср День 3 Нед 2'!V9+'Вт День 2 Нед 2'!X9+'Пн 1 день нед 2'!W9","v":{"v":0,"d":"0.0000"}},{"$f":"'Сб День 6 Нед 2'!AB9+'Пт День 5 Нед 2'!W9+'Ср День 3 Нед 2'!#REF!+'Вт День 2 Нед 2'!#REF!+'Пн 1 день нед 2'!AA9","v":{"$error":"#REF!"}},{"$f":"'Сб День 6 Нед 2'!AF9+'Пт День 5 Нед 2'!AA9+'Чт День 4 Нед 2'!AB9+'Ср День 3 Нед 2'!Z9+'Вт День 2 Нед 2'!AB9+'Пн 1 день нед 2'!AE9","v":{"v":0.18,"d":"0.1800"}},{"v":0.7850000000000001,"d":"0.785"}]
[4,"булоч/выпечка готов с х/ком","шт",{"$f":"'Пн 1 день нед 2'!K10+'Пн 1 день нед 2'!L10+'Вт День 2 Нед 2'!M10+'Ср День 3 Нед 2'!K10+'Чт День 4 Нед 2'!L10+'Чт День 4 Нед 2'!M10+'Пт День 5 Нед 2'!K10+'Сб День 6 Нед 2'!L10","v":{"v":0,"d":"0.0000"}},{"$f":"'Пн 1 день нед 2'!S10+'Пн 1 день нед 2'!T10+'Вт День 2 Нед 2'!T10+'Ср День 3 Нед 2'!R10+'Чт День 4 Нед 2'!T10+'Чт День 4 Нед 2'!U10+'Пт День 5 Нед 2'!P10+'Сб День 6 Нед 2'!S10","v":{"v":0,"d":"0.0000"}},{"$f":"'Сб День 6 Нед 2'!X10+'Пт День 5 Нед 2'!S10+'Чт День 4 Нед 2'!X10+'Ср День 3 Нед 2'!V10+'Вт День 2 Нед 2'!X10+'Пн 1 день нед 2'!W10","v":{"v":1,"d":"1.0000"}},{"$f":"'Сб День 6 Нед 2'!AB10+'Пт День 5 Нед 2'!W10+'Ср День 3 Нед 2'!#REF!+'Вт День 2 Нед 2'!#REF!+'Пн 1 день нед 2'!AA10","v":{"$error":"#REF!"}},{"$f":"'Сб День 6 Нед 2'!AF10+'Пт День 5 Нед 2'!AA10+'Чт День 4 Нед 2'!AB10+'Ср День 3 Нед 2'!Z10+'Вт День 2 Нед 2'!AB10+'Пн 1 день нед 2'!AE10","v":{"v":0,"d":"0.0000"}},{"v":1,"d":"1.000"}]
[null,"Молочка",{"$nulls":4},{"$f":"'Сб День 6 Нед 2'!AB11+'Пт День 5 Нед 2'!W11+'Ср День 3 Нед 2'!#REF!+'Вт День 2 Нед 2'!#REF!+'Пн 1 день нед 2'!AA11","v":{"$error":"#REF!"}}]
[5,"молоко 2,5%","кг",{"$f":"'Пн 1 день нед 2'!K12+'Пн 1 день нед 2'!L12+'Вт День 2 Нед 2'!M12+'Ср День 3 Нед 2'!K12+'Чт День 4 Нед 2'!L12+'Чт День 4 Нед 2'!M12+'Пт День 5 Нед 2'!K12+'Сб День 6 Нед 2'!L12","v":0.0237},{"$f":"'Пн 1 день нед 2'!S12+'Пн 1 день нед 2'!T12+'Вт День 2 Нед 2'!T12+'Ср День 3 Нед 2'!R12+'Чт День 4 Нед 2'!T12+'Чт День 4 Нед 2'!U12+'Пт День 5 Нед 2'!P12+'Сб День 6 Нед 2'!S12","v":0.0237},{"$f":"'Сб День 6 Нед 2'!X12+'Пт День 5 Нед 2'!S12+'Чт День 4 Нед 2'!X12+'Ср День 3 Нед 2'!V12+'Вт День 2 Нед 2'!X12+'Пн 1 день нед 2'!W12","v":{"v":0,"d":"0.0000"}},{"$f":"'Сб День 6 Нед 2'!AB12+'Пт День 5 Нед 2'!W12+'Ср День 3 Нед 2'!#REF!+'Вт День 2 Нед 2'!#REF!+'Пн 1 день нед 2'!AA12","v":{"$error":"#REF!"}},{"$f":"'Сб День 6 Нед 2'!AF12+'Пт День 5 Нед 2'!AA12+'Чт День 4 Нед 2'!AB12+'Ср День 3 Нед 2'!Z12+'Вт День 2 Нед 2'!AB12+'Пн 1 день нед 2'!AE12","v":{"v":0,"d":"0.0000"}},{"v":0.0474,"d":"0.047"}]
[6,"творог 5%","кг",{"$f":"'Пн 1 день нед 2'!K13+'Пн 1 день нед 2'!L13+'Вт День 2 Нед 2'!M13+'Ср День 3 Нед 2'!K13+'Чт День 4 Нед 2'!L13+'Чт День 4 Нед 2'!M13+'Пт День 5 Нед 2'!K13+'Сб День 6 Нед 2'!L13","v":{"v":0,"d":"0.0000"}},{"$f":"'Пн 1 день нед 2'!S13+'Пн 1 день нед 2'!T13+'Вт День 2 Нед 2'!T13+'Ср День 3 Нед 2'!R13+'Чт День 4 Нед 2'!T13+'Чт День 4 Нед 2'!U13+'Пт День 5 Нед 2'!P13+'Сб День 6 Нед 2'!S13","v":{"v":0,"d":"0.0000"}},{"$f":"'Сб День 6 Нед 2'!X13+'Пт День 5 Нед 2'!S13+'Чт День 4 Нед 2'!X13+'Ср День 3 Нед 2'!V13+'Вт День 2 Нед 2'!X13+'Пн 1 день нед 2'!W13","v":{"v":0,"d":"0.0000"}},{"$f":"'Сб День 6 Нед 2'!AB13+'Пт День 5 Нед 2'!W13+'Ср День 3 Нед 2'!#REF!+'Вт День 2 Нед 2'!#REF!+'Пн 1 день нед 2'!AA13","v":{"$error":"#REF!"}},{"$f":"'Сб День 6 Нед 2'!AF13+'Пт День 5 Нед 2'!AA13+'Чт День 4 Нед 2'!AB13+'Ср День 3 Нед 2'!Z13+'Вт День 2 Нед 2'!AB13+'Пн 1 день нед 2'!AE13","v":{"v":0,"d":"0.0000"}},{"v":0,"d":"0.000"}]
[7,"сметана 15%","кг",{"$f":"'Пн 1 день нед 2'!K14+'Пн 1 день нед 2'!L14+'Вт День 2 Нед 2'!M14+'Ср День 3 Нед 2'!K14+'Чт День 4 Нед 2'!L14+'Чт День 4 Нед 2'!M14+'Пт День 5 Нед 2'!K14+'Сб День 6 Нед 2'!L14","v":0.0183},{"$f":"'Пн 1 день нед 2'!S14+'Пн 1 день нед 2'!T14+'Вт День 2 Нед 2'!T14+'Ср День 3 Нед 2'!R14+'Чт День 4 Нед 2'!T14+'Чт День 4 Нед 2'!U14+'Пт День 5 Нед 2'!P14+'Сб День 6 Нед 2'!S14","v":0.0083},{"$f":"'Сб День 6 Нед 2'!X14+'Пт День 5 Нед 2'!S14+'Чт День 4 Нед 2'!X14+'Ср День 3 Нед 2'!V14+'Вт День 2 Нед 2'!X14+'Пн 1 день нед 2'!W14","v":{"v":0,"d":"0.0000"}},{"$f":"'Сб День 6 Нед 2'!AB14+'Пт День 5 Нед 2'!W14+'Ср День 3 Нед 2'!#REF!+'Вт День 2 Нед 2'!#REF!+'Пн 1 день нед 2'!AA14","v":{"$error":"#REF!"}},{"$f":"'Сб День 6 Нед 2'!AF14+'Пт День 5 Нед 2'!AA14+'Чт День 4 Нед 2'!AB14+'Ср День 3 Нед 2'!Z14+'Вт День 2 Нед 2'!AB14+'Пн 1 день нед 2'!AE14","v":{"v":0.005,"d":"0.0050"}},{"v":0.031599999999999996,"d":"0.032"}]
[8,"йогурт фруктов ","кг",{"$f":"'Пн 1 день нед 2'!K15+'Пн 1 день нед 2'!L15+'Вт День 2 Нед 2'!M15+'Ср День 3 Нед 2'!K15+'Чт День 4 Нед 2'!L15+'Чт День 4 Нед 2'!M15+'Пт День 5 Нед 2'!K15+'Сб День 6 Нед 2'!L15","v":{"v":0,"d":"0.0000"}},{"$f":"'Пн 1 день нед 2'!S15+'Пн 1 день нед 2'!T15+'Вт День 2 Нед 2'!T15+'Ср День 3 Нед 2'!R15+'Чт День 4 Нед 2'!T15+'Чт День 4 Нед 2'!U15+'Пт День 5 Нед 2'!P15+'Сб День 6 Нед 2'!S15","v":{"v":0,"d":"0.0000"}},{"$f":"'Сб День 6 Нед 2'!X15+'Пт День 5 Нед 2'!S15+'Чт День 4 Нед 2'!X15+'Ср День 3 Нед 2'!V15+'Вт День 2 Нед 2'!X15+'Пн 1 день нед 2'!W15","v":{"v":0,"d":"0.0000"}},{"$f":"'Сб День 6 Нед 2'!AB15+'Пт День 5 Нед 2'!W15+'Ср День 3 Нед 2'!#REF!+'Вт День 2 Нед 2'!#REF!+'Пн 1 день нед 2'!AA15","v":{"$error":"#REF!"}},{"$f":"'Сб День 6 Нед 2'!AF15+'Пт День 5 Нед 2'!AA15+'Чт День 4 Нед 2'!AB15+'Ср День 3 Нед 2'!Z15+'Вт День 2 Нед 2'!AB15+'Пн 1 день нед 2'!AE15","v":{"v":0,"d":"0.0000"}},{"v":0,"d":"0.000"}]
[9,"катык 2,5%","кг",{"$f":"'Пн 1 день нед 2'!K16+'Пн 1 день нед 2'!L16+'Вт День 2 Нед 2'!M16+'Ср День 3 Нед 2'!K16+'Чт День 4 Нед 2'!L16+'Чт День 4 Нед 2'!M16+'Пт День 5 Нед 2'!K16+'Сб День 6 Нед 2'!L16","v":{"v":0,"d":"0.0000"}},{"$f":"'Пн 1 день нед 2'!S16+'Пн 1 день нед 2'!T16+'Вт День 2 Нед 2'!T16+'Ср День 3 Нед 2'!R16+'Чт День 4 Нед 2'!T16+'Чт День 4 Нед 2'!U16+'Пт День 5 Нед 2'!P16+'Сб День 6 Нед 2'!S16","v":{"v":0,"d":"0.0000"}},{"$f":"'Сб День 6 Нед 2'!X16+'Пт День 5 Нед 2'!S16+'Чт День 4 Нед 2'!X16+'Ср День 3 Нед 2'!V16+'Вт День 2 Нед 2'!X16+'Пн 1 день нед 2'!W16","v":{"v":0,"d":"0.0000"}},{"$f":"'Сб День 6 Нед 2'!AB16+'Пт День 5 Нед 2'!W16+'Ср День 3 Нед 2'!#REF!+'Вт День 2 Нед 2'!#REF!+'Пн 1 день нед 2'!AA16","v":{"$error":"#REF!"}},{"$f":"'Сб День 6 Нед 2'!AF16+'Пт День 5 Нед 2'!AA16+'Чт День 4 Нед 2'!AB16+'Ср День 3 Нед 2'!Z16+'Вт День 2 Нед 2'!AB16+'Пн 1 день нед 2'!AE16","v":{"v":0,"d":"0.0000"}},{"v":0,"d":"0.000"}]
[10,"кефир 2,5%","кг",{"$f":"'Пн 1 день нед 2'!K17+'Пн 1 день нед 2'!L17+'Вт День 2 Нед 2'!M17+'Ср День 3 Нед 2'!K17+'Чт День 4 Нед 2'!L17+'Чт День 4 Нед 2'!M17+'Пт День 5 Нед 2'!K17+'Сб День 6 Нед 2'!L17","v":{"v":0,"d":"0.0000"}},{"$f":"'Пн 1 день нед 2'!S17+'Пн 1 день нед 2'!T17+'Вт День 2 Нед 2'!T17+'Ср День 3 Нед 2'!R17+'Чт День 4 Нед 2'!T17+'Чт День 4 Нед 2'!U17+'Пт День 5 Нед 2'!P17+'Сб День 6 Нед 2'!S17","v":{"v":0,"d":"0.0000"}},{"$f":"'Сб День 6 Нед 2'!X17+'Пт День 5 Нед 2'!S17+'Чт День 4 Нед 2'!X17+'Ср День 3 Нед 2'!V17+'Вт День 2 Нед 2'!X17+'Пн 1 день нед 2'!W17","v":{"v":0,"d":"0.0000"}},{"$f":"'Сб День 6 Нед 2'!AB17+'Пт День 5 Нед 2'!W17+'Ср День 3 Нед 2'!#REF!+'Вт День 2 Нед 2'!#REF!+'Пн 1 день нед 2'!AA17","v":{"$error":"#REF!"}},{"$f":"'Сб День 6 Нед 2'!AF17+'Пт День 5 Нед 2'!AA17+'Чт День 4 Нед 2'!AB17+'Ср День 3 Нед 2'!Z17+'Вт День 2 Нед 2'!AB17+'Пн 1 день нед 2'!AE17","v":{"v":0,"d":"0.0000"}},{"v":0,"d":"0.000"}]
[11,"ряженка 2,5%","кг",{"$f":"'Пн 1 день нед 2'!K18+'Пн 1 день нед 2'!L18+'Вт День 2 Нед 2'!M18+'Ср День 3 Нед 2'!K18+'Чт День 4 Нед 2'!L18+'Чт День 4 Нед 2'!M18+'Пт День 5 Нед 2'!K18+'Сб День 6 Нед 2'!L18","v":{"v":0,"d":"0.0000"}},{"$f":"'Пн 1 день нед 2'!S18+'Пн 1 день нед 2'!T18+'Вт День 2 Нед 2'!T18+'Ср День 3 Нед 2'!R18+'Чт День 4 Нед 2'!T18+'Чт День 4 Нед 2'!U18+'Пт День 5 Нед 2'!P18+'Сб День 6 Нед 2'!S18","v":{"v":0,"d":"0.0000"}},{"$f":"'Сб День 6 Нед 2'!X18+'Пт День 5 Нед 2'!S18+'Чт День 4 Нед 2'!X18+'Ср День 3 Нед 2'!V18+'Вт День 2 Нед 2'!X18+'Пн 1 день нед 2'!W18","v":{"v":0,"d":"0.0000"}},{"$f":"'Сб День 6 Нед 2'!AB18+'Пт День 5 Нед 2'!W18+'Ср День 3 Нед 2'!#REF!+'Вт День 2 Нед 2'!#REF!+'Пн 1 день нед 2'!AA18","v":{"$error":"#REF!"}},{"$f":"'Сб День 6 Нед 2'!AF18+'Пт День 5 Нед 2'!AA18+'Чт День 4 Нед 2'!AB18+'Ср День 3 Нед 2'!Z18+'Вт День 2 Нед 2'!AB18+'Пн 1 день нед 2'!AE18","v":{"v":0,"d":"0.0000"}},{"v":0,"d":"0.000"}]
[12,"напиток ацидофильный","кг",{"$f":"'Пн 1 день нед 2'!K19+'Пн 1 день нед 2'!L19+'Вт День 2 Нед 2'!M19+'Ср День 3 Нед 2'!K19+'Чт День 4 Нед 2'!L19+'Чт День 4 Нед 2'!M19+'Пт День 5 Нед 2'!K19+'Сб День 6 Нед 2'!L19","v":{"v":0,"d":"0.0000"}},{"$f":"'Пн 1 день нед 2'!S19+'Пн 1 день нед 2'!T19+'Вт День 2 Нед 2'!T19+'Ср День 3 Нед 2'!R19+'Чт День 4 Нед 2'!T19+'Чт День 4 Нед 2'!U19+'Пт День 5 Нед 2'!P19+'Сб День 6 Нед 2'!S19","v":{"v":0,"d":"0.0000"}},{"$f":"'Сб День 6 Нед 2'!X19+'Пт День 5 Нед 2'!S19+'Чт День 4 Нед 2'!X19+'Ср День 3 Нед 2'!V19+'Вт День 2 Нед 2'!X19+'Пн 1 день нед 2'!W19","v":{"v":0,"d":"0.0000"}},{"$f":"'Сб День 6 Нед 2'!AB19+'Пт День 5 Нед 2'!W19+'Ср День 3 Нед 2'!#REF!+'Вт День 2 Нед 2'!#REF!+'Пн 1 день нед 2'!AA19","v":{"$error":"#REF!"}},{"$f":"'Сб День 6 Нед 2'!AF19+'Пт День 5 Нед 2'!AA19+'Чт День 4 Нед 2'!AB19+'Ср День 3 Нед 2'!Z19+'Вт День 2 Нед 2'!AB19+'Пн 1 день нед 2'!AE19","v":{"v":0,"d":"0.0000"}},{"v":0,"d":"0.000"}]
[null,"Масло / сыр ",{"$nulls":4},{"$f":"'Сб День 6 Нед 2'!AB20+'Пт День 5 Нед 2'!W20+'Ср День 3 Нед 2'!#REF!+'Вт День 2 Нед 2'!#REF!+'Пн 1 день нед 2'!AA20","v":{"$error":"#REF!"}}]
[13,"масло растительное","кг",{"$f":"'Пн 1 день нед 2'!K21+'Пн 1 день нед 2'!L21+'Вт День 2 Нед 2'!M21+'Ср День 3 Нед 2'!K21+'Чт День 4 Нед 2'!L21+'Чт День 4 Нед 2'!M21+'Пт День 5 Нед 2'!K21+'Сб День 6 Нед 2'!L21","v":0.0317},{"$f":"'Пн 1 день нед 2'!S21+'Пн 1 день нед 2'!T21+'Вт День 2 Нед 2'!T21+'Ср День 3 Нед 2'!R21+'Чт День 4 Нед 2'!T21+'Чт День 4 Нед 2'!U21+'Пт День 5 Нед 2'!P21+'Сб День 6 Нед 2'!S21","v":{"v":0.029700000000000004,"d":"0.0297"}},{"$f":"'Сб День 6 Нед 2'!X21+'Пт День 5 Нед 2'!S21+'Чт День 4 Нед 2'!X21+'Ср День 3 Нед 2'!V21+'Вт День 2 Нед 2'!X21+'Пн 1 день нед 2'!W21","v":{"v":0,"d":"0.0000"}},{"$f":"'Сб День 6 Нед 2'!AB21+'Пт День 5 Нед 2'!W21+'Ср День 3 Нед 2'!#REF!+'Вт День 2 Нед 2'!#REF!+'Пн 1 день нед 2'!AA21","v":{"$error":"#REF!"}},{"$f":"'Сб День 6 Нед 2'!AF21+'Пт День 5 Нед 2'!AA21+'Чт День 4 Нед 2'!AB21+'Ср День 3 Нед 2'!Z21+'Вт День 2 Нед 2'!AB21+'Пн 1 день нед 2'!AE21","v":0.0225},{"v":0.0839,"d":"0.084"}]
[14,"масло сливочное","кг",{"$f":"'Пн 1 день нед 2'!K22+'Пн 1 день нед 2'!L22+'Вт День 2 Нед 2'!M22+'Ср День 3 Нед 2'!K22+'Чт День 4 Нед 2'!L22+'Чт День 4 Нед 2'!M22+'Пт День 5 Нед 2'!K22+'Сб День 6 Нед 2'!L22","v":0.0168},{"$f":"'Пн 1 день нед 2'!S22+'Пн 1 день нед 2'!T22+'Вт День 2 Нед 2'!T22+'Ср День 3 Нед 2'!R22+'Чт День 4 Нед 2'!T22+'Чт День 4 Нед 2'!U22+'Пт День 5 Нед 2'!P22+'Сб День 6 Нед 2'!S22","v":0.0194},{"$f":"'Сб День 6 Нед 2'!X22+'Пт День 5 Нед 2'!S22+'Чт День 4 Нед 2'!X22+'Ср День 3 Нед 2'!V22+'Вт День 2 Нед 2'!X22+'Пн 1 день нед 2'!W22","v":{"v":0,"d":"0.0000"}},{"$f":"'Сб День 6 Нед 2'!AB22+'Пт День 5 Нед 2'!W22+'Ср День 3 Нед 2'!#REF!+'Вт День 2 Нед 2'!#REF!+'Пн 1 день нед 2'!AA22","v":{"$error":"#REF!"}},{"$f":"'Сб День 6 Нед 2'!AF22+'Пт День 5 Нед 2'!AA22+'Чт День 4 Нед 2'!AB22+'Ср День 3 Нед 2'!Z22+'Вт День 2 Нед 2'!AB22+'Пн 1 день нед 2'!AE22","v":{"v":0,"d":"0.0000"}},{"v":0.036199999999999996,"d":"0.036"}]
[15,"сыр голландский","кг",{"$f":"'Пн 1 день нед 2'!K23+'Пн 1 день нед 2'!L23+'Вт День 2 Нед 2'!M23+'Ср День 3 Нед 2'!K23+'Чт День 4 Нед 2'!L23+'Чт День 4 Нед 2'!M23+'Пт День 5 Нед 2'!K23+'Сб День 6 Нед 2'!L23","v":{"v":0.025500000000000002,"d":"0.0255"}},{"$f":"'Пн 1 день нед 2'!S23+'Пн 1 день нед 2'!T23+'Вт День 2 Нед 2'!T23+'Ср День 3 Нед 2'!R23+'Чт День 4 Нед 2'!T23+'Чт День 4 Нед 2'!U23+'Пт День 5 Нед 2'!P23+'Сб День 6 Нед 2'!S23","v":{"v":0,"d":"0.0000"}},{"$f":"'Сб День 6 Нед 2'!X23+'Пт День 5 Нед 2'!S23+'Чт День 4 Нед 2'!X23+'Ср День 3 Нед 2'!V23+'Вт День 2 Нед 2'!X23+'Пн 1 день нед 2'!W23","v":{"v":0,"d":"0.0000"}},{"$f":"'Сб День 6 Нед 2'!AB23+'Пт День 5 Нед 2'!W23+'Ср День 3 Нед 2'!#REF!+'Вт День 2 Нед 2'!#REF!+'Пн 1 день нед 2'!AA23","v":{"$error":"#REF!"}},{"$f":"'Сб День 6 Нед 2'!AF23+'Пт День 5 Нед 2'!AA23+'Чт День 4 Нед 2'!AB23+'Ср День 3 Нед 2'!Z23+'Вт День 2 Нед 2'!AB23+'Пн 1 день нед 2'!AE23","v":{"v":0,"d":"0.0000"}},{"v":0.025500000000000002,"d":"0.026"}]
[null,"Мясо",{"$nulls":4},{"$f":"'Сб День 6 Нед 2'!AB24+'Пт День 5 Нед 2'!W24+'Ср День 3 Нед 2'!#REF!+'Вт День 2 Нед 2'!#REF!+'Пн 1 день нед 2'!AA24","v":{"$error":"#REF!"}}]
[16,"говядина (котлетное мясо) ","кг",{"$f":"'Пн 1 день нед 2'!K25+'Пн 1 день нед 2'!L25+'Вт День 2 Нед 2'!M25+'Ср День 3 Нед 2'!K25+'Чт День 4 Нед 2'!L25+'Чт День 4 Нед 2'!M25+'Пт День 5 Нед 2'!K25+'Сб День 6 Нед 2'!L25","v":{"v":0.042,"d":"0.0420"}},{"$f":"'Пн 1 день нед 2'!S25+'Пн 1 день нед 2'!T25+'Вт День 2 Нед 2'!T25+'Ср День 3 Нед 2'!R25+'Чт День 4 Нед 2'!T25+'Чт День 4 Нед 2'!U25+'Пт День 5 Нед 2'!P25+'Сб День 6 Нед 2'!S25","v":{"v":0.042,"d":"0.0420"}},{"$f":"'Сб День 6 Нед 2'!X25+'Пт День 5 Нед 2'!S25+'Чт День 4 Нед 2'!X25+'Ср День 3 Нед 2'!V25+'Вт День 2 Нед 2'!X25+'Пн 1 день нед 2'!W25","v":{"v":0,"d":"0.0000"}},{"$f":"'Сб День 6 Нед 2'!AB25+'Пт День 5 Нед 2'!W25+'Ср День 3 Нед 2'!#REF!+'Вт День 2 Нед 2'!#REF!+'Пн 1 день нед 2'!AA25","v":{"$error":"#REF!"}},{"$f":"'Сб День 6 Нед 2'!AF25+'Пт День 5 Нед 2'!AA25+'Чт День 4 Нед 2'!AB25+'Ср День 3 Нед 2'!Z25+'Вт День 2 Нед 2'!AB25+'Пн 1 день нед 2'!AE25","v":{"v":0,"d":"0.0000"}},0.084]
[17,"фарш говяжий","кг",{"$f":"'Пн 1 день нед 2'!K26+'Пн 1 день нед 2'!L26+'Вт День 2 Нед 2'!M26+'Ср День 3 Нед 2'!K26+'Чт День 4 Нед 2'!L26+'Чт День 4 Нед 2'!M26+'Пт День 5 Нед 2'!K26+'Сб День 6 Нед 2'!L26","v":{"v":0.038,"d":"0.0380"}},{"$f":"'Пн 1 день нед 2'!S26+'Пн 1 день нед 2'!T26+'Вт День 2 Нед 2'!T26+'Ср День 3 Нед 2'!R26+'Чт День 4 Нед 2'!T26+'Чт День 4 Нед 2'!U26+'Пт День 5 Нед 2'!P26+'Сб День 6 Нед 2'!S26","v":{"v":0,"d":"0.0000"}},{"$f":"'Сб День 6 Нед 2'!X26+'Пт День 5 Нед 2'!S26+'Чт День 4 Нед 2'!X26+'Ср День 3 Нед 2'!V26+'Вт День 2 Нед 2'!X26+'Пн 1 день нед 2'!W26","v":{"v":0,"d":"0.0000"}},{"$f":"'Сб День 6 Нед 2'!AB26+'Пт День 5 Нед 2'!W26+'Ср День 3 Нед 2'!#REF!+'Вт День 2 Нед 2'!#REF!+'Пн 1 день нед 2'!AA26","v":{"$error":"#REF!"}},{"$f":"'Сб День 6 Нед 2'!AF26+'Пт День 5 Нед 2'!AA26+'Чт День 4 Нед 2'!AB26+'Ср День 3 Нед 2'!Z26+'Вт День 2 Нед 2'!AB26+'Пн 1 день нед 2'!AE26","v":{"v":0.02394,"d":"0.0239"}},{"v":0.061939999999999995,"d":"0.062"}]
[18,"говядина лопатка б/к","кг",{"$f":"'Пн 1 день нед 2'!K27+'Пн 1 день нед 2'!L27+'Вт День 2 Нед 2'!M27+'Ср День 3 Нед 2'!K27+'Чт День 4 Нед 2'!L27+'Чт День 4 Нед 2'!M27+'Пт День 5 Нед 2'!K27+'Сб День 6 Нед 2'!L27","v":{"v":0,"d":"0.0000"}},{"$f":"'Пн 1 день нед 2'!S27+'Пн 1 день нед 2'!T27+'Вт День 2 Нед 2'!T27+'Ср День 3 Нед 2'!R27+'Чт День 4 Нед 2'!T27+'Чт День 4 Нед 2'!U27+'Пт День 5 Нед 2'!P27+'Сб День 6 Нед 2'!S27","v":{"v":0,"d":"0.0000"}},{"$f":"'Сб День 6 Нед 2'!X27+'Пт День 5 Нед 2'!S27+'Чт День 4 Нед 2'!X27+'Ср День 3 Нед 2'!V27+'Вт День 2 Нед 2'!X27+'Пн 1 день нед 2'!W27","v":{"v":0,"d":"0.0000"}},{"$f":"'Сб День 6 Нед 2'!AB27+'Пт День 5 Нед 2'!W27+'Ср День 3 Нед 2'!#REF!+'Вт День 2 Нед 2'!#REF!+'Пн 1 день нед 2'!AA27","v":{"$error":"#REF!"}},{"$f":"'Сб День 6 Нед 2'!AF27+'Пт День 5 Нед 2'!AA27+'Чт День 4 Нед 2'!AB27+'Ср День 3 Нед 2'!Z27+'Вт День 2 Нед 2'!AB27+'Пн 1 день нед 2'!AE27","v":{"v":0,"d":"0.0000"}},{"v":0,"d":"0.000"}]
[19,"сосиски","кг",{"$f":"'Пн 1 день нед 2'!K28+'Пн 1 день нед 2'!L28+'Вт День 2 Нед 2'!M28+'Ср День 3 Нед 2'!K28+'Чт День 4 Нед 2'!L28+'Чт День 4 Нед 2'!M28+'Пт День 5 Нед 2'!K28+'Сб День 6 Нед 2'!L28","v":{"v":0.107,"d":"0.1070"}},{"$f":"'Пн 1 день нед 2'!S28+'Пн 1 день нед 2'!T28+'Вт День 2 Нед 2'!T28+'Ср День 3 Нед 2'!R28+'Чт День 4 Нед 2'!T28+'Чт День 4 Нед 2'!U28+'Пт День 5 Нед 2'!P28+'Сб День 6 Нед 2'!S28","v":{"v":0.107,"d":"0.1070"}},{"$f":"'Сб День 6 Нед 2'!X28+'Пт День 5 Нед 2'!S28+'Чт День 4 Нед 2'!X28+'Ср День 3 Нед 2'!V28+'Вт День 2 Нед 2'!X28+'Пн 1 день нед 2'!W28","v":{"v":0,"d":"0.0000"}},{"$f":"'Сб День 6 Нед 2'!AB28+'Пт День 5 Нед 2'!W28+'Ср День 3 Нед 2'!#REF!+'Вт День 2 Нед 2'!#REF!+'Пн 1 день нед 2'!AA28","v":{"$error":"#REF!"}},{"$f":"'Сб День 6 Нед 2'!AF28+'Пт День 5 Нед 2'!AA28+'Чт День 4 Нед 2'!AB28+'Ср День 3 Нед 2'!Z28+'Вт День 2 Нед 2'!AB28+'Пн 1 день нед 2'!AE28","v":{"v":0,"d":"0.0000"}},0.214]
[20,"колбаса п/к \"Халяль\"","кг",{"$f":"'Пн 1 день нед 2'!K29+'Пн 1 день нед 2'!L29+'Вт День 2 Нед 2'!M29+'Ср День 3 Нед 2'!K29+'Чт День 4 Нед 2'!L29+'Чт День 4 Нед 2'!M29+'Пт День 5 Нед 2'!K29+'Сб День 6 Нед 2'!L29","v":{"v":0,"d":"0.0000"}},{"$f":"'Пн 1 день нед 2'!S29+'Пн 1 день нед 2'!T29+'Вт День 2 Нед 2'!T29+'Ср День 3 Нед 2'!R29+'Чт День 4 Нед 2'!T29+'Чт День 4 Нед 2'!U29+'Пт День 5 Нед 2'!P29+'Сб День 6 Нед 2'!S29","v":{"v":0,"d":"0.0000"}},{"$f":"'Сб День 6 Нед 2'!X29+'Пт День 5 Нед 2'!S29+'Чт День 4 Нед 2'!X29+'Ср День 3 Нед 2'!V29+'Вт День 2 Нед 2'!X29+'Пн 1 день нед 2'!W29","v":{"v":0,"d":"0.0000"}},{"$f":"'Сб День 6 Нед 2'!AB29+'Пт День 5 Нед 2'!W29+'Ср День 3 Нед 2'!#REF!+'Вт День 2 Нед 2'!#REF!+'Пн 1 день нед 2'!AA29","v":{"$error":"#REF!"}},{"$f":"'Сб День 6 Нед 2'!AF29+'Пт День 5 Нед 2'!AA29+'Чт День 4 Нед 2'!AB29+'Ср День 3 Нед 2'!Z29+'Вт День 2 Нед 2'!AB29+'Пн 1 день нед 2'!AE29","v":{"v":0,"d":"0.0000"}},{"v":0,"d":"0.000"}]
[21,"куриное бедро","кг",{"$f":"'Пн 1 день нед 2'!K30+'Пн 1 день нед 2'!L30+'Вт День 2 Нед 2'!M30+'Ср День 3 Нед 2'!K30+'Чт День 4 Нед 2'!L30+'Чт День 4 Нед 2'!M30+'Пт День 5 Нед 2'!K30+'Сб День 6 Нед 2'!L30","v":{"v":0,"d":"0.0000"}},{"$f":"'Пн 1 день нед 2'!S30+'Пн 1 день нед 2'!T30+'Вт День 2 Нед 2'!T30+'Ср День 3 Нед 2'!R30+'Чт День 4 Нед 2'!T30+'Чт День 4 Нед 2'!U30+'Пт День 5 Нед 2'!P30+'Сб День 6 Нед 2'!S30","v":{"v":0,"d":"0.0000"}},{"$f":"'Сб День 6 Нед 2'!X30+'Пт День 5 Нед 2'!S30+'Чт День 4 Нед 2'!X30+'Ср День 3 Нед 2'!V30+'Вт День 2 Нед 2'!X30+'Пн 1 день нед 2'!W30","v":{"v":0,"d":"0.0000"}},{"$f":"'Сб День 6 Нед 2'!AB30+'Пт День 5 Нед 2'!W30+'Ср День 3 Нед 2'!#REF!+'Вт День 2 Нед 2'!#REF!+'Пн 1 день нед 2'!AA30","v":{"$error":"#REF!"}},{"$f":"'Сб День 6 Нед 2'!AF30+'Пт День 5 Нед 2'!AA30+'Чт День 4 Нед 2'!AB30+'Ср День 3 Нед 2'!Z30+'Вт День 2 Нед 2'!AB30+'Пн 1 день нед 2'!AE30","v":{"v":0,"d":"0.0000"}},{"v":0,"d":"0.000"}]
[22,"куриная грудка","кг",{"$f":"'Пн 1 день нед 2'!K31+'Пн 1 день нед 2'!L31+'Вт День 2 Нед 2'!M31+'Ср День 3 Нед 2'!K31+'Чт День 4 Нед 2'!L31+'Чт День 4 Нед 2'!M31+'Пт День 5 Нед 2'!K31+'Сб День 6 Нед 2'!L31","v":{"v":0.31308,"d":"0.3131"}},{"$f":"'Пн 1 день нед 2'!S31+'Пн 1 день нед 2'!T31+'Вт День 2 Нед 2'!T31+'Ср День 3 Нед 2'!R31+'Чт День 4 Нед 2'!T31+'Чт День 4 Нед 2'!U31+'Пт День 5 Нед 2'!P31+'Сб День 6 Нед 2'!S31","v":{"v":0.31308,"d":"0.3131"}},{"$f":"'Сб День 6 Нед 2'!X31+'Пт День 5 Нед 2'!S31+'Чт День 4 Нед 2'!X31+'Ср День 3 Нед 2'!V31+'Вт День 2 Нед 2'!X31+'Пн 1 день нед 2'!W31","v":{"v":0,"d":"0.0000"}},{"$f":"'Сб День 6 Нед 2'!AB31+'Пт День 5 Нед 2'!W31+'Ср День 3 Нед 2'!#REF!+'Вт День 2 Нед 2'!#REF!+'Пн 1 день нед 2'!AA31","v":{"$error":"#REF!"}},{"$f":"'Сб День 6 Нед 2'!AF31+'Пт День 5 Нед 2'!AA31+'Чт День 4 Нед 2'!AB31+'Ср День 3 Нед 2'!Z31+'Вт День 2 Нед 2'!AB31+'Пн 1 день нед 2'!AE31","v":{"v":0.02634,"d":"0.0263"}},{"v":0.6525000000000001,"d":"0.653"}]
[23,"куры/цыплята потрош","кг",{"$f":"'Пн 1 день нед 2'!K32+'Пн 1 день нед 2'!L32+'Вт День 2 Нед 2'!M32+'Ср День 3 Нед 2'!K32+'Чт День 4 Нед 2'!L32+'Чт День 4 Нед 2'!M32+'Пт День 5 Нед 2'!K32+'Сб День 6 Нед 2'!L32","v":{"v":0,"d":"0.0000"}},{"$f":"'Пн 1 день нед 2'!S32+'Пн 1 день нед 2'!T32+'Вт День 2 Нед 2'!T32+'Ср День 3 Нед 2'!R32+'Чт День 4 Нед 2'!T32+'Чт День 4 Нед 2'!U32+'Пт День 5 Нед 2'!P32+'Сб День 6 Нед 2'!S32","v":{"v":0,"d":"0.0000"}},{"$f":"'Сб День 6 Нед 2'!X32+'Пт День 5 Нед 2'!S32+'Чт День 4 Нед 2'!X32+'Ср День 3 Нед 2'!V32+'Вт День 2 Нед 2'!X32+'Пн 1 день нед 2'!W32","v":{"v":0,"d":"0.0000"}},{"$f":"'Сб День 6 Нед 2'!AB32+'Пт День 5 Нед 2'!W32+'Ср День 3 Нед 2'!#REF!+'Вт День 2 Нед 2'!#REF!+'Пн 1 день нед 2'!AA32","v":{"$error":"#REF!"}},{"$f":"'Сб День 6 Нед 2'!AF32+'Пт День 5 Нед 2'!AA32+'Чт День 4 Нед 2'!AB32+'Ср День 3 Нед 2'!Z32+'Вт День 2 Нед 2'!AB32+'Пн 1 день нед 2'!AE32","v":{"v":0,"d":"0.0000"}},{"v":0,"d":"0.000"}]
[24,"фарш куриный","кг",{"$f":"'Пн 1 день нед 2'!K33+'Пн 1 день нед 2'!L33+'Вт День 2 Нед 2'!M33+'Ср День 3 Нед 2'!K33+'Чт День 4 Нед 2'!L33+'Чт День 4 Нед 2'!M33+'Пт День 5 Нед 2'!K33+'Сб День 6 Нед 2'!L33","v":{"v":0,"d":"0.0000"}},{"$f":"'Пн 1 день нед 2'!S33+'Пн 1 день нед 2'!T33+'Вт День 2 Нед 2'!T33+'Ср День 3 Нед 2'!R33+'Чт День 4 Нед 2'!T33+'Чт День 4 Нед 2'!U33+'Пт День 5 Нед 2'!P33+'Сб День 6 Нед 2'!S33","v":{"v":0,"d":"0.0000"}},{"$f":"'Сб День 6 Нед 2'!X33+'Пт День 5 Нед 2'!S33+'Чт День 4 Нед 2'!X33+'Ср День 3 Нед 2'!V33+'Вт День 2 Нед 2'!X33+'Пн 1 день нед 2'!W33","v":{"v":0,"d":"0.0000"}},{"$f":"'Сб День 6 Нед 2'!AB33+'Пт День 5 Нед 2'!W33+'Ср День 3 Нед 2'!#REF!+'Вт День 2 Нед 2'!#REF!+'Пн 1 день нед 2'!AA33","v":{"$error":"#REF!"}},{"$f":"'Сб День 6 Нед 2'!AF33+'Пт День 5 Нед 2'!AA33+'Чт День 4 Нед 2'!AB33+'Ср День 3 Нед 2'!Z33+'Вт День 2 Нед 2'!AB33+'Пн 1 день нед 2'!AE33","v":{"v":0,"d":"0.0000"}},{"v":0,"d":"0.000"}]
[25,"индейка бедро филе","кг",{"$f":"'Пн 1 день нед 2'!K34+'Пн 1 день нед 2'!L34+'Вт День 2 Нед 2'!M34+'Ср День 3 Нед 2'!K34+'Чт День 4 Нед 2'!L34+'Чт День 4 Нед 2'!M34+'Пт День 5 Нед 2'!K34+'Сб День 6 Нед 2'!L34","v":{"v":0,"d":"0.0000"}},{"$f":"'Пн 1 день нед 2'!S34+'Пн 1 день нед 2'!T34+'Вт День 2 Нед 2'!T34+'Ср День 3 Нед 2'!R34+'Чт День 4 Нед 2'!T34+'Чт День 4 Нед 2'!U34+'Пт День 5 Нед 2'!P34+'Сб День 6 Нед 2'!S34","v":{"v":0,"d":"0.0000"}},{"$f":"'Сб День 6 Нед 2'!X34+'Пт День 5 Нед 2'!S34+'Чт День 4 Нед 2'!X34+'Ср День 3 Нед 2'!V34+'Вт День 2 Нед 2'!X34+'Пн 1 день нед 2'!W34","v":{"v":0,"d":"0.0000"}},{"$f":"'Сб День 6 Нед 2'!AB34+'Пт День 5 Нед 2'!W34+'Ср День 3 Нед 2'!#REF!+'Вт День 2 Нед 2'!#REF!+'Пн 1 день нед 2'!AA34","v":{"$error":"#REF!"}},{"$f":"'Сб День 6 Нед 2'!AF34+'Пт День 5 Нед 2'!AA34+'Чт День 4 Нед 2'!AB34+'Ср День 3 Нед 2'!Z34+'Вт День 2 Нед 2'!AB34+'Пн 1 день нед 2'!AE34","v":{"v":0,"d":"0.0000"}},{"v":0,"d":"0.000"}]
[26,"индейка грудка филе","кг",{"$f":"'Пн 1 день нед 2'!K35+'Пн 1 день нед 2'!L35+'Вт День 2 Нед 2'!M35+'Ср День 3 Нед 2'!K35+'Чт День 4 Нед 2'!L35+'Чт День 4 Нед 2'!M35+'Пт День 5 Нед 2'!K35+'Сб День 6 Нед 2'!L35","v":{"v":0,"d":"0.0000"}},{"$f":"'Пн 1 день нед 2'!S35+'Пн 1 день нед 2'!T35+'Вт День 2 Нед 2'!T35+'Ср День 3 Нед 2'!R35+'Чт День 4 Нед 2'!T35+'Чт День 4 Нед 2'!U35+'Пт День 5 Нед 2'!P35+'Сб День 6 Нед 2'!S35","v":{"v":0,"d":"0.0000"}},{"$f":"'Сб День 6 Нед 2'!X35+'Пт День 5 Нед 2'!S35+'Чт День 4 Нед 2'!X35+'Ср День 3 Нед 2'!V35+'Вт День 2 Нед 2'!X35+'Пн 1 день нед 2'!W35","v":{"v":0,"d":"0.0000"}},{"$f":"'Сб День 6 Нед 2'!AB35+'Пт День 5 Нед 2'!W35+'Ср День 3 Нед 2'!#REF!+'Вт День 2 Нед 2'!#REF!+'Пн 1 день нед 2'!AA35","v":{"$error":"#REF!"}},{"$f":"'Сб День 6 Нед 2'!AF35+'Пт День 5 Нед 2'!AA35+'Чт День 4 Нед 2'!AB35+'Ср День 3 Нед 2'!Z35+'Вт День 2 Нед 2'!AB35+'Пн 1 день нед 2'!AE35","v":{"v":0,"d":"0.0000"}},{"v":0,"d":"0.000"}]
[null,"Рыба",{"$nulls":4},{"$f":"'Сб День 6 Нед 2'!AB36+'Пт День 5 Нед 2'!W36+'Ср День 3 Нед 2'!#REF!+'Вт День 2 Нед 2'!#REF!+'Пн 1 день нед 2'!AA36","v":{"$error":"#REF!"}}]
[27,"горбуша ПБГ с/м","кг",{"$f":"'Пн 1 день нед 2'!K37+'Пн 1 день нед 2'!L37+'Вт День 2 Нед 2'!M37+'Ср День 3 Нед 2'!K37+'Чт День 4 Нед 2'!L37+'Чт День 4 Нед 2'!M37+'Пт День 5 Нед 2'!K37+'Сб День 6 Нед 2'!L37","v":{"v":0,"d":"0.0000"}},{"$f":"'Пн 1 день нед 2'!S37+'Пн 1 день нед 2'!T37+'Вт День 2 Нед 2'!T37+'Ср День 3 Нед 2'!R37+'Чт День 4 Нед 2'!T37+'Чт День 4 Нед 2'!U37+'Пт День 5 Нед 2'!P37+'Сб День 6 Нед 2'!S37","v":{"v":0,"d":"0.0000"}},{"$f":"'Сб День 6 Нед 2'!X37+'Пт День 5 Нед 2'!S37+'Чт День 4 Нед 2'!X37+'Ср День 3 Нед 2'!V37+'Вт День 2 Нед 2'!X37+'Пн 1 день нед 2'!W37","v":{"v":0,"d":"0.0000"}},{"$f":"'Сб День 6 Нед 2'!AB37+'Пт День 5 Нед 2'!W37+'Ср День 3 Нед 2'!#REF!+'Вт День 2 Нед 2'!#REF!+'Пн 1 день нед 2'!AA37","v":{"$error":"#REF!"}},{"$f":"'Сб День 6 Нед 2'!AF37+'Пт День 5 Нед 2'!AA37+'Чт День 4 Нед 2'!AB37+'Ср День 3 Нед 2'!Z37+'Вт День 2 Нед 2'!AB37+'Пн 1 день нед 2'!AE37","v":{"v":0,"d":"0.0000"}},{"v":0,"d":"0.000"}]
[28,"минтай б/г с/м","кг",{"$f":"'Пн 1 день нед 2'!K38+'Пн 1 день нед 2'!L38+'Вт День 2 Нед 2'!M38+'Ср День 3 Нед 2'!K38+'Чт День 4 Нед 2'!L38+'Чт День 4 Нед 2'!M38+'Пт День 5 Нед 2'!K38+'Сб День 6 Нед 2'!L38","v":{"v":0.07706,"d":"0.0771"}},{"$f":"'Пн 1 день нед 2'!S38+'Пн 1 день нед 2'!T38+'Вт День 2 Нед 2'!T38+'Ср День 3 Нед 2'!R38+'Чт День 4 Нед 2'!T38+'Чт День 4 Нед 2'!U38+'Пт День 5 Нед 2'!P38+'Сб День 6 Нед 2'!S38","v":{"v":0,"d":"0.0000"}},{"$f":"'Сб День 6 Нед 2'!X38+'Пт День 5 Нед 2'!S38+'Чт День 4 Нед 2'!X38+'Ср День 3 Нед 2'!V38+'Вт День 2 Нед 2'!X38+'Пн 1 день нед 2'!W38","v":{"v":0,"d":"0.0000"}},{"$f":"'Сб День 6 Нед 2'!AB38+'Пт День 5 Нед 2'!W38+'Ср День 3 Нед 2'!#REF!+'Вт День 2 Нед 2'!#REF!+'Пн 1 день нед 2'!AA38","v":{"$error":"#REF!"}},{"$f":"'Сб День 6 Нед 2'!AF38+'Пт День 5 Нед 2'!AA38+'Чт День 4 Нед 2'!AB38+'Ср День 3 Нед 2'!Z38+'Вт День 2 Нед 2'!AB38+'Пн 1 день нед 2'!AE38","v":{"v":0,"d":"0.0000"}},{"v":0.07706,"d":"0.077"}]
[29,"фарш минтая","кг",{"$f":"'Пн 1 день нед 2'!K39+'Пн 1 день нед 2'!L39+'Вт День 2 Нед 2'!M39+'Ср День 3 Нед 2'!K39+'Чт День 4 Нед 2'!L39+'Чт День 4 Нед 2'!M39+'Пт День 5 Нед 2'!K39+'Сб День 6 Нед 2'!L39","v":{"v":0.05906,"d":"0.0591"}},{"$f":"'Пн 1 день нед 2'!S39+'Пн 1 день нед 2'!T39+'Вт День 2 Нед 2'!T39+'Ср День 3 Нед 2'!R39+'Чт День 4 Нед 2'!T39+'Чт День 4 Нед 2'!U39+'Пт День 5 Нед 2'!P39+'Сб День 6 Нед 2'!S39","v":{"v":0,"d":"0.0000"}},{"$f":"'Сб День 6 Нед 2'!X39+'Пт День 5 Нед 2'!S39+'Чт День 4 Нед 2'!X39+'Ср День 3 Нед 2'!V39+'Вт День 2 Нед 2'!X39+'Пн 1 день нед 2'!W39","v":{"v":0,"d":"0.0000"}},{"$f":"'Сб День 6 Нед 2'!AB39+'Пт День 5 Нед 2'!W39+'Ср День 3 Нед 2'!#REF!+'Вт День 2 Нед 2'!#REF!+'Пн 1 день нед 2'!AA39","v":{"$error":"#REF!"}},{"$f":"'Сб День 6 Нед 2'!AF39+'Пт День 5 Нед 2'!AA39+'Чт День 4 Нед 2'!AB39+'Ср День 3 Нед 2'!Z39+'Вт День 2 Нед 2'!AB39+'Пн 1 день нед 2'!AE39","v":{"v":0,"d":"0.0000"}},{"v":0.05906,"d":"0.059"}]
[null,"Сыпучка",{"$nulls":4},{"$f":"'Сб День 6 Нед 2'!AB40+'Пт День 5 Нед 2'!W40+'Ср День 3 Нед 2'!#REF!+'Вт День 2 Нед 2'!#REF!+'Пн 1 день нед 2'!AA40","v":{"$error":"#REF!"}}]
[30,"вермишель","кг",{"$f":"'Пн 1 день нед 2'!K41+'Пн 1 день нед 2'!L41+'Вт День 2 Нед 2'!M41+'Ср День 3 Нед 2'!K41+'Чт День 4 Нед 2'!L41+'Чт День 4 Нед 2'!M41+'Пт День 5 Нед 2'!K41+'Сб День 6 Нед 2'!L41","v":{"v":0,"d":"0.0000"}},{"$f":"'Пн 1 день нед 2'!S41+'Пн 1 день нед 2'!T41+'Вт День 2 Нед 2'!T41+'Ср День 3 Нед 2'!R41+'Чт День 4 Нед 2'!T41+'Чт День 4 Нед 2'!U41+'Пт День 5 Нед 2'!P41+'Сб День 6 Нед 2'!S41","v":{"v":0,"d":"0.0000"}},{"$f":"'Сб День 6 Нед 2'!X41+'Пт День 5 Нед 2'!S41+'Чт День 4 Нед 2'!X41+'Ср День 3 Нед 2'!V41+'Вт День 2 Нед 2'!X41+'Пн 1 день нед 2'!W41","v":{"v":0,"d":"0.0000"}},{"$f":"'Сб День 6 Нед 2'!AB41+'Пт День 5 Нед 2'!W41+'Ср День 3 Нед 2'!#REF!+'Вт День 2 Нед 2'!#REF!+'Пн 1 день нед 2'!AA41","v":{"$error":"#REF!"}},{"$f":"'Сб День 6 Нед 2'!AF41+'Пт День 5 Нед 2'!AA41+'Чт День 4 Нед 2'!AB41+'Ср День 3 Нед 2'!Z41+'Вт День 2 Нед 2'!AB41+'Пн 1 день нед 2'!AE41","v":{"v":0.01,"d":"0.0100"}},{"v":0.01,"d":"0.010"}]
[31,"геркулес","кг",{"$f":"'Пн 1 день нед 2'!K42+'Пн 1 день нед 2'!L42+'Вт День 2 Нед 2'!M42+'Ср День 3 Нед 2'!K42+'Чт День 4 Нед 2'!L42+'Чт День 4 Нед 2'!M42+'Пт День 5 Нед 2'!K42+'Сб День 6 Нед 2'!L42","v":{"v":0,"d":"0.0000"}},{"$f":"'Пн 1 день нед 2'!S42+'Пн 1 день нед 2'!T42+'Вт День 2 Нед 2'!T42+'Ср День 3 Нед 2'!R42+'Чт День 4 Нед 2'!T42+'Чт День 4 Нед 2'!U42+'Пт День 5 Нед 2'!P42+'Сб День 6 Нед 2'!S42","v":{"v":0,"d":"0.0000"}},{"$f":"'Сб День 6 Нед 2'!X42+'Пт День 5 Нед 2'!S42+'Чт День 4 Нед 2'!X42+'Ср День 3 Нед 2'!V42+'Вт День 2 Нед 2'!X42+'Пн 1 день нед 2'!W42","v":{"v":0,"d":"0.0000"}},{"$f":"'Сб День 6 Нед 2'!AB42+'Пт День 5 Нед 2'!W42+'Ср День 3 Нед 2'!#REF!+'Вт День 2 Нед 2'!#REF!+'Пн 1 день нед 2'!AA42","v":{"$error":"#REF!"}},{"$f":"'Сб День 6 Нед 2'!AF42+'Пт День 5 Нед 2'!AA42+'Чт День 4 Нед 2'!AB42+'Ср День 3 Нед 2'!Z42+'Вт День 2 Нед 2'!AB42+'Пн 1 день нед 2'!AE42","v":{"v":0,"d":"0.0000"}},{"v":0,"d":"0.000"}]
[32,"горох","кг",{"$f":"'Пн 1 день нед 2'!K43+'Пн 1 день нед 2'!L43+'Вт День 2 Нед 2'!M43+'Ср День 3 Нед 2'!K43+'Чт День 4 Нед 2'!L43+'Чт День 4 Нед 2'!M43+'Пт День 5 Нед 2'!K43+'Сб День 6 Нед 2'!L43","v":{"v":0.092,"d":"0.0920"}},{"$f":"'Пн 1 день нед 2'!S43+'Пн 1 день нед 2'!T43+'Вт День 2 Нед 2'!T43+'Ср День 3 Нед 2'!R43+'Чт День 4 Нед 2'!T43+'Чт День 4 Нед 2'!U43+'Пт День 5 Нед 2'!P43+'Сб День 6 Нед 2'!S43","v":{"v":0.102,"d":"0.1020"}},{"$f":"'Сб День 6 Нед 2'!X43+'Пт День 5 Нед 2'!S43+'Чт День 4 Нед 2'!X43+'Ср День 3 Нед 2'!V43+'Вт День 2 Нед 2'!X43+'Пн 1 день нед 2'!W43","v":{"v":0,"d":"0.0000"}},{"$f":"'Сб День 6 Нед 2'!AB43+'Пт День 5 Нед 2'!W43+'Ср День 3 Нед 2'!#REF!+'Вт День 2 Нед 2'!#REF!+'Пн 1 день нед 2'!AA43","v":{"$error":"#REF!"}},{"$f":"'Сб День 6 Нед 2'!AF43+'Пт День 5 Нед 2'!AA43+'Чт День 4 Нед 2'!AB43+'Ср День 3 Нед 2'!Z43+'Вт День 2 Нед 2'!AB43+'Пн 1 день нед 2'!AE43","v":0.0203},{"v":0.2143,"d":"0.214"}]
[33,"гречневая крупа","кг",{"$f":"'Пн 1 день нед 2'!K44+'Пн 1 день нед 2'!L44+'Вт День 2 Нед 2'!M44+'Ср День 3 Нед 2'!K44+'Чт День 4 Нед 2'!L44+'Чт День 4 Нед 2'!M44+'Пт День 5 Нед 2'!K44+'Сб День 6 Нед 2'!L44","v":{"v":0.144,"d":"0.1440"}},{"$f":"'Пн 1 день нед 2'!S44+'Пн 1 день нед 2'!T44+'Вт День 2 Нед 2'!T44+'Ср День 3 Нед 2'!R44+'Чт День 4 Нед 2'!T44+'Чт День 4 Нед 2'!U44+'Пт День 5 Нед 2'!P44+'Сб День 6 Нед 2'!S44","v":0.1728},{"$f":"'Сб День 6 Нед 2'!X44+'Пт День 5 Нед 2'!S44+'Чт День 4 Нед 2'!X44+'Ср День 3 Нед 2'!V44+'Вт День 2 Нед 2'!X44+'Пн 1 день нед 2'!W44","v":{"v":0,"d":"0.0000"}},{"$f":"'Сб День 6 Нед 2'!AB44+'Пт День 5 Нед 2'!W44+'Ср День 3 Нед 2'!#REF!+'Вт День 2 Нед 2'!#REF!+'Пн 1 день нед 2'!AA44","v":{"$error":"#REF!"}},{"$f":"'Сб День 6 Нед 2'!AF44+'Пт День 5 Нед 2'!AA44+'Чт День 4 Нед 2'!AB44+'Ср День 3 Нед 2'!Z44+'Вт День 2 Нед 2'!AB44+'Пн 1 день нед 2'!AE44","v":{"v":0,"d":"0.0000"}},{"v":0.31679999999999997,"d":"0.317"}]
[34,"кукурузная крупа","кг",{"$f":"'Пн 1 день нед 2'!K45+'Пн 1 день нед 2'!L45+'Вт День 2 Нед 2'!M45+'Ср День 3 Нед 2'!K45+'Чт День 4 Нед 2'!L45+'Чт День 4 Нед 2'!M45+'Пт День 5 Нед 2'!K45+'Сб День 6 Нед 2'!L45","v":{"v":0,"d":"0.0000"}},{"$f":"'Пн 1 день нед 2'!S45+'Пн 1 день нед 2'!T45+'Вт День 2 Нед 2'!T45+'Ср День 3 Нед 2'!R45+'Чт День 4 Нед 2'!T45+'Чт День 4 Нед 2'!U45+'Пт День 5 Нед 2'!P45+'Сб День 6 Нед 2'!S45","v":{"v":0,"d":"0.0000"}},{"$f":"'Сб День 6 Нед 2'!X45+'Пт День 5 Нед 2'!S45+'Чт День 4 Нед 2'!X45+'Ср День 3 Нед 2'!V45+'Вт День 2 Нед 2'!X45+'Пн 1 день нед 2'!W45","v":{"v":0,"d":"0.0000"}},{"$f":"'Сб День 6 Нед 2'!AB45+'Пт День 5 Нед 2'!W45+'Ср День 3 Нед 2'!#REF!+'Вт День 2 Нед 2'!#REF!+'Пн 1 день нед 2'!AA45","v":{"$error":"#REF!"}},{"$f":"'Сб День 6 Нед 2'!AF45+'Пт День 5 Нед 2'!AA45+'Чт День 4 Нед 2'!AB45+'Ср День 3 Нед 2'!Z45+'Вт День 2 Нед 2'!AB45+'Пн 1 день нед 2'!AE45","v":{"v":0,"d":"0.0000"}},{"v":0,"d":"0.000"}]
[35,"макаронные изделия","кг",{"$f":"'Пн 1 день нед 2'!K46+'Пн 1 день нед 2'!L46+'Вт День 2 Нед 2'!M46+'Ср День 3 Нед 2'!K46+'Чт День 4 Нед 2'!L46+'Чт День 4 Нед 2'!M46+'Пт День 5 Нед 2'!K46+'Сб День 6 Нед 2'!L46","v":0.0732},{"$f":"'Пн 1 день нед 2'!S46+'Пн 1 день нед 2'!T46+'Вт День 2 Нед 2'!T46+'Ср День 3 Нед 2'!R46+'Чт День 4 Нед 2'!T46+'Чт День 4 Нед 2'!U46+'Пт День 5 Нед 2'!P46+'Сб День 6 Нед 2'!S46","v":{"v":0.081,"d":"0.0810"}},{"$f":"'Сб День 6 Нед 2'!X46+'Пт День 5 Нед 2'!S46+'Чт День 4 Нед 2'!X46+'Ср День 3 Нед 2'!V46+'Вт День 2 Нед 2'!X46+'Пн 1 день нед 2'!W46","v":{"v":0,"d":"0.0000"}},{"$f":"'Сб День 6 Нед 2'!AB46+'Пт День 5 Нед 2'!W46+'Ср День 3 Нед 2'!#REF!+'Вт День 2 Нед 2'!#REF!+'Пн 1 день нед 2'!AA46","v":{"$error":"#REF!"}},{"$f":"'Сб День 6 Нед 2'!AF46+'Пт День 5 Нед 2'!AA46+'Чт День 4 Нед 2'!AB46+'Ср День 3 Нед 2'!Z46+'Вт День 2 Нед 2'!AB46+'Пн 1 день нед 2'!AE46","v":{"v":0,"d":"0.0000"}},{"v":0.1542,"d":"0.154"}]
[36,"манная крупа","кг",{"$f":"'Пн 1 день нед 2'!K47+'Пн 1 день нед 2'!L47+'Вт День 2 Нед 2'!M47+'Ср День 3 Нед 2'!K47+'Чт День 4 Нед 2'!L47+'Чт День 4 Нед 2'!M47+'Пт День 5 Нед 2'!K47+'Сб День 6 Нед 2'!L47","v":{"v":0,"d":"0.0000"}},{"$f":"'Пн 1 день нед 2'!S47+'Пн 1 день нед 2'!T47+'Вт День 2 Нед 2'!T47+'Ср День 3 Нед 2'!R47+'Чт День 4 Нед 2'!T47+'Чт День 4 Нед 2'!U47+'Пт День 5 Нед 2'!P47+'Сб День 6 Нед 2'!S47","v":{"v":0,"d":"0.0000"}},{"$f":"'Сб День 6 Нед 2'!X47+'Пт День 5 Нед 2'!S47+'Чт День 4 Нед 2'!X47+'Ср День 3 Нед 2'!V47+'Вт День 2 Нед 2'!X47+'Пн 1 день нед 2'!W47","v":{"v":0,"d":"0.0000"}},{"$f":"'Сб День 6 Нед 2'!AB47+'Пт День 5 Нед 2'!W47+'Ср День 3 Нед 2'!#REF!+'Вт День 2 Нед 2'!#REF!+'Пн 1 день нед 2'!AA47","v":{"$error":"#REF!"}},{"$f":"'Сб День 6 Нед 2'!AF47+'Пт День 5 Нед 2'!AA47+'Чт День 4 Нед 2'!AB47+'Ср День 3 Нед 2'!Z47+'Вт День 2 Нед 2'!AB47+'Пн 1 день нед 2'!AE47","v":{"v":0,"d":"0.0000"}},{"v":0,"d":"0.000"}]
[37,"перловая крупа","кг",{"$f":"'Пн 1 день нед 2'!K48+'Пн 1 день нед 2'!L48+'Вт День 2 Нед 2'!M48+'Ср День 3 Нед 2'!K48+'Чт День 4 Нед 2'!L48+'Чт День 4 Нед 2'!M48+'Пт День 5 Нед 2'!K48+'Сб День 6 Нед 2'!L48","v":{"v":0,"d":"0.0000"}},{"$f":"'Пн 1 день нед 2'!S48+'Пн 1 день нед 2'!T48+'Вт День 2 Нед 2'!T48+'Ср День 3 Нед 2'!R48+'Чт День 4 Нед 2'!T48+'Чт День 4 Нед 2'!U48+'Пт День 5 Нед 2'!P48+'Сб День 6 Нед 2'!S48","v":{"v":0,"d":"0.0000"}},{"$f":"'Сб День 6 Нед 2'!X48+'Пт День 5 Нед 2'!S48+'Чт День 4 Нед 2'!X48+'Ср День 3 Нед 2'!V48+'Вт День 2 Нед 2'!X48+'Пн 1 день нед 2'!W48","v":{"v":0,"d":"0.0000"}},{"$f":"'Сб День 6 Нед 2'!AB48+'Пт День 5 Нед 2'!W48+'Ср День 3 Нед 2'!#REF!+'Вт День 2 Нед 2'!#REF!+'Пн 1 день нед 2'!AA48","v":{"$error":"#REF!"}},{"$f":"'Сб День 6 Нед 2'!AF48+'Пт День 5 Нед 2'!AA48+'Чт День 4 Нед 2'!AB48+'Ср День 3 Нед 2'!Z48+'Вт День 2 Нед 2'!AB48+'Пн 1 день нед 2'!AE48","v":{"v":0,"d":"0.0000"}},{"v":0,"d":"0.000"}]
[38,"полбяная крупа","кг",{"$f":"'Пн 1 день нед 2'!K49+'Пн 1 день нед 2'!L49+'Вт День 2 Нед 2'!M49+'Ср День 3 Нед 2'!K49+'Чт День 4 Нед 2'!L49+'Чт День 4 Нед 2'!M49+'Пт День 5 Нед 2'!K49+'Сб День 6 Нед 2'!L49","v":{"v":0,"d":"0.0000"}},{"$f":"'Пн 1 день нед 2'!S49+'Пн 1 день нед 2'!T49+'Вт День 2 Нед 2'!T49+'Ср День 3 Нед 2'!R49+'Чт День 4 Нед 2'!T49+'Чт День 4 Нед 2'!U49+'Пт День 5 Нед 2'!P49+'Сб День 6 Нед 2'!S49","v":{"v":0,"d":"0.0000"}},{"$f":"'Сб День 6 Нед 2'!X49+'Пт День 5 Нед 2'!S49+'Чт День 4 Нед 2'!X49+'Ср День 3 Нед 2'!V49+'Вт День 2 Нед 2'!X49+'Пн 1 день нед 2'!W49","v":{"v":0,"d":"0.0000"}},{"$f":"'Сб День 6 Нед 2'!AB49+'Пт День 5 Нед 2'!W49+'Ср День 3 Нед 2'!#REF!+'Вт День 2 Нед 2'!#REF!+'Пн 1 день нед 2'!AA49","v":{"$error":"#REF!"}},{"$f":"'Сб День 6 Нед 2'!AF49+'Пт День 5 Нед 2'!AA49+'Чт День 4 Нед 2'!AB49+'Ср День 3 Нед 2'!Z49+'Вт День 2 Нед 2'!AB49+'Пн 1 день нед 2'!AE49","v":{"v":0,"d":"0.0000"}},{"v":0,"d":"0.000"}]
[39,"пшеничная крупа","кг",{"$f":"'Пн 1 день нед 2'!K50+'Пн 1 день нед 2'!L50+'Вт День 2 Нед 2'!M50+'Ср День 3 Нед 2'!K50+'Чт День 4 Нед 2'!L50+'Чт День 4 Нед 2'!M50+'Пт День 5 Нед 2'!K50+'Сб День 6 Нед 2'!L50","v":{"v":0,"d":"0.0000"}},{"$f":"'Пн 1 день нед 2'!S50+'Пн 1 день нед 2'!T50+'Вт День 2 Нед 2'!T50+'Ср День 3 Нед 2'!R50+'Чт День 4 Нед 2'!T50+'Чт День 4 Нед 2'!U50+'Пт День 5 Нед 2'!P50+'Сб День 6 Нед 2'!S50","v":{"v":0,"d":"0.0000"}},{"$f":"'Сб День 6 Нед 2'!X50+'Пт День 5 Нед 2'!S50+'Чт День 4 Нед 2'!X50+'Ср День 3 Нед 2'!V50+'Вт День 2 Нед 2'!X50+'Пн 1 день нед 2'!W50","v":{"v":0,"d":"0.0000"}},{"$f":"'Сб День 6 Нед 2'!AB50+'Пт День 5 Нед 2'!W50+'Ср День 3 Нед 2'!#REF!+'Вт День 2 Нед 2'!#REF!+'Пн 1 день нед 2'!AA50","v":{"$error":"#REF!"}},{"$f":"'Сб День 6 Нед 2'!AF50+'Пт День 5 Нед 2'!AA50+'Чт День 4 Нед 2'!AB50+'Ср День 3 Нед 2'!Z50+'Вт День 2 Нед 2'!AB50+'Пн 1 день нед 2'!AE50","v":{"v":0,"d":"0.0000"}},{"v":0,"d":"0.000"}]
[40,"пшено","кг",{"$f":"'Пн 1 день нед 2'!K51+'Пн 1 день нед 2'!L51+'Вт День 2 Нед 2'!M51+'Ср День 3 Нед 2'!K51+'Чт День 4 Нед 2'!L51+'Чт День 4 Нед 2'!M51+'Пт День 5 Нед 2'!K51+'Сб День 6 Нед 2'!L51","v":{"v":0,"d":"0.0000"}},{"$f":"'Пн 1 день нед 2'!S51+'Пн 1 день нед 2'!T51+'Вт День 2 Нед 2'!T51+'Ср День 3 Нед 2'!R51+'Чт День 4 Нед 2'!T51+'Чт День 4 Нед 2'!U51+'Пт День 5 Нед 2'!P51+'Сб День 6 Нед 2'!S51","v":{"v":0,"d":"0.0000"}},{"$f":"'Сб День 6 Нед 2'!X51+'Пт День 5 Нед 2'!S51+'Чт День 4 Нед 2'!X51+'Ср День 3 Нед 2'!V51+'Вт День 2 Нед 2'!X51+'Пн 1 день нед 2'!W51","v":{"v":0,"d":"0.0000"}},{"$f":"'Сб День 6 Нед 2'!AB51+'Пт День 5 Нед 2'!W51+'Ср День 3 Нед 2'!#REF!+'Вт День 2 Нед 2'!#REF!+'Пн 1 день нед 2'!AA51","v":{"$error":"#REF!"}},{"$f":"'Сб День 6 Нед 2'!AF51+'Пт День 5 Нед 2'!AA51+'Чт День 4 Нед 2'!AB51+'Ср День 3 Нед 2'!Z51+'Вт День 2 Нед 2'!AB51+'Пн 1 день нед 2'!AE51","v":{"v":0,"d":"0.0000"}},{"v":0,"d":"0.000"}]
[41,"рис","кг",{"$f":"'Пн 1 день нед 2'!K52+'Пн 1 день нед 2'!L52+'Вт День 2 Нед 2'!M52+'Ср День 3 Нед 2'!K52+'Чт День 4 Нед 2'!L52+'Чт День 4 Нед 2'!M52+'Пт День 5 Нед 2'!K52+'Сб День 6 Нед 2'!L52","v":{"v":0.055999999999999994,"d":"0.0560"}},{"$f":"'Пн 1 день нед 2'!S52+'Пн 1 день нед 2'!T52+'Вт День 2 Нед 2'!T52+'Ср День 3 Нед 2'!R52+'Чт День 4 Нед 2'!T52+'Чт День 4 Нед 2'!U52+'Пт День 5 Нед 2'!P52+'Сб День 6 Нед 2'!S52","v":{"v":0.051,"d":"0.0510"}},{"$f":"'Сб День 6 Нед 2'!X52+'Пт День 5 Нед 2'!S52+'Чт День 4 Нед 2'!X52+'Ср День 3 Нед 2'!V52+'Вт День 2 Нед 2'!X52+'Пн 1 день нед 2'!W52","v":{"v":0,"d":"0.0000"}},{"$f":"'Сб День 6 Нед 2'!AB52+'Пт День 5 Нед 2'!W52+'Ср День 3 Нед 2'!#REF!+'Вт День 2 Нед 2'!#REF!+'Пн 1 день нед 2'!AA52","v":{"$error":"#REF!"}},{"$f":"'Сб День 6 Нед 2'!AF52+'Пт День 5 Нед 2'!AA52+'Чт День 4 Нед 2'!AB52+'Ср День 3 Нед 2'!Z52+'Вт День 2 Нед 2'!AB52+'Пн 1 день нед 2'!AE52","v":{"v":0.02,"d":"0.0200"}},{"v":0.12699999999999997,"d":"0.127"}]
[42,"ячневая крупа","кг",{"$f":"'Пн 1 день нед 2'!K53+'Пн 1 день нед 2'!L53+'Вт День 2 Нед 2'!M53+'Ср День 3 Нед 2'!K53+'Чт День 4 Нед 2'!L53+'Чт День 4 Нед 2'!M53+'Пт День 5 Нед 2'!K53+'Сб День 6 Нед 2'!L53","v":{"v":0,"d":"0.0000"}},{"$f":"'Пн 1 день нед 2'!S53+'Пн 1 день нед 2'!T53+'Вт День 2 Нед 2'!T53+'Ср День 3 Нед 2'!R53+'Чт День 4 Нед 2'!T53+'Чт День 4 Нед 2'!U53+'Пт День 5 Нед 2'!P53+'Сб День 6 Нед 2'!S53","v":{"v":0,"d":"0.0000"}},{"$f":"'Сб День 6 Нед 2'!X53+'Пт День 5 Нед 2'!S53+'Чт День 4 Нед 2'!X53+'Ср День 3 Нед 2'!V53+'Вт День 2 Нед 2'!X53+'Пн 1 день нед 2'!W53","v":{"v":0,"d":"0.0000"}},{"$f":"'Сб День 6 Нед 2'!AB53+'Пт День 5 Нед 2'!W53+'Ср День 3 Нед 2'!#REF!+'Вт День 2 Нед 2'!#REF!+'Пн 1 день нед 2'!AA53","v":{"$error":"#REF!"}},{"$f":"'Сб День 6 Нед 2'!AF53+'Пт День 5 Нед 2'!AA53+'Чт День 4 Нед 2'!AB53+'Ср День 3 Нед 2'!Z53+'Вт День 2 Нед 2'!AB53+'Пн 1 день нед 2'!AE53","v":{"v":0,"d":"0.0000"}},{"v":0,"d":"0.000"}]
[43,"лапша домашняя п/ф","кг",{"$f":"'Пн 1 день нед 2'!K54+'Пн 1 день нед 2'!L54+'Вт День 2 Нед 2'!M54+'Ср День 3 Нед 2'!K54+'Чт День 4 Нед 2'!L54+'Чт День 4 Нед 2'!M54+'Пт День 5 Нед 2'!K54+'Сб День 6 Нед 2'!L54","v":{"v":0,"d":"0.0000"}},{"$f":"'Пн 1 день нед 2'!S54+'Пн 1 день нед 2'!T54+'Вт День 2 Нед 2'!T54+'Ср День 3 Нед 2'!R54+'Чт День 4 Нед 2'!T54+'Чт День 4 Нед 2'!U54+'Пт День 5 Нед 2'!P54+'Сб День 6 Нед 2'!S54","v":{"v":0,"d":"0.0000"}},{"$f":"'Сб День 6 Нед 2'!X54+'Пт День 5 Нед 2'!S54+'Чт День 4 Нед 2'!X54+'Ср День 3 Нед 2'!V54+'Вт День 2 Нед 2'!X54+'Пн 1 день нед 2'!W54","v":{"v":0,"d":"0.0000"}},{"$f":"'Сб День 6 Нед 2'!AB54+'Пт День 5 Нед 2'!W54+'Ср День 3 Нед 2'!#REF!+'Вт День 2 Нед 2'!#REF!+'Пн 1 день нед 2'!AA54","v":{"$error":"#REF!"}},{"$f":"'Сб День 6 Нед 2'!AF54+'Пт День 5 Нед 2'!AA54+'Чт День 4 Нед 2'!AB54+'Ср День 3 Нед 2'!Z54+'Вт День 2 Нед 2'!AB54+'Пн 1 день нед 2'!AE54","v":{"v":0,"d":"0.0000"}},{"v":0,"d":"0.000"}]
[44,"мука пшеничная в/с","кг",{"$f":"'Пн 1 день нед 2'!K55+'Пн 1 день нед 2'!L55+'Вт День 2 Нед 2'!M55+'Ср День 3 Нед 2'!K55+'Чт День 4 Нед 2'!L55+'Чт День 4 Нед 2'!M55+'Пт День 5 Нед 2'!K55+'Сб День 6 Нед 2'!L55","v":0.0083},{"$f":"'Пн 1 день нед 2'!S55+'Пн 1 день нед 2'!T55+'Вт День 2 Нед 2'!T55+'Ср День 3 Нед 2'!R55+'Чт День 4 Нед 2'!T55+'Чт День 4 Нед 2'!U55+'Пт День 5 Нед 2'!P55+'Сб День 6 Нед 2'!S55","v":0.0013},{"$f":"'Сб День 6 Нед 2'!X55+'Пт День 5 Нед 2'!S55+'Чт День 4 Нед 2'!X55+'Ср День 3 Нед 2'!V55+'Вт День 2 Нед 2'!X55+'Пн 1 день нед 2'!W55","v":{"v":0,"d":"0.0000"}},{"$f":"'Сб День 6 Нед 2'!AB55+'Пт День 5 Нед 2'!W55+'Ср День 3 Нед 2'!#REF!+'Вт День 2 Нед 2'!#REF!+'Пн 1 день нед 2'!AA55","v":{"$error":"#REF!"}},{"$f":"'Сб День 6 Нед 2'!AF55+'Пт День 5 Нед 2'!AA55+'Чт День 4 Нед 2'!AB55+'Ср День 3 Нед 2'!Z55+'Вт День 2 Нед 2'!AB55+'Пн 1 день нед 2'!AE55","v":{"v":0,"d":"0.0000"}},{"v":0.009600000000000001,"d":"0.010"}]
[45,"сахарный песок","кг",{"$f":"'Пн 1 день нед 2'!K56+'Пн 1 день нед 2'!L56+'Вт День 2 Нед 2'!M56+'Ср День 3 Нед 2'!K56+'Чт День 4 Нед 2'!L56+'Чт День 4 Нед 2'!M56+'Пт День 5 Нед 2'!K56+'Сб День 6 Нед 2'!L56","v":{"v":0.08030000000000001,"d":"0.0803"}},{"$f":"'Пн 1 день нед 2'!S56+'Пн 1 день нед 2'!T56+'Вт День 2 Нед 2'!T56+'Ср День 3 Нед 2'!R56+'Чт День 4 Нед 2'!T56+'Чт День 4 Нед 2'!U56+'Пт День 5 Нед 2'!P56+'Сб День 6 Нед 2'!S56","v":{"v":0.08030000000000001,"d":"0.0803"}},{"$f":"'Сб День 6 Нед 2'!X56+'Пт День 5 Нед 2'!S56+'Чт День 4 Нед 2'!X56+'Ср День 3 Нед 2'!V56+'Вт День 2 Нед 2'!X56+'Пн 1 день нед 2'!W56","v":{"v":0.060000000000000005,"d":"0.0600"}},{"$f":"'Сб День 6 Нед 2'!AB56+'Пт День 5 Нед 2'!W56+'Ср День 3 Нед 2'!#REF!+'Вт День 2 Нед 2'!#REF!+'Пн 1 день нед 2'!AA56","v":{"$error":"#REF!"}},{"$f":"'Сб День 6 Нед 2'!AF56+'Пт День 5 Нед 2'!AA56+'Чт День 4 Нед 2'!AB56+'Ср День 3 Нед 2'!Z56+'Вт День 2 Нед 2'!AB56+'Пн 1 день нед 2'!AE56","v":{"v":0.05,"d":"0.0500"}},{"v":0.2706,"d":"0.271"}]
[46,"соль","кг",{"$f":"'Пн 1 день нед 2'!K57+'Пн 1 день нед 2'!L57+'Вт День 2 Нед 2'!M57+'Ср День 3 Нед 2'!K57+'Чт День 4 Нед 2'!L57+'Чт День 4 Нед 2'!M57+'Пт День 5 Нед 2'!K57+'Сб День 6 Нед 2'!L57","v":{"v":0.01125,"d":"0.0113"}},{"$f":"'Пн 1 день нед 2'!S57+'Пн 1 день нед 2'!T57+'Вт День 2 Нед 2'!T57+'Ср День 3 Нед 2'!R57+'Чт День 4 Нед 2'!T57+'Чт День 4 Нед 2'!U57+'Пт День 5 Нед 2'!P57+'Сб День 6 Нед 2'!S57","v":{"v":0.00695,"d":"0.0070"}},{"$f":"'Сб День 6 Нед 2'!X57+'Пт День 5 Нед 2'!S57+'Чт День 4 Нед 2'!X57+'Ср День 3 Нед 2'!V57+'Вт День 2 Нед 2'!X57+'Пн 1 день нед 2'!W57","v":{"v":0,"d":"0.0000"}},{"$f":"'Сб День 6 Нед 2'!AB57+'Пт День 5 Нед 2'!W57+'Ср День 3 Нед 2'!#REF!+'Вт День 2 Нед 2'!#REF!+'Пн 1 день нед 2'!AA57","v":{"$error":"#REF!"}},{"$f":"'Сб День 6 Нед 2'!AF57+'Пт День 5 Нед 2'!AA57+'Чт День 4 Нед 2'!AB57+'Ср День 3 Нед 2'!Z57+'Вт День 2 Нед 2'!AB57+'Пн 1 день нед 2'!AE57","v":{"v":3.7999999999999996E-3,"d":"0.0038"}},0.022]
[47,"сухари панировочные","кг",{"$f":"'Пн 1 день нед 2'!K58+'Пн 1 день нед 2'!L58+'Вт День 2 Нед 2'!M58+'Ср День 3 Нед 2'!K58+'Чт День 4 Нед 2'!L58+'Чт День 4 Нед 2'!M58+'Пт День 5 Нед 2'!K58+'Сб День 6 Нед 2'!L58","v":{"v":0.020999999999999998,"d":"0.0210"}},{"$f":"'Пн 1 день нед 2'!S58+'Пн 1 день нед 2'!T58+'Вт День 2 Нед 2'!T58+'Ср День 3 Нед 2'!R58+'Чт День 4 Нед 2'!T58+'Чт День 4 Нед 2'!U58+'Пт День 5 Нед 2'!P58+'Сб День 6 Нед 2'!S58","v":0.0135},{"$f":"'Сб День 6 Нед 2'!X58+'Пт День 5 Нед 2'!S58+'Чт День 4 Нед 2'!X58+'Ср День 3 Нед 2'!V58+'Вт День 2 Нед 2'!X58+'Пн 1 день нед 2'!W58","v":{"v":0,"d":"0.0000"}},{"$f":"'Сб День 6 Нед 2'!AB58+'Пт День 5 Нед 2'!W58+'Ср День 3 Нед 2'!#REF!+'Вт День 2 Нед 2'!#REF!+'Пн 1 день нед 2'!AA58","v":{"$error":"#REF!"}},{"$f":"'Сб День 6 Нед 2'!AF58+'Пт День 5 Нед 2'!AA58+'Чт День 4 Нед 2'!AB58+'Ср День 3 Нед 2'!Z58+'Вт День 2 Нед 2'!AB58+'Пн 1 день нед 2'!AE58","v":{"v":0,"d":"0.0000"}},{"v":0.034499999999999996,"d":"0.035"}]
[48,"дрожжи сухие","кг",{"$f":"'Пн 1 день нед 2'!K59+'Пн 1 день нед 2'!L59+'Вт День 2 Нед 2'!M59+'Ср День 3 Нед 2'!K59+'Чт День 4 Нед 2'!L59+'Чт День 4 Нед 2'!M59+'Пт День 5 Нед 2'!K59+'Сб День 6 Нед 2'!L59","v":{"v":0,"d":"0.0000"}},{"$f":"'Пн 1 день нед 2'!S59+'Пн 1 день нед 2'!T59+'Вт День 2 Нед 2'!T59+'Ср День 3 Нед 2'!R59+'Чт День 4 Нед 2'!T59+'Чт День 4 Нед 2'!U59+'Пт День 5 Нед 2'!P59+'Сб День 6 Нед 2'!S59","v":{"v":0,"d":"0.0000"}},{"$f":"'Сб День 6 Нед 2'!X59+'Пт День 5 Нед 2'!S59+'Чт День 4 Нед 2'!X59+'Ср День 3 Нед 2'!V59+'Вт День 2 Нед 2'!X59+'Пн 1 день нед 2'!W59","v":{"v":0,"d":"0.0000"}},{"$f":"'Сб День 6 Нед 2'!AB59+'Пт День 5 Нед 2'!W59+'Ср День 3 Нед 2'!#REF!+'Вт День 2 Нед 2'!#REF!+'Пн 1 день нед 2'!AA59","v":{"$error":"#REF!"}},{"$f":"'Сб День 6 Нед 2'!AF59+'Пт День 5 Нед 2'!AA59+'Чт День 4 Нед 2'!AB59+'Ср День 3 Нед 2'!Z59+'Вт День 2 Нед 2'!AB59+'Пн 1 день нед 2'!AE59","v":{"v":0,"d":"0.0000"}},{"v":0,"d":"0.000"}]
[49,"фасоль","кг",{"$f":"'Пн 1 день нед 2'!K60+'Пн 1 день нед 2'!L60+'Вт День 2 Нед 2'!M60+'Ср День 3 Нед 2'!K60+'Чт День 4 Нед 2'!L60+'Чт День 4 Нед 2'!M60+'Пт День 5 Нед 2'!K60+'Сб День 6 Нед 2'!L60","v":{"v":0,"d":"0.0000"}},{"$f":"'Пн 1 день нед 2'!S60+'Пн 1 день нед 2'!T60+'Вт День 2 Нед 2'!T60+'Ср День 3 Нед 2'!R60+'Чт День 4 Нед 2'!T60+'Чт День 4 Нед 2'!U60+'Пт День 5 Нед 2'!P60+'Сб День 6 Нед 2'!S60","v":{"v":0,"d":"0.0000"}},{"$f":"'Сб День 6 Нед 2'!X60+'Пт День 5 Нед 2'!S60+'Чт День 4 Нед 2'!X60+'Ср День 3 Нед 2'!V60+'Вт День 2 Нед 2'!X60+'Пн 1 день нед 2'!W60","v":{"v":0,"d":"0.0000"}},{"$f":"'Сб День 6 Нед 2'!AB60+'Пт День 5 Нед 2'!W60+'Ср День 3 Нед 2'!#REF!+'Вт День 2 Нед 2'!#REF!+'Пн 1 день нед 2'!AA60","v":{"$error":"#REF!"}},{"$f":"'Сб День 6 Нед 2'!AF60+'Пт День 5 Нед 2'!AA60+'Чт День 4 Нед 2'!AB60+'Ср День 3 Нед 2'!Z60+'Вт День 2 Нед 2'!AB60+'Пн 1 день нед 2'!AE60","v":{"v":0,"d":"0.0000"}},{"v":0,"d":"0.000"}]
[null,"Консервы",{"$nulls":4},{"$f":"'Сб День 6 Нед 2'!AB61+'Пт День 5 Нед 2'!W61+'Ср День 3 Нед 2'!#REF!+'Вт День 2 Нед 2'!#REF!+'Пн 1 день нед 2'!AA61","v":{"$error":"#REF!"}}]
[50,"зеленый горошек к/с","кг",{"$f":"'Пн 1 день нед 2'!K62+'Пн 1 день нед 2'!L62+'Вт День 2 Нед 2'!M62+'Ср День 3 Нед 2'!K62+'Чт День 4 Нед 2'!L62+'Чт День 4 Нед 2'!M62+'Пт День 5 Нед 2'!K62+'Сб День 6 Нед 2'!L62","v":{"v":0,"d":"0.0000"}},{"$f":"'Пн 1 день нед 2'!S62+'Пн 1 день нед 2'!T62+'Вт День 2 Нед 2'!T62+'Ср День 3 Нед 2'!R62+'Чт День 4 Нед 2'!T62+'Чт День 4 Нед 2'!U62+'Пт День 5 Нед 2'!P62+'Сб День 6 Нед 2'!S62","v":{"v":0,"d":"0.0000"}},{"$f":"'Сб День 6 Нед 2'!X62+'Пт День 5 Нед 2'!S62+'Чт День 4 Нед 2'!X62+'Ср День 3 Нед 2'!V62+'Вт День 2 Нед 2'!X62+'Пн 1 день нед 2'!W62","v":{"v":0,"d":"0.0000"}},{"$f":"'Сб День 6 Нед 2'!AB62+'Пт День 5 Нед 2'!W62+'Ср День 3 Нед 2'!#REF!+'Вт День 2 Нед 2'!#REF!+'Пн 1 день нед 2'!AA62","v":{"$error":"#REF!"}},{"$f":"'Сб День 6 Нед 2'!AF62+'Пт День 5 Нед 2'!AA62+'Чт День 4 Нед 2'!AB62+'Ср День 3 Нед 2'!Z62+'Вт День 2 Нед 2'!AB62+'Пн 1 день нед 2'!AE62","v":{"v":0,"d":"0.0000"}},{"v":0,"d":"0.000"}]
[51,"кукуруза к/с","кг",{"$f":"'Пн 1 день нед 2'!K63+'Пн 1 день нед 2'!L63+'Вт День 2 Нед 2'!M63+'Ср День 3 Нед 2'!K63+'Чт День 4 Нед 2'!L63+'Чт День 4 Нед 2'!M63+'Пт День 5 Нед 2'!K63+'Сб День 6 Нед 2'!L63","v":{"v":0,"d":"0.0000"}},{"$f":"'Пн 1 день нед 2'!S63+'Пн 1 день нед 2'!T63+'Вт День 2 Нед 2'!T63+'Ср День 3 Нед 2'!R63+'Чт День 4 Нед 2'!T63+'Чт День 4 Нед 2'!U63+'Пт День 5 Нед 2'!P63+'Сб День 6 Нед 2'!S63","v":{"v":0,"d":"0.0000"}},{"$f":"'Сб День 6 Нед 2'!X63+'Пт День 5 Нед 2'!S63+'Чт День 4 Нед 2'!X63+'Ср День 3 Нед 2'!V63+'Вт День 2 Нед 2'!X63+'Пн 1 день нед 2'!W63","v":{"v":0,"d":"0.0000"}},{"$f":"'Сб День 6 Нед 2'!AB63+'Пт День 5 Нед 2'!W63+'Ср День 3 Нед 2'!#REF!+'Вт День 2 Нед 2'!#REF!+'Пн 1 день нед 2'!AA63","v":{"$error":"#REF!"}},{"$f":"'Сб День 6 Нед 2'!AF63+'Пт День 5 Нед 2'!AA63+'Чт День 4 Нед 2'!AB63+'Ср День 3 Нед 2'!Z63+'Вт День 2 Нед 2'!AB63+'Пн 1 день нед 2'!AE63","v":{"v":0,"d":"0.0000"}},{"v":0,"d":"0.000"}]
[52,"фасоль к/с","кг",{"$f":"'Пн 1 день нед 2'!K64+'Пн 1 день нед 2'!L64+'Вт День 2 Нед 2'!M64+'Ср День 3 Нед 2'!K64+'Чт День 4 Нед 2'!L64+'Чт День 4 Нед 2'!M64+'Пт День 5 Нед 2'!K64+'Сб День 6 Нед 2'!L64","v":{"v":0,"d":"0.0000"}},{"$f":"'Пн 1 день нед 2'!S64+'Пн 1 день нед 2'!T64+'Вт День 2 Нед 2'!T64+'Ср День 3 Нед 2'!R64+'Чт День 4 Нед 2'!T64+'Чт День 4 Нед 2'!U64+'Пт День 5 Нед 2'!P64+'Сб День 6 Нед 2'!S64","v":{"v":0,"d":"0.0000"}},{"$f":"'Сб День 6 Нед 2'!X64+'Пт День 5 Нед 2'!S64+'Чт День 4 Нед 2'!X64+'Ср День 3 Нед 2'!V64+'Вт День 2 Нед 2'!X64+'Пн 1 день нед 2'!W64","v":{"v":0,"d":"0.0000"}},{"$f":"'Сб День 6 Нед 2'!AB64+'Пт День 5 Нед 2'!W64+'Ср День 3 Нед 2'!#REF!+'Вт День 2 Нед 2'!#REF!+'Пн 1 день нед 2'!AA64","v":{"$error":"#REF!"}},{"$f":"'Сб День 6 Нед 2'!AF64+'Пт День 5 Нед 2'!AA64+'Чт День 4 Нед 2'!AB64+'Ср День 3 Нед 2'!Z64+'Вт День 2 Нед 2'!AB64+'Пн 1 день нед 2'!AE64","v":{"v":0,"d":"0.0000"}},{"v":0,"d":"0.000"}]
[53,"икра кабач/икра баклаж","кг",{"$f":"'Пн 1 день нед 2'!K65+'Пн 1 день нед 2'!L65+'Вт День 2 Нед 2'!M65+'Ср День 3 Нед 2'!K65+'Чт День 4 Нед 2'!L65+'Чт День 4 Нед 2'!M65+'Пт День 5 Нед 2'!K65+'Сб День 6 Нед 2'!L65","v":{"v":0,"d":"0.0000"}},{"$f":"'Пн 1 день нед 2'!S65+'Пн 1 день нед 2'!T65+'Вт День 2 Нед 2'!T65+'Ср День 3 Нед 2'!R65+'Чт День 4 Нед 2'!T65+'Чт День 4 Нед 2'!U65+'Пт День 5 Нед 2'!P65+'Сб День 6 Нед 2'!S65","v":{"v":0,"d":"0.0000"}},{"$f":"'Сб День 6 Нед 2'!X65+'Пт День 5 Нед 2'!S65+'Чт День 4 Нед 2'!X65+'Ср День 3 Нед 2'!V65+'Вт День 2 Нед 2'!X65+'Пн 1 день нед 2'!W65","v":{"v":0,"d":"0.0000"}},{"$f":"'Сб День 6 Нед 2'!AB65+'Пт День 5 Нед 2'!W65+'Ср День 3 Нед 2'!#REF!+'Вт День 2 Нед 2'!#REF!+'Пн 1 день нед 2'!AA65","v":{"$error":"#REF!"}},{"$f":"'Сб День 6 Нед 2'!AF65+'Пт День 5 Нед 2'!AA65+'Чт День 4 Нед 2'!AB65+'Ср День 3 Нед 2'!Z65+'Вт День 2 Нед 2'!AB65+'Пн 1 день нед 2'!AE65","v":{"v":0,"d":"0.0000"}},{"v":0,"d":"0.000"}]
[54,"капуста морская сушеная","кг",{"$f":"'Пн 1 день нед 2'!K66+'Пн 1 день нед 2'!L66+'Вт День 2 Нед 2'!M66+'Ср День 3 Нед 2'!K66+'Чт День 4 Нед 2'!L66+'Чт День 4 Нед 2'!M66+'Пт День 5 Нед 2'!K66+'Сб День 6 Нед 2'!L66","v":{"v":0,"d":"0.0000"}},{"$f":"'Пн 1 день нед 2'!S66+'Пн 1 день нед 2'!T66+'Вт День 2 Нед 2'!T66+'Ср День 3 Нед 2'!R66+'Чт День 4 Нед 2'!T66+'Чт День 4 Нед 2'!U66+'Пт День 5 Нед 2'!P66+'Сб День 6 Нед 2'!S66","v":{"v":0,"d":"0.0000"}},{"$f":"'Сб День 6 Нед 2'!X66+'Пт День 5 Нед 2'!S66+'Чт День 4 Нед 2'!X66+'Ср День 3 Нед 2'!V66+'Вт День 2 Нед 2'!X66+'Пн 1 день нед 2'!W66","v":{"v":0,"d":"0.0000"}},{"$f":"'Сб День 6 Нед 2'!AB66+'Пт День 5 Нед 2'!W66+'Ср День 3 Нед 2'!#REF!+'Вт День 2 Нед 2'!#REF!+'Пн 1 день нед 2'!AA66","v":{"$error":"#REF!"}},{"$f":"'Сб День 6 Нед 2'!AF66+'Пт День 5 Нед 2'!AA66+'Чт День 4 Нед 2'!AB66+'Ср День 3 Нед 2'!Z66+'Вт День 2 Нед 2'!AB66+'Пн 1 день нед 2'!AE66","v":{"v":0,"d":"0.0000"}},{"v":0,"d":"0.000"}]
[55,"капуста квашеная ","кг",{"$f":"'Пн 1 день нед 2'!K67+'Пн 1 день нед 2'!L67+'Вт День 2 Нед 2'!M67+'Ср День 3 Нед 2'!K67+'Чт День 4 Нед 2'!L67+'Чт День 4 Нед 2'!M67+'Пт День 5 Нед 2'!K67+'Сб День 6 Нед 2'!L67","v":{"v":0,"d":"0.0000"}},{"$f":"'Пн 1 день нед 2'!S67+'Пн 1 день нед 2'!T67+'Вт День 2 Нед 2'!T67+'Ср День 3 Нед 2'!R67+'Чт День 4 Нед 2'!T67+'Чт День 4 Нед 2'!U67+'Пт День 5 Нед 2'!P67+'Сб День 6 Нед 2'!S67","v":{"v":0,"d":"0.0000"}},{"$f":"'Сб День 6 Нед 2'!X67+'Пт День 5 Нед 2'!S67+'Чт День 4 Нед 2'!X67+'Ср День 3 Нед 2'!V67+'Вт День 2 Нед 2'!X67+'Пн 1 день нед 2'!W67","v":{"v":0,"d":"0.0000"}},{"$f":"'Сб День 6 Нед 2'!AB67+'Пт День 5 Нед 2'!W67+'Ср День 3 Нед 2'!#REF!+'Вт День 2 Нед 2'!#REF!+'Пн 1 день нед 2'!AA67","v":{"$error":"#REF!"}},{"$f":"'Сб День 6 Нед 2'!AF67+'Пт День 5 Нед 2'!AA67+'Чт День 4 Нед 2'!AB67+'Ср День 3 Нед 2'!Z67+'Вт День 2 Нед 2'!AB67+'Пн 1 день нед 2'!AE67","v":{"v":0,"d":"0.0000"}},{"v":0,"d":"0.000"}]
[56,"молоко сгущенное  ","кг",{"$f":"'Пн 1 день нед 2'!K68+'Пн 1 день нед 2'!L68+'Вт День 2 Нед 2'!M68+'Ср День 3 Нед 2'!K68+'Чт День 4 Нед 2'!L68+'Чт День 4 Нед 2'!M68+'Пт День 5 Нед 2'!K68+'Сб День 6 Нед 2'!L68","v":{"v":0,"d":"0.0000"}},{"$f":"'Пн 1 день нед 2'!S68+'Пн 1 день нед 2'!T68+'Вт День 2 Нед 2'!T68+'Ср День 3 Нед 2'!R68+'Чт День 4 Нед 2'!T68+'Чт День 4 Нед 2'!U68+'Пт День 5 Нед 2'!P68+'Сб День 6 Нед 2'!S68","v":{"v":0,"d":"0.0000"}},{"$f":"'Сб День 6 Нед 2'!X68+'Пт День 5 Нед 2'!S68+'Чт День 4 Нед 2'!X68+'Ср День 3 Нед 2'!V68+'Вт День 2 Нед 2'!X68+'Пн 1 день нед 2'!W68","v":{"v":0,"d":"0.0000"}},{"$f":"'Сб День 6 Нед 2'!AB68+'Пт День 5 Нед 2'!W68+'Ср День 3 Нед 2'!#REF!+'Вт День 2 Нед 2'!#REF!+'Пн 1 день нед 2'!AA68","v":{"$error":"#REF!"}},{"$f":"'Сб День 6 Нед 2'!AF68+'Пт День 5 Нед 2'!AA68+'Чт День 4 Нед 2'!AB68+'Ср День 3 Нед 2'!Z68+'Вт День 2 Нед 2'!AB68+'Пн 1 день нед 2'!AE68","v":{"v":0,"d":"0.0000"}},{"v":0,"d":"0.000"}]
[57,"огурцы соленые","кг",{"$f":"'Пн 1 день нед 2'!K69+'Пн 1 день нед 2'!L69+'Вт День 2 Нед 2'!M69+'Ср День 3 Нед 2'!K69+'Чт День 4 Нед 2'!L69+'Чт День 4 Нед 2'!M69+'Пт День 5 Нед 2'!K69+'Сб День 6 Нед 2'!L69","v":{"v":0,"d":"0.0000"}},{"$f":"'Пн 1 день нед 2'!S69+'Пн 1 день нед 2'!T69+'Вт День 2 Нед 2'!T69+'Ср День 3 Нед 2'!R69+'Чт День 4 Нед 2'!T69+'Чт День 4 Нед 2'!U69+'Пт День 5 Нед 2'!P69+'Сб День 6 Нед 2'!S69","v":{"v":0,"d":"0.0000"}},{"$f":"'Сб День 6 Нед 2'!X69+'Пт День 5 Нед 2'!S69+'Чт День 4 Нед 2'!X69+'Ср День 3 Нед 2'!V69+'Вт День 2 Нед 2'!X69+'Пн 1 день нед 2'!W69","v":{"v":0,"d":"0.0000"}},{"$f":"'Сб День 6 Нед 2'!AB69+'Пт День 5 Нед 2'!W69+'Ср День 3 Нед 2'!#REF!+'Вт День 2 Нед 2'!#REF!+'Пн 1 день нед 2'!AA69","v":{"$error":"#REF!"}},{"$f":"'Сб День 6 Нед 2'!AF69+'Пт День 5 Нед 2'!AA69+'Чт День 4 Нед 2'!AB69+'Ср День 3 Нед 2'!Z69+'Вт День 2 Нед 2'!AB69+'Пн 1 день нед 2'!AE69","v":0.0273},{"v":0.0273,"d":"0.027"}]
[58,"повидло","кг",{"$f":"'Пн 1 день нед 2'!K70+'Пн 1 день нед 2'!L70+'Вт День 2 Нед 2'!M70+'Ср День 3 Нед 2'!K70+'Чт День 4 Нед 2'!L70+'Чт День 4 Нед 2'!M70+'Пт День 5 Нед 2'!K70+'Сб День 6 Нед 2'!L70","v":{"v":0,"d":"0.0000"}},{"$f":"'Пн 1 день нед 2'!S70+'Пн 1 день нед 2'!T70+'Вт День 2 Нед 2'!T70+'Ср День 3 Нед 2'!R70+'Чт День 4 Нед 2'!T70+'Чт День 4 Нед 2'!U70+'Пт День 5 Нед 2'!P70+'Сб День 6 Нед 2'!S70","v":{"v":0,"d":"0.0000"}},{"$f":"'Сб День 6 Нед 2'!X70+'Пт День 5 Нед 2'!S70+'Чт День 4 Нед 2'!X70+'Ср День 3 Нед 2'!V70+'Вт День 2 Нед 2'!X70+'Пн 1 день нед 2'!W70","v":{"v":0,"d":"0.0000"}},{"$f":"'Сб День 6 Нед 2'!AB70+'Пт День 5 Нед 2'!W70+'Ср День 3 Нед 2'!#REF!+'Вт День 2 Нед 2'!#REF!+'Пн 1 день нед 2'!AA70","v":{"$error":"#REF!"}},{"$f":"'Сб День 6 Нед 2'!AF70+'Пт День 5 Нед 2'!AA70+'Чт День 4 Нед 2'!AB70+'Ср День 3 Нед 2'!Z70+'Вт День 2 Нед 2'!AB70+'Пн 1 день нед 2'!AE70","v":{"v":0,"d":"0.0000"}},{"v":0,"d":"0.000"}]
[59,"томатная паста","кг",{"$f":"'Пн 1 день нед 2'!K71+'Пн 1 день нед 2'!L71+'Вт День 2 Нед 2'!M71+'Ср День 3 Нед 2'!K71+'Чт День 4 Нед 2'!L71+'Чт День 4 Нед 2'!M71+'Пт День 5 Нед 2'!K71+'Сб День 6 Нед 2'!L71","v":{"v":0.007699999999999999,"d":"0.0077"}},{"$f":"'Пн 1 день нед 2'!S71+'Пн 1 день нед 2'!T71+'Вт День 2 Нед 2'!T71+'Ср День 3 Нед 2'!R71+'Чт День 4 Нед 2'!T71+'Чт День 4 Нед 2'!U71+'Пт День 5 Нед 2'!P71+'Сб День 6 Нед 2'!S71","v":{"v":6.0999999999999995E-3,"d":"0.0061"}},{"$f":"'Сб День 6 Нед 2'!X71+'Пт День 5 Нед 2'!S71+'Чт День 4 Нед 2'!X71+'Ср День 3 Нед 2'!V71+'Вт День 2 Нед 2'!X71+'Пн 1 день нед 2'!W71","v":{"v":0,"d":"0.0000"}},{"$f":"'Сб День 6 Нед 2'!AB71+'Пт День 5 Нед 2'!W71+'Ср День 3 Нед 2'!#REF!+'Вт День 2 Нед 2'!#REF!+'Пн 1 день нед 2'!AA71","v":{"$error":"#REF!"}},{"$f":"'Сб День 6 Нед 2'!AF71+'Пт День 5 Нед 2'!AA71+'Чт День 4 Нед 2'!AB71+'Ср День 3 Нед 2'!Z71+'Вт День 2 Нед 2'!AB71+'Пн 1 день нед 2'!AE71","v":{"v":1.5E-3,"d":"0.0015"}},{"v":0.0153,"d":"0.015"}]
[60,"рыбные консервы","кг",{"$f":"'Пн 1 день нед 2'!K72+'Пн 1 день нед 2'!L72+'Вт День 2 Нед 2'!M72+'Ср День 3 Нед 2'!K72+'Чт День 4 Нед 2'!L72+'Чт День 4 Нед 2'!M72+'Пт День 5 Нед 2'!K72+'Сб День 6 Нед 2'!L72","v":{"v":0,"d":"0.0000"}},{"$f":"'Пн 1 день нед 2'!S72+'Пн 1 день нед 2'!T72+'Вт День 2 Нед 2'!T72+'Ср День 3 Нед 2'!R72+'Чт День 4 Нед 2'!T72+'Чт День 4 Нед 2'!U72+'Пт День 5 Нед 2'!P72+'Сб День 6 Нед 2'!S72","v":{"v":0,"d":"0.0000"}},{"$f":"'Сб День 6 Нед 2'!X72+'Пт День 5 Нед 2'!S72+'Чт День 4 Нед 2'!X72+'Ср День 3 Нед 2'!V72+'Вт День 2 Нед 2'!X72+'Пн 1 день нед 2'!W72","v":{"v":0,"d":"0.0000"}},{"$f":"'Сб День 6 Нед 2'!AB72+'Пт День 5 Нед 2'!W72+'Ср День 3 Нед 2'!#REF!+'Вт День 2 Нед 2'!#REF!+'Пн 1 день нед 2'!AA72","v":{"$error":"#REF!"}},{"$f":"'Сб День 6 Нед 2'!AF72+'Пт День 5 Нед 2'!AA72+'Чт День 4 Нед 2'!AB72+'Ср День 3 Нед 2'!Z72+'Вт День 2 Нед 2'!AB72+'Пн 1 день нед 2'!AE72","v":{"v":0,"d":"0.0000"}},{"$f":"D72+E72+F72+H72","v":{"v":0,"d":"0.000"}}]
[null,"Напитки",{"$nulls":4},{"$f":"'Сб День 6 Нед 2'!AB73+'Пт День 5 Нед 2'!W73+'Ср День 3 Нед 2'!#REF!+'Вт День 2 Нед 2'!#REF!+'Пн 1 день нед 2'!AA73","v":{"$error":"#REF!"}}]
[61,"чай весовой ","кг",{"$f":"'Пн 1 день нед 2'!K74+'Пн 1 день нед 2'!L74+'Вт День 2 Нед 2'!M74+'Ср День 3 Нед 2'!K74+'Чт День 4 Нед 2'!L74+'Чт День 4 Нед 2'!M74+'Пт День 5 Нед 2'!K74+'Сб День 6 Нед 2'!L74","v":{"v":1.5E-3,"d":"0.0015"}},{"$f":"'Пн 1 день нед 2'!S74+'Пн 1 день нед 2'!T74+'Вт День 2 Нед 2'!T74+'Ср День 3 Нед 2'!R74+'Чт День 4 Нед 2'!T74+'Чт День 4 Нед 2'!U74+'Пт День 5 Нед 2'!P74+'Сб День 6 Нед 2'!S74","v":{"v":2E-3,"d":"0.0020"}},{"$f":"'Сб День 6 Нед 2'!X74+'Пт День 5 Нед 2'!S74+'Чт День 4 Нед 2'!X74+'Ср День 3 Нед 2'!V74+'Вт День 2 Нед 2'!X74+'Пн 1 день нед 2'!W74","v":{"v":7.000000000000001E-3,"d":"0.0070"}},{"$f":"'Сб День 6 Нед 2'!AB74+'Пт День 5 Нед 2'!W74+'Ср День 3 Нед 2'!#REF!+'Вт День 2 Нед 2'!#REF!+'Пн 1 день нед 2'!AA74","v":{"$error":"#REF!"}},{"$f":"'Сб День 6 Нед 2'!AF74+'Пт День 5 Нед 2'!AA74+'Чт День 4 Нед 2'!AB74+'Ср День 3 Нед 2'!Z74+'Вт День 2 Нед 2'!AB74+'Пн 1 день нед 2'!AE74","v":{"v":2E-3,"d":"0.0020"}},{"v":0.0125,"d":"0.013"}]
[62,"какао","кг",{"$f":"'Пн 1 день нед 2'!K75+'Пн 1 день нед 2'!L75+'Вт День 2 Нед 2'!M75+'Ср День 3 Нед 2'!K75+'Чт День 4 Нед 2'!L75+'Чт День 4 Нед 2'!M75+'Пт День 5 Нед 2'!K75+'Сб День 6 Нед 2'!L75","v":{"v":0,"d":"0.0000"}},{"$f":"'Пн 1 день нед 2'!S75+'Пн 1 день нед 2'!T75+'Вт День 2 Нед 2'!T75+'Ср День 3 Нед 2'!R75+'Чт День 4 Нед 2'!T75+'Чт День 4 Нед 2'!U75+'Пт День 5 Нед 2'!P75+'Сб День 6 Нед 2'!S75","v":{"v":0,"d":"0.0000"}},{"$f":"'Сб День 6 Нед 2'!X75+'Пт День 5 Нед 2'!S75+'Чт День 4 Нед 2'!X75+'Ср День 3 Нед 2'!V75+'Вт День 2 Нед 2'!X75+'Пн 1 день нед 2'!W75","v":{"v":0,"d":"0.0000"}},{"$f":"'Сб День 6 Нед 2'!AB75+'Пт День 5 Нед 2'!W75+'Ср День 3 Нед 2'!#REF!+'Вт День 2 Нед 2'!#REF!+'Пн 1 день нед 2'!AA75","v":{"$error":"#REF!"}},{"$f":"'Сб День 6 Нед 2'!AF75+'Пт День 5 Нед 2'!AA75+'Чт День 4 Нед 2'!AB75+'Ср День 3 Нед 2'!Z75+'Вт День 2 Нед 2'!AB75+'Пн 1 день нед 2'!AE75","v":{"v":0,"d":"0.0000"}},{"v":0,"d":"0.000"}]
[63,"кисель","кг",{"$f":"'Пн 1 день нед 2'!K76+'Пн 1 день нед 2'!L76+'Вт День 2 Нед 2'!M76+'Ср День 3 Нед 2'!K76+'Чт День 4 Нед 2'!L76+'Чт День 4 Нед 2'!M76+'Пт День 5 Нед 2'!K76+'Сб День 6 Нед 2'!L76","v":{"v":0,"d":"0.0000"}},{"$f":"'Пн 1 день нед 2'!S76+'Пн 1 день нед 2'!T76+'Вт День 2 Нед 2'!T76+'Ср День 3 Нед 2'!R76+'Чт День 4 Нед 2'!T76+'Чт День 4 Нед 2'!U76+'Пт День 5 Нед 2'!P76+'Сб День 6 Нед 2'!S76","v":{"v":0,"d":"0.0000"}},{"$f":"'Сб День 6 Нед 2'!X76+'Пт День 5 Нед 2'!S76+'Чт День 4 Нед 2'!X76+'Ср День 3 Нед 2'!V76+'Вт День 2 Нед 2'!X76+'Пн 1 день нед 2'!W76","v":{"v":0,"d":"0.0000"}},{"$f":"'Сб День 6 Нед 2'!AB76+'Пт День 5 Нед 2'!W76+'Ср День 3 Нед 2'!#REF!+'Вт День 2 Нед 2'!#REF!+'Пн 1 день нед 2'!AA76","v":{"$error":"#REF!"}},{"$f":"'Сб День 6 Нед 2'!AF76+'Пт День 5 Нед 2'!AA76+'Чт День 4 Нед 2'!AB76+'Ср День 3 Нед 2'!Z76+'Вт День 2 Нед 2'!AB76+'Пн 1 день нед 2'!AE76","v":{"v":0,"d":"0.0000"}},{"v":0,"d":"0.000"}]
[64,"кофейный напиток","кг",{"$f":"'Пн 1 день нед 2'!K77+'Пн 1 день нед 2'!L77+'Вт День 2 Нед 2'!M77+'Ср День 3 Нед 2'!K77+'Чт День 4 Нед 2'!L77+'Чт День 4 Нед 2'!M77+'Пт День 5 Нед 2'!K77+'Сб День 6 Нед 2'!L77","v":{"v":0,"d":"0.0000"}},{"$f":"'Пн 1 день нед 2'!S77+'Пн 1 день нед 2'!T77+'Вт День 2 Нед 2'!T77+'Ср День 3 Нед 2'!R77+'Чт День 4 Нед 2'!T77+'Чт День 4 Нед 2'!U77+'Пт День 5 Нед 2'!P77+'Сб День 6 Нед 2'!S77","v":{"v":0,"d":"0.0000"}},{"$f":"'Сб День 6 Нед 2'!X77+'Пт День 5 Нед 2'!S77+'Чт День 4 Нед 2'!X77+'Ср День 3 Нед 2'!V77+'Вт День 2 Нед 2'!X77+'Пн 1 день нед 2'!W77","v":{"v":0,"d":"0.0000"}},{"$f":"'Сб День 6 Нед 2'!AB77+'Пт День 5 Нед 2'!W77+'Ср День 3 Нед 2'!#REF!+'Вт День 2 Нед 2'!#REF!+'Пн 1 день нед 2'!AA77","v":{"$error":"#REF!"}},{"$f":"'Сб День 6 Нед 2'!AF77+'Пт День 5 Нед 2'!AA77+'Чт День 4 Нед 2'!AB77+'Ср День 3 Нед 2'!Z77+'Вт День 2 Нед 2'!AB77+'Пн 1 день нед 2'!AE77","v":{"v":0,"d":"0.0000"}},{"v":0,"d":"0.000"}]
[65,"цикорий","кг",{"$f":"'Пн 1 день нед 2'!K78+'Пн 1 день нед 2'!L78+'Вт День 2 Нед 2'!M78+'Ср День 3 Нед 2'!K78+'Чт День 4 Нед 2'!L78+'Чт День 4 Нед 2'!M78+'Пт День 5 Нед 2'!K78+'Сб День 6 Нед 2'!L78","v":{"v":0,"d":"0.0000"}},{"$f":"'Пн 1 день нед 2'!S78+'Пн 1 день нед 2'!T78+'Вт День 2 Нед 2'!T78+'Ср День 3 Нед 2'!R78+'Чт День 4 Нед 2'!T78+'Чт День 4 Нед 2'!U78+'Пт День 5 Нед 2'!P78+'Сб День 6 Нед 2'!S78","v":{"v":0,"d":"0.0000"}},{"$f":"'Сб День 6 Нед 2'!X78+'Пт День 5 Нед 2'!S78+'Чт День 4 Нед 2'!X78+'Ср День 3 Нед 2'!V78+'Вт День 2 Нед 2'!X78+'Пн 1 день нед 2'!W78","v":{"v":0,"d":"0.0000"}},{"$f":"'Сб День 6 Нед 2'!AB78+'Пт День 5 Нед 2'!W78+'Ср День 3 Нед 2'!#REF!+'Вт День 2 Нед 2'!#REF!+'Пн 1 день нед 2'!AA78","v":{"$error":"#REF!"}},{"$f":"'Сб День 6 Нед 2'!AF78+'Пт День 5 Нед 2'!AA78+'Чт День 4 Нед 2'!AB78+'Ср День 3 Нед 2'!Z78+'Вт День 2 Нед 2'!AB78+'Пн 1 день нед 2'!AE78","v":{"v":0,"d":"0.0000"}},{"v":0,"d":"0.000"}]
[null,"Сухофрукты",{"$nulls":4},{"$f":"'Сб День 6 Нед 2'!AB79+'Пт День 5 Нед 2'!W79+'Ср День 3 Нед 2'!#REF!+'Вт День 2 Нед 2'!#REF!+'Пн 1 день нед 2'!AA79","v":{"$error":"#REF!"}}]
[66,"ассорти для компота (сухофрукты)","кг",{"$f":"'Пн 1 день нед 2'!K80+'Пн 1 день нед 2'!L80+'Вт День 2 Нед 2'!M80+'Ср День 3 Нед 2'!K80+'Чт День 4 Нед 2'!L80+'Чт День 4 Нед 2'!M80+'Пт День 5 Нед 2'!K80+'Сб День 6 Нед 2'!L80","v":0.0816},{"$f":"'Пн 1 день нед 2'!S80+'Пн 1 день нед 2'!T80+'Вт День 2 Нед 2'!T80+'Ср День 3 Нед 2'!R80+'Чт День 4 Нед 2'!T80+'Чт День 4 Нед 2'!U80+'Пт День 5 Нед 2'!P80+'Сб День 6 Нед 2'!S80","v":{"v":0.061200000000000004,"d":"0.0612"}},{"$f":"'Сб День 6 Нед 2'!X80+'Пт День 5 Нед 2'!S80+'Чт День 4 Нед 2'!X80+'Ср День 3 Нед 2'!V80+'Вт День 2 Нед 2'!X80+'Пн 1 день нед 2'!W80","v":{"v":0,"d":"0.0000"}},{"$f":"'Сб День 6 Нед 2'!AB80+'Пт День 5 Нед 2'!W80+'Ср День 3 Нед 2'!#REF!+'Вт День 2 Нед 2'!#REF!+'Пн 1 день нед 2'!AA80","v":{"$error":"#REF!"}},{"$f":"'Сб День 6 Нед 2'!AF80+'Пт День 5 Нед 2'!AA80+'Чт День 4 Нед 2'!AB80+'Ср День 3 Нед 2'!Z80+'Вт День 2 Нед 2'!AB80+'Пн 1 день нед 2'!AE80","v":0.0204},{"v":0.1632,"d":"0.163"}]
[67,"изюм","кг",{"$f":"'Пн 1 день нед 2'!K81+'Пн 1 день нед 2'!L81+'Вт День 2 Нед 2'!M81+'Ср День 3 Нед 2'!K81+'Чт День 4 Нед 2'!L81+'Чт День 4 Нед 2'!M81+'Пт День 5 Нед 2'!K81+'Сб День 6 Нед 2'!L81","v":{"v":0,"d":"0.0000"}},{"$f":"'Пн 1 день нед 2'!S81+'Пн 1 день нед 2'!T81+'Вт День 2 Нед 2'!T81+'Ср День 3 Нед 2'!R81+'Чт День 4 Нед 2'!T81+'Чт День 4 Нед 2'!U81+'Пт День 5 Нед 2'!P81+'Сб День 6 Нед 2'!S81","v":{"v":0,"d":"0.0000"}},{"$f":"'Сб День 6 Нед 2'!X81+'Пт День 5 Нед 2'!S81+'Чт День 4 Нед 2'!X81+'Ср День 3 Нед 2'!V81+'Вт День 2 Нед 2'!X81+'Пн 1 день нед 2'!W81","v":{"v":0,"d":"0.0000"}},{"$f":"'Сб День 6 Нед 2'!AB81+'Пт День 5 Нед 2'!W81+'Ср День 3 Нед 2'!#REF!+'Вт День 2 Нед 2'!#REF!+'Пн 1 день нед 2'!AA81","v":{"$error":"#REF!"}},{"$f":"'Сб День 6 Нед 2'!AF81+'Пт День 5 Нед 2'!AA81+'Чт День 4 Нед 2'!AB81+'Ср День 3 Нед 2'!Z81+'Вт День 2 Нед 2'!AB81+'Пн 1 день нед 2'!AE81","v":0.0102},{"v":0.0102,"d":"0.010"}]
[68,"курага","кг",{"$f":"'Пн 1 день нед 2'!K82+'Пн 1 день нед 2'!L82+'Вт День 2 Нед 2'!M82+'Ср День 3 Нед 2'!K82+'Чт День 4 Нед 2'!L82+'Чт День 4 Нед 2'!M82+'Пт День 5 Нед 2'!K82+'Сб День 6 Нед 2'!L82","v":{"v":0,"d":"0.0000"}},{"$f":"'Пн 1 день нед 2'!S82+'Пн 1 день нед 2'!T82+'Вт День 2 Нед 2'!T82+'Ср День 3 Нед 2'!R82+'Чт День 4 Нед 2'!T82+'Чт День 4 Нед 2'!U82+'Пт День 5 Нед 2'!P82+'Сб День 6 Нед 2'!S82","v":{"v":0,"d":"0.0000"}},{"$f":"'Сб День 6 Нед 2'!X82+'Пт День 5 Нед 2'!S82+'Чт День 4 Нед 2'!X82+'Ср День 3 Нед 2'!V82+'Вт День 2 Нед 2'!X82+'Пн 1 день нед 2'!W82","v":{"v":0,"d":"0.0000"}},{"$f":"'Сб День 6 Нед 2'!AB82+'Пт День 5 Нед 2'!W82+'Ср День 3 Нед 2'!#REF!+'Вт День 2 Нед 2'!#REF!+'Пн 1 день нед 2'!AA82","v":{"$error":"#REF!"}},{"$f":"'Сб День 6 Нед 2'!AF82+'Пт День 5 Нед 2'!AA82+'Чт День 4 Нед 2'!AB82+'Ср День 3 Нед 2'!Z82+'Вт День 2 Нед 2'!AB82+'Пн 1 день нед 2'!AE82","v":{"v":0,"d":"0.0000"}},{"v":0,"d":"0.000"}]
[69,"урюк","кг",{"$f":"'Пн 1 день нед 2'!K83+'Пн 1 день нед 2'!L83+'Вт День 2 Нед 2'!M83+'Ср День 3 Нед 2'!K83+'Чт День 4 Нед 2'!L83+'Чт День 4 Нед 2'!M83+'Пт День 5 Нед 2'!K83+'Сб День 6 Нед 2'!L83","v":{"v":0,"d":"0.0000"}},{"$f":"'Пн 1 день нед 2'!S83+'Пн 1 день нед 2'!T83+'Вт День 2 Нед 2'!T83+'Ср День 3 Нед 2'!R83+'Чт День 4 Нед 2'!T83+'Чт День 4 Нед 2'!U83+'Пт День 5 Нед 2'!P83+'Сб День 6 Нед 2'!S83","v":{"v":0,"d":"0.0000"}},{"$f":"'Сб День 6 Нед 2'!X83+'Пт День 5 Нед 2'!S83+'Чт День 4 Нед 2'!X83+'Ср День 3 Нед 2'!V83+'Вт День 2 Нед 2'!X83+'Пн 1 день нед 2'!W83","v":{"v":0,"d":"0.0000"}},{"$f":"'Сб День 6 Нед 2'!AB83+'Пт День 5 Нед 2'!W83+'Ср День 3 Нед 2'!#REF!+'Вт День 2 Нед 2'!#REF!+'Пн 1 день нед 2'!AA83","v":{"$error":"#REF!"}},{"$f":"'Сб День 6 Нед 2'!AF83+'Пт День 5 Нед 2'!AA83+'Чт День 4 Нед 2'!AB83+'Ср День 3 Нед 2'!Z83+'Вт День 2 Нед 2'!AB83+'Пн 1 день нед 2'!AE83","v":0.0102},{"v":0.0102,"d":"0.010"}]
[70,"шиповник","кг",{"$f":"'Пн 1 день нед 2'!K84+'Пн 1 день нед 2'!L84+'Вт День 2 Нед 2'!M84+'Ср День 3 Нед 2'!K84+'Чт День 4 Нед 2'!L84+'Чт День 4 Нед 2'!M84+'Пт День 5 Нед 2'!K84+'Сб День 6 Нед 2'!L84","v":{"v":0,"d":"0.0000"}},{"$f":"'Пн 1 день нед 2'!S84+'Пн 1 день нед 2'!T84+'Вт День 2 Нед 2'!T84+'Ср День 3 Нед 2'!R84+'Чт День 4 Нед 2'!T84+'Чт День 4 Нед 2'!U84+'Пт День 5 Нед 2'!P84+'Сб День 6 Нед 2'!S84","v":{"v":0.005,"d":"0.0050"}},{"$f":"'Сб День 6 Нед 2'!X84+'Пт День 5 Нед 2'!S84+'Чт День 4 Нед 2'!X84+'Ср День 3 Нед 2'!V84+'Вт День 2 Нед 2'!X84+'Пн 1 день нед 2'!W84","v":{"v":0.005,"d":"0.0050"}},{"$f":"'Сб День 6 Нед 2'!AB84+'Пт День 5 Нед 2'!W84+'Ср День 3 Нед 2'!#REF!+'Вт День 2 Нед 2'!#REF!+'Пн 1 день нед 2'!AA84","v":{"$error":"#REF!"}},{"$f":"'Сб День 6 Нед 2'!AF84+'Пт День 5 Нед 2'!AA84+'Чт День 4 Нед 2'!AB84+'Ср День 3 Нед 2'!Z84+'Вт День 2 Нед 2'!AB84+'Пн 1 день нед 2'!AE84","v":0.0153},{"v":0.0253,"d":"0.025"}]
[71,"компотная смесь с/м","кг",{"$f":"'Пн 1 день нед 2'!K85+'Пн 1 день нед 2'!L85+'Вт День 2 Нед 2'!M85+'Ср День 3 Нед 2'!K85+'Чт День 4 Нед 2'!L85+'Чт День 4 Нед 2'!M85+'Пт День 5 Нед 2'!K85+'Сб День 6 Нед 2'!L85","v":{"v":0,"d":"0.0000"}},{"$f":"'Пн 1 день нед 2'!S85+'Пн 1 день нед 2'!T85+'Вт День 2 Нед 2'!T85+'Ср День 3 Нед 2'!R85+'Чт День 4 Нед 2'!T85+'Чт День 4 Нед 2'!U85+'Пт День 5 Нед 2'!P85+'Сб День 6 Нед 2'!S85","v":{"v":0,"d":"0.0000"}},{"$f":"'Сб День 6 Нед 2'!X85+'Пт День 5 Нед 2'!S85+'Чт День 4 Нед 2'!X85+'Ср День 3 Нед 2'!V85+'Вт День 2 Нед 2'!X85+'Пн 1 день нед 2'!W85","v":{"v":0,"d":"0.0000"}},{"$f":"'Сб День 6 Нед 2'!AB85+'Пт День 5 Нед 2'!W85+'Ср День 3 Нед 2'!#REF!+'Вт День 2 Нед 2'!#REF!+'Пн 1 день нед 2'!AA85","v":{"$error":"#REF!"}},{"$f":"'Сб День 6 Нед 2'!AF85+'Пт День 5 Нед 2'!AA85+'Чт День 4 Нед 2'!AB85+'Ср День 3 Нед 2'!Z85+'Вт День 2 Нед 2'!AB85+'Пн 1 день нед 2'!AE85","v":{"v":0,"d":"0.0000"}},{"v":0,"d":"0.000"}]
[72,"вишня с/м","кг",{"$f":"'Пн 1 день нед 2'!K86+'Пн 1 день нед 2'!L86+'Вт День 2 Нед 2'!M86+'Ср День 3 Нед 2'!K86+'Чт День 4 Нед 2'!L86+'Чт День 4 Нед 2'!M86+'Пт День 5 Нед 2'!K86+'Сб День 6 Нед 2'!L86","v":{"v":0,"d":"0.0000"}},{"$f":"'Пн 1 день нед 2'!S86+'Пн 1 день нед 2'!T86+'Вт День 2 Нед 2'!T86+'Ср День 3 Нед 2'!R86+'Чт День 4 Нед 2'!T86+'Чт День 4 Нед 2'!U86+'Пт День 5 Нед 2'!P86+'Сб День 6 Нед 2'!S86","v":{"v":0,"d":"0.0000"}},{"$f":"'Сб День 6 Нед 2'!X86+'Пт День 5 Нед 2'!S86+'Чт День 4 Нед 2'!X86+'Ср День 3 Нед 2'!V86+'Вт День 2 Нед 2'!X86+'Пн 1 день нед 2'!W86","v":{"v":0,"d":"0.0000"}},{"$f":"'Сб День 6 Нед 2'!AB86+'Пт День 5 Нед 2'!W86+'Ср День 3 Нед 2'!#REF!+'Вт День 2 Нед 2'!#REF!+'Пн 1 день нед 2'!AA86","v":{"$error":"#REF!"}},{"$f":"'Сб День 6 Нед 2'!AF86+'Пт День 5 Нед 2'!AA86+'Чт День 4 Нед 2'!AB86+'Ср День 3 Нед 2'!Z86+'Вт День 2 Нед 2'!AB86+'Пн 1 день нед 2'!AE86","v":{"v":0,"d":"0.0000"}},{"v":0,"d":"0.000"}]
[73,"клюква с/м","кг",{"$f":"'Пн 1 день нед 2'!K87+'Пн 1 день нед 2'!L87+'Вт День 2 Нед 2'!M87+'Ср День 3 Нед 2'!K87+'Чт День 4 Нед 2'!L87+'Чт День 4 Нед 2'!M87+'Пт День 5 Нед 2'!K87+'Сб День 6 Нед 2'!L87","v":{"v":0,"d":"0.0000"}},{"$f":"'Пн 1 день нед 2'!S87+'Пн 1 день нед 2'!T87+'Вт День 2 Нед 2'!T87+'Ср День 3 Нед 2'!R87+'Чт День 4 Нед 2'!T87+'Чт День 4 Нед 2'!U87+'Пт День 5 Нед 2'!P87+'Сб День 6 Нед 2'!S87","v":{"v":0,"d":"0.0000"}},{"$f":"'Сб День 6 Нед 2'!X87+'Пт День 5 Нед 2'!S87+'Чт День 4 Нед 2'!X87+'Ср День 3 Нед 2'!V87+'Вт День 2 Нед 2'!X87+'Пн 1 день нед 2'!W87","v":{"v":0,"d":"0.0000"}},{"$f":"'Сб День 6 Нед 2'!AB87+'Пт День 5 Нед 2'!W87+'Ср День 3 Нед 2'!#REF!+'Вт День 2 Нед 2'!#REF!+'Пн 1 день нед 2'!AA87","v":{"$error":"#REF!"}},{"$f":"'Сб День 6 Нед 2'!AF87+'Пт День 5 Нед 2'!AA87+'Чт День 4 Нед 2'!AB87+'Ср День 3 Нед 2'!Z87+'Вт День 2 Нед 2'!AB87+'Пн 1 день нед 2'!AE87","v":{"v":0,"d":"0.0000"}},{"v":0,"d":"0.000"}]
[74,"смородина в ассорт с/м","кг",{"$f":"'Пн 1 день нед 2'!K88+'Пн 1 день нед 2'!L88+'Вт День 2 Нед 2'!M88+'Ср День 3 Нед 2'!K88+'Чт День 4 Нед 2'!L88+'Чт День 4 Нед 2'!M88+'Пт День 5 Нед 2'!K88+'Сб День 6 Нед 2'!L88","v":{"v":0,"d":"0.0000"}},{"$f":"'Пн 1 день нед 2'!S88+'Пн 1 день нед 2'!T88+'Вт День 2 Нед 2'!T88+'Ср День 3 Нед 2'!R88+'Чт День 4 Нед 2'!T88+'Чт День 4 Нед 2'!U88+'Пт День 5 Нед 2'!P88+'Сб День 6 Нед 2'!S88","v":{"v":0,"d":"0.0000"}},{"$f":"'Сб День 6 Нед 2'!X88+'Пт День 5 Нед 2'!S88+'Чт День 4 Нед 2'!X88+'Ср День 3 Нед 2'!V88+'Вт День 2 Нед 2'!X88+'Пн 1 день нед 2'!W88","v":{"v":0,"d":"0.0000"}},{"$f":"'Сб День 6 Нед 2'!AB88+'Пт День 5 Нед 2'!W88+'Ср День 3 Нед 2'!#REF!+'Вт День 2 Нед 2'!#REF!+'Пн 1 день нед 2'!AA88","v":{"$error":"#REF!"}},{"$f":"'Сб День 6 Нед 2'!AF88+'Пт День 5 Нед 2'!AA88+'Чт День 4 Нед 2'!AB88+'Ср День 3 Нед 2'!Z88+'Вт День 2 Нед 2'!AB88+'Пн 1 день нед 2'!AE88","v":{"v":0,"d":"0.0000"}},{"v":0,"d":"0.000"}]
[75,"облепиха с/м","кг",{"$f":"'Пн 1 день нед 2'!K89+'Пн 1 день нед 2'!L89+'Вт День 2 Нед 2'!M89+'Ср День 3 Нед 2'!K89+'Чт День 4 Нед 2'!L89+'Чт День 4 Нед 2'!M89+'Пт День 5 Нед 2'!K89+'Сб День 6 Нед 2'!L89","v":{"v":0,"d":"0.0000"}},{"$f":"'Пн 1 день нед 2'!S89+'Пн 1 день нед 2'!T89+'Вт День 2 Нед 2'!T89+'Ср День 3 Нед 2'!R89+'Чт День 4 Нед 2'!T89+'Чт День 4 Нед 2'!U89+'Пт День 5 Нед 2'!P89+'Сб День 6 Нед 2'!S89","v":{"v":0,"d":"0.0000"}},{"$f":"'Сб День 6 Нед 2'!X89+'Пт День 5 Нед 2'!S89+'Чт День 4 Нед 2'!X89+'Ср День 3 Нед 2'!V89+'Вт День 2 Нед 2'!X89+'Пн 1 день нед 2'!W89","v":{"v":0,"d":"0.0000"}},{"$f":"'Сб День 6 Нед 2'!AB89+'Пт День 5 Нед 2'!W89+'Ср День 3 Нед 2'!#REF!+'Вт День 2 Нед 2'!#REF!+'Пн 1 день нед 2'!AA89","v":{"$error":"#REF!"}},{"$f":"'Сб День 6 Нед 2'!AF89+'Пт День 5 Нед 2'!AA89+'Чт День 4 Нед 2'!AB89+'Ср День 3 Нед 2'!Z89+'Вт День 2 Нед 2'!AB89+'Пн 1 день нед 2'!AE89","v":{"v":0,"d":"0.0000"}},{"v":0,"d":"0.000"}]
[null,"Сок",null,{"$f":"'Пн 1 день нед 2'!K90+'Пн 1 день нед 2'!L90+'Вт День 2 Нед 2'!M90+'Ср День 3 Нед 2'!K90+'Чт День 4 Нед 2'!L90+'Чт День 4 Нед 2'!M90+'Пт День 5 Нед 2'!K90+'Сб День 6 Нед 2'!L90","v":{"v":0,"d":"0.0000"}},null,null,{"$f":"'Сб День 6 Нед 2'!AB90+'Пт День 5 Нед 2'!W90+'Ср День 3 Нед 2'!#REF!+'Вт День 2 Нед 2'!#REF!+'Пн 1 день нед 2'!AA90","v":{"$error":"#REF!"}}]
[76,"сок 0,125л или сок 0,2л","л",{"$f":"'Пн 1 день нед 2'!K91+'Пн 1 день нед 2'!L91+'Вт День 2 Нед 2'!M91+'Ср День 3 Нед 2'!K91+'Чт День 4 Нед 2'!L91+'Чт День 4 Нед 2'!M91+'Пт День 5 Нед 2'!K91+'Сб День 6 Нед 2'!L91","v":{"v":0,"d":"0.0000"}},{"$f":"'Пн 1 день нед 2'!S91+'Пн 1 день нед 2'!T91+'Вт День 2 Нед 2'!T91+'Ср День 3 Нед 2'!R91+'Чт День 4 Нед 2'!T91+'Чт День 4 Нед 2'!U91+'Пт День 5 Нед 2'!P91+'Сб День 6 Нед 2'!S91","v":{"v":0,"d":"0.0000"}},{"$f":"'Сб День 6 Нед 2'!X91+'Пт День 5 Нед 2'!S91+'Чт День 4 Нед 2'!X91+'Ср День 3 Нед 2'!V91+'Вт День 2 Нед 2'!X91+'Пн 1 день нед 2'!W91","v":{"v":0,"d":"0.0000"}},{"$f":"'Сб День 6 Нед 2'!AB91+'Пт День 5 Нед 2'!W91+'Ср День 3 Нед 2'!#REF!+'Вт День 2 Нед 2'!#REF!+'Пн 1 день нед 2'!AA91","v":{"$error":"#REF!"}},{"$f":"'Сб День 6 Нед 2'!AF91+'Пт День 5 Нед 2'!AA91+'Чт День 4 Нед 2'!AB91+'Ср День 3 Нед 2'!Z91+'Вт День 2 Нед 2'!AB91+'Пн 1 день нед 2'!AE91","v":{"v":0,"d":"0.0000"}},{"v":0,"d":"0.000"}]
[77,"нектар плодовый","л",{"$f":"'Пн 1 день нед 2'!K92+'Пн 1 день нед 2'!L92+'Вт День 2 Нед 2'!M92+'Ср День 3 Нед 2'!K92+'Чт День 4 Нед 2'!L92+'Чт День 4 Нед 2'!M92+'Пт День 5 Нед 2'!K92+'Сб День 6 Нед 2'!L92","v":{"v":0,"d":"0.0000"}},{"$f":"'Пн 1 день нед 2'!S92+'Пн 1 день нед 2'!T92+'Вт День 2 Нед 2'!T92+'Ср День 3 Нед 2'!R92+'Чт День 4 Нед 2'!T92+'Чт День 4 Нед 2'!U92+'Пт День 5 Нед 2'!P92+'Сб День 6 Нед 2'!S92","v":{"v":0,"d":"0.0000"}},{"$f":"'Сб День 6 Нед 2'!X92+'Пт День 5 Нед 2'!S92+'Чт День 4 Нед 2'!X92+'Ср День 3 Нед 2'!V92+'Вт День 2 Нед 2'!X92+'Пн 1 день нед 2'!W92","v":{"v":0,"d":"0.0000"}},{"$f":"'Сб День 6 Нед 2'!AB92+'Пт День 5 Нед 2'!W92+'Ср День 3 Нед 2'!#REF!+'Вт День 2 Нед 2'!#REF!+'Пн 1 день нед 2'!AA92","v":{"$error":"#REF!"}},{"$f":"'Сб День 6 Нед 2'!AF92+'Пт День 5 Нед 2'!AA92+'Чт День 4 Нед 2'!AB92+'Ср День 3 Нед 2'!Z92+'Вт День 2 Нед 2'!AB92+'Пн 1 день нед 2'!AE92","v":{"v":0,"d":"0.0000"}},{"v":0,"d":"0.000"}]
[null,"Кондитерка",{"$nulls":4},{"$f":"'Сб День 6 Нед 2'!AB93+'Пт День 5 Нед 2'!W93+'Ср День 3 Нед 2'!#REF!+'Вт День 2 Нед 2'!#REF!+'Пн 1 день нед 2'!AA93","v":{"$error":"#REF!"}}]
[78,"батончик злак","шт",{"$f":"'Пн 1 день нед 2'!K94+'Пн 1 день нед 2'!L94+'Вт День 2 Нед 2'!M94+'Ср День 3 Нед 2'!K94+'Чт День 4 Нед 2'!L94+'Чт День 4 Нед 2'!M94+'Пт День 5 Нед 2'!K94+'Сб День 6 Нед 2'!L94","v":{"v":0,"d":"0.0000"}},{"$f":"'Пн 1 день нед 2'!S94+'Пн 1 день нед 2'!T94+'Вт День 2 Нед 2'!T94+'Ср День 3 Нед 2'!R94+'Чт День 4 Нед 2'!T94+'Чт День 4 Нед 2'!U94+'Пт День 5 Нед 2'!P94+'Сб День 6 Нед 2'!S94","v":{"v":0,"d":"0.0000"}},{"$f":"'Сб День 6 Нед 2'!X94+'Пт День 5 Нед 2'!S94+'Чт День 4 Нед 2'!X94+'Ср День 3 Нед 2'!V94+'Вт День 2 Нед 2'!X94+'Пн 1 день нед 2'!W94","v":{"v":0,"d":"0.0000"}},{"$f":"'Сб День 6 Нед 2'!AB94+'Пт День 5 Нед 2'!W94+'Ср День 3 Нед 2'!#REF!+'Вт День 2 Нед 2'!#REF!+'Пн 1 день нед 2'!AA94","v":{"$error":"#REF!"}},{"$f":"'Сб День 6 Нед 2'!AF94+'Пт День 5 Нед 2'!AA94+'Чт День 4 Нед 2'!AB94+'Ср День 3 Нед 2'!Z94+'Вт День 2 Нед 2'!AB94+'Пн 1 день нед 2'!AE94","v":{"v":0,"d":"0.0000"}},{"v":0,"d":"0.000"}]
[79,"пряник","кг",{"$f":"'Пн 1 день нед 2'!K95+'Пн 1 день нед 2'!L95+'Вт День 2 Нед 2'!M95+'Ср День 3 Нед 2'!K95+'Чт День 4 Нед 2'!L95+'Чт День 4 Нед 2'!M95+'Пт День 5 Нед 2'!K95+'Сб День 6 Нед 2'!L95","v":{"v":0,"d":"0.0000"}},{"$f":"'Пн 1 день нед 2'!S95+'Пн 1 день нед 2'!T95+'Вт День 2 Нед 2'!T95+'Ср День 3 Нед 2'!R95+'Чт День 4 Нед 2'!T95+'Чт День 4 Нед 2'!U95+'Пт День 5 Нед 2'!P95+'Сб День 6 Нед 2'!S95","v":{"v":0,"d":"0.0000"}},{"$f":"'Сб День 6 Нед 2'!X95+'Пт День 5 Нед 2'!S95+'Чт День 4 Нед 2'!X95+'Ср День 3 Нед 2'!V95+'Вт День 2 Нед 2'!X95+'Пн 1 день нед 2'!W95","v":{"v":0.035,"d":"0.0350"}},{"$f":"'Сб День 6 Нед 2'!AB95+'Пт День 5 Нед 2'!W95+'Ср День 3 Нед 2'!#REF!+'Вт День 2 Нед 2'!#REF!+'Пн 1 день нед 2'!AA95","v":{"$error":"#REF!"}},{"$f":"'Сб День 6 Нед 2'!AF95+'Пт День 5 Нед 2'!AA95+'Чт День 4 Нед 2'!AB95+'Ср День 3 Нед 2'!Z95+'Вт День 2 Нед 2'!AB95+'Пн 1 день нед 2'!AE95","v":{"v":0,"d":"0.0000"}},0.035]
[80,"вафли ","кг",{"$f":"'Пн 1 день нед 2'!K96+'Пн 1 день нед 2'!L96+'Вт День 2 Нед 2'!M96+'Ср День 3 Нед 2'!K96+'Чт День 4 Нед 2'!L96+'Чт День 4 Нед 2'!M96+'Пт День 5 Нед 2'!K96+'Сб День 6 Нед 2'!L96","v":{"v":0,"d":"0.0000"}},{"$f":"'Пн 1 день нед 2'!S96+'Пн 1 день нед 2'!T96+'Вт День 2 Нед 2'!T96+'Ср День 3 Нед 2'!R96+'Чт День 4 Нед 2'!T96+'Чт День 4 Нед 2'!U96+'Пт День 5 Нед 2'!P96+'Сб День 6 Нед 2'!S96","v":{"v":0,"d":"0.0000"}},{"$f":"'Сб День 6 Нед 2'!X96+'Пт День 5 Нед 2'!S96+'Чт День 4 Нед 2'!X96+'Ср День 3 Нед 2'!V96+'Вт День 2 Нед 2'!X96+'Пн 1 день нед 2'!W96","v":{"v":0,"d":"0.0000"}},{"$f":"'Сб День 6 Нед 2'!AB96+'Пт День 5 Нед 2'!W96+'Ср День 3 Нед 2'!#REF!+'Вт День 2 Нед 2'!#REF!+'Пн 1 день нед 2'!AA96","v":{"$error":"#REF!"}},{"$f":"'Сб День 6 Нед 2'!AF96+'Пт День 5 Нед 2'!AA96+'Чт День 4 Нед 2'!AB96+'Ср День 3 Нед 2'!Z96+'Вт День 2 Нед 2'!AB96+'Пн 1 день нед 2'!AE96","v":{"v":0,"d":"0.0000"}},{"v":0,"d":"0.000"}]
[81,"печенье","кг",{"$f":"'Пн 1 день нед 2'!K97+'Пн 1 день нед 2'!L97+'Вт День 2 Нед 2'!M97+'Ср День 3 Нед 2'!K97+'Чт День 4 Нед 2'!L97+'Чт День 4 Нед 2'!M97+'Пт День 5 Нед 2'!K97+'Сб День 6 Нед 2'!L97","v":{"v":0,"d":"0.0000"}},{"$f":"'Пн 1 день нед 2'!S97+'Пн 1 день нед 2'!T97+'Вт День 2 Нед 2'!T97+'Ср День 3 Нед 2'!R97+'Чт День 4 Нед 2'!T97+'Чт День 4 Нед 2'!U97+'Пт День 5 Нед 2'!P97+'Сб День 6 Нед 2'!S97","v":{"v":0,"d":"0.0000"}},{"$f":"'Сб День 6 Нед 2'!X97+'Пт День 5 Нед 2'!S97+'Чт День 4 Нед 2'!X97+'Ср День 3 Нед 2'!V97+'Вт День 2 Нед 2'!X97+'Пн 1 день нед 2'!W97","v":{"v":0.04,"d":"0.0400"}},{"$f":"'Сб День 6 Нед 2'!AB97+'Пт День 5 Нед 2'!W97+'Ср День 3 Нед 2'!#REF!+'Вт День 2 Нед 2'!#REF!+'Пн 1 день нед 2'!AA97","v":{"$error":"#REF!"}},{"$f":"'Сб День 6 Нед 2'!AF97+'Пт День 5 Нед 2'!AA97+'Чт День 4 Нед 2'!AB97+'Ср День 3 Нед 2'!Z97+'Вт День 2 Нед 2'!AB97+'Пн 1 день нед 2'!AE97","v":{"v":0,"d":"0.0000"}},{"v":0.04,"d":"0.040"}]
[82,"крекер","кг",{"$f":"'Пн 1 день нед 2'!K98+'Пн 1 день нед 2'!L98+'Вт День 2 Нед 2'!M98+'Ср День 3 Нед 2'!K98+'Чт День 4 Нед 2'!L98+'Чт День 4 Нед 2'!M98+'Пт День 5 Нед 2'!K98+'Сб День 6 Нед 2'!L98","v":{"v":0,"d":"0.0000"}},{"$f":"'Пн 1 день нед 2'!S98+'Пн 1 день нед 2'!T98+'Вт День 2 Нед 2'!T98+'Ср День 3 Нед 2'!R98+'Чт День 4 Нед 2'!T98+'Чт День 4 Нед 2'!U98+'Пт День 5 Нед 2'!P98+'Сб День 6 Нед 2'!S98","v":{"v":0,"d":"0.0000"}},{"$f":"'Сб День 6 Нед 2'!X98+'Пт День 5 Нед 2'!S98+'Чт День 4 Нед 2'!X98+'Ср День 3 Нед 2'!V98+'Вт День 2 Нед 2'!X98+'Пн 1 день нед 2'!W98","v":{"v":0.03,"d":"0.0300"}},{"$f":"'Сб День 6 Нед 2'!AB98+'Пт День 5 Нед 2'!W98+'Ср День 3 Нед 2'!#REF!+'Вт День 2 Нед 2'!#REF!+'Пн 1 день нед 2'!AA98","v":{"$error":"#REF!"}},{"$f":"'Сб День 6 Нед 2'!AF98+'Пт День 5 Нед 2'!AA98+'Чт День 4 Нед 2'!AB98+'Ср День 3 Нед 2'!Z98+'Вт День 2 Нед 2'!AB98+'Пн 1 день нед 2'!AE98","v":{"v":0,"d":"0.0000"}},{"v":0.03,"d":"0.030"}]
[83,"сушки","кг",{"$f":"'Пн 1 день нед 2'!K99+'Пн 1 день нед 2'!L99+'Вт День 2 Нед 2'!M99+'Ср День 3 Нед 2'!K99+'Чт День 4 Нед 2'!L99+'Чт День 4 Нед 2'!M99+'Пт День 5 Нед 2'!K99+'Сб День 6 Нед 2'!L99","v":{"v":0,"d":"0.0000"}},{"$f":"'Пн 1 день нед 2'!S99+'Пн 1 день нед 2'!T99+'Вт День 2 Нед 2'!T99+'Ср День 3 Нед 2'!R99+'Чт День 4 Нед 2'!T99+'Чт День 4 Нед 2'!U99+'Пт День 5 Нед 2'!P99+'Сб День 6 Нед 2'!S99","v":{"v":0,"d":"0.0000"}},{"$f":"'Сб День 6 Нед 2'!X99+'Пт День 5 Нед 2'!S99+'Чт День 4 Нед 2'!X99+'Ср День 3 Нед 2'!V99+'Вт День 2 Нед 2'!X99+'Пн 1 день нед 2'!W99","v":{"v":0.03,"d":"0.0300"}},{"$f":"'Сб День 6 Нед 2'!AB99+'Пт День 5 Нед 2'!W99+'Ср День 3 Нед 2'!#REF!+'Вт День 2 Нед 2'!#REF!+'Пн 1 день нед 2'!AA99","v":{"$error":"#REF!"}},{"$f":"'Сб День 6 Нед 2'!AF99+'Пт День 5 Нед 2'!AA99+'Чт День 4 Нед 2'!AB99+'Ср День 3 Нед 2'!Z99+'Вт День 2 Нед 2'!AB99+'Пн 1 день нед 2'!AE99","v":{"v":0,"d":"0.0000"}},{"v":0.03,"d":"0.030"}]
[84,"мармелад","кг",{"$f":"'Пн 1 день нед 2'!K100+'Пн 1 день нед 2'!L100+'Вт День 2 Нед 2'!M100+'Ср День 3 Нед 2'!K100+'Чт День 4 Нед 2'!L100+'Чт День 4 Нед 2'!M100+'Пт День 5 Нед 2'!K100+'Сб День 6 Нед 2'!L100","v":{"v":0,"d":"0.0000"}},{"$f":"'Пн 1 день нед 2'!S100+'Пн 1 день нед 2'!T100+'Вт День 2 Нед 2'!T100+'Ср День 3 Нед 2'!R100+'Чт День 4 Нед 2'!T100+'Чт День 4 Нед 2'!U100+'Пт День 5 Нед 2'!P100+'Сб День 6 Нед 2'!S100","v":{"v":0,"d":"0.0000"}},{"$f":"'Сб День 6 Нед 2'!X100+'Пт День 5 Нед 2'!S100+'Чт День 4 Нед 2'!X100+'Ср День 3 Нед 2'!V100+'Вт День 2 Нед 2'!X100+'Пн 1 день нед 2'!W100","v":{"v":0,"d":"0.0000"}},{"$f":"'Сб День 6 Нед 2'!AB100+'Пт День 5 Нед 2'!W100+'Ср День 3 Нед 2'!#REF!+'Вт День 2 Нед 2'!#REF!+'Пн 1 день нед 2'!AA100","v":{"$error":"#REF!"}},{"$f":"'Сб День 6 Нед 2'!AF100+'Пт День 5 Нед 2'!AA100+'Чт День 4 Нед 2'!AB100+'Ср День 3 Нед 2'!Z100+'Вт День 2 Нед 2'!AB100+'Пн 1 день нед 2'!AE100","v":{"v":0.015,"d":"0.0150"}},0.015]
[85,"блины п/ф","кг",{"$f":"'Пн 1 день нед 2'!K101+'Пн 1 день нед 2'!L101+'Вт День 2 Нед 2'!M101+'Ср День 3 Нед 2'!K101+'Чт День 4 Нед 2'!L101+'Чт День 4 Нед 2'!M101+'Пт День 5 Нед 2'!K101+'Сб День 6 Нед 2'!L101","v":{"v":0,"d":"0.0000"}},{"$f":"'Пн 1 день нед 2'!S101+'Пн 1 день нед 2'!T101+'Вт День 2 Нед 2'!T101+'Ср День 3 Нед 2'!R101+'Чт День 4 Нед 2'!T101+'Чт День 4 Нед 2'!U101+'Пт День 5 Нед 2'!P101+'Сб День 6 Нед 2'!S101","v":{"v":0,"d":"0.0000"}},{"$f":"'Сб День 6 Нед 2'!X101+'Пт День 5 Нед 2'!S101+'Чт День 4 Нед 2'!X101+'Ср День 3 Нед 2'!V101+'Вт День 2 Нед 2'!X101+'Пн 1 день нед 2'!W101","v":{"v":0,"d":"0.0000"}},{"$f":"'Сб День 6 Нед 2'!AB101+'Пт День 5 Нед 2'!W101+'Ср День 3 Нед 2'!#REF!+'Вт День 2 Нед 2'!#REF!+'Пн 1 день нед 2'!AA101","v":{"$error":"#REF!"}},{"$f":"'Сб День 6 Нед 2'!AF101+'Пт День 5 Нед 2'!AA101+'Чт День 4 Нед 2'!AB101+'Ср День 3 Нед 2'!Z101+'Вт День 2 Нед 2'!AB101+'Пн 1 день нед 2'!AE101","v":{"v":0,"d":"0.0000"}},{"v":0,"d":"0.000"}]
[86,"выпечка п/ф со склада","шт",{"$f":"'Пн 1 день нед 2'!K102+'Пн 1 день нед 2'!L102+'Вт День 2 Нед 2'!M102+'Ср День 3 Нед 2'!K102+'Чт День 4 Нед 2'!L102+'Чт День 4 Нед 2'!M102+'Пт День 5 Нед 2'!K102+'Сб День 6 Нед 2'!L102","v":{"v":0,"d":"0.0000"}},{"$f":"'Пн 1 день нед 2'!S102+'Пн 1 день нед 2'!T102+'Вт День 2 Нед 2'!T102+'Ср День 3 Нед 2'!R102+'Чт День 4 Нед 2'!T102+'Чт День 4 Нед 2'!U102+'Пт День 5 Нед 2'!P102+'Сб День 6 Нед 2'!S102","v":{"v":0,"d":"0.0000"}},{"$f":"'Сб День 6 Нед 2'!X102+'Пт День 5 Нед 2'!S102+'Чт День 4 Нед 2'!X102+'Ср День 3 Нед 2'!V102+'Вт День 2 Нед 2'!X102+'Пн 1 день нед 2'!W102","v":{"v":0,"d":"0.0000"}},{"$f":"'Сб День 6 Нед 2'!AB102+'Пт День 5 Нед 2'!W102+'Ср День 3 Нед 2'!#REF!+'Вт День 2 Нед 2'!#REF!+'Пн 1 день нед 2'!AA102","v":{"$error":"#REF!"}},{"$f":"'Сб День 6 Нед 2'!AF102+'Пт День 5 Нед 2'!AA102+'Чт День 4 Нед 2'!AB102+'Ср День 3 Нед 2'!Z102+'Вт День 2 Нед 2'!AB102+'Пн 1 день нед 2'!AE102","v":{"v":0,"d":"0.0000"}},{"v":0,"d":"0.000"}]
[null,"Яйцо",{"$nulls":4},{"$f":"'Сб День 6 Нед 2'!AB103+'Пт День 5 Нед 2'!W103+'Ср День 3 Нед 2'!#REF!+'Вт День 2 Нед 2'!#REF!+'Пн 1 день нед 2'!AA103","v":{"$error":"#REF!"}}]
[87,"яйцо куриное","кг",{"$f":"'Пн 1 день нед 2'!K104+'Пн 1 день нед 2'!L104+'Вт День 2 Нед 2'!M104+'Ср День 3 Нед 2'!K104+'Чт День 4 Нед 2'!L104+'Чт День 4 Нед 2'!M104+'Пт День 5 Нед 2'!K104+'Сб День 6 Нед 2'!L104","v":{"v":0,"d":"0.0000"}},{"$f":"'Пн 1 день нед 2'!S104+'Пн 1 день нед 2'!T104+'Вт День 2 Нед 2'!T104+'Ср День 3 Нед 2'!R104+'Чт День 4 Нед 2'!T104+'Чт День 4 Нед 2'!U104+'Пт День 5 Нед 2'!P104+'Сб День 6 Нед 2'!S104","v":{"v":0,"d":"0.0000"}},{"$f":"'Сб День 6 Нед 2'!X104+'Пт День 5 Нед 2'!S104+'Чт День 4 Нед 2'!X104+'Ср День 3 Нед 2'!V104+'Вт День 2 Нед 2'!X104+'Пн 1 день нед 2'!W104","v":{"v":0,"d":"0.0000"}},{"$f":"'Сб День 6 Нед 2'!AB104+'Пт День 5 Нед 2'!W104+'Ср День 3 Нед 2'!#REF!+'Вт День 2 Нед 2'!#REF!+'Пн 1 день нед 2'!AA104","v":{"$error":"#REF!"}},{"$f":"'Сб День 6 Нед 2'!AF104+'Пт День 5 Нед 2'!AA104+'Чт День 4 Нед 2'!AB104+'Ср День 3 Нед 2'!Z104+'Вт День 2 Нед 2'!AB104+'Пн 1 день нед 2'!AE104","v":{"v":0.00384,"d":"0.0038"}},{"v":0.00384,"d":"0.004"}]
[null,0.048,"шт",{"$f":"'Пн 1 день нед 2'!K105+'Пн 1 день нед 2'!L105+'Вт День 2 Нед 2'!M105+'Ср День 3 Нед 2'!K105+'Чт День 4 Нед 2'!L105+'Чт День 4 Нед 2'!M105+'Пт День 5 Нед 2'!K105+'Сб День 6 Нед 2'!L105","v":{"v":0,"d":"0.0000"}},{"$f":"'Пн 1 день нед 2'!S105+'Пн 1 день нед 2'!T105+'Вт День 2 Нед 2'!T105+'Ср День 3 Нед 2'!R105+'Чт День 4 Нед 2'!T105+'Чт День 4 Нед 2'!U105+'Пт День 5 Нед 2'!P105+'Сб День 6 Нед 2'!S105","v":{"v":0,"d":"0.0000"}},{"$f":"F104/B105","v":{"v":0,"d":"0.0"}},{"$f":"'Сб День 6 Нед 2'!AB105+'Пт День 5 Нед 2'!W105+'Ср День 3 Нед 2'!#REF!+'Вт День 2 Нед 2'!#REF!+'Пн 1 день нед 2'!AA105","v":{"$error":"#REF!"}},{"$f":"H104/B105","v":{"v":0.08,"d":"0.1"}},{"v":0.08,"d":"0.080"}]
[null,"Овощи заморозка",{"$nulls":4},{"$f":"'Сб День 6 Нед 2'!AB106+'Пт День 5 Нед 2'!W106+'Ср День 3 Нед 2'!#REF!+'Вт День 2 Нед 2'!#REF!+'Пн 1 день нед 2'!AA106","v":{"$error":"#REF!"}}]
[88,"зеленый горошек с/м","кг",{"$f":"'Пн 1 день нед 2'!K107+'Пн 1 день нед 2'!L107+'Вт День 2 Нед 2'!M107+'Ср День 3 Нед 2'!K107+'Чт День 4 Нед 2'!L107+'Чт День 4 Нед 2'!M107+'Пт День 5 Нед 2'!K107+'Сб День 6 Нед 2'!L107","v":{"v":0,"d":"0.0000"}},{"$f":"'Пн 1 день нед 2'!S107+'Пн 1 день нед 2'!T107+'Вт День 2 Нед 2'!T107+'Ср День 3 Нед 2'!R107+'Чт День 4 Нед 2'!T107+'Чт День 4 Нед 2'!U107+'Пт День 5 Нед 2'!P107+'Сб День 6 Нед 2'!S107","v":{"v":0,"d":"0.0000"}},{"$f":"'Сб День 6 Нед 2'!X107+'Пт День 5 Нед 2'!S107+'Чт День 4 Нед 2'!X107+'Ср День 3 Нед 2'!V107+'Вт День 2 Нед 2'!X107+'Пн 1 день нед 2'!W107","v":{"v":0,"d":"0.0000"}},{"$f":"'Сб День 6 Нед 2'!AB107+'Пт День 5 Нед 2'!W107+'Ср День 3 Нед 2'!#REF!+'Вт День 2 Нед 2'!#REF!+'Пн 1 день нед 2'!AA107","v":{"$error":"#REF!"}},{"$f":"'Сб День 6 Нед 2'!AF107+'Пт День 5 Нед 2'!AA107+'Чт День 4 Нед 2'!AB107+'Ср День 3 Нед 2'!Z107+'Вт День 2 Нед 2'!AB107+'Пн 1 день нед 2'!AE107","v":{"v":0,"d":"0.0000"}},{"v":0,"d":"0.000"}]
[89,"кабачки с/м","кг",{"$f":"'Пн 1 день нед 2'!K108+'Пн 1 день нед 2'!L108+'Вт День 2 Нед 2'!M108+'Ср День 3 Нед 2'!K108+'Чт День 4 Нед 2'!L108+'Чт День 4 Нед 2'!M108+'Пт День 5 Нед 2'!K108+'Сб День 6 Нед 2'!L108","v":{"v":0,"d":"0.0000"}},{"$f":"'Пн 1 день нед 2'!S108+'Пн 1 день нед 2'!T108+'Вт День 2 Нед 2'!T108+'Ср День 3 Нед 2'!R108+'Чт День 4 Нед 2'!T108+'Чт День 4 Нед 2'!U108+'Пт День 5 Нед 2'!P108+'Сб День 6 Нед 2'!S108","v":{"v":0,"d":"0.0000"}},{"$f":"'Сб День 6 Нед 2'!X108+'Пт День 5 Нед 2'!S108+'Чт День 4 Нед 2'!X108+'Ср День 3 Нед 2'!V108+'Вт День 2 Нед 2'!X108+'Пн 1 день нед 2'!W108","v":{"v":0,"d":"0.0000"}},{"$f":"'Сб День 6 Нед 2'!AB108+'Пт День 5 Нед 2'!W108+'Ср День 3 Нед 2'!#REF!+'Вт День 2 Нед 2'!#REF!+'Пн 1 день нед 2'!AA108","v":{"$error":"#REF!"}},{"$f":"'Сб День 6 Нед 2'!AF108+'Пт День 5 Нед 2'!AA108+'Чт День 4 Нед 2'!AB108+'Ср День 3 Нед 2'!Z108+'Вт День 2 Нед 2'!AB108+'Пн 1 день нед 2'!AE108","v":{"v":0,"d":"0.0000"}},{"v":0,"d":"0.000"}]
[90,"мексиканс смесь с/м","кг",{"$f":"'Пн 1 день нед 2'!K109+'Пн 1 день нед 2'!L109+'Вт День 2 Нед 2'!M109+'Ср День 3 Нед 2'!K109+'Чт День 4 Нед 2'!L109+'Чт День 4 Нед 2'!M109+'Пт День 5 Нед 2'!K109+'Сб День 6 Нед 2'!L109","v":{"v":0,"d":"0.0000"}},{"$f":"'Пн 1 день нед 2'!S109+'Пн 1 день нед 2'!T109+'Вт День 2 Нед 2'!T109+'Ср День 3 Нед 2'!R109+'Чт День 4 Нед 2'!T109+'Чт День 4 Нед 2'!U109+'Пт День 5 Нед 2'!P109+'Сб День 6 Нед 2'!S109","v":{"v":0,"d":"0.0000"}},{"$f":"'Сб День 6 Нед 2'!X109+'Пт День 5 Нед 2'!S109+'Чт День 4 Нед 2'!X109+'Ср День 3 Нед 2'!V109+'Вт День 2 Нед 2'!X109+'Пн 1 день нед 2'!W109","v":{"v":0,"d":"0.0000"}},{"$f":"'Сб День 6 Нед 2'!AB109+'Пт День 5 Нед 2'!W109+'Ср День 3 Нед 2'!#REF!+'Вт День 2 Нед 2'!#REF!+'Пн 1 день нед 2'!AA109","v":{"$error":"#REF!"}},{"$f":"'Сб День 6 Нед 2'!AF109+'Пт День 5 Нед 2'!AA109+'Чт День 4 Нед 2'!AB109+'Ср День 3 Нед 2'!Z109+'Вт День 2 Нед 2'!AB109+'Пн 1 день нед 2'!AE109","v":{"v":0,"d":"0.0000"}},{"v":0,"d":"0.000"}]
[91,"капуста цветная с/м","кг",{"$f":"'Пн 1 день нед 2'!K110+'Пн 1 день нед 2'!L110+'Вт День 2 Нед 2'!M110+'Ср День 3 Нед 2'!K110+'Чт День 4 Нед 2'!L110+'Чт День 4 Нед 2'!M110+'Пт День 5 Нед 2'!K110+'Сб День 6 Нед 2'!L110","v":{"v":0,"d":"0.0000"}},{"$f":"'Пн 1 день нед 2'!S110+'Пн 1 день нед 2'!T110+'Вт День 2 Нед 2'!T110+'Ср День 3 Нед 2'!R110+'Чт День 4 Нед 2'!T110+'Чт День 4 Нед 2'!U110+'Пт День 5 Нед 2'!P110+'Сб День 6 Нед 2'!S110","v":{"v":0,"d":"0.0000"}},{"$f":"'Сб День 6 Нед 2'!X110+'Пт День 5 Нед 2'!S110+'Чт День 4 Нед 2'!X110+'Ср День 3 Нед 2'!V110+'Вт День 2 Нед 2'!X110+'Пн 1 день нед 2'!W110","v":{"v":0,"d":"0.0000"}},{"$f":"'Сб День 6 Нед 2'!AB110+'Пт День 5 Нед 2'!W110+'Ср День 3 Нед 2'!#REF!+'Вт День 2 Нед 2'!#REF!+'Пн 1 день нед 2'!AA110","v":{"$error":"#REF!"}},{"$f":"'Сб День 6 Нед 2'!AF110+'Пт День 5 Нед 2'!AA110+'Чт День 4 Нед 2'!AB110+'Ср День 3 Нед 2'!Z110+'Вт День 2 Нед 2'!AB110+'Пн 1 день нед 2'!AE110","v":{"v":0,"d":"0.0000"}},{"v":0,"d":"0.000"}]
[92,"брокколи с/м","кг",{"$f":"'Пн 1 день нед 2'!K111+'Пн 1 день нед 2'!L111+'Вт День 2 Нед 2'!M111+'Ср День 3 Нед 2'!K111+'Чт День 4 Нед 2'!L111+'Чт День 4 Нед 2'!M111+'Пт День 5 Нед 2'!K111+'Сб День 6 Нед 2'!L111","v":{"v":0,"d":"0.0000"}},{"$f":"'Пн 1 день нед 2'!S111+'Пн 1 день нед 2'!T111+'Вт День 2 Нед 2'!T111+'Ср День 3 Нед 2'!R111+'Чт День 4 Нед 2'!T111+'Чт День 4 Нед 2'!U111+'Пт День 5 Нед 2'!P111+'Сб День 6 Нед 2'!S111","v":{"v":0,"d":"0.0000"}},{"$f":"'Сб День 6 Нед 2'!X111+'Пт День 5 Нед 2'!S111+'Чт День 4 Нед 2'!X111+'Ср День 3 Нед 2'!V111+'Вт День 2 Нед 2'!X111+'Пн 1 день нед 2'!W111","v":{"v":0,"d":"0.0000"}},{"$f":"'Сб День 6 Нед 2'!AB111+'Пт День 5 Нед 2'!W111+'Ср День 3 Нед 2'!#REF!+'Вт День 2 Нед 2'!#REF!+'Пн 1 день нед 2'!AA111","v":{"$error":"#REF!"}},{"$f":"'Сб День 6 Нед 2'!AF111+'Пт День 5 Нед 2'!AA111+'Чт День 4 Нед 2'!AB111+'Ср День 3 Нед 2'!Z111+'Вт День 2 Нед 2'!AB111+'Пн 1 день нед 2'!AE111","v":{"v":0,"d":"0.0000"}},{"v":0,"d":"0.000"}]
[93,"кукуруза с/м","кг",{"$f":"'Пн 1 день нед 2'!K112+'Пн 1 день нед 2'!L112+'Вт День 2 Нед 2'!M112+'Ср День 3 Нед 2'!K112+'Чт День 4 Нед 2'!L112+'Чт День 4 Нед 2'!M112+'Пт День 5 Нед 2'!K112+'Сб День 6 Нед 2'!L112","v":{"v":0,"d":"0.0000"}},{"$f":"'Пн 1 день нед 2'!S112+'Пн 1 день нед 2'!T112+'Вт День 2 Нед 2'!T112+'Ср День 3 Нед 2'!R112+'Чт День 4 Нед 2'!T112+'Чт День 4 Нед 2'!U112+'Пт День 5 Нед 2'!P112+'Сб День 6 Нед 2'!S112","v":{"v":0,"d":"0.0000"}},{"$f":"'Сб День 6 Нед 2'!X112+'Пт День 5 Нед 2'!S112+'Чт День 4 Нед 2'!X112+'Ср День 3 Нед 2'!V112+'Вт День 2 Нед 2'!X112+'Пн 1 день нед 2'!W112","v":{"v":0,"d":"0.0000"}},{"$f":"'Сб День 6 Нед 2'!AB112+'Пт День 5 Нед 2'!W112+'Ср День 3 Нед 2'!#REF!+'Вт День 2 Нед 2'!#REF!+'Пн 1 день нед 2'!AA112","v":{"$error":"#REF!"}},{"$f":"'Сб День 6 Нед 2'!AF112+'Пт День 5 Нед 2'!AA112+'Чт День 4 Нед 2'!AB112+'Ср День 3 Нед 2'!Z112+'Вт День 2 Нед 2'!AB112+'Пн 1 день нед 2'!AE112","v":{"v":0,"d":"0.0000"}},{"v":0,"d":"0.000"}]
[94,"фасоль стручковая с/м","кг",{"$f":"'Пн 1 день нед 2'!K113+'Пн 1 день нед 2'!L113+'Вт День 2 Нед 2'!M113+'Ср День 3 Нед 2'!K113+'Чт День 4 Нед 2'!L113+'Чт День 4 Нед 2'!M113+'Пт День 5 Нед 2'!K113+'Сб День 6 Нед 2'!L113","v":{"v":0,"d":"0.0000"}},{"$f":"'Пн 1 день нед 2'!S113+'Пн 1 день нед 2'!T113+'Вт День 2 Нед 2'!T113+'Ср День 3 Нед 2'!R113+'Чт День 4 Нед 2'!T113+'Чт День 4 Нед 2'!U113+'Пт День 5 Нед 2'!P113+'Сб День 6 Нед 2'!S113","v":{"v":0,"d":"0.0000"}},{"$f":"'Сб День 6 Нед 2'!X113+'Пт День 5 Нед 2'!S113+'Чт День 4 Нед 2'!X113+'Ср День 3 Нед 2'!V113+'Вт День 2 Нед 2'!X113+'Пн 1 день нед 2'!W113","v":{"v":0,"d":"0.0000"}},{"$f":"'Сб День 6 Нед 2'!AB113+'Пт День 5 Нед 2'!W113+'Ср День 3 Нед 2'!#REF!+'Вт День 2 Нед 2'!#REF!+'Пн 1 день нед 2'!AA113","v":{"$error":"#REF!"}},{"$f":"'Сб День 6 Нед 2'!AF113+'Пт День 5 Нед 2'!AA113+'Чт День 4 Нед 2'!AB113+'Ср День 3 Нед 2'!Z113+'Вт День 2 Нед 2'!AB113+'Пн 1 день нед 2'!AE113","v":{"v":0,"d":"0.0000"}},{"v":0,"d":"0.000"}]
[null,"Фрукты",{"$nulls":4},{"$f":"'Сб День 6 Нед 2'!AB114+'Пт День 5 Нед 2'!W114+'Ср День 3 Нед 2'!#REF!+'Вт День 2 Нед 2'!#REF!+'Пн 1 день нед 2'!AA114","v":{"$error":"#REF!"}}]
[95,"апельсин","кг",{"$f":"'Пн 1 день нед 2'!K115+'Пн 1 день нед 2'!L115+'Вт День 2 Нед 2'!M115+'Ср День 3 Нед 2'!K115+'Чт День 4 Нед 2'!L115+'Чт День 4 Нед 2'!M115+'Пт День 5 Нед 2'!K115+'Сб День 6 Нед 2'!L115","v":{"v":0,"d":"0.0000"}},{"$f":"'Пн 1 день нед 2'!S115+'Пн 1 день нед 2'!T115+'Вт День 2 Нед 2'!T115+'Ср День 3 Нед 2'!R115+'Чт День 4 Нед 2'!T115+'Чт День 4 Нед 2'!U115+'Пт День 5 Нед 2'!P115+'Сб День 6 Нед 2'!S115","v":{"v":0,"d":"0.0000"}},{"$f":"'Сб День 6 Нед 2'!X115+'Пт День 5 Нед 2'!S115+'Чт День 4 Нед 2'!X115+'Ср День 3 Нед 2'!V115+'Вт День 2 Нед 2'!X115+'Пн 1 день нед 2'!W115","v":{"v":0.015,"d":"0.0150"}},{"$f":"'Сб День 6 Нед 2'!AB115+'Пт День 5 Нед 2'!W115+'Ср День 3 Нед 2'!#REF!+'Вт День 2 Нед 2'!#REF!+'Пн 1 день нед 2'!AA115","v":{"$error":"#REF!"}},{"$f":"'Сб День 6 Нед 2'!AF115+'Пт День 5 Нед 2'!AA115+'Чт День 4 Нед 2'!AB115+'Ср День 3 Нед 2'!Z115+'Вт День 2 Нед 2'!AB115+'Пн 1 день нед 2'!AE115","v":{"v":0,"d":"0.0000"}},0.015]
[96,"банан","кг",{"$f":"'Пн 1 день нед 2'!K116+'Пн 1 день нед 2'!L116+'Вт День 2 Нед 2'!M116+'Ср День 3 Нед 2'!K116+'Чт День 4 Нед 2'!L116+'Чт День 4 Нед 2'!M116+'Пт День 5 Нед 2'!K116+'Сб День 6 Нед 2'!L116","v":{"v":0,"d":"0.0000"}},{"$f":"'Пн 1 день нед 2'!S116+'Пн 1 день нед 2'!T116+'Вт День 2 Нед 2'!T116+'Ср День 3 Нед 2'!R116+'Чт День 4 Нед 2'!T116+'Чт День 4 Нед 2'!U116+'Пт День 5 Нед 2'!P116+'Сб День 6 Нед 2'!S116","v":{"v":0,"d":"0.0000"}},{"$f":"'Сб День 6 Нед 2'!X116+'Пт День 5 Нед 2'!S116+'Чт День 4 Нед 2'!X116+'Ср День 3 Нед 2'!V116+'Вт День 2 Нед 2'!X116+'Пн 1 день нед 2'!W116","v":{"v":0,"d":"0.0000"}},{"$f":"'Сб День 6 Нед 2'!AB116+'Пт День 5 Нед 2'!W116+'Ср День 3 Нед 2'!#REF!+'Вт День 2 Нед 2'!#REF!+'Пн 1 день нед 2'!AA116","v":{"$error":"#REF!"}},{"$f":"'Сб День 6 Нед 2'!AF116+'Пт День 5 Нед 2'!AA116+'Чт День 4 Нед 2'!AB116+'Ср День 3 Нед 2'!Z116+'Вт День 2 Нед 2'!AB116+'Пн 1 день нед 2'!AE116","v":{"v":0,"d":"0.0000"}},{"v":0,"d":"0.000"}]
[97,"груши","кг",{"$f":"'Пн 1 день нед 2'!K117+'Пн 1 день нед 2'!L117+'Вт День 2 Нед 2'!M117+'Ср День 3 Нед 2'!K117+'Чт День 4 Нед 2'!L117+'Чт День 4 Нед 2'!M117+'Пт День 5 Нед 2'!K117+'Сб День 6 Нед 2'!L117","v":{"v":0,"d":"0.0000"}},{"$f":"'Пн 1 день нед 2'!S117+'Пн 1 день нед 2'!T117+'Вт День 2 Нед 2'!T117+'Ср День 3 Нед 2'!R117+'Чт День 4 Нед 2'!T117+'Чт День 4 Нед 2'!U117+'Пт День 5 Нед 2'!P117+'Сб День 6 Нед 2'!S117","v":{"v":0,"d":"0.0000"}},{"$f":"'Сб День 6 Нед 2'!X117+'Пт День 5 Нед 2'!S117+'Чт День 4 Нед 2'!X117+'Ср День 3 Нед 2'!V117+'Вт День 2 Нед 2'!X117+'Пн 1 день нед 2'!W117","v":{"v":0,"d":"0.0000"}},{"$f":"'Сб День 6 Нед 2'!AB117+'Пт День 5 Нед 2'!W117+'Ср День 3 Нед 2'!#REF!+'Вт День 2 Нед 2'!#REF!+'Пн 1 день нед 2'!AA117","v":{"$error":"#REF!"}},{"$f":"'Сб День 6 Нед 2'!AF117+'Пт День 5 Нед 2'!AA117+'Чт День 4 Нед 2'!AB117+'Ср День 3 Нед 2'!Z117+'Вт День 2 Нед 2'!AB117+'Пн 1 день нед 2'!AE117","v":{"v":0,"d":"0.0000"}},{"v":0,"d":"0.000"}]
[98,"мандарины","кг",{"$f":"'Пн 1 день нед 2'!K118+'Пн 1 день нед 2'!L118+'Вт День 2 Нед 2'!M118+'Ср День 3 Нед 2'!K118+'Чт День 4 Нед 2'!L118+'Чт День 4 Нед 2'!M118+'Пт День 5 Нед 2'!K118+'Сб День 6 Нед 2'!L118","v":{"v":0,"d":"0.0000"}},{"$f":"'Пн 1 день нед 2'!S118+'Пн 1 день нед 2'!T118+'Вт День 2 Нед 2'!T118+'Ср День 3 Нед 2'!R118+'Чт День 4 Нед 2'!T118+'Чт День 4 Нед 2'!U118+'Пт День 5 Нед 2'!P118+'Сб День 6 Нед 2'!S118","v":{"v":0,"d":"0.0000"}},{"$f":"'Сб День 6 Нед 2'!X118+'Пт День 5 Нед 2'!S118+'Чт День 4 Нед 2'!X118+'Ср День 3 Нед 2'!V118+'Вт День 2 Нед 2'!X118+'Пн 1 день нед 2'!W118","v":{"v":0,"d":"0.0000"}},{"$f":"'Сб День 6 Нед 2'!AB118+'Пт День 5 Нед 2'!W118+'Ср День 3 Нед 2'!#REF!+'Вт День 2 Нед 2'!#REF!+'Пн 1 день нед 2'!AA118","v":{"$error":"#REF!"}},{"$f":"'Сб День 6 Нед 2'!AF118+'Пт День 5 Нед 2'!AA118+'Чт День 4 Нед 2'!AB118+'Ср День 3 Нед 2'!Z118+'Вт День 2 Нед 2'!AB118+'Пн 1 день нед 2'!AE118","v":{"v":0,"d":"0.0000"}},{"v":0,"d":"0.000"}]
[99,"лимон","кг",{"$f":"'Пн 1 день нед 2'!K119+'Пн 1 день нед 2'!L119+'Вт День 2 Нед 2'!M119+'Ср День 3 Нед 2'!K119+'Чт День 4 Нед 2'!L119+'Чт День 4 Нед 2'!M119+'Пт День 5 Нед 2'!K119+'Сб День 6 Нед 2'!L119","v":0.0106},{"$f":"'Пн 1 день нед 2'!S119+'Пн 1 день нед 2'!T119+'Вт День 2 Нед 2'!T119+'Ср День 3 Нед 2'!R119+'Чт День 4 Нед 2'!T119+'Чт День 4 Нед 2'!U119+'Пт День 5 Нед 2'!P119+'Сб День 6 Нед 2'!S119","v":0.0106},{"$f":"'Сб День 6 Нед 2'!X119+'Пт День 5 Нед 2'!S119+'Чт День 4 Нед 2'!X119+'Ср День 3 Нед 2'!V119+'Вт День 2 Нед 2'!X119+'Пн 1 день нед 2'!W119","v":0.0055},{"$f":"'Сб День 6 Нед 2'!AB119+'Пт День 5 Нед 2'!W119+'Ср День 3 Нед 2'!#REF!+'Вт День 2 Нед 2'!#REF!+'Пн 1 день нед 2'!AA119","v":{"$error":"#REF!"}},{"$f":"'Сб День 6 Нед 2'!AF119+'Пт День 5 Нед 2'!AA119+'Чт День 4 Нед 2'!AB119+'Ср День 3 Нед 2'!Z119+'Вт День 2 Нед 2'!AB119+'Пн 1 день нед 2'!AE119","v":0.0056},{"v":0.0323,"d":"0.032"}]
[100,"яблоки свежие","кг",{"$f":"'Пн 1 день нед 2'!K120+'Пн 1 день нед 2'!L120+'Вт День 2 Нед 2'!M120+'Ср День 3 Нед 2'!K120+'Чт День 4 Нед 2'!L120+'Чт День 4 Нед 2'!M120+'Пт День 5 Нед 2'!K120+'Сб День 6 Нед 2'!L120","v":{"v":0.34540000000000004,"d":"0.3454"}},{"$f":"'Пн 1 день нед 2'!S120+'Пн 1 день нед 2'!T120+'Вт День 2 Нед 2'!T120+'Ср День 3 Нед 2'!R120+'Чт День 4 Нед 2'!T120+'Чт День 4 Нед 2'!U120+'Пт День 5 Нед 2'!P120+'Сб День 6 Нед 2'!S120","v":0.2454},{"$f":"'Сб День 6 Нед 2'!X120+'Пт День 5 Нед 2'!S120+'Чт День 4 Нед 2'!X120+'Ср День 3 Нед 2'!V120+'Вт День 2 Нед 2'!X120+'Пн 1 день нед 2'!W120","v":0.0456},{"$f":"'Сб День 6 Нед 2'!AB120+'Пт День 5 Нед 2'!W120+'Ср День 3 Нед 2'!#REF!+'Вт День 2 Нед 2'!#REF!+'Пн 1 день нед 2'!AA120","v":{"$error":"#REF!"}},{"$f":"'Сб День 6 Нед 2'!AF120+'Пт День 5 Нед 2'!AA120+'Чт День 4 Нед 2'!AB120+'Ср День 3 Нед 2'!Z120+'Вт День 2 Нед 2'!AB120+'Пн 1 день нед 2'!AE120","v":{"v":0,"d":"0.0000"}},{"v":0.6364,"d":"0.636"}]
[null,"Овощи / зелень ",{"$nulls":4},{"$f":"'Сб День 6 Нед 2'!AB121+'Пт День 5 Нед 2'!W121+'Ср День 3 Нед 2'!#REF!+'Вт День 2 Нед 2'!#REF!+'Пн 1 день нед 2'!AA121","v":{"$error":"#REF!"}}]
[101,"капуста свежая","кг",{"$f":"'Пн 1 день нед 2'!K122+'Пн 1 день нед 2'!L122+'Вт День 2 Нед 2'!M122+'Ср День 3 Нед 2'!K122+'Чт День 4 Нед 2'!L122+'Чт День 4 Нед 2'!M122+'Пт День 5 Нед 2'!K122+'Сб День 6 Нед 2'!L122","v":0.0563},{"$f":"'Пн 1 день нед 2'!S122+'Пн 1 день нед 2'!T122+'Вт День 2 Нед 2'!T122+'Ср День 3 Нед 2'!R122+'Чт День 4 Нед 2'!T122+'Чт День 4 Нед 2'!U122+'Пт День 5 Нед 2'!P122+'Сб День 6 Нед 2'!S122","v":0.0563},{"$f":"'Сб День 6 Нед 2'!X122+'Пт День 5 Нед 2'!S122+'Чт День 4 Нед 2'!X122+'Ср День 3 Нед 2'!V122+'Вт День 2 Нед 2'!X122+'Пн 1 день нед 2'!W122","v":{"v":0,"d":"0.0000"}},{"$f":"'Сб День 6 Нед 2'!AB122+'Пт День 5 Нед 2'!W122+'Ср День 3 Нед 2'!#REF!+'Вт День 2 Нед 2'!#REF!+'Пн 1 день нед 2'!AA122","v":{"$error":"#REF!"}},{"$f":"'Сб День 6 Нед 2'!AF122+'Пт День 5 Нед 2'!AA122+'Чт День 4 Нед 2'!AB122+'Ср День 3 Нед 2'!Z122+'Вт День 2 Нед 2'!AB122+'Пн 1 день нед 2'!AE122","v":0.0875},{"v":0.2001,"d":"0.200"}]
[102,"картофель","кг",{"$f":"'Пн 1 день нед 2'!K123+'Пн 1 день нед 2'!L123+'Вт День 2 Нед 2'!M123+'Ср День 3 Нед 2'!K123+'Чт День 4 Нед 2'!L123+'Чт День 4 Нед 2'!M123+'Пт День 5 Нед 2'!K123+'Сб День 6 Нед 2'!L123","v":{"v":0.24880000000000002,"d":"0.2488"}},{"$f":"'Пн 1 день нед 2'!S123+'Пн 1 день нед 2'!T123+'Вт День 2 Нед 2'!T123+'Ср День 3 Нед 2'!R123+'Чт День 4 Нед 2'!T123+'Чт День 4 Нед 2'!U123+'Пт День 5 Нед 2'!P123+'Сб День 6 Нед 2'!S123","v":{"v":0.24880000000000002,"d":"0.2488"}},{"$f":"'Сб День 6 Нед 2'!X123+'Пт День 5 Нед 2'!S123+'Чт День 4 Нед 2'!X123+'Ср День 3 Нед 2'!V123+'Вт День 2 Нед 2'!X123+'Пн 1 день нед 2'!W123","v":{"v":0,"d":"0.0000"}},{"$f":"'Сб День 6 Нед 2'!AB123+'Пт День 5 Нед 2'!W123+'Ср День 3 Нед 2'!#REF!+'Вт День 2 Нед 2'!#REF!+'Пн 1 день нед 2'!AA123","v":{"$error":"#REF!"}},{"$f":"'Сб День 6 Нед 2'!AF123+'Пт День 5 Нед 2'!AA123+'Чт День 4 Нед 2'!AB123+'Ср День 3 Нед 2'!Z123+'Вт День 2 Нед 2'!AB123+'Пн 1 день нед 2'!AE123","v":{"v":0.27275000000000005,"d":"0.2728"}},{"v":0.7703500000000001,"d":"0.770"}]
[103,"лук репчатый","кг",{"$f":"'Пн 1 день нед 2'!K124+'Пн 1 день нед 2'!L124+'Вт День 2 Нед 2'!M124+'Ср День 3 Нед 2'!K124+'Чт День 4 Нед 2'!L124+'Чт День 4 Нед 2'!M124+'Пт День 5 Нед 2'!K124+'Сб День 6 Нед 2'!L124","v":{"v":0.08292000000000001,"d":"0.0829"}},{"$f":"'Пн 1 день нед 2'!S124+'Пн 1 день нед 2'!T124+'Вт День 2 Нед 2'!T124+'Ср День 3 Нед 2'!R124+'Чт День 4 Нед 2'!T124+'Чт День 4 Нед 2'!U124+'Пт День 5 Нед 2'!P124+'Сб День 6 Нед 2'!S124","v":{"v":0.04932,"d":"0.0493"}},{"$f":"'Сб День 6 Нед 2'!X124+'Пт День 5 Нед 2'!S124+'Чт День 4 Нед 2'!X124+'Ср День 3 Нед 2'!V124+'Вт День 2 Нед 2'!X124+'Пн 1 день нед 2'!W124","v":{"v":0,"d":"0.0000"}},{"$f":"'Сб День 6 Нед 2'!AB124+'Пт День 5 Нед 2'!W124+'Ср День 3 Нед 2'!#REF!+'Вт День 2 Нед 2'!#REF!+'Пн 1 день нед 2'!AA124","v":{"$error":"#REF!"}},{"$f":"'Сб День 6 Нед 2'!AF124+'Пт День 5 Нед 2'!AA124+'Чт День 4 Нед 2'!AB124+'Ср День 3 Нед 2'!Z124+'Вт День 2 Нед 2'!AB124+'Пн 1 день нед 2'!AE124","v":{"v":0.06649,"d":"0.0665"}},{"v":0.19873000000000002,"d":"0.199"}]
[104,"морковь","кг",{"$f":"'Пн 1 день нед 2'!K125+'Пн 1 день нед 2'!L125+'Вт День 2 Нед 2'!M125+'Ср День 3 Нед 2'!K125+'Чт День 4 Нед 2'!L125+'Чт День 4 Нед 2'!M125+'Пт День 5 Нед 2'!K125+'Сб День 6 Нед 2'!L125","v":{"v":0.036000000000000004,"d":"0.0360"}},{"$f":"'Пн 1 день нед 2'!S125+'Пн 1 день нед 2'!T125+'Вт День 2 Нед 2'!T125+'Ср День 3 Нед 2'!R125+'Чт День 4 Нед 2'!T125+'Чт День 4 Нед 2'!U125+'Пт День 5 Нед 2'!P125+'Сб День 6 Нед 2'!S125","v":{"v":0.036000000000000004,"d":"0.0360"}},{"$f":"'Сб День 6 Нед 2'!X125+'Пт День 5 Нед 2'!S125+'Чт День 4 Нед 2'!X125+'Ср День 3 Нед 2'!V125+'Вт День 2 Нед 2'!X125+'Пн 1 день нед 2'!W125","v":{"v":0,"d":"0.0000"}},{"$f":"'Сб День 6 Нед 2'!AB125+'Пт День 5 Нед 2'!W125+'Ср День 3 Нед 2'!#REF!+'Вт День 2 Нед 2'!#REF!+'Пн 1 день нед 2'!AA125","v":{"$error":"#REF!"}},{"$f":"'Сб День 6 Нед 2'!AF125+'Пт День 5 Нед 2'!AA125+'Чт День 4 Нед 2'!AB125+'Ср День 3 Нед 2'!Z125+'Вт День 2 Нед 2'!AB125+'Пн 1 день нед 2'!AE125","v":{"v":0.06775,"d":"0.0678"}},{"v":0.13975,"d":"0.140"}]
[105,"свекла","кг",{"$f":"'Пн 1 день нед 2'!K126+'Пн 1 день нед 2'!L126+'Вт День 2 Нед 2'!M126+'Ср День 3 Нед 2'!K126+'Чт День 4 Нед 2'!L126+'Чт День 4 Нед 2'!M126+'Пт День 5 Нед 2'!K126+'Сб День 6 Нед 2'!L126","v":{"v":0.073,"d":"0.0730"}},{"$f":"'Пн 1 день нед 2'!S126+'Пн 1 день нед 2'!T126+'Вт День 2 Нед 2'!T126+'Ср День 3 Нед 2'!R126+'Чт День 4 Нед 2'!T126+'Чт День 4 Нед 2'!U126+'Пт День 5 Нед 2'!P126+'Сб День 6 Нед 2'!S126","v":{"v":0.119,"d":"0.1190"}},{"$f":"'Сб День 6 Нед 2'!X126+'Пт День 5 Нед 2'!S126+'Чт День 4 Нед 2'!X126+'Ср День 3 Нед 2'!V126+'Вт День 2 Нед 2'!X126+'Пн 1 день нед 2'!W126","v":{"v":0,"d":"0.0000"}},{"$f":"'Сб День 6 Нед 2'!AB126+'Пт День 5 Нед 2'!W126+'Ср День 3 Нед 2'!#REF!+'Вт День 2 Нед 2'!#REF!+'Пн 1 день нед 2'!AA126","v":{"$error":"#REF!"}},{"$f":"'Сб День 6 Нед 2'!AF126+'Пт День 5 Нед 2'!AA126+'Чт День 4 Нед 2'!AB126+'Ср День 3 Нед 2'!Z126+'Вт День 2 Нед 2'!AB126+'Пн 1 день нед 2'!AE126","v":{"v":0,"d":"0.0000"}},0.192]
[106,"огурцы св.","кг",{"$f":"'Пн 1 день нед 2'!K127+'Пн 1 день нед 2'!L127+'Вт День 2 Нед 2'!M127+'Ср День 3 Нед 2'!K127+'Чт День 4 Нед 2'!L127+'Чт День 4 Нед 2'!M127+'Пт День 5 Нед 2'!K127+'Сб День 6 Нед 2'!L127","v":{"v":0,"d":"0.0000"}},{"$f":"'Пн 1 день нед 2'!S127+'Пн 1 день нед 2'!T127+'Вт День 2 Нед 2'!T127+'Ср День 3 Нед 2'!R127+'Чт День 4 Нед 2'!T127+'Чт День 4 Нед 2'!U127+'Пт День 5 Нед 2'!P127+'Сб День 6 Нед 2'!S127","v":{"v":0,"d":"0.0000"}},{"$f":"'Сб День 6 Нед 2'!X127+'Пт День 5 Нед 2'!S127+'Чт День 4 Нед 2'!X127+'Ср День 3 Нед 2'!V127+'Вт День 2 Нед 2'!X127+'Пн 1 день нед 2'!W127","v":{"v":0,"d":"0.0000"}},{"$f":"'Сб День 6 Нед 2'!AB127+'Пт День 5 Нед 2'!W127+'Ср День 3 Нед 2'!#REF!+'Вт День 2 Нед 2'!#REF!+'Пн 1 день нед 2'!AA127","v":{"$error":"#REF!"}},{"$f":"'Сб День 6 Нед 2'!AF127+'Пт День 5 Нед 2'!AA127+'Чт День 4 Нед 2'!AB127+'Ср День 3 Нед 2'!Z127+'Вт День 2 Нед 2'!AB127+'Пн 1 день нед 2'!AE127","v":{"v":0,"d":"0.0000"}},{"v":0,"d":"0.000"}]
[107,"томаты св.","кг",{"$f":"'Пн 1 день нед 2'!K128+'Пн 1 день нед 2'!L128+'Вт День 2 Нед 2'!M128+'Ср День 3 Нед 2'!K128+'Чт День 4 Нед 2'!L128+'Чт День 4 Нед 2'!M128+'Пт День 5 Нед 2'!K128+'Сб День 6 Нед 2'!L128","v":{"v":0,"d":"0.0000"}},{"$f":"'Пн 1 день нед 2'!S128+'Пн 1 день нед 2'!T128+'Вт День 2 Нед 2'!T128+'Ср День 3 Нед 2'!R128+'Чт День 4 Нед 2'!T128+'Чт День 4 Нед 2'!U128+'Пт День 5 Нед 2'!P128+'Сб День 6 Нед 2'!S128","v":{"v":0,"d":"0.0000"}},{"$f":"'Сб День 6 Нед 2'!X128+'Пт День 5 Нед 2'!S128+'Чт День 4 Нед 2'!X128+'Ср День 3 Нед 2'!V128+'Вт День 2 Нед 2'!X128+'Пн 1 день нед 2'!W128","v":{"v":0,"d":"0.0000"}},{"$f":"'Сб День 6 Нед 2'!AB128+'Пт День 5 Нед 2'!W128+'Ср День 3 Нед 2'!#REF!+'Вт День 2 Нед 2'!#REF!+'Пн 1 день нед 2'!AA128","v":{"$error":"#REF!"}},{"$f":"'Сб День 6 Нед 2'!AF128+'Пт День 5 Нед 2'!AA128+'Чт День 4 Нед 2'!AB128+'Ср День 3 Нед 2'!Z128+'Вт День 2 Нед 2'!AB128+'Пн 1 день нед 2'!AE128","v":{"v":0,"d":"0.0000"}},{"v":0,"d":"0.000"}]
[108,"перец болг.красный","кг",{"$f":"'Пн 1 день нед 2'!K129+'Пн 1 день нед 2'!L129+'Вт День 2 Нед 2'!M129+'Ср День 3 Нед 2'!K129+'Чт День 4 Нед 2'!L129+'Чт День 4 Нед 2'!M129+'Пт День 5 Нед 2'!K129+'Сб День 6 Нед 2'!L129","v":{"v":0,"d":"0.0000"}},{"$f":"'Пн 1 день нед 2'!S129+'Пн 1 день нед 2'!T129+'Вт День 2 Нед 2'!T129+'Ср День 3 Нед 2'!R129+'Чт День 4 Нед 2'!T129+'Чт День 4 Нед 2'!U129+'Пт День 5 Нед 2'!P129+'Сб День 6 Нед 2'!S129","v":{"v":0,"d":"0.0000"}},{"$f":"'Сб День 6 Нед 2'!X129+'Пт День 5 Нед 2'!S129+'Чт День 4 Нед 2'!X129+'Ср День 3 Нед 2'!V129+'Вт День 2 Нед 2'!X129+'Пн 1 день нед 2'!W129","v":{"v":0,"d":"0.0000"}},{"$f":"'Сб День 6 Нед 2'!AB129+'Пт День 5 Нед 2'!W129+'Ср День 3 Нед 2'!#REF!+'Вт День 2 Нед 2'!#REF!+'Пн 1 день нед 2'!AA129","v":{"$error":"#REF!"}},{"$f":"'Сб День 6 Нед 2'!AF129+'Пт День 5 Нед 2'!AA129+'Чт День 4 Нед 2'!AB129+'Ср День 3 Нед 2'!Z129+'Вт День 2 Нед 2'!AB129+'Пн 1 день нед 2'!AE129","v":{"v":0,"d":"0.0000"}},{"v":0,"d":"0.000"}]
[109,"тыква","кг",{"$f":"'Пн 1 день нед 2'!K130+'Пн 1 день нед 2'!L130+'Вт День 2 Нед 2'!M130+'Ср День 3 Нед 2'!K130+'Чт День 4 Нед 2'!L130+'Чт День 4 Нед 2'!M130+'Пт День 5 Нед 2'!K130+'Сб День 6 Нед 2'!L130","v":{"v":0,"d":"0.0000"}},{"$f":"'Пн 1 день нед 2'!S130+'Пн 1 день нед 2'!T130+'Вт День 2 Нед 2'!T130+'Ср День 3 Нед 2'!R130+'Чт День 4 Нед 2'!T130+'Чт День 4 Нед 2'!U130+'Пт День 5 Нед 2'!P130+'Сб День 6 Нед 2'!S130","v":{"v":0,"d":"0.0000"}},{"$f":"'Сб День 6 Нед 2'!X130+'Пт День 5 Нед 2'!S130+'Чт День 4 Нед 2'!X130+'Ср День 3 Нед 2'!V130+'Вт День 2 Нед 2'!X130+'Пн 1 день нед 2'!W130","v":{"v":0,"d":"0.0000"}},{"$f":"'Сб День 6 Нед 2'!AB130+'Пт День 5 Нед 2'!W130+'Ср День 3 Нед 2'!#REF!+'Вт День 2 Нед 2'!#REF!+'Пн 1 день нед 2'!AA130","v":{"$error":"#REF!"}},{"$f":"'Сб День 6 Нед 2'!AF130+'Пт День 5 Нед 2'!AA130+'Чт День 4 Нед 2'!AB130+'Ср День 3 Нед 2'!Z130+'Вт День 2 Нед 2'!AB130+'Пн 1 день нед 2'!AE130","v":{"v":0,"d":"0.0000"}},{"v":0,"d":"0.000"}]
[null,"Овощи очищенные ",{"$nulls":4},{"$f":"'Сб День 6 Нед 2'!AB131+'Пт День 5 Нед 2'!W131+'Ср День 3 Нед 2'!#REF!+'Вт День 2 Нед 2'!#REF!+'Пн 1 день нед 2'!AA131","v":{"$error":"#REF!"}}]
[110,"капуста св.очищенная","кг",{"$f":"'Пн 1 день нед 2'!K132+'Пн 1 день нед 2'!L132+'Вт День 2 Нед 2'!M132+'Ср День 3 Нед 2'!K132+'Чт День 4 Нед 2'!L132+'Чт День 4 Нед 2'!M132+'Пт День 5 Нед 2'!K132+'Сб День 6 Нед 2'!L132","v":{"v":0,"d":"0.0000"}},{"$f":"'Пн 1 день нед 2'!S132+'Пн 1 день нед 2'!T132+'Вт День 2 Нед 2'!T132+'Ср День 3 Нед 2'!R132+'Чт День 4 Нед 2'!T132+'Чт День 4 Нед 2'!U132+'Пт День 5 Нед 2'!P132+'Сб День 6 Нед 2'!S132","v":{"v":0,"d":"0.0000"}},{"$f":"'Сб День 6 Нед 2'!X132+'Пт День 5 Нед 2'!S132+'Чт День 4 Нед 2'!X132+'Ср День 3 Нед 2'!V132+'Вт День 2 Нед 2'!X132+'Пн 1 день нед 2'!W132","v":{"v":0,"d":"0.0000"}},{"$f":"'Сб День 6 Нед 2'!AB132+'Пт День 5 Нед 2'!W132+'Ср День 3 Нед 2'!#REF!+'Вт День 2 Нед 2'!#REF!+'Пн 1 день нед 2'!AA132","v":{"$error":"#REF!"}},{"$f":"'Сб День 6 Нед 2'!AF132+'Пт День 5 Нед 2'!AA132+'Чт День 4 Нед 2'!AB132+'Ср День 3 Нед 2'!Z132+'Вт День 2 Нед 2'!AB132+'Пн 1 день нед 2'!AE132","v":{"v":0,"d":"0.0000"}},{"v":0,"d":"0.000"}]
[111,"картофель св. очищенный","кг",{"$f":"'Пн 1 день нед 2'!K133+'Пн 1 день нед 2'!L133+'Вт День 2 Нед 2'!M133+'Ср День 3 Нед 2'!K133+'Чт День 4 Нед 2'!L133+'Чт День 4 Нед 2'!M133+'Пт День 5 Нед 2'!K133+'Сб День 6 Нед 2'!L133","v":{"v":0,"d":"0.0000"}},{"$f":"'Пн 1 день нед 2'!S133+'Пн 1 день нед 2'!T133+'Вт День 2 Нед 2'!T133+'Ср День 3 Нед 2'!R133+'Чт День 4 Нед 2'!T133+'Чт День 4 Нед 2'!U133+'Пт День 5 Нед 2'!P133+'Сб День 6 Нед 2'!S133","v":{"v":0,"d":"0.0000"}},{"$f":"'Сб День 6 Нед 2'!X133+'Пт День 5 Нед 2'!S133+'Чт День 4 Нед 2'!X133+'Ср День 3 Нед 2'!V133+'Вт День 2 Нед 2'!X133+'Пн 1 день нед 2'!W133","v":{"v":0,"d":"0.0000"}},{"$f":"'Сб День 6 Нед 2'!AB133+'Пт День 5 Нед 2'!W133+'Ср День 3 Нед 2'!#REF!+'Вт День 2 Нед 2'!#REF!+'Пн 1 день нед 2'!AA133","v":{"$error":"#REF!"}},{"$f":"'Сб День 6 Нед 2'!AF133+'Пт День 5 Нед 2'!AA133+'Чт День 4 Нед 2'!AB133+'Ср День 3 Нед 2'!Z133+'Вт День 2 Нед 2'!AB133+'Пн 1 день нед 2'!AE133","v":{"v":0,"d":"0.0000"}},{"v":0,"d":"0.000"}]
[112,"лук репчатый св.очищенный","кг",{"$f":"'Пн 1 день нед 2'!K134+'Пн 1 день нед 2'!L134+'Вт День 2 Нед 2'!M134+'Ср День 3 Нед 2'!K134+'Чт День 4 Нед 2'!L134+'Чт День 4 Нед 2'!M134+'Пт День 5 Нед 2'!K134+'Сб День 6 Нед 2'!L134","v":{"v":0,"d":"0.0000"}},{"$f":"'Пн 1 день нед 2'!S134+'Пн 1 день нед 2'!T134+'Вт День 2 Нед 2'!T134+'Ср День 3 Нед 2'!R134+'Чт День 4 Нед 2'!T134+'Чт День 4 Нед 2'!U134+'Пт День 5 Нед 2'!P134+'Сб День 6 Нед 2'!S134","v":{"v":0,"d":"0.0000"}},{"$f":"'Сб День 6 Нед 2'!X134+'Пт День 5 Нед 2'!S134+'Чт День 4 Нед 2'!X134+'Ср День 3 Нед 2'!V134+'Вт День 2 Нед 2'!X134+'Пн 1 день нед 2'!W134","v":{"v":0,"d":"0.0000"}},{"$f":"'Сб День 6 Нед 2'!AB134+'Пт День 5 Нед 2'!W134+'Ср День 3 Нед 2'!#REF!+'Вт День 2 Нед 2'!#REF!+'Пн 1 день нед 2'!AA134","v":{"$error":"#REF!"}},{"$f":"'Сб День 6 Нед 2'!AF134+'Пт День 5 Нед 2'!AA134+'Чт День 4 Нед 2'!AB134+'Ср День 3 Нед 2'!Z134+'Вт День 2 Нед 2'!AB134+'Пн 1 день нед 2'!AE134","v":{"v":0,"d":"0.0000"}},{"v":0,"d":"0.000"}]
[113,"морковь св.очищенная","кг",{"$f":"'Пн 1 день нед 2'!K135+'Пн 1 день нед 2'!L135+'Вт День 2 Нед 2'!M135+'Ср День 3 Нед 2'!K135+'Чт День 4 Нед 2'!L135+'Чт День 4 Нед 2'!M135+'Пт День 5 Нед 2'!K135+'Сб День 6 Нед 2'!L135","v":{"v":0,"d":"0.0000"}},{"$f":"'Пн 1 день нед 2'!S135+'Пн 1 день нед 2'!T135+'Вт День 2 Нед 2'!T135+'Ср День 3 Нед 2'!R135+'Чт День 4 Нед 2'!T135+'Чт День 4 Нед 2'!U135+'Пт День 5 Нед 2'!P135+'Сб День 6 Нед 2'!S135","v":{"v":0,"d":"0.0000"}},{"$f":"'Сб День 6 Нед 2'!X135+'Пт День 5 Нед 2'!S135+'Чт День 4 Нед 2'!X135+'Ср День 3 Нед 2'!V135+'Вт День 2 Нед 2'!X135+'Пн 1 день нед 2'!W135","v":{"v":0,"d":"0.0000"}},{"$f":"'Сб День 6 Нед 2'!AB135+'Пт День 5 Нед 2'!W135+'Ср День 3 Нед 2'!#REF!+'Вт День 2 Нед 2'!#REF!+'Пн 1 день нед 2'!AA135","v":{"$error":"#REF!"}},{"$f":"'Сб День 6 Нед 2'!AF135+'Пт День 5 Нед 2'!AA135+'Чт День 4 Нед 2'!AB135+'Ср День 3 Нед 2'!Z135+'Вт День 2 Нед 2'!AB135+'Пн 1 день нед 2'!AE135","v":{"v":0,"d":"0.0000"}},{"v":0,"d":"0.000"}]
[114,"свекла св.очищенная","кг",{"$f":"'Пн 1 день нед 2'!K136+'Пн 1 день нед 2'!L136+'Вт День 2 Нед 2'!M136+'Ср День 3 Нед 2'!K136+'Чт День 4 Нед 2'!L136+'Чт День 4 Нед 2'!M136+'Пт День 5 Нед 2'!K136+'Сб День 6 Нед 2'!L136","v":{"v":0,"d":"0.0000"}},{"$f":"'Пн 1 день нед 2'!S136+'Пн 1 день нед 2'!T136+'Вт День 2 Нед 2'!T136+'Ср День 3 Нед 2'!R136+'Чт День 4 Нед 2'!T136+'Чт День 4 Нед 2'!U136+'Пт День 5 Нед 2'!P136+'Сб День 6 Нед 2'!S136","v":{"v":0,"d":"0.0000"}},{"$f":"'Сб День 6 Нед 2'!X136+'Пт День 5 Нед 2'!S136+'Чт День 4 Нед 2'!X136+'Ср День 3 Нед 2'!V136+'Вт День 2 Нед 2'!X136+'Пн 1 день нед 2'!W136","v":{"v":0,"d":"0.0000"}},{"$f":"'Сб День 6 Нед 2'!AB136+'Пт День 5 Нед 2'!W136+'Ср День 3 Нед 2'!#REF!+'Вт День 2 Нед 2'!#REF!+'Пн 1 день нед 2'!AA136","v":{"$error":"#REF!"}},{"$f":"'Сб День 6 Нед 2'!AF136+'Пт День 5 Нед 2'!AA136+'Чт День 4 Нед 2'!AB136+'Ср День 3 Нед 2'!Z136+'Вт День 2 Нед 2'!AB136+'Пн 1 день нед 2'!AE136","v":{"v":0,"d":"0.0000"}},{"$f":"D136+E136+F136+H136","v":{"v":0,"d":"0.000"}}]
[null,"Полуфабрикаты",{"$nulls":4},{"$f":"'Сб День 6 Нед 2'!AB137+'Пт День 5 Нед 2'!W137+'Ср День 3 Нед 2'!#REF!+'Вт День 2 Нед 2'!#REF!+'Пн 1 день нед 2'!AA137","v":{"$error":"#REF!"}}]
[115,"сырники ПФ","шт",{"$f":"'Пн 1 день нед 2'!K138+'Пн 1 день нед 2'!L138+'Вт День 2 Нед 2'!M138+'Ср День 3 Нед 2'!K138+'Чт День 4 Нед 2'!L138+'Чт День 4 Нед 2'!M138+'Пт День 5 Нед 2'!K138+'Сб День 6 Нед 2'!L138","v":{"v":0,"d":"0.0000"}},{"$f":"'Пн 1 день нед 2'!S138+'Пн 1 день нед 2'!T138+'Вт День 2 Нед 2'!T138+'Ср День 3 Нед 2'!R138+'Чт День 4 Нед 2'!T138+'Чт День 4 Нед 2'!U138+'Пт День 5 Нед 2'!P138+'Сб День 6 Нед 2'!S138","v":{"v":0,"d":"0.0000"}},{"$f":"'Сб День 6 Нед 2'!X138+'Пт День 5 Нед 2'!S138+'Чт День 4 Нед 2'!X138+'Ср День 3 Нед 2'!V138+'Вт День 2 Нед 2'!X138+'Пн 1 день нед 2'!W138","v":{"v":0,"d":"0.0000"}},{"$f":"'Сб День 6 Нед 2'!AB138+'Пт День 5 Нед 2'!W138+'Ср День 3 Нед 2'!#REF!+'Вт День 2 Нед 2'!#REF!+'Пн 1 день нед 2'!AA138","v":{"$error":"#REF!"}},{"$f":"'Сб День 6 Нед 2'!AF138+'Пт День 5 Нед 2'!AA138+'Чт День 4 Нед 2'!AB138+'Ср День 3 Нед 2'!Z138+'Вт День 2 Нед 2'!AB138+'Пн 1 день нед 2'!AE138","v":{"v":0,"d":"0.0000"}},{"v":0,"d":"0.000"}]
[116,"пельмени ПФ","кг",{"$f":"'Пн 1 день нед 2'!K139+'Пн 1 день нед 2'!L139+'Вт День 2 Нед 2'!M139+'Ср День 3 Нед 2'!K139+'Чт День 4 Нед 2'!L139+'Чт День 4 Нед 2'!M139+'Пт День 5 Нед 2'!K139+'Сб День 6 Нед 2'!L139","v":{"v":0.138,"d":"0.1380"}},{"$f":"'Пн 1 день нед 2'!S139+'Пн 1 день нед 2'!T139+'Вт День 2 Нед 2'!T139+'Ср День 3 Нед 2'!R139+'Чт День 4 Нед 2'!T139+'Чт День 4 Нед 2'!U139+'Пт День 5 Нед 2'!P139+'Сб День 6 Нед 2'!S139","v":{"v":0.36,"d":"0.3600"}},{"$f":"'Сб День 6 Нед 2'!X139+'Пт День 5 Нед 2'!S139+'Чт День 4 Нед 2'!X139+'Ср День 3 Нед 2'!V139+'Вт День 2 Нед 2'!X139+'Пн 1 день нед 2'!W139","v":{"v":0,"d":"0.0000"}},{"$f":"'Сб День 6 Нед 2'!AB139+'Пт День 5 Нед 2'!W139+'Ср День 3 Нед 2'!#REF!+'Вт День 2 Нед 2'!#REF!+'Пн 1 день нед 2'!AA139","v":{"$error":"#REF!"}},{"$f":"'Сб День 6 Нед 2'!AF139+'Пт День 5 Нед 2'!AA139+'Чт День 4 Нед 2'!AB139+'Ср День 3 Нед 2'!Z139+'Вт День 2 Нед 2'!AB139+'Пн 1 день нед 2'!AE139","v":{"v":0,"d":"0.0000"}},0.498]
[117,"биточки рыбные","шт",{"$f":"'Пн 1 день нед 2'!K140+'Пн 1 день нед 2'!L140+'Вт День 2 Нед 2'!M140+'Ср День 3 Нед 2'!K140+'Чт День 4 Нед 2'!L140+'Чт День 4 Нед 2'!M140+'Пт День 5 Нед 2'!K140+'Сб День 6 Нед 2'!L140","v":{"v":0,"d":"0.0000"}},{"$f":"'Пн 1 день нед 2'!S140+'Пн 1 день нед 2'!T140+'Вт День 2 Нед 2'!T140+'Ср День 3 Нед 2'!R140+'Чт День 4 Нед 2'!T140+'Чт День 4 Нед 2'!U140+'Пт День 5 Нед 2'!P140+'Сб День 6 Нед 2'!S140","v":{"v":1,"d":"1.0000"}},{"$f":"'Сб День 6 Нед 2'!X140+'Пт День 5 Нед 2'!S140+'Чт День 4 Нед 2'!X140+'Ср День 3 Нед 2'!V140+'Вт День 2 Нед 2'!X140+'Пн 1 день нед 2'!W140","v":{"v":0,"d":"0.0000"}},{"$f":"'Сб День 6 Нед 2'!AB140+'Пт День 5 Нед 2'!W140+'Ср День 3 Нед 2'!#REF!+'Вт День 2 Нед 2'!#REF!+'Пн 1 день нед 2'!AA140","v":{"$error":"#REF!"}},{"$f":"'Сб День 6 Нед 2'!AF140+'Пт День 5 Нед 2'!AA140+'Чт День 4 Нед 2'!AB140+'Ср День 3 Нед 2'!Z140+'Вт День 2 Нед 2'!AB140+'Пн 1 день нед 2'!AE140","v":{"v":0,"d":"0.0000"}},{"v":1,"d":"1.000"}]
[118,"фрикадельки мясные ","кг",{"$f":"'Пн 1 день нед 2'!K141+'Пн 1 день нед 2'!L141+'Вт День 2 Нед 2'!M141+'Ср День 3 Нед 2'!K141+'Чт День 4 Нед 2'!L141+'Чт День 4 Нед 2'!M141+'Пт День 5 Нед 2'!K141+'Сб День 6 Нед 2'!L141","v":{"v":0,"d":"0.0000"}},{"$f":"'Пн 1 день нед 2'!S141+'Пн 1 день нед 2'!T141+'Вт День 2 Нед 2'!T141+'Ср День 3 Нед 2'!R141+'Чт День 4 Нед 2'!T141+'Чт День 4 Нед 2'!U141+'Пт День 5 Нед 2'!P141+'Сб День 6 Нед 2'!S141","v":{"v":0,"d":"0.0000"}},{"$f":"'Сб День 6 Нед 2'!X141+'Пт День 5 Нед 2'!S141+'Чт День 4 Нед 2'!X141+'Ср День 3 Нед 2'!V141+'Вт День 2 Нед 2'!X141+'Пн 1 день нед 2'!W141","v":{"v":0,"d":"0.0000"}},{"$f":"'Сб День 6 Нед 2'!AB141+'Пт День 5 Нед 2'!W141+'Ср День 3 Нед 2'!#REF!+'Вт День 2 Нед 2'!#REF!+'Пн 1 день нед 2'!AA141","v":{"$error":"#REF!"}},{"$f":"'Сб День 6 Нед 2'!AF141+'Пт День 5 Нед 2'!AA141+'Чт День 4 Нед 2'!AB141+'Ср День 3 Нед 2'!Z141+'Вт День 2 Нед 2'!AB141+'Пн 1 день нед 2'!AE141","v":{"v":0,"d":"0.0000"}},{"v":0,"d":"0.000"}]
[119,"фрикадельки куриные","кг",{"$f":"'Пн 1 день нед 2'!K142+'Пн 1 день нед 2'!L142+'Вт День 2 Нед 2'!M142+'Ср День 3 Нед 2'!K142+'Чт День 4 Нед 2'!L142+'Чт День 4 Нед 2'!M142+'Пт День 5 Нед 2'!K142+'Сб День 6 Нед 2'!L142","v":{"v":0,"d":"0.0000"}},{"$f":"'Пн 1 день нед 2'!S142+'Пн 1 день нед 2'!T142+'Вт День 2 Нед 2'!T142+'Ср День 3 Нед 2'!R142+'Чт День 4 Нед 2'!T142+'Чт День 4 Нед 2'!U142+'Пт День 5 Нед 2'!P142+'Сб День 6 Нед 2'!S142","v":{"v":0,"d":"0.0000"}},{"$f":"'Сб День 6 Нед 2'!X142+'Пт День 5 Нед 2'!S142+'Чт День 4 Нед 2'!X142+'Ср День 3 Нед 2'!V142+'Вт День 2 Нед 2'!X142+'Пн 1 день нед 2'!W142","v":{"v":0,"d":"0.0000"}},{"$f":"'Сб День 6 Нед 2'!AB142+'Пт День 5 Нед 2'!W142+'Ср День 3 Нед 2'!#REF!+'Вт День 2 Нед 2'!#REF!+'Пн 1 день нед 2'!AA142","v":{"$error":"#REF!"}},{"$f":"'Сб День 6 Нед 2'!AF142+'Пт День 5 Нед 2'!AA142+'Чт День 4 Нед 2'!AB142+'Ср День 3 Нед 2'!Z142+'Вт День 2 Нед 2'!AB142+'Пн 1 день нед 2'!AE142","v":{"v":0,"d":"0.0000"}},{"v":0,"d":"0.000"}]
[120,"хинкали п/ф из говядины","кг",{"$f":"'Пн 1 день нед 2'!K143+'Пн 1 день нед 2'!L143+'Вт День 2 Нед 2'!M143+'Ср День 3 Нед 2'!K143+'Чт День 4 Нед 2'!L143+'Чт День 4 Нед 2'!M143+'Пт День 5 Нед 2'!K143+'Сб День 6 Нед 2'!L143","v":{"v":0,"d":"0.0000"}},{"$f":"'Пн 1 день нед 2'!S143+'Пн 1 день нед 2'!T143+'Вт День 2 Нед 2'!T143+'Ср День 3 Нед 2'!R143+'Чт День 4 Нед 2'!T143+'Чт День 4 Нед 2'!U143+'Пт День 5 Нед 2'!P143+'Сб День 6 Нед 2'!S143","v":{"v":0,"d":"0.0000"}},{"$f":"'Сб День 6 Нед 2'!X143+'Пт День 5 Нед 2'!S143+'Чт День 4 Нед 2'!X143+'Ср День 3 Нед 2'!V143+'Вт День 2 Нед 2'!X143+'Пн 1 день нед 2'!W143","v":{"v":0,"d":"0.0000"}},{"$f":"'Сб День 6 Нед 2'!AB143+'Пт День 5 Нед 2'!W143+'Ср День 3 Нед 2'!#REF!+'Вт День 2 Нед 2'!#REF!+'Пн 1 день нед 2'!AA143","v":{"$error":"#REF!"}},{"$f":"'Сб День 6 Нед 2'!AF143+'Пт День 5 Нед 2'!AA143+'Чт День 4 Нед 2'!AB143+'Ср День 3 Нед 2'!Z143+'Вт День 2 Нед 2'!AB143+'Пн 1 день нед 2'!AE143","v":{"v":0,"d":"0.0000"}},{"v":0,"d":"0.000"}]
[121,"котлеты из говядины \"Домашние\"  ","шт",{"$f":"'Пн 1 день нед 2'!K144+'Пн 1 день нед 2'!L144+'Вт День 2 Нед 2'!M144+'Ср День 3 Нед 2'!K144+'Чт День 4 Нед 2'!L144+'Чт День 4 Нед 2'!M144+'Пт День 5 Нед 2'!K144+'Сб День 6 Нед 2'!L144","v":{"v":0,"d":"0.0000"}},{"$f":"'Пн 1 день нед 2'!S144+'Пн 1 день нед 2'!T144+'Вт День 2 Нед 2'!T144+'Ср День 3 Нед 2'!R144+'Чт День 4 Нед 2'!T144+'Чт День 4 Нед 2'!U144+'Пт День 5 Нед 2'!P144+'Сб День 6 Нед 2'!S144","v":{"v":0,"d":"0.0000"}},{"$f":"'Сб День 6 Нед 2'!X144+'Пт День 5 Нед 2'!S144+'Чт День 4 Нед 2'!X144+'Ср День 3 Нед 2'!V144+'Вт День 2 Нед 2'!X144+'Пн 1 день нед 2'!W144","v":{"v":0,"d":"0.0000"}},{"$f":"'Сб День 6 Нед 2'!AB144+'Пт День 5 Нед 2'!W144+'Ср День 3 Нед 2'!#REF!+'Вт День 2 Нед 2'!#REF!+'Пн 1 день нед 2'!AA144","v":{"$error":"#REF!"}},{"$f":"'Сб День 6 Нед 2'!AF144+'Пт День 5 Нед 2'!AA144+'Чт День 4 Нед 2'!AB144+'Ср День 3 Нед 2'!Z144+'Вт День 2 Нед 2'!AB144+'Пн 1 день нед 2'!AE144","v":{"v":0,"d":"0.0000"}},{"v":0,"d":"0.000"}]
[122,"бифштекс из говядины","шт",{"$f":"'Пн 1 день нед 2'!K145+'Пн 1 день нед 2'!L145+'Вт День 2 Нед 2'!M145+'Ср День 3 Нед 2'!K145+'Чт День 4 Нед 2'!L145+'Чт День 4 Нед 2'!M145+'Пт День 5 Нед 2'!K145+'Сб День 6 Нед 2'!L145","v":{"v":0,"d":"0.0000"}},{"$f":"'Пн 1 день нед 2'!S145+'Пн 1 день нед 2'!T145+'Вт День 2 Нед 2'!T145+'Ср День 3 Нед 2'!R145+'Чт День 4 Нед 2'!T145+'Чт День 4 Нед 2'!U145+'Пт День 5 Нед 2'!P145+'Сб День 6 Нед 2'!S145","v":{"v":0,"d":"0.0000"}},{"$f":"'Сб День 6 Нед 2'!X145+'Пт День 5 Нед 2'!S145+'Чт День 4 Нед 2'!X145+'Ср День 3 Нед 2'!V145+'Вт День 2 Нед 2'!X145+'Пн 1 день нед 2'!W145","v":{"v":0,"d":"0.0000"}},{"$f":"'Сб День 6 Нед 2'!AB145+'Пт День 5 Нед 2'!W145+'Ср День 3 Нед 2'!#REF!+'Вт День 2 Нед 2'!#REF!+'Пн 1 день нед 2'!AA145","v":{"$error":"#REF!"}},{"$f":"'Сб День 6 Нед 2'!AF145+'Пт День 5 Нед 2'!AA145+'Чт День 4 Нед 2'!AB145+'Ср День 3 Нед 2'!Z145+'Вт День 2 Нед 2'!AB145+'Пн 1 день нед 2'!AE145","v":{"v":0,"d":"0.0000"}},{"v":0,"d":"0.000"}]
[123,"котлеты из мяса кур","шт",{"$f":"'Пн 1 день нед 2'!K146+'Пн 1 день нед 2'!L146+'Вт День 2 Нед 2'!M146+'Ср День 3 Нед 2'!K146+'Чт День 4 Нед 2'!L146+'Чт День 4 Нед 2'!M146+'Пт День 5 Нед 2'!K146+'Сб День 6 Нед 2'!L146","v":{"v":0,"d":"0.0000"}},{"$f":"'Пн 1 день нед 2'!S146+'Пн 1 день нед 2'!T146+'Вт День 2 Нед 2'!T146+'Ср День 3 Нед 2'!R146+'Чт День 4 Нед 2'!T146+'Чт День 4 Нед 2'!U146+'Пт День 5 Нед 2'!P146+'Сб День 6 Нед 2'!S146","v":{"v":0,"d":"0.0000"}},{"$f":"'Сб День 6 Нед 2'!X146+'Пт День 5 Нед 2'!S146+'Чт День 4 Нед 2'!X146+'Ср День 3 Нед 2'!V146+'Вт День 2 Нед 2'!X146+'Пн 1 день нед 2'!W146","v":{"v":0,"d":"0.0000"}},{"$f":"'Сб День 6 Нед 2'!AB146+'Пт День 5 Нед 2'!W146+'Ср День 3 Нед 2'!#REF!+'Вт День 2 Нед 2'!#REF!+'Пн 1 день нед 2'!AA146","v":{"$error":"#REF!"}},{"$f":"'Сб День 6 Нед 2'!AF146+'Пт День 5 Нед 2'!AA146+'Чт День 4 Нед 2'!AB146+'Ср День 3 Нед 2'!Z146+'Вт День 2 Нед 2'!AB146+'Пн 1 день нед 2'!AE146","v":{"v":0,"d":"0.0000"}},{"v":0,"d":"0.000"}]
[124,"котлеты \"Аппетитные\" мясо-куриные  ","шт",{"$f":"'Пн 1 день нед 2'!K147+'Пн 1 день нед 2'!L147+'Вт День 2 Нед 2'!M147+'Ср День 3 Нед 2'!K147+'Чт День 4 Нед 2'!L147+'Чт День 4 Нед 2'!M147+'Пт День 5 Нед 2'!K147+'Сб День 6 Нед 2'!L147","v":{"v":0,"d":"0.0000"}},{"$f":"'Пн 1 день нед 2'!S147+'Пн 1 день нед 2'!T147+'Вт День 2 Нед 2'!T147+'Ср День 3 Нед 2'!R147+'Чт День 4 Нед 2'!T147+'Чт День 4 Нед 2'!U147+'Пт День 5 Нед 2'!P147+'Сб День 6 Нед 2'!S147","v":{"v":0,"d":"0.0000"}},{"$f":"'Сб День 6 Нед 2'!X147+'Пт День 5 Нед 2'!S147+'Чт День 4 Нед 2'!X147+'Ср День 3 Нед 2'!V147+'Вт День 2 Нед 2'!X147+'Пн 1 день нед 2'!W147","v":{"v":0,"d":"0.0000"}},{"$f":"'Сб День 6 Нед 2'!AB147+'Пт День 5 Нед 2'!W147+'Ср День 3 Нед 2'!#REF!+'Вт День 2 Нед 2'!#REF!+'Пн 1 день нед 2'!AA147","v":{"$error":"#REF!"}},{"$f":"'Сб День 6 Нед 2'!AF147+'Пт День 5 Нед 2'!AA147+'Чт День 4 Нед 2'!AB147+'Ср День 3 Нед 2'!Z147+'Вт День 2 Нед 2'!AB147+'Пн 1 день нед 2'!AE147","v":{"v":0,"d":"0.0000"}},{"v":0,"d":"0.000"}]
[125,"ежики мясные с рисом ","шт",{"$f":"'Пн 1 день нед 2'!K148+'Пн 1 день нед 2'!L148+'Вт День 2 Нед 2'!M148+'Ср День 3 Нед 2'!K148+'Чт День 4 Нед 2'!L148+'Чт День 4 Нед 2'!M148+'Пт День 5 Нед 2'!K148+'Сб День 6 Нед 2'!L148","v":{"v":0,"d":"0.0000"}},{"$f":"'Пн 1 день нед 2'!S148+'Пн 1 день нед 2'!T148+'Вт День 2 Нед 2'!T148+'Ср День 3 Нед 2'!R148+'Чт День 4 Нед 2'!T148+'Чт День 4 Нед 2'!U148+'Пт День 5 Нед 2'!P148+'Сб День 6 Нед 2'!S148","v":{"v":0,"d":"0.0000"}},{"$f":"'Сб День 6 Нед 2'!X148+'Пт День 5 Нед 2'!S148+'Чт День 4 Нед 2'!X148+'Ср День 3 Нед 2'!V148+'Вт День 2 Нед 2'!X148+'Пн 1 день нед 2'!W148","v":{"v":0,"d":"0.0000"}},{"$f":"'Сб День 6 Нед 2'!AB148+'Пт День 5 Нед 2'!W148+'Ср День 3 Нед 2'!#REF!+'Вт День 2 Нед 2'!#REF!+'Пн 1 день нед 2'!AA148","v":{"$error":"#REF!"}},{"$f":"'Сб День 6 Нед 2'!AF148+'Пт День 5 Нед 2'!AA148+'Чт День 4 Нед 2'!AB148+'Ср День 3 Нед 2'!Z148+'Вт День 2 Нед 2'!AB148+'Пн 1 день нед 2'!AE148","v":{"v":0,"d":"0.0000"}},{"v":0,"d":"0.000"}]

{"sheet":"Итого за 12 дней","index":14,"n_rows":148,"n_cols":9,"rows_kept":148,"merged":[[0,0,0,7],[1,3,2,3],[1,4,2,4],[1,5,2,5],[1,6,2,6],[1,7,2,7],[1,8,2,8]]}
["Расход продуктов питания в образовательных учереждениях  "]
[{"$nulls":3},"ИТОГО Кол-во учащихся 1 - 4 кл                           69,43  РУБ","ИТОГО Кол-во учащихся               5 - 11 кл                                     69,43  РУБ ","ИТОГО  Кол-во учащихся по меню на          9,60 РУБ","ИТОГО  Кол-во учащихся по меню на     КАШИ на молоке   ","ИТОГО  Кол-во учащихся по меню   СУПА               ","ВСЕГО ЗА 12 ДНЕЙ расход продуктов по всем рационам"]
[null,"ИТОГО ЗА 12 дней"]
[null,"КОЛИЧЕСТВО ДЕТЕЙ",null,{"$f":"'Итого 6 дней 2 нед'!D4+'Итого за 1 нед'!D4","v":16},{"$f":"'Итого 6 дней 2 нед'!E4+'Итого за 1 нед'!E4","v":16},{"$f":"'Итого 6 дней 2 нед'!F4+'Итого за 1 нед'!F4","v":12},{"$f":"'Итого 6 дней 2 нед'!G4+'Итого за 1 нед'!G4","v":{"$error":"#REF!"}},{"$f":"'Итого 6 дней 2 нед'!H4+'Итого за 1 нед'!H4","v":12},{"$f":"H4+F4+E4+D4","v":56}]
[null,"Выход,гр"]
[null,"Хлеб"]
[1,"батон ","кг",{"$f":"'Итого 6 дней 2 нед'!D7+'Итого за 1 нед'!D7","v":{"v":0,"d":"0.0000"}},{"$f":"'Итого 6 дней 2 нед'!E7+'Итого за 1 нед'!E7","v":{"v":0,"d":"0.0000"}},{"$f":"'Итого 6 дней 2 нед'!F7+'Итого за 1 нед'!F7","v":{"v":0,"d":"0.0000"}},{"$f":"'Итого 6 дней 2 нед'!G7+'Итого за 1 нед'!G7","v":{"$error":"#REF!"}},{"$f":"'Итого 6 дней 2 нед'!H7+'Итого за 1 нед'!H7","v":{"v":0,"d":"0.0000"}},{"$f":"D7+E7+F7+H7","v":{"v":0,"d":"0.000"}}]
[2,"хлеб пшеничный ","кг",{"$f":"'Итого 6 дней 2 нед'!D8+'Итого за 1 нед'!D8","v":{"v":0.26709999999999995,"d":"0.2671"}},{"$f":"'Итого 6 дней 2 нед'!E8+'Итого за 1 нед'!E8","v":0.4038},{"$f":"'Итого 6 дней 2 нед'!F8+'Итого за 1 нед'!F8","v":{"v":0,"d":"0.0000"}},{"$f":"'Итого 6 дней 2 нед'!G8+'Итого за 1 нед'!G8","v":{"$error":"#REF!"}},{"$f":"'Итого 6 дней 2 нед'!H8+'Итого за 1 нед'!H8","v":{"v":0,"d":"0.0000"}},{"$f":"D8+E8+F8+H8","v":{"v":0.6708999999999999,"d":"0.671"}}]
[3,"хлеб ржаной","кг",{"$f":"'Итого 6 дней 2 нед'!D9+'Итого за 1 нед'!D9","v":{"v":0.535,"d":"0.5350"}},{"$f":"'Итого 6 дней 2 нед'!E9+'Итого за 1 нед'!E9","v":{"v":0.5850000000000001,"d":"0.5850"}},{"$f":"'Итого 6 дней 2 нед'!F9+'Итого за 1 нед'!F9","v":{"v":0,"d":"0.0000"}},{"$f":"'Итого 6 дней 2 нед'!G9+'Итого за 1 нед'!G9","v":{"$error":"#REF!"}},{"$f":"'Итого 6 дней 2 нед'!H9+'Итого за 1 нед'!H9","v":{"v":0.36,"d":"0.3600"}},{"v":1.48,"d":"1.480"}]
[4,"булоч/выпечка готов с х/ком","кг",{"$f":"'Итого 6 дней 2 нед'!D10+'Итого за 1 нед'!D10","v":{"v":0,"d":"0.0000"}},{"$f":"'Итого 6 дней 2 нед'!E10+'Итого за 1 нед'!E10","v":{"v":0,"d":"0.0000"}},{"$f":"'Итого 6 дней 2 нед'!F10+'Итого за 1 нед'!F10","v":{"v":2,"d":"2.0000"}},{"$f":"'Итого 6 дней 2 нед'!G10+'Итого за 1 нед'!G10","v":{"$error":"#REF!"}},{"$f":"'Итого 6 дней 2 нед'!H10+'Итого за 1 нед'!H10","v":{"v":0,"d":"0.0000"}},{"v":2,"d":"2.000"}]
[null,"Молочка"]
[5,"молоко 2,5%","кг",{"$f":"'Итого 6 дней 2 нед'!D12+'Итого за 1 нед'!D12","v":0.2374},{"$f":"'Итого 6 дней 2 нед'!E12+'Итого за 1 нед'!E12","v":0.2671},{"$f":"'Итого 6 дней 2 нед'!F12+'Итого за 1 нед'!F12","v":{"v":0,"d":"0.0000"}},{"$f":"'Итого 6 дней 2 нед'!G12+'Итого за 1 нед'!G12","v":{"$error":"#REF!"}},{"$f":"'Итого 6 дней 2 нед'!H12+'Итого за 1 нед'!H12","v":{"v":0,"d":"0.0000"}},{"v":0.5045,"d":"0.505"}]
[6,"творог 5%","кг",{"$f":"'Итого 6 дней 2 нед'!D13+'Итого за 1 нед'!D13","v":{"v":0,"d":"0.0000"}},{"$f":"'Итого 6 дней 2 нед'!E13+'Итого за 1 нед'!E13","v":{"v":0,"d":"0.0000"}},{"$f":"'Итого 6 дней 2 нед'!F13+'Итого за 1 нед'!F13","v":{"v":0,"d":"0.0000"}},{"$f":"'Итого 6 дней 2 нед'!G13+'Итого за 1 нед'!G13","v":{"$error":"#REF!"}},{"$f":"'Итого 6 дней 2 нед'!H13+'Итого за 1 нед'!H13","v":{"v":0,"d":"0.0000"}},{"v":0,"d":"0.000"}]
[7,"сметана 15%","кг",{"$f":"'Итого 6 дней 2 нед'!D14+'Итого за 1 нед'!D14","v":{"v":0.033299999999999996,"d":"0.0333"}},{"$f":"'Итого 6 дней 2 нед'!E14+'Итого за 1 нед'!E14","v":0.0233},{"$f":"'Итого 6 дней 2 нед'!F14+'Итого за 1 нед'!F14","v":{"v":0,"d":"0.0000"}},{"$f":"'Итого 6 дней 2 нед'!G14+'Итого за 1 нед'!G14","v":{"$error":"#REF!"}},{"$f":"'Итого 6 дней 2 нед'!H14+'Итого за 1 нед'!H14","v":{"v":0.030000000000000002,"d":"0.0300"}},{"v":0.0866,"d":"0.087"}]
[8,"йогурт фруктов ","кг",{"$f":"'Итого 6 дней 2 нед'!D15+'Итого за 1 нед'!D15","v":{"v":0,"d":"0.0000"}},{"$f":"'Итого 6 дней 2 нед'!E15+'Итого за 1 нед'!E15","v":{"v":0,"d":"0.0000"}},{"$f":"'Итого 6 дней 2 нед'!F15+'Итого за 1 нед'!F15","v":{"v":0,"d":"0.0000"}},{"$f":"'Итого 6 дней 2 нед'!G15+'Итого за 1 нед'!G15","v":{"$error":"#REF!"}},{"$f":"'Итого 6 дней 2 нед'!H15+'Итого за 1 нед'!H15","v":{"v":0,"d":"0.0000"}},{"v":0,"d":"0.000"}]
[9,"катык 2,5%","кг",{"$f":"'Итого 6 дней 2 нед'!D16+'Итого за 1 нед'!D16","v":{"v":0,"d":"0.0000"}},{"$f":"'Итого 6 дней 2 нед'!E16+'Итого за 1 нед'!E16","v":{"v":0,"d":"0.0000"}},{"$f":"'Итого 6 дней 2 нед'!F16+'Итого за 1 нед'!F16","v":{"v":0,"d":"0.0000"}},{"$f":"'Итого 6 дней 2 нед'!G16+'Итого за 1 нед'!G16","v":{"$error":"#REF!"}},{"$f":"'Итого 6 дней 2 нед'!H16+'Итого за 1 нед'!H16","v":{"v":0,"d":"0.0000"}},{"v":0,"d":"0.000"}]
[10,"кефир 2,5%","кг",{"$f":"'Итого 6 дней 2 нед'!D17+'Итого за 1 нед'!D17","v":{"v":0,"d":"0.0000"}},{"$f":"'Итого 6 дней 2 нед'!E17+'Итого за 1 нед'!E17","v":{"v":0,"d":"0.0000"}},{"$f":"'Итого 6 дней 2 нед'!F17+'Итого за 1 нед'!F17","v":{"v":0,"d":"0.0000"}},{"$f":"'Итого 6 дней 2 нед'!G17+'Итого за 1 нед'!G17","v":{"$error":"#REF!"}},{"$f":"'Итого 6 дней 2 нед'!H17+'Итого за 1 нед'!H17","v":{"v":0,"d":"0.0000"}},{"v":0,"d":"0.000"}]
[11,"ряженка 2,5%","кг",{"$f":"'Итого 6 дней 2 нед'!D18+'Итого за 1 нед'!D18","v":{"v":0,"d":"0.0000"}},{"$f":"'Итого 6 дней 2 нед'!E18+'Итого за 1 нед'!E18","v":{"v":0,"d":"0.0000"}},{"$f":"'Итого 6 дней 2 нед'!F18+'Итого за 1 нед'!F18","v":{"v":0,"d":"0.0000"}},{"$f":"'Итого 6 дней 2 нед'!G18+'Итого за 1 нед'!G18","v":{"$error":"#REF!"}},{"$f":"'Итого 6 дней 2 нед'!H18+'Итого за 1 нед'!H18","v":{"v":0,"d":"0.0000"}},{"v":0,"d":"0.000"}]
[12,"напиток ацидофильный ","кг",{"$f":"'Итого 6 дней 2 нед'!D19+'Итого за 1 нед'!D19","v":{"v":0,"d":"0.0000"}},{"$f":"'Итого 6 дней 2 нед'!E19+'Итого за 1 нед'!E19","v":{"v":0,"d":"0.0000"}},{"$f":"'Итого 6 дней 2 нед'!F19+'Итого за 1 нед'!F19","v":{"v":0,"d":"0.0000"}},{"$f":"'Итого 6 дней 2 нед'!G19+'Итого за 1 нед'!G19","v":{"$error":"#REF!"}},{"$f":"'Итого 6 дней 2 нед'!H19+'Итого за 1 нед'!H19","v":{"v":0,"d":"0.0000"}},{"v":0,"d":"0.000"}]
[null,"Масло / сыр "]
[13,"масло растительное","кг",{"$f":"'Итого 6 дней 2 нед'!D21+'Итого за 1 нед'!D21","v":{"v":0.056999999999999995,"d":"0.0570"}},{"$f":"'Итого 6 дней 2 нед'!E21+'Итого за 1 нед'!E21","v":{"v":0.06000000000000001,"d":"0.0600"}},{"$f":"'Итого 6 дней 2 нед'!F21+'Итого за 1 нед'!F21","v":{"v":0,"d":"0.0000"}},{"$f":"'Итого 6 дней 2 нед'!G21+'Итого за 1 нед'!G21","v":{"$error":"#REF!"}},{"$f":"'Итого 6 дней 2 нед'!H21+'Итого за 1 нед'!H21","v":{"v":0.048,"d":"0.0480"}},0.165]
[14,"масло сливочное","кг",{"$f":"'Итого 6 дней 2 нед'!D22+'Итого за 1 нед'!D22","v":{"v":0.046299999999999994,"d":"0.0463"}},{"$f":"'Итого 6 дней 2 нед'!E22+'Итого за 1 нед'!E22","v":{"v":0.044899999999999995,"d":"0.0449"}},{"$f":"'Итого 6 дней 2 нед'!F22+'Итого за 1 нед'!F22","v":{"v":0,"d":"0.0000"}},{"$f":"'Итого 6 дней 2 нед'!G22+'Итого за 1 нед'!G22","v":{"$error":"#REF!"}},{"$f":"'Итого 6 дней 2 нед'!H22+'Итого за 1 нед'!H22","v":{"v":0,"d":"0.0000"}},{"v":0.09119999999999999,"d":"0.091"}]
[15,"сыр голландский","кг",{"$f":"'Итого 6 дней 2 нед'!D23+'Итого за 1 нед'!D23","v":{"v":0.025500000000000002,"d":"0.0255"}},{"$f":"'Итого 6 дней 2 нед'!E23+'Итого за 1 нед'!E23","v":{"v":0,"d":"0.0000"}},{"$f":"'Итого 6 дней 2 нед'!F23+'Итого за 1 нед'!F23","v":{"v":0,"d":"0.0000"}},{"$f":"'Итого 6 дней 2 нед'!G23+'Итого за 1 нед'!G23","v":{"$error":"#REF!"}},{"$f":"'Итого 6 дней 2 нед'!H23+'Итого за 1 нед'!H23","v":{"v":0,"d":"0.0000"}},{"v":0.025500000000000002,"d":"0.026"}]
[null,"Мясо"]
[16,"говядина (котлетное мясо) ","кг",{"$f":"'Итого 6 дней 2 нед'!D25+'Итого за 1 нед'!D25","v":{"v":0.042,"d":"0.0420"}},{"$f":"'Итого 6 дней 2 нед'!E25+'Итого за 1 нед'!E25","v":{"v":0.042,"d":"0.0420"}},{"$f":"'Итого 6 дней 2 нед'!F25+'Итого за 1 нед'!F25","v":{"v":0,"d":"0.0000"}},{"$f":"'Итого 6 дней 2 нед'!G25+'Итого за 1 нед'!G25","v":{"$error":"#REF!"}},{"$f":"'Итого 6 дней 2 нед'!H25+'Итого за 1 нед'!H25","v":{"v":0,"d":"0.0000"}},0.084]
[17,"фарш говяжий","кг",{"$f":"'Итого 6 дней 2 нед'!D26+'Итого за 1 нед'!D26","v":{"v":0.076,"d":"0.0760"}},{"$f":"'Итого 6 дней 2 нед'!E26+'Итого за 1 нед'!E26","v":{"v":0.038,"d":"0.0380"}},{"$f":"'Итого 6 дней 2 нед'!F26+'Итого за 1 нед'!F26","v":{"v":0,"d":"0.0000"}},{"$f":"'Итого 6 дней 2 нед'!G26+'Итого за 1 нед'!G26","v":{"$error":"#REF!"}},{"$f":"'Итого 6 дней 2 нед'!H26+'Итого за 1 нед'!H26","v":{"v":0.04788,"d":"0.0479"}},{"v":0.16188,"d":"0.162"}]
[18,"говядина лопатка б/к","кг",{"$f":"'Итого 6 дней 2 нед'!D27+'Итого за 1 нед'!D27","v":{"v":0,"d":"0.0000"}},{"$f":"'Итого 6 дней 2 нед'!E27+'Итого за 1 нед'!E27","v":{"v":0,"d":"0.0000"}},{"$f":"'Итого 6 дней 2 нед'!F27+'Итого за 1 нед'!F27","v":{"v":0,"d":"0.0000"}},{"$f":"'Итого 6 дней 2 нед'!G27+'Итого за 1 нед'!G27","v":{"$error":"#REF!"}},{"$f":"'Итого 6 дней 2 нед'!H27+'Итого за 1 нед'!H27","v":{"v":0,"d":"0.0000"}},{"v":0,"d":"0.000"}]
[19,"сосиски","кг",{"$f":"'Итого 6 дней 2 нед'!D28+'Итого за 1 нед'!D28","v":{"v":0.209,"d":"0.2090"}},{"$f":"'Итого 6 дней 2 нед'!E28+'Итого за 1 нед'!E28","v":{"v":0.209,"d":"0.2090"}},{"$f":"'Итого 6 дней 2 нед'!F28+'Итого за 1 нед'!F28","v":{"v":0,"d":"0.0000"}},{"$f":"'Итого 6 дней 2 нед'!G28+'Итого за 1 нед'!G28","v":{"$error":"#REF!"}},{"$f":"'Итого 6 дней 2 нед'!H28+'Итого за 1 нед'!H28","v":{"v":0,"d":"0.0000"}},0.418]
[20,"колбаса п/к \"Халяль\"","кг",{"$f":"'Итого 6 дней 2 нед'!D29+'Итого за 1 нед'!D29","v":{"v":0,"d":"0.0000"}},{"$f":"'Итого 6 дней 2 нед'!E29+'Итого за 1 нед'!E29","v":{"v":0,"d":"0.0000"}},{"$f":"'Итого 6 дней 2 нед'!F29+'Итого за 1 нед'!F29","v":{"v":0,"d":"0.0000"}},{"$f":"'Итого 6 дней 2 нед'!G29+'Итого за 1 нед'!G29","v":{"$error":"#REF!"}},{"$f":"'Итого 6 дней 2 нед'!H29+'Итого за 1 нед'!H29","v":{"v":0,"d":"0.0000"}},{"v":0,"d":"0.000"}]
[21,"куриное бедро","кг",{"$f":"'Итого 6 дней 2 нед'!D30+'Итого за 1 нед'!D30","v":{"v":0,"d":"0.0000"}},{"$f":"'Итого 6 дней 2 нед'!E30+'Итого за 1 нед'!E30","v":{"v":0,"d":"0.0000"}},{"$f":"'Итого 6 дней 2 нед'!F30+'Итого за 1 нед'!F30","v":{"v":0,"d":"0.0000"}},{"$f":"'Итого 6 дней 2 нед'!G30+'Итого за 1 нед'!G30","v":{"$error":"#REF!"}},{"$f":"'Итого 6 дней 2 нед'!H30+'Итого за 1 нед'!H30","v":{"v":0,"d":"0.0000"}},{"v":0,"d":"0.000"}]
[22,"куриная грудка","кг",{"$f":"'Итого 6 дней 2 нед'!D31+'Итого за 1 нед'!D31","v":{"v":0.39428,"d":"0.3943"}},{"$f":"'Итого 6 дней 2 нед'!E31+'Итого за 1 нед'!E31","v":{"v":0.39428,"d":"0.3943"}},{"$f":"'Итого 6 дней 2 нед'!F31+'Итого за 1 нед'!F31","v":{"v":0,"d":"0.0000"}},{"$f":"'Итого 6 дней 2 нед'!G31+'Итого за 1 нед'!G31","v":{"$error":"#REF!"}},{"$f":"'Итого 6 дней 2 нед'!H31+'Итого за 1 нед'!H31","v":{"v":0.08516,"d":"0.0852"}},{"v":0.87372,"d":"0.874"}]
[23,"куры/птица потрош","кг",{"$f":"'Итого 6 дней 2 нед'!D32+'Итого за 1 нед'!D32","v":{"v":0,"d":"0.0000"}},{"$f":"'Итого 6 дней 2 нед'!E32+'Итого за 1 нед'!E32","v":{"v":0,"d":"0.0000"}},{"$f":"'Итого 6 дней 2 нед'!F32+'Итого за 1 нед'!F32","v":{"v":0,"d":"0.0000"}},{"$f":"'Итого 6 дней 2 нед'!G32+'Итого за 1 нед'!G32","v":{"$error":"#REF!"}},{"$f":"'Итого 6 дней 2 нед'!H32+'Итого за 1 нед'!H32","v":{"v":0,"d":"0.0000"}},{"v":0,"d":"0.000"}]
[24,"фарш куриный","кг",{"$f":"'Итого 6 дней 2 нед'!D33+'Итого за 1 нед'!D33","v":{"v":0,"d":"0.0000"}},{"$f":"'Итого 6 дней 2 нед'!E33+'Итого за 1 нед'!E33","v":{"v":0,"d":"0.0000"}},{"$f":"'Итого 6 дней 2 нед'!F33+'Итого за 1 нед'!F33","v":{"v":0,"d":"0.0000"}},{"$f":"'Итого 6 дней 2 нед'!G33+'Итого за 1 нед'!G33","v":{"$error":"#REF!"}},{"$f":"'Итого 6 дней 2 нед'!H33+'Итого за 1 нед'!H33","v":{"v":0,"d":"0.0000"}},{"v":0,"d":"0.000"}]
[25,"индейка бедро филе","кг",{"$f":"'Итого 6 дней 2 нед'!D34+'Итого за 1 нед'!D34","v":0.0735},{"$f":"'Итого 6 дней 2 нед'!E34+'Итого за 1 нед'!E34","v":0.0735},{"$f":"'Итого 6 дней 2 нед'!F34+'Итого за 1 нед'!F34","v":{"v":0,"d":"0.0000"}},{"$f":"'Итого 6 дней 2 нед'!G34+'Итого за 1 нед'!G34","v":{"$error":"#REF!"}},{"$f":"'Итого 6 дней 2 нед'!H34+'Итого за 1 нед'!H34","v":{"v":0,"d":"0.0000"}},0.147]
[26,"индейка грудка филе","кг",{"$f":"'Итого 6 дней 2 нед'!D35+'Итого за 1 нед'!D35","v":{"v":0,"d":"0.0000"}},{"$f":"'Итого 6 дней 2 нед'!E35+'Итого за 1 нед'!E35","v":{"v":0,"d":"0.0000"}},{"$f":"'Итого 6 дней 2 нед'!F35+'Итого за 1 нед'!F35","v":{"v":0,"d":"0.0000"}},{"$f":"'Итого 6 дней 2 нед'!G35+'Итого за 1 нед'!G35","v":{"$error":"#REF!"}},{"$f":"'Итого 6 дней 2 нед'!H35+'Итого за 1 нед'!H35","v":{"v":0,"d":"0.0000"}},{"v":0,"d":"0.000"}]
[null,"Рыба"]
[27,"горбуша ПБГ с/м","кг",{"$f":"'Итого 6 дней 2 нед'!D37+'Итого за 1 нед'!D37","v":{"v":0,"d":"0.0000"}},{"$f":"'Итого 6 дней 2 нед'!E37+'Итого за 1 нед'!E37","v":{"v":0,"d":"0.0000"}},{"$f":"'Итого 6 дней 2 нед'!F37+'Итого за 1 нед'!F37","v":{"v":0,"d":"0.0000"}},{"$f":"'Итого 6 дней 2 нед'!G37+'Итого за 1 нед'!G37","v":{"$error":"#REF!"}},{"$f":"'Итого 6 дней 2 нед'!H37+'Итого за 1 нед'!H37","v":{"v":0,"d":"0.0000"}},{"v":0,"d":"0.000"}]
[28,"минтай б/г с/м","кг",{"$f":"'Итого 6 дней 2 нед'!D38+'Итого за 1 нед'!D38","v":{"v":0.15466000000000002,"d":"0.1547"}},{"$f":"'Итого 6 дней 2 нед'!E38+'Итого за 1 нед'!E38","v":0.0776},{"$f":"'Итого 6 дней 2 нед'!F38+'Итого за 1 нед'!F38","v":{"v":0,"d":"0.0000"}},{"$f":"'Итого 6 дней 2 нед'!G38+'Итого за 1 нед'!G38","v":{"$error":"#REF!"}},{"$f":"'Итого 6 дней 2 нед'!H38+'Итого за 1 нед'!H38","v":{"v":0,"d":"0.0000"}},{"v":0.23226000000000002,"d":"0.232"}]
[29,"фарш минтая","кг",{"$f":"'Итого 6 дней 2 нед'!D39+'Итого за 1 нед'!D39","v":{"v":0.11812,"d":"0.1181"}},{"$f":"'Итого 6 дней 2 нед'!E39+'Итого за 1 нед'!E39","v":{"v":0.05906,"d":"0.0591"}},{"$f":"'Итого 6 дней 2 нед'!F39+'Итого за 1 нед'!F39","v":{"v":0,"d":"0.0000"}},{"$f":"'Итого 6 дней 2 нед'!G39+'Итого за 1 нед'!G39","v":{"$error":"#REF!"}},{"$f":"'Итого 6 дней 2 нед'!H39+'Итого за 1 нед'!H39","v":{"v":0,"d":"0.0000"}},{"v":0.17718,"d":"0.177"}]
[null,"Сыпучка"]
[30,"вермишель","кг",{"$f":"'Итого 6 дней 2 нед'!D41+'Итого за 1 нед'!D41","v":{"v":0,"d":"0.0000"}},{"$f":"'Итого 6 дней 2 нед'!E41+'Итого за 1 нед'!E41","v":{"v":0,"d":"0.0000"}},{"$f":"'Итого 6 дней 2 нед'!F41+'Итого за 1 нед'!F41","v":{"v":0,"d":"0.0000"}},{"$f":"'Итого 6 дней 2 нед'!G41+'Итого за 1 нед'!G41","v":{"$error":"#REF!"}},{"$f":"'Итого 6 дней 2 нед'!H41+'Итого за 1 нед'!H41","v":{"v":0.01,"d":"0.0100"}},{"v":0.01,"d":"0.010"}]
[31,"геркулес","кг",{"$f":"'Итого 6 дней 2 нед'!D42+'Итого за 1 нед'!D42","v":{"v":0,"d":"0.0000"}},{"$f":"'Итого 6 дней 2 нед'!E42+'Итого за 1 нед'!E42","v":{"v":0,"d":"0.0000"}},{"$f":"'Итого 6 дней 2 нед'!F42+'Итого за 1 нед'!F42","v":{"v":0,"d":"0.0000"}},{"$f":"'Итого 6 дней 2 нед'!G42+'Итого за 1 нед'!G42","v":{"$error":"#REF!"}},{"$f":"'Итого 6 дней 2 нед'!H42+'Итого за 1 нед'!H42","v":{"v":0,"d":"0.0000"}},{"v":0,"d":"0.000"}]
[32,"горох","кг",{"$f":"'Итого 6 дней 2 нед'!D43+'Итого за 1 нед'!D43","v":{"v":0.092,"d":"0.0920"}},{"$f":"'Итого 6 дней 2 нед'!E43+'Итого за 1 нед'!E43","v":{"v":0.102,"d":"0.1020"}},{"$f":"'Итого 6 дней 2 нед'!F43+'Итого за 1 нед'!F43","v":{"v":0,"d":"0.0000"}},{"$f":"'Итого 6 дней 2 нед'!G43+'Итого за 1 нед'!G43","v":{"$error":"#REF!"}},{"$f":"'Итого 6 дней 2 нед'!H43+'Итого за 1 нед'!H43","v":0.0203},{"v":0.2143,"d":"0.214"}]
[33,"гречневая крупа","кг",{"$f":"'Итого 6 дней 2 нед'!D44+'Итого за 1 нед'!D44","v":{"v":0.288,"d":"0.2880"}},{"$f":"'Итого 6 дней 2 нед'!E44+'Итого за 1 нед'!E44","v":{"v":0.31679999999999997,"d":"0.3168"}},{"$f":"'Итого 6 дней 2 нед'!F44+'Итого за 1 нед'!F44","v":{"v":0,"d":"0.0000"}},{"$f":"'Итого 6 дней 2 нед'!G44+'Итого за 1 нед'!G44","v":{"$error":"#REF!"}},{"$f":"'Итого 6 дней 2 нед'!H44+'Итого за 1 нед'!H44","v":{"v":0,"d":"0.0000"}},{"v":0.6048,"d":"0.605"}]
[34,"кукурузная крупа","кг",{"$f":"'Итого 6 дней 2 нед'!D45+'Итого за 1 нед'!D45","v":{"v":0,"d":"0.0000"}},{"$f":"'Итого 6 дней 2 нед'!E45+'Итого за 1 нед'!E45","v":{"v":0,"d":"0.0000"}},{"$f":"'Итого 6 дней 2 нед'!F45+'Итого за 1 нед'!F45","v":{"v":0,"d":"0.0000"}},{"$f":"'Итого 6 дней 2 нед'!G45+'Итого за 1 нед'!G45","v":{"$error":"#REF!"}},{"$f":"'Итого 6 дней 2 нед'!H45+'Итого за 1 нед'!H45","v":{"v":0,"d":"0.0000"}},{"v":0,"d":"0.000"}]
[35,"макаронные изделия","кг",{"$f":"'Итого 6 дней 2 нед'!D46+'Итого за 1 нед'!D46","v":0.0732},{"$f":"'Итого 6 дней 2 нед'!E46+'Итого за 1 нед'!E46","v":{"v":0.22299999999999998,"d":"0.2230"}},{"$f":"'Итого 6 дней 2 нед'!F46+'Итого за 1 нед'!F46","v":{"v":0,"d":"0.0000"}},{"$f":"'Итого 6 дней 2 нед'!G46+'Итого за 1 нед'!G46","v":{"$error":"#REF!"}},{"$f":"'Итого 6 дней 2 нед'!H46+'Итого за 1 нед'!H46","v":{"v":0,"d":"0.0000"}},{"v":0.29619999999999996,"d":"0.296"}]
[36,"манная крупа","кг",{"$f":"'Итого 6 дней 2 нед'!D47+'Итого за 1 нед'!D47","v":{"v":0,"d":"0.0000"}},{"$f":"'Итого 6 дней 2 нед'!E47+'Итого за 1 нед'!E47","v":{"v":0,"d":"0.0000"}},{"$f":"'Итого 6 дней 2 нед'!F47+'Итого за 1 нед'!F47","v":{"v":0,"d":"0.0000"}},{"$f":"'Итого 6 дней 2 нед'!G47+'Итого за 1 нед'!G47","v":{"$error":"#REF!"}},{"$f":"'Итого 6 дней 2 нед'!H47+'Итого за 1 нед'!H47","v":{"v":0,"d":"0.0000"}},{"v":0,"d":"0.000"}]
[37,"перловая крупа","кг",{"$f":"'Итого 6 дней 2 нед'!D48+'Итого за 1 нед'!D48","v":{"v":0,"d":"0.0000"}},{"$f":"'Итого 6 дней 2 нед'!E48+'Итого за 1 нед'!E48","v":{"v":0,"d":"0.0000"}},{"$f":"'Итого 6 дней 2 нед'!F48+'Итого за 1 нед'!F48","v":{"v":0,"d":"0.0000"}},{"$f":"'Итого 6 дней 2 нед'!G48+'Итого за 1 нед'!G48","v":{"$error":"#REF!"}},{"$f":"'Итого 6 дней 2 нед'!H48+'Итого за 1 нед'!H48","v":{"v":0.005,"d":"0.0050"}},0.005]
[38,"полбяная крупа","кг",{"$f":"'Итого 6 дней 2 нед'!D49+'Итого за 1 нед'!D49","v":{"v":0,"d":"0.0000"}},{"$f":"'Итого 6 дней 2 нед'!E49+'Итого за 1 нед'!E49","v":{"v":0,"d":"0.0000"}},{"$f":"'Итого 6 дней 2 нед'!F49+'Итого за 1 нед'!F49","v":{"v":0,"d":"0.0000"}},{"$f":"'Итого 6 дней 2 нед'!G49+'Итого за 1 нед'!G49","v":{"$error":"#REF!"}},{"$f":"'Итого 6 дней 2 нед'!H49+'Итого за 1 нед'!H49","v":{"v":0,"d":"0.0000"}},{"v":0,"d":"0.000"}]
[39,"пшеничная крупа","кг",{"$f":"'Итого 6 дней 2 нед'!D50+'Итого за 1 нед'!D50","v":{"v":0,"d":"0.0000"}},{"$f":"'Итого 6 дней 2 нед'!E50+'Итого за 1 нед'!E50","v":{"v":0,"d":"0.0000"}},{"$f":"'Итого 6 дней 2 нед'!F50+'Итого за 1 нед'!F50","v":{"v":0,"d":"0.0000"}},{"$f":"'Итого 6 дней 2 нед'!G50+'Итого за 1 нед'!G50","v":{"$error":"#REF!"}},{"$f":"'Итого 6 дней 2 нед'!H50+'Итого за 1 нед'!H50","v":{"v":0,"d":"0.0000"}},{"v":0,"d":"0.000"}]
[40,"пшено","кг",{"$f":"'Итого 6 дней 2 нед'!D51+'Итого за 1 нед'!D51","v":0.0145},{"$f":"'Итого 6 дней 2 нед'!E51+'Итого за 1 нед'!E51","v":{"v":0.01,"d":"0.0100"}},{"$f":"'Итого 6 дней 2 нед'!F51+'Итого за 1 нед'!F51","v":{"v":0,"d":"0.0000"}},{"$f":"'Итого 6 дней 2 нед'!G51+'Итого за 1 нед'!G51","v":{"$error":"#REF!"}},{"$f":"'Итого 6 дней 2 нед'!H51+'Итого за 1 нед'!H51","v":{"v":0.005,"d":"0.0050"}},{"v":0.029500000000000002,"d":"0.030"}]
[41,"рис","кг",{"$f":"'Итого 6 дней 2 нед'!D52+'Итого за 1 нед'!D52","v":0.2006},{"$f":"'Итого 6 дней 2 нед'!E52+'Итого за 1 нед'!E52","v":0.3206},{"$f":"'Итого 6 дней 2 нед'!F52+'Итого за 1 нед'!F52","v":{"v":0,"d":"0.0000"}},{"$f":"'Итого 6 дней 2 нед'!G52+'Итого за 1 нед'!G52","v":{"$error":"#REF!"}},{"$f":"'Итого 6 дней 2 нед'!H52+'Итого за 1 нед'!H52","v":{"v":0.04,"d":"0.0400"}},{"v":0.5612,"d":"0.561"}]
[42,"ячневая крупа","кг",{"$f":"'Итого 6 дней 2 нед'!D53+'Итого за 1 нед'!D53","v":{"v":0,"d":"0.0000"}},{"$f":"'Итого 6 дней 2 нед'!E53+'Итого за 1 нед'!E53","v":{"v":0,"d":"0.0000"}},{"$f":"'Итого 6 дней 2 нед'!F53+'Итого за 1 нед'!F53","v":{"v":0,"d":"0.0000"}},{"$f":"'Итого 6 дней 2 нед'!G53+'Итого за 1 нед'!G53","v":{"$error":"#REF!"}},{"$f":"'Итого 6 дней 2 нед'!H53+'Итого за 1 нед'!H53","v":{"v":0,"d":"0.0000"}},{"v":0,"d":"0.000"}]
[43,"лапша домашняя п/ф","кг",{"$f":"'Итого 6 дней 2 нед'!D54+'Итого за 1 нед'!D54","v":{"v":0,"d":"0.0000"}},{"$f":"'Итого 6 дней 2 нед'!E54+'Итого за 1 нед'!E54","v":{"v":0,"d":"0.0000"}},{"$f":"'Итого 6 дней 2 нед'!F54+'Итого за 1 нед'!F54","v":{"v":0,"d":"0.0000"}},{"$f":"'Итого 6 дней 2 нед'!G54+'Итого за 1 нед'!G54","v":{"$error":"#REF!"}},{"$f":"'Итого 6 дней 2 нед'!H54+'Итого за 1 нед'!H54","v":{"v":0.02,"d":"0.0200"}},{"v":0.02,"d":"0.020"}]
[44,"мука пшеничная в/с","кг",{"$f":"'Итого 6 дней 2 нед'!D55+'Итого за 1 нед'!D55","v":{"v":0.022600000000000002,"d":"0.0226"}},{"$f":"'Итого 6 дней 2 нед'!E55+'Итого за 1 нед'!E55","v":0.0156},{"$f":"'Итого 6 дней 2 нед'!F55+'Итого за 1 нед'!F55","v":{"v":0,"d":"0.0000"}},{"$f":"'Итого 6 дней 2 нед'!G55+'Итого за 1 нед'!G55","v":{"$error":"#REF!"}},{"$f":"'Итого 6 дней 2 нед'!H55+'Итого за 1 нед'!H55","v":{"v":0,"d":"0.0000"}},{"v":0.0382,"d":"0.038"}]
[45,"сахарный песок","кг",{"$f":"'Итого 6 дней 2 нед'!D56+'Итого за 1 нед'!D56","v":{"v":0.16260000000000002,"d":"0.1626"}},{"$f":"'Итого 6 дней 2 нед'!E56+'Итого за 1 нед'!E56","v":0.1623},{"$f":"'Итого 6 дней 2 нед'!F56+'Итого за 1 нед'!F56","v":{"v":0.12000000000000001,"d":"0.1200"}},{"$f":"'Итого 6 дней 2 нед'!G56+'Итого за 1 нед'!G56","v":{"$error":"#REF!"}},{"$f":"'Итого 6 дней 2 нед'!H56+'Итого за 1 нед'!H56","v":{"v":0.111,"d":"0.1110"}},{"v":0.5559000000000001,"d":"0.556"}]
[46,"соль","кг",{"$f":"'Итого 6 дней 2 нед'!D57+'Итого за 1 нед'!D57","v":{"v":0.01805,"d":"0.0181"}},{"$f":"'Итого 6 дней 2 нед'!E57+'Итого за 1 нед'!E57","v":{"v":0.017849999999999998,"d":"0.0179"}},{"$f":"'Итого 6 дней 2 нед'!F57+'Итого за 1 нед'!F57","v":{"v":0,"d":"0.0000"}},{"$f":"'Итого 6 дней 2 нед'!G57+'Итого за 1 нед'!G57","v":{"$error":"#REF!"}},{"$f":"'Итого 6 дней 2 нед'!H57+'Итого за 1 нед'!H57","v":0.0096},{"v":0.0455,"d":"0.046"}]
[47,"сухари панировочные","кг",{"$f":"'Итого 6 дней 2 нед'!D58+'Итого за 1 нед'!D58","v":{"v":0.028499999999999998,"d":"0.0285"}},{"$f":"'Итого 6 дней 2 нед'!E58+'Итого за 1 нед'!E58","v":{"v":0.020999999999999998,"d":"0.0210"}},{"$f":"'Итого 6 дней 2 нед'!F58+'Итого за 1 нед'!F58","v":{"v":0,"d":"0.0000"}},{"$f":"'Итого 6 дней 2 нед'!G58+'Итого за 1 нед'!G58","v":{"$error":"#REF!"}},{"$f":"'Итого 6 дней 2 нед'!H58+'Итого за 1 нед'!H58","v":{"v":0,"d":"0.0000"}},{"v":0.049499999999999995,"d":"0.050"}]
[48,"дрожжи сухие","кг",{"$f":"'Итого 6 дней 2 нед'!D59+'Итого за 1 нед'!D59","v":{"v":0,"d":"0.0000"}},{"$f":"'Итого 6 дней 2 нед'!E59+'Итого за 1 нед'!E59","v":{"v":0,"d":"0.0000"}},{"$f":"'Итого 6 дней 2 нед'!F59+'Итого за 1 нед'!F59","v":{"v":0,"d":"0.0000"}},{"$f":"'Итого 6 дней 2 нед'!G59+'Итого за 1 нед'!G59","v":{"$error":"#REF!"}},{"$f":"'Итого 6 дней 2 нед'!H59+'Итого за 1 нед'!H59","v":{"v":0,"d":"0.0000"}},{"v":0,"d":"0.000"}]
[49,"фасоль","кг",{"$f":"'Итого 6 дней 2 нед'!D60+'Итого за 1 нед'!D60","v":{"v":0,"d":"0.0000"}},{"$f":"'Итого 6 дней 2 нед'!E60+'Итого за 1 нед'!E60","v":{"v":0,"d":"0.0000"}},{"$f":"'Итого 6 дней 2 нед'!F60+'Итого за 1 нед'!F60","v":{"v":0,"d":"0.0000"}},{"$f":"'Итого 6 дней 2 нед'!G60+'Итого за 1 нед'!G60","v":{"$error":"#REF!"}},{"$f":"'Итого 6 дней 2 нед'!H60+'Итого за 1 нед'!H60","v":{"v":0,"d":"0.0000"}},{"v":0,"d":"0.000"}]
[null,"Консервы"]
[50,"зеленый горошек к/с","кг",{"$f":"'Итого 6 дней 2 нед'!D62+'Итого за 1 нед'!D62","v":0.0962},{"$f":"'Итого 6 дней 2 нед'!E62+'Итого за 1 нед'!E62","v":{"v":0.194,"d":"0.1940"}},{"$f":"'Итого 6 дней 2 нед'!F62+'Итого за 1 нед'!F62","v":{"v":0,"d":"0.0000"}},{"$f":"'Итого 6 дней 2 нед'!G62+'Итого за 1 нед'!G62","v":{"$error":"#REF!"}},{"$f":"'Итого 6 дней 2 нед'!H62+'Итого за 1 нед'!H62","v":{"v":0,"d":"0.0000"}},{"v":0.2902,"d":"0.290"}]
[51,"кукуруза к/с","кг",{"$f":"'Итого 6 дней 2 нед'!D63+'Итого за 1 нед'!D63","v":{"v":0,"d":"0.0000"}},{"$f":"'Итого 6 дней 2 нед'!E63+'Итого за 1 нед'!E63","v":{"v":0,"d":"0.0000"}},{"$f":"'Итого 6 дней 2 нед'!F63+'Итого за 1 нед'!F63","v":{"v":0,"d":"0.0000"}},{"$f":"'Итого 6 дней 2 нед'!G63+'Итого за 1 нед'!G63","v":{"$error":"#REF!"}},{"$f":"'Итого 6 дней 2 нед'!H63+'Итого за 1 нед'!H63","v":{"v":0,"d":"0.0000"}},{"v":0,"d":"0.000"}]
[52,"фасоль к/с","кг",{"$f":"'Итого 6 дней 2 нед'!D64+'Итого за 1 нед'!D64","v":{"v":0,"d":"0.0000"}},{"$f":"'Итого 6 дней 2 нед'!E64+'Итого за 1 нед'!E64","v":{"v":0,"d":"0.0000"}},{"$f":"'Итого 6 дней 2 нед'!F64+'Итого за 1 нед'!F64","v":{"v":0,"d":"0.0000"}},{"$f":"'Итого 6 дней 2 нед'!G64+'Итого за 1 нед'!G64","v":{"$error":"#REF!"}},{"$f":"'Итого 6 дней 2 нед'!H64+'Итого за 1 нед'!H64","v":{"v":0,"d":"0.0000"}},{"v":0,"d":"0.000"}]
[53,"икра кабач/икра баклаж","кг",{"$f":"'Итого 6 дней 2 нед'!D65+'Итого за 1 нед'!D65","v":{"v":0,"d":"0.0000"}},{"$f":"'Итого 6 дней 2 нед'!E65+'Итого за 1 нед'!E65","v":{"v":0,"d":"0.0000"}},{"$f":"'Итого 6 дней 2 нед'!F65+'Итого за 1 нед'!F65","v":{"v":0,"d":"0.0000"}},{"$f":"'Итого 6 дней 2 нед'!G65+'Итого за 1 нед'!G65","v":{"$error":"#REF!"}},{"$f":"'Итого 6 дней 2 нед'!H65+'Итого за 1 нед'!H65","v":{"v":0,"d":"0.0000"}},{"v":0,"d":"0.000"}]
[54,"капуста морская сушеная","кг",{"$f":"'Итого 6 дней 2 нед'!D66+'Итого за 1 нед'!D66","v":{"v":0,"d":"0.0000"}},{"$f":"'Итого 6 дней 2 нед'!E66+'Итого за 1 нед'!E66","v":{"v":0,"d":"0.0000"}},{"$f":"'Итого 6 дней 2 нед'!F66+'Итого за 1 нед'!F66","v":{"v":0,"d":"0.0000"}},{"$f":"'Итого 6 дней 2 нед'!G66+'Итого за 1 нед'!G66","v":{"$error":"#REF!"}},{"$f":"'Итого 6 дней 2 нед'!H66+'Итого за 1 нед'!H66","v":{"v":0,"d":"0.0000"}},{"v":0,"d":"0.000"}]
[55,"капуста квашеная ","кг",{"$f":"'Итого 6 дней 2 нед'!D67+'Итого за 1 нед'!D67","v":{"v":0,"d":"0.0000"}},{"$f":"'Итого 6 дней 2 нед'!E67+'Итого за 1 нед'!E67","v":{"v":0,"d":"0.0000"}},{"$f":"'Итого 6 дней 2 нед'!F67+'Итого за 1 нед'!F67","v":{"v":0,"d":"0.0000"}},{"$f":"'Итого 6 дней 2 нед'!G67+'Итого за 1 нед'!G67","v":{"$error":"#REF!"}},{"$f":"'Итого 6 дней 2 нед'!H67+'Итого за 1 нед'!H67","v":{"v":0,"d":"0.0000"}},{"v":0,"d":"0.000"}]
[56,"молоко сгущенное  ","кг",{"$f":"'Итого 6 дней 2 нед'!D68+'Итого за 1 нед'!D68","v":{"v":0,"d":"0.0000"}},{"$f":"'Итого 6 дней 2 нед'!E68+'Итого за 1 нед'!E68","v":{"v":0,"d":"0.0000"}},{"$f":"'Итого 6 дней 2 нед'!F68+'Итого за 1 нед'!F68","v":{"v":0,"d":"0.0000"}},{"$f":"'Итого 6 дней 2 нед'!G68+'Итого за 1 нед'!G68","v":{"$error":"#REF!"}},{"$f":"'Итого 6 дней 2 нед'!H68+'Итого за 1 нед'!H68","v":{"v":0,"d":"0.0000"}},{"v":0,"d":"0.000"}]
[57,"огурцы соленые","кг",{"$f":"'Итого 6 дней 2 нед'!D69+'Итого за 1 нед'!D69","v":{"v":0,"d":"0.0000"}},{"$f":"'Итого 6 дней 2 нед'!E69+'Итого за 1 нед'!E69","v":{"v":0,"d":"0.0000"}},{"$f":"'Итого 6 дней 2 нед'!F69+'Итого за 1 нед'!F69","v":{"v":0,"d":"0.0000"}},{"$f":"'Итого 6 дней 2 нед'!G69+'Итого за 1 нед'!G69","v":{"$error":"#REF!"}},{"$f":"'Итого 6 дней 2 нед'!H69+'Итого за 1 нед'!H69","v":0.0546},{"v":0.0546,"d":"0.055"}]
[58,"повидло","кг",{"$f":"'Итого 6 дней 2 нед'!D70+'Итого за 1 нед'!D70","v":{"v":0,"d":"0.0000"}},{"$f":"'Итого 6 дней 2 нед'!E70+'Итого за 1 нед'!E70","v":{"v":0,"d":"0.0000"}},{"$f":"'Итого 6 дней 2 нед'!F70+'Итого за 1 нед'!F70","v":{"v":0,"d":"0.0000"}},{"$f":"'Итого 6 дней 2 нед'!G70+'Итого за 1 нед'!G70","v":{"$error":"#REF!"}},{"$f":"'Итого 6 дней 2 нед'!H70+'Итого за 1 нед'!H70","v":{"v":0,"d":"0.0000"}},{"v":0,"d":"0.000"}]
[59,"томатная паста","кг",{"$f":"'Итого 6 дней 2 нед'!D71+'Итого за 1 нед'!D71","v":{"v":0.012299999999999998,"d":"0.0123"}},{"$f":"'Итого 6 дней 2 нед'!E71+'Итого за 1 нед'!E71","v":0.0107},{"$f":"'Итого 6 дней 2 нед'!F71+'Итого за 1 нед'!F71","v":{"v":0,"d":"0.0000"}},{"$f":"'Итого 6 дней 2 нед'!G71+'Итого за 1 нед'!G71","v":{"$error":"#REF!"}},{"$f":"'Итого 6 дней 2 нед'!H71+'Итого за 1 нед'!H71","v":0.0105},{"v":0.0335,"d":"0.034"}]
[60,"рыбные консервы","кг",{"$f":"'Итого 6 дней 2 нед'!D72+'Итого за 1 нед'!D72","v":{"v":0,"d":"0.0000"}},{"$f":"'Итого 6 дней 2 нед'!E72+'Итого за 1 нед'!E72","v":{"v":0,"d":"0.0000"}},{"$f":"'Итого 6 дней 2 нед'!F72+'Итого за 1 нед'!F72","v":{"v":0,"d":"0.0000"}},{"$f":"'Итого 6 дней 2 нед'!G72+'Итого за 1 нед'!G72","v":{"$error":"#REF!"}},{"$f":"'Итого 6 дней 2 нед'!H72+'Итого за 1 нед'!H72","v":{"v":0,"d":"0.0000"}},{"$f":"D72+E72+F72+H72","v":{"v":0,"d":"0.000"}}]
[null,"Напитки"]
[61,"чай весовой ","кг",{"$f":"'Итого 6 дней 2 нед'!D74+'Итого за 1 нед'!D74","v":0.0055},{"$f":"'Итого 6 дней 2 нед'!E74+'Итого за 1 нед'!E74","v":{"v":0.006,"d":"0.0060"}},{"$f":"'Итого 6 дней 2 нед'!F74+'Итого за 1 нед'!F74","v":{"v":0.009000000000000001,"d":"0.0090"}},{"$f":"'Итого 6 дней 2 нед'!G74+'Итого за 1 нед'!G74","v":{"$error":"#REF!"}},{"$f":"'Итого 6 дней 2 нед'!H74+'Итого за 1 нед'!H74","v":{"v":0.003,"d":"0.0030"}},{"v":0.0235,"d":"0.024"}]
[62,"какао","кг",{"$f":"'Итого 6 дней 2 нед'!D75+'Итого за 1 нед'!D75","v":{"v":0,"d":"0.0000"}},{"$f":"'Итого 6 дней 2 нед'!E75+'Итого за 1 нед'!E75","v":{"v":0,"d":"0.0000"}},{"$f":"'Итого 6 дней 2 нед'!F75+'Итого за 1 нед'!F75","v":{"v":0,"d":"0.0000"}},{"$f":"'Итого 6 дней 2 нед'!G75+'Итого за 1 нед'!G75","v":{"$error":"#REF!"}},{"$f":"'Итого 6 дней 2 нед'!H75+'Итого за 1 нед'!H75","v":{"v":0,"d":"0.0000"}},{"v":0,"d":"0.000"}]
[63,"кисель","кг",{"$f":"'Итого 6 дней 2 нед'!D76+'Итого за 1 нед'!D76","v":{"v":0,"d":"0.0000"}},{"$f":"'Итого 6 дней 2 нед'!E76+'Итого за 1 нед'!E76","v":{"v":0,"d":"0.0000"}},{"$f":"'Итого 6 дней 2 нед'!F76+'Итого за 1 нед'!F76","v":{"v":0,"d":"0.0000"}},{"$f":"'Итого 6 дней 2 нед'!G76+'Итого за 1 нед'!G76","v":{"$error":"#REF!"}},{"$f":"'Итого 6 дней 2 нед'!H76+'Итого за 1 нед'!H76","v":{"v":0,"d":"0.0000"}},{"v":0,"d":"0.000"}]
[64,"кофейный напиток","кг",{"$f":"'Итого 6 дней 2 нед'!D77+'Итого за 1 нед'!D77","v":{"v":0.005,"d":"0.0050"}},{"$f":"'Итого 6 дней 2 нед'!E77+'Итого за 1 нед'!E77","v":{"v":0.005,"d":"0.0050"}},{"$f":"'Итого 6 дней 2 нед'!F77+'Итого за 1 нед'!F77","v":{"v":0,"d":"0.0000"}},{"$f":"'Итого 6 дней 2 нед'!G77+'Итого за 1 нед'!G77","v":{"$error":"#REF!"}},{"$f":"'Итого 6 дней 2 нед'!H77+'Итого за 1 нед'!H77","v":{"v":0,"d":"0.0000"}},{"v":0.01,"d":"0.010"}]
[65,"цикорий","кг",{"$f":"'Итого 6 дней 2 нед'!D78+'Итого за 1 нед'!D78","v":{"v":0,"d":"0.0000"}},{"$f":"'Итого 6 дней 2 нед'!E78+'Итого за 1 нед'!E78","v":{"v":0,"d":"0.0000"}},{"$f":"'Итого 6 дней 2 нед'!F78+'Итого за 1 нед'!F78","v":{"v":0,"d":"0.0000"}},{"$f":"'Итого 6 дней 2 нед'!G78+'Итого за 1 нед'!G78","v":{"$error":"#REF!"}},{"$f":"'Итого 6 дней 2 нед'!H78+'Итого за 1 нед'!H78","v":{"v":0,"d":"0.0000"}},{"v":0,"d":"0.000"}]
[null,"Сухофрукты"]
[66,"ассорти для компота (сухофрукты)","кг",{"$f":"'Итого 6 дней 2 нед'!D80+'Итого за 1 нед'!D80","v":{"v":0.10200000000000001,"d":"0.1020"}},{"$f":"'Итого 6 дней 2 нед'!E80+'Итого за 1 нед'!E80","v":0.0816},{"$f":"'Итого 6 дней 2 нед'!F80+'Итого за 1 нед'!F80","v":0.0204},{"$f":"'Итого 6 дней 2 нед'!G80+'Итого за 1 нед'!G80","v":{"$error":"#REF!"}},{"$f":"'Итого 6 дней 2 нед'!H80+'Итого за 1 нед'!H80","v":0.0408},{"v":0.24480000000000002,"d":"0.245"}]
[67,"изюм","кг",{"$f":"'Итого 6 дней 2 нед'!D81+'Итого за 1 нед'!D81","v":{"v":0,"d":"0.0000"}},{"$f":"'Итого 6 дней 2 нед'!E81+'Итого за 1 нед'!E81","v":{"v":0,"d":"0.0000"}},{"$f":"'Итого 6 дней 2 нед'!F81+'Итого за 1 нед'!F81","v":{"v":0,"d":"0.0000"}},{"$f":"'Итого 6 дней 2 нед'!G81+'Итого за 1 нед'!G81","v":{"$error":"#REF!"}},{"$f":"'Итого 6 дней 2 нед'!H81+'Итого за 1 нед'!H81","v":0.0204},{"v":0.0204,"d":"0.020"}]
[68,"курага","кг",{"$f":"'Итого 6 дней 2 нед'!D82+'Итого за 1 нед'!D82","v":{"v":0,"d":"0.0000"}},{"$f":"'Итого 6 дней 2 нед'!E82+'Итого за 1 нед'!E82","v":{"v":0,"d":"0.0000"}},{"$f":"'Итого 6 дней 2 нед'!F82+'Итого за 1 нед'!F82","v":{"v":0,"d":"0.0000"}},{"$f":"'Итого 6 дней 2 нед'!G82+'Итого за 1 нед'!G82","v":{"$error":"#REF!"}},{"$f":"'Итого 6 дней 2 нед'!H82+'Итого за 1 нед'!H82","v":{"v":0,"d":"0.0000"}},{"v":0,"d":"0.000"}]
[69,"урюк","кг",{"$f":"'Итого 6 дней 2 нед'!D83+'Итого за 1 нед'!D83","v":{"v":0,"d":"0.0000"}},{"$f":"'Итого 6 дней 2 нед'!E83+'Итого за 1 нед'!E83","v":{"v":0,"d":"0.0000"}},{"$f":"'Итого 6 дней 2 нед'!F83+'Итого за 1 нед'!F83","v":{"v":0,"d":"0.0000"}},{"$f":"'Итого 6 дней 2 нед'!G83+'Итого за 1 нед'!G83","v":{"$error":"#REF!"}},{"$f":"'Итого 6 дней 2 нед'!H83+'Итого за 1 нед'!H83","v":{"v":0.030600000000000002,"d":"0.0306"}},{"v":0.030600000000000002,"d":"0.031"}]
[70,"шиповник","кг",{"$f":"'Итого 6 дней 2 нед'!D84+'Итого за 1 нед'!D84","v":{"v":0.005,"d":"0.0050"}},{"$f":"'Итого 6 дней 2 нед'!E84+'Итого за 1 нед'!E84","v":{"v":0.01,"d":"0.0100"}},{"$f":"'Итого 6 дней 2 нед'!F84+'Итого за 1 нед'!F84","v":{"v":0.005,"d":"0.0050"}},{"$f":"'Итого 6 дней 2 нед'!G84+'Итого за 1 нед'!G84","v":{"$error":"#REF!"}},{"$f":"'Итого 6 дней 2 нед'!H84+'Итого за 1 нед'!H84","v":0.0306},{"v":0.0506,"d":"0.051"}]
[71,"компотная смесь с/м","кг",{"$f":"'Итого 6 дней 2 нед'!D85+'Итого за 1 нед'!D85","v":{"v":0,"d":"0.0000"}},{"$f":"'Итого 6 дней 2 нед'!E85+'Итого за 1 нед'!E85","v":{"v":0,"d":"0.0000"}},{"$f":"'Итого 6 дней 2 нед'!F85+'Итого за 1 нед'!F85","v":{"v":0,"d":"0.0000"}},{"$f":"'Итого 6 дней 2 нед'!G85+'Итого за 1 нед'!G85","v":{"$error":"#REF!"}},{"$f":"'Итого 6 дней 2 нед'!H85+'Итого за 1 нед'!H85","v":{"v":0,"d":"0.0000"}},{"v":0,"d":"0.000"}]
[72,"вишня с/м","кг",{"$f":"'Итого 6 дней 2 нед'!D86+'Итого за 1 нед'!D86","v":{"v":0,"d":"0.0000"}},{"$f":"'Итого 6 дней 2 нед'!E86+'Итого за 1 нед'!E86","v":{"v":0,"d":"0.0000"}},{"$f":"'Итого 6 дней 2 нед'!F86+'Итого за 1 нед'!F86","v":{"v":0,"d":"0.0000"}},{"$f":"'Итого 6 дней 2 нед'!G86+'Итого за 1 нед'!G86","v":{"$error":"#REF!"}},{"$f":"'Итого 6 дней 2 нед'!H86+'Итого за 1 нед'!H86","v":{"v":0,"d":"0.0000"}},{"v":0,"d":"0.000"}]
[73,"клюква с/м","кг",{"$f":"'Итого 6 дней 2 нед'!D87+'Итого за 1 нед'!D87","v":{"v":0,"d":"0.0000"}},{"$f":"'Итого 6 дней 2 нед'!E87+'Итого за 1 нед'!E87","v":{"v":0,"d":"0.0000"}},{"$f":"'Итого 6 дней 2 нед'!F87+'Итого за 1 нед'!F87","v":{"v":0,"d":"0.0000"}},{"$f":"'Итого 6 дней 2 нед'!G87+'Итого за 1 нед'!G87","v":{"$error":"#REF!"}},{"$f":"'Итого 6 дней 2 нед'!H87+'Итого за 1 нед'!H87","v":{"v":0,"d":"0.0000"}},{"v":0,"d":"0.000"}]
[74,"смородина в ассорт с/м","кг",{"$f":"'Итого 6 дней 2 нед'!D88+'Итого за 1 нед'!D88","v":{"v":0,"d":"0.0000"}},{"$f":"'Итого 6 дней 2 нед'!E88+'Итого за 1 нед'!E88","v":{"v":0,"d":"0.0000"}},{"$f":"'Итого 6 дней 2 нед'!F88+'Итого за 1 нед'!F88","v":{"v":0,"d":"0.0000"}},{"$f":"'Итого 6 дней 2 нед'!G88+'Итого за 1 нед'!G88","v":{"$error":"#REF!"}},{"$f":"'Итого 6 дней 2 нед'!H88+'Итого за 1 нед'!H88","v":{"v":0,"d":"0.0000"}},{"v":0,"d":"0.000"}]
[75,"облепиха с/м","кг",{"$f":"'Итого 6 дней 2 нед'!D89+'Итого за 1 нед'!D89","v":{"v":0,"d":"0.0000"}},{"$f":"'Итого 6 дней 2 нед'!E89+'Итого за 1 нед'!E89","v":{"v":0,"d":"0.0000"}},{"$f":"'Итого 6 дней 2 нед'!F89+'Итого за 1 нед'!F89","v":{"v":0,"d":"0.0000"}},{"$f":"'Итого 6 дней 2 нед'!G89+'Итого за 1 нед'!G89","v":{"$error":"#REF!"}},{"$f":"'Итого 6 дней 2 нед'!H89+'Итого за 1 нед'!H89","v":{"v":0,"d":"0.0000"}},{"v":0,"d":"0.000"}]
[null,"Сок"]
[76,"сок 0,125л или сок 0,2л","л",{"$f":"'Итого 6 дней 2 нед'!D91+'Итого за 1 нед'!D91","v":{"v":0,"d":"0.0000"}},{"$f":"'Итого 6 дней 2 нед'!E91+'Итого за 1 нед'!E91","v":{"v":0,"d":"0.0000"}},{"$f":"'Итого 6 дней 2 нед'!F91+'Итого за 1 нед'!F91","v":{"v":0,"d":"0.0000"}},{"$f":"'Итого 6 дней 2 нед'!G91+'Итого за 1 нед'!G91","v":{"$error":"#REF!"}},{"$f":"'Итого 6 дней 2 нед'!H91+'Итого за 1 нед'!H91","v":{"v":0,"d":"0.0000"}},{"v":0,"d":"0.000"}]
[77,"нектар плодовый","л",{"$f":"'Итого 6 дней 2 нед'!D92+'Итого за 1 нед'!D92","v":{"v":0,"d":"0.0000"}},{"$f":"'Итого 6 дней 2 нед'!E92+'Итого за 1 нед'!E92","v":{"v":0,"d":"0.0000"}},{"$f":"'Итого 6 дней 2 нед'!F92+'Итого за 1 нед'!F92","v":{"v":0,"d":"0.0000"}},{"$f":"'Итого 6 дней 2 нед'!G92+'Итого за 1 нед'!G92","v":{"$error":"#REF!"}},{"$f":"'Итого 6 дней 2 нед'!H92+'Итого за 1 нед'!H92","v":{"v":0,"d":"0.0000"}},{"v":0,"d":"0.000"}]
[null,"Кондитерка"]
[78,"шоколад","шт",{"$f":"'Итого 6 дней 2 нед'!D94+'Итого за 1 нед'!D94","v":{"v":0,"d":"0.0000"}},{"$f":"'Итого 6 дней 2 нед'!E94+'Итого за 1 нед'!E94","v":{"v":0,"d":"0.0000"}},{"$f":"'Итого 6 дней 2 нед'!F94+'Итого за 1 нед'!F94","v":{"v":0,"d":"0.0000"}},{"$f":"'Итого 6 дней 2 нед'!G94+'Итого за 1 нед'!G94","v":{"$error":"#REF!"}},{"$f":"'Итого 6 дней 2 нед'!H94+'Итого за 1 нед'!H94","v":{"v":0,"d":"0.0000"}},{"v":0,"d":"0.000"}]
[79,"пряник","кг",{"$f":"'Итого 6 дней 2 нед'!D95+'Итого за 1 нед'!D95","v":{"v":0,"d":"0.0000"}},{"$f":"'Итого 6 дней 2 нед'!E95+'Итого за 1 нед'!E95","v":{"v":0,"d":"0.0000"}},{"$f":"'Итого 6 дней 2 нед'!F95+'Итого за 1 нед'!F95","v":{"v":0.07,"d":"0.0700"}},{"$f":"'Итого 6 дней 2 нед'!G95+'Итого за 1 нед'!G95","v":{"$error":"#REF!"}},{"$f":"'Итого 6 дней 2 нед'!H95+'Итого за 1 нед'!H95","v":{"v":0,"d":"0.0000"}},{"v":0.07,"d":"0.070"}]
[80,"вафли ","кг",{"$f":"'Итого 6 дней 2 нед'!D96+'Итого за 1 нед'!D96","v":{"v":0,"d":"0.0000"}},{"$f":"'Итого 6 дней 2 нед'!E96+'Итого за 1 нед'!E96","v":{"v":0,"d":"0.0000"}},{"$f":"'Итого 6 дней 2 нед'!F96+'Итого за 1 нед'!F96","v":{"v":0.2,"d":"0.2000"}},{"$f":"'Итого 6 дней 2 нед'!G96+'Итого за 1 нед'!G96","v":{"$error":"#REF!"}},{"$f":"'Итого 6 дней 2 нед'!H96+'Итого за 1 нед'!H96","v":{"v":0,"d":"0.0000"}},{"v":0.2,"d":"0.200"}]
[81,"печенье 0,33","кг",{"$f":"'Итого 6 дней 2 нед'!D97+'Итого за 1 нед'!D97","v":{"v":0,"d":"0.0000"}},{"$f":"'Итого 6 дней 2 нед'!E97+'Итого за 1 нед'!E97","v":{"v":0,"d":"0.0000"}},{"$f":"'Итого 6 дней 2 нед'!F97+'Итого за 1 нед'!F97","v":{"v":0.08,"d":"0.0800"}},{"$f":"'Итого 6 дней 2 нед'!G97+'Итого за 1 нед'!G97","v":{"$error":"#REF!"}},{"$f":"'Итого 6 дней 2 нед'!H97+'Итого за 1 нед'!H97","v":{"v":0,"d":"0.0000"}},{"v":0.08,"d":"0.080"}]
[82,"крекер","кг",{"$f":"'Итого 6 дней 2 нед'!D98+'Итого за 1 нед'!D98","v":{"v":0,"d":"0.0000"}},{"$f":"'Итого 6 дней 2 нед'!E98+'Итого за 1 нед'!E98","v":{"v":0,"d":"0.0000"}},{"$f":"'Итого 6 дней 2 нед'!F98+'Итого за 1 нед'!F98","v":{"v":0.06,"d":"0.0600"}},{"$f":"'Итого 6 дней 2 нед'!G98+'Итого за 1 нед'!G98","v":{"$error":"#REF!"}},{"$f":"'Итого 6 дней 2 нед'!H98+'Итого за 1 нед'!H98","v":{"v":0,"d":"0.0000"}},{"v":0.06,"d":"0.060"}]
[83,"сушки","кг",{"$f":"'Итого 6 дней 2 нед'!D99+'Итого за 1 нед'!D99","v":{"v":0,"d":"0.0000"}},{"$f":"'Итого 6 дней 2 нед'!E99+'Итого за 1 нед'!E99","v":{"v":0,"d":"0.0000"}},{"$f":"'Итого 6 дней 2 нед'!F99+'Итого за 1 нед'!F99","v":{"v":0.03,"d":"0.0300"}},{"$f":"'Итого 6 дней 2 нед'!G99+'Итого за 1 нед'!G99","v":{"$error":"#REF!"}},{"$f":"'Итого 6 дней 2 нед'!H99+'Итого за 1 нед'!H99","v":{"v":0,"d":"0.0000"}},{"v":0.03,"d":"0.030"}]
[84,"мармелад","кг",{"$f":"'Итого за 1 нед'!I100+'Итого 6 дней 2 нед'!I100","v":{"v":0.015,"d":"0.0150"}},{"$f":"'Итого 6 дней 2 нед'!E100+'Итого за 1 нед'!E100","v":{"v":0,"d":"0.0000"}},{"$f":"'Итого 6 дней 2 нед'!F100+'Итого за 1 нед'!F100","v":{"v":0,"d":"0.0000"}},{"$f":"'Итого 6 дней 2 нед'!G100+'Итого за 1 нед'!G100","v":{"$error":"#REF!"}},{"$f":"'Итого 6 дней 2 нед'!H100+'Итого за 1 нед'!H100","v":{"v":0.015,"d":"0.0150"}},{"v":0.03,"d":"0.030"}]
[85,"блины п/ф","кг",{"$f":"'Итого 6 дней 2 нед'!D101+'Итого за 1 нед'!D101","v":{"v":0,"d":"0.0000"}},{"$f":"'Итого 6 дней 2 нед'!E101+'Итого за 1 нед'!E101","v":{"v":0,"d":"0.0000"}},{"$f":"'Итого 6 дней 2 нед'!F101+'Итого за 1 нед'!F101","v":{"v":0,"d":"0.0000"}},{"$f":"'Итого 6 дней 2 нед'!G101+'Итого за 1 нед'!G101","v":{"$error":"#REF!"}},{"$f":"'Итого 6 дней 2 нед'!H101+'Итого за 1 нед'!H101","v":{"v":0,"d":"0.0000"}},{"v":0,"d":"0.000"}]
[86,"выпечка п/ф со склада","шт",{"$f":"'Итого 6 дней 2 нед'!D102+'Итого за 1 нед'!D102","v":{"v":0,"d":"0.0000"}},{"$f":"'Итого 6 дней 2 нед'!E102+'Итого за 1 нед'!E102","v":{"v":0,"d":"0.0000"}},{"$f":"'Итого 6 дней 2 нед'!F102+'Итого за 1 нед'!F102","v":{"v":0,"d":"0.0000"}},{"$f":"'Итого 6 дней 2 нед'!G102+'Итого за 1 нед'!G102","v":{"$error":"#REF!"}},{"$f":"'Итого 6 дней 2 нед'!H102+'Итого за 1 нед'!H102","v":{"v":0,"d":"0.0000"}},{"v":0,"d":"0.000"}]
[null,"Яйцо"]
[87,"яйцо куриное","кг",{"$f":"'Итого 6 дней 2 нед'!D104+'Итого за 1 нед'!D104","v":{"v":0,"d":"0.0000"}},{"$f":"'Итого 6 дней 2 нед'!E104+'Итого за 1 нед'!E104","v":{"v":0,"d":"0.0000"}},{"$f":"'Итого 6 дней 2 нед'!F104+'Итого за 1 нед'!F104","v":{"v":0,"d":"0.0000"}},{"$f":"'Итого 6 дней 2 нед'!G104+'Итого за 1 нед'!G104","v":{"$error":"#REF!"}},{"$f":"'Итого 6 дней 2 нед'!H104+'Итого за 1 нед'!H104","v":{"v":0.00768,"d":"0.0077"}},{"v":0.00768,"d":"0.008"}]
[null,0.048,"шт",{"$f":"D104/B105","v":{"v":0,"d":"0.0"}},{"$f":"E104/B105","v":{"v":0,"d":"0.0"}},{"$f":"F104/B105","v":{"v":0,"d":"0.0"}},{"$f":"G104/B105","v":{"$error":"#REF!"}},{"$f":"H104/B105","v":{"v":0.16,"d":"0.2"}},{"v":0.16,"d":"0.160"}]
[null,"Овощи заморозка"]
[88,"зеленый горошек с/м","кг",{"$f":"'Итого 6 дней 2 нед'!D107+'Итого за 1 нед'!D107","v":{"v":0,"d":"0.0000"}},{"$f":"'Итого 6 дней 2 нед'!E107+'Итого за 1 нед'!E107","v":{"v":0,"d":"0.0000"}},{"$f":"'Итого 6 дней 2 нед'!F107+'Итого за 1 нед'!F107","v":{"v":0,"d":"0.0000"}},{"$f":"'Итого 6 дней 2 нед'!G107+'Итого за 1 нед'!G107","v":{"$error":"#REF!"}},{"$f":"'Итого 6 дней 2 нед'!H107+'Итого за 1 нед'!H107","v":{"v":0,"d":"0.0000"}},{"v":0,"d":"0.000"}]
[89,"кабачки с/м","кг",{"$f":"'Итого 6 дней 2 нед'!D108+'Итого за 1 нед'!D108","v":{"v":0,"d":"0.0000"}},{"$f":"'Итого 6 дней 2 нед'!E108+'Итого за 1 нед'!E108","v":{"v":0,"d":"0.0000"}},{"$f":"'Итого 6 дней 2 нед'!F108+'Итого за 1 нед'!F108","v":{"v":0,"d":"0.0000"}},{"$f":"'Итого 6 дней 2 нед'!G108+'Итого за 1 нед'!G108","v":{"$error":"#REF!"}},{"$f":"'Итого 6 дней 2 нед'!H108+'Итого за 1 нед'!H108","v":{"v":0,"d":"0.0000"}},{"v":0,"d":"0.000"}]
[90,"мексиканс смесь с/м","кг",{"$f":"'Итого 6 дней 2 нед'!D109+'Итого за 1 нед'!D109","v":{"v":0,"d":"0.0000"}},{"$f":"'Итого 6 дней 2 нед'!E109+'Итого за 1 нед'!E109","v":{"v":0,"d":"0.0000"}},{"$f":"'Итого 6 дней 2 нед'!F109+'Итого за 1 нед'!F109","v":{"v":0,"d":"0.0000"}},{"$f":"'Итого 6 дней 2 нед'!G109+'Итого за 1 нед'!G109","v":{"$error":"#REF!"}},{"$f":"'Итого 6 дней 2 нед'!H109+'Итого за 1 нед'!H109","v":{"v":0,"d":"0.0000"}},{"v":0,"d":"0.000"}]
[91,"капуста цветная с/м","кг",{"$f":"'Итого 6 дней 2 нед'!D110+'Итого за 1 нед'!D110","v":{"v":0,"d":"0.0000"}},{"$f":"'Итого 6 дней 2 нед'!E110+'Итого за 1 нед'!E110","v":{"v":0,"d":"0.0000"}},{"$f":"'Итого 6 дней 2 нед'!F110+'Итого за 1 нед'!F110","v":{"v":0,"d":"0.0000"}},{"$f":"'Итого 6 дней 2 нед'!G110+'Итого за 1 нед'!G110","v":{"$error":"#REF!"}},{"$f":"'Итого 6 дней 2 нед'!H110+'Итого за 1 нед'!H110","v":{"v":0,"d":"0.0000"}},{"v":0,"d":"0.000"}]
[92,"брокколи с/м","кг",{"$f":"'Итого 6 дней 2 нед'!D111+'Итого за 1 нед'!D111","v":{"v":0,"d":"0.0000"}},{"$f":"'Итого 6 дней 2 нед'!E111+'Итого за 1 нед'!E111","v":{"v":0,"d":"0.0000"}},{"$f":"'Итого 6 дней 2 нед'!F111+'Итого за 1 нед'!F111","v":{"v":0,"d":"0.0000"}},{"$f":"'Итого 6 дней 2 нед'!G111+'Итого за 1 нед'!G111","v":{"$error":"#REF!"}},{"$f":"'Итого 6 дней 2 нед'!H111+'Итого за 1 нед'!H111","v":{"v":0,"d":"0.0000"}},{"v":0,"d":"0.000"}]
[93,"кукуруза с/м","кг",{"$f":"'Итого 6 дней 2 нед'!D112+'Итого за 1 нед'!D112","v":{"v":0,"d":"0.0000"}},{"$f":"'Итого 6 дней 2 нед'!E112+'Итого за 1 нед'!E112","v":{"v":0,"d":"0.0000"}},{"$f":"'Итого 6 дней 2 нед'!F112+'Итого за 1 нед'!F112","v":{"v":0,"d":"0.0000"}},{"$f":"'Итого 6 дней 2 нед'!G112+'Итого за 1 нед'!G112","v":{"$error":"#REF!"}},{"$f":"'Итого 6 дней 2 нед'!H112+'Итого за 1 нед'!H112","v":{"v":0,"d":"0.0000"}},{"v":0,"d":"0.000"}]
[94,"фасоль стручковая с/м","кг",{"$f":"'Итого 6 дней 2 нед'!D113+'Итого за 1 нед'!D113","v":{"v":0,"d":"0.0000"}},{"$f":"'Итого 6 дней 2 нед'!E113+'Итого за 1 нед'!E113","v":{"v":0,"d":"0.0000"}},{"$f":"'Итого 6 дней 2 нед'!F113+'Итого за 1 нед'!F113","v":{"v":0,"d":"0.0000"}},{"$f":"'Итого 6 дней 2 нед'!G113+'Итого за 1 нед'!G113","v":{"$error":"#REF!"}},{"$f":"'Итого 6 дней 2 нед'!H113+'Итого за 1 нед'!H113","v":{"v":0,"d":"0.0000"}},{"v":0,"d":"0.000"}]
[null,"Фрукты"]
[95,"апельсин","кг",{"$f":"'Итого 6 дней 2 нед'!D115+'Итого за 1 нед'!D115","v":{"v":0,"d":"0.0000"}},{"$f":"'Итого 6 дней 2 нед'!E115+'Итого за 1 нед'!E115","v":{"v":0,"d":"0.0000"}},{"$f":"'Итого 6 дней 2 нед'!F115+'Итого за 1 нед'!F115","v":{"v":0.015,"d":"0.0150"}},{"$f":"'Итого 6 дней 2 нед'!G115+'Итого за 1 нед'!G115","v":{"$error":"#REF!"}},{"$f":"'Итого 6 дней 2 нед'!H115+'Итого за 1 нед'!H115","v":{"v":0,"d":"0.0000"}},0.015]
[96,"банан","кг",{"$f":"'Итого 6 дней 2 нед'!D116+'Итого за 1 нед'!D116","v":{"v":0,"d":"0.0000"}},{"$f":"'Итого 6 дней 2 нед'!E116+'Итого за 1 нед'!E116","v":{"v":0,"d":"0.0000"}},{"$f":"'Итого 6 дней 2 нед'!F116+'Итого за 1 нед'!F116","v":{"v":0,"d":"0.0000"}},{"$f":"'Итого 6 дней 2 нед'!G116+'Итого за 1 нед'!G116","v":{"$error":"#REF!"}},{"$f":"'Итого 6 дней 2 нед'!H116+'Итого за 1 нед'!H116","v":{"v":0,"d":"0.0000"}},{"v":0,"d":"0.000"}]
[97,"груши","кг",{"$f":"'Итого 6 дней 2 нед'!D117+'Итого за 1 нед'!D117","v":{"v":0,"d":"0.0000"}},{"$f":"'Итого 6 дней 2 нед'!E117+'Итого за 1 нед'!E117","v":{"v":0,"d":"0.0000"}},{"$f":"'Итого 6 дней 2 нед'!F117+'Итого за 1 нед'!F117","v":{"v":0,"d":"0.0000"}},{"$f":"'Итого 6 дней 2 нед'!G117+'Итого за 1 нед'!G117","v":{"$error":"#REF!"}},{"$f":"'Итого 6 дней 2 нед'!H117+'Итого за 1 нед'!H117","v":{"v":0,"d":"0.0000"}},{"v":0,"d":"0.000"}]
[98,"мандарины","кг",{"$f":"'Итого 6 дней 2 нед'!D118+'Итого за 1 нед'!D118","v":{"v":0,"d":"0.0000"}},{"$f":"'Итого 6 дней 2 нед'!E118+'Итого за 1 нед'!E118","v":{"v":0,"d":"0.0000"}},{"$f":"'Итого 6 дней 2 нед'!F118+'Итого за 1 нед'!F118","v":{"v":0,"d":"0.0000"}},{"$f":"'Итого 6 дней 2 нед'!G118+'Итого за 1 нед'!G118","v":{"$error":"#REF!"}},{"$f":"'Итого 6 дней 2 нед'!H118+'Итого за 1 нед'!H118","v":{"v":0,"d":"0.0000"}},{"v":0,"d":"0.000"}]
[99,"лимон","кг",{"$f":"'Итого 6 дней 2 нед'!D119+'Итого за 1 нед'!D119","v":{"v":0.026799999999999997,"d":"0.0268"}},{"$f":"'Итого 6 дней 2 нед'!E119+'Итого за 1 нед'!E119","v":0.0218},{"$f":"'Итого 6 дней 2 нед'!F119+'Итого за 1 нед'!F119","v":0.0125},{"$f":"'Итого 6 дней 2 нед'!G119+'Итого за 1 нед'!G119","v":{"$error":"#REF!"}},{"$f":"'Итого 6 дней 2 нед'!H119+'Итого за 1 нед'!H119","v":0.0056},{"v":0.0667,"d":"0.067"}]
[100,"яблоки свежие","кг",{"$f":"'Итого 6 дней 2 нед'!D120+'Итого за 1 нед'!D120","v":0.6568},{"$f":"'Итого 6 дней 2 нед'!E120+'Итого за 1 нед'!E120","v":0.5568},{"$f":"'Итого 6 дней 2 нед'!F120+'Итого за 1 нед'!F120","v":{"v":0.091,"d":"0.0910"}},{"$f":"'Итого 6 дней 2 нед'!G120+'Итого за 1 нед'!G120","v":{"$error":"#REF!"}},{"$f":"'Итого 6 дней 2 нед'!H120+'Итого за 1 нед'!H120","v":0.0228},{"v":1.3274,"d":"1.327"}]
[null,"Овощи / зелень "]
[101,"капуста свежая","кг",{"$f":"'Итого 6 дней 2 нед'!D122+'Итого за 1 нед'!D122","v":{"v":0.12755,"d":"0.1276"}},{"$f":"'Итого 6 дней 2 нед'!E122+'Итого за 1 нед'!E122","v":{"v":0.12755,"d":"0.1276"}},{"$f":"'Итого 6 дней 2 нед'!F122+'Итого за 1 нед'!F122","v":{"v":0,"d":"0.0000"}},{"$f":"'Итого 6 дней 2 нед'!G122+'Итого за 1 нед'!G122","v":{"$error":"#REF!"}},{"$f":"'Итого 6 дней 2 нед'!H122+'Итого за 1 нед'!H122","v":{"v":0.175,"d":"0.1750"}},{"v":0.4301,"d":"0.430"}]
[102,"картофель","кг",{"$f":"'Итого 6 дней 2 нед'!D123+'Итого за 1 нед'!D123","v":{"v":0.59736,"d":"0.5974"}},{"$f":"'Итого 6 дней 2 нед'!E123+'Итого за 1 нед'!E123","v":{"v":0.63156,"d":"0.6316"}},{"$f":"'Итого 6 дней 2 нед'!F123+'Итого за 1 нед'!F123","v":{"v":0,"d":"0.0000"}},{"$f":"'Итого 6 дней 2 нед'!G123+'Итого за 1 нед'!G123","v":{"$error":"#REF!"}},{"$f":"'Итого 6 дней 2 нед'!H123+'Итого за 1 нед'!H123","v":{"v":0.45960000000000006,"d":"0.4596"}},{"v":1.68852,"d":"1.689"}]
[103,"лук репчатый","кг",{"$f":"'Итого 6 дней 2 нед'!D124+'Итого за 1 нед'!D124","v":{"v":0.14412,"d":"0.1441"}},{"$f":"'Итого 6 дней 2 нед'!E124+'Итого за 1 нед'!E124","v":{"v":0.11052,"d":"0.1105"}},{"$f":"'Итого 6 дней 2 нед'!F124+'Итого за 1 нед'!F124","v":{"v":0,"d":"0.0000"}},{"$f":"'Итого 6 дней 2 нед'!G124+'Итого за 1 нед'!G124","v":{"$error":"#REF!"}},{"$f":"'Итого 6 дней 2 нед'!H124+'Итого за 1 нед'!H124","v":{"v":0.12888999999999998,"d":"0.1289"}},{"v":0.3835299999999999,"d":"0.384"}]
[104,"морковь","кг",{"$f":"'Итого 6 дней 2 нед'!D125+'Итого за 1 нед'!D125","v":{"v":0.066,"d":"0.0660"}},{"$f":"'Итого 6 дней 2 нед'!E125+'Итого за 1 нед'!E125","v":{"v":0.066,"d":"0.0660"}},{"$f":"'Итого 6 дней 2 нед'!F125+'Итого за 1 нед'!F125","v":{"v":0,"d":"0.0000"}},{"$f":"'Итого 6 дней 2 нед'!G125+'Итого за 1 нед'!G125","v":{"$error":"#REF!"}},{"$f":"'Итого 6 дней 2 нед'!H125+'Итого за 1 нед'!H125","v":0.1365},{"v":0.2685,"d":"0.269"}]
[105,"свекла","кг",{"$f":"'Итого 6 дней 2 нед'!D126+'Итого за 1 нед'!D126","v":{"v":0.146,"d":"0.1460"}},{"$f":"'Итого 6 дней 2 нед'!E126+'Итого за 1 нед'!E126","v":{"v":0.238,"d":"0.2380"}},{"$f":"'Итого 6 дней 2 нед'!F126+'Итого за 1 нед'!F126","v":{"v":0,"d":"0.0000"}},{"$f":"'Итого 6 дней 2 нед'!G126+'Итого за 1 нед'!G126","v":{"$error":"#REF!"}},{"$f":"'Итого 6 дней 2 нед'!H126+'Итого за 1 нед'!H126","v":{"v":0.1,"d":"0.1000"}},0.484]
[106,"огурцы св.","кг",{"$f":"'Итого 6 дней 2 нед'!D127+'Итого за 1 нед'!D127","v":{"v":0,"d":"0.0000"}},{"$f":"'Итого 6 дней 2 нед'!E127+'Итого за 1 нед'!E127","v":{"v":0,"d":"0.0000"}},{"$f":"'Итого 6 дней 2 нед'!F127+'Итого за 1 нед'!F127","v":{"v":0,"d":"0.0000"}},{"$f":"'Итого 6 дней 2 нед'!G127+'Итого за 1 нед'!G127","v":{"$error":"#REF!"}},{"$f":"'Итого 6 дней 2 нед'!H127+'Итого за 1 нед'!H127","v":{"v":0,"d":"0.0000"}},{"v":0,"d":"0.000"}]
[107,"томаты св.","кг",{"$f":"'Итого 6 дней 2 нед'!D128+'Итого за 1 нед'!D128","v":{"v":0,"d":"0.0000"}},{"$f":"'Итого 6 дней 2 нед'!E128+'Итого за 1 нед'!E128","v":{"v":0,"d":"0.0000"}},{"$f":"'Итого 6 дней 2 нед'!F128+'Итого за 1 нед'!F128","v":{"v":0,"d":"0.0000"}},{"$f":"'Итого 6 дней 2 нед'!G128+'Итого за 1 нед'!G128","v":{"$error":"#REF!"}},{"$f":"'Итого 6 дней 2 нед'!H128+'Итого за 1 нед'!H128","v":{"v":0,"d":"0.0000"}},{"v":0,"d":"0.000"}]
[108,"перец болг.красный","кг",{"$f":"'Итого 6 дней 2 нед'!D129+'Итого за 1 нед'!D129","v":{"v":0,"d":"0.0000"}},{"$f":"'Итого 6 дней 2 нед'!E129+'Итого за 1 нед'!E129","v":{"v":0,"d":"0.0000"}},{"$f":"'Итого 6 дней 2 нед'!F129+'Итого за 1 нед'!F129","v":{"v":0,"d":"0.0000"}},{"$f":"'Итого 6 дней 2 нед'!G129+'Итого за 1 нед'!G129","v":{"$error":"#REF!"}},{"$f":"'Итого 6 дней 2 нед'!H129+'Итого за 1 нед'!H129","v":{"v":0,"d":"0.0000"}},{"v":0,"d":"0.000"}]
[109,"тыква","кг",{"$f":"'Итого 6 дней 2 нед'!D130+'Итого за 1 нед'!D130","v":{"v":0,"d":"0.0000"}},{"$f":"'Итого 6 дней 2 нед'!E130+'Итого за 1 нед'!E130","v":{"v":0,"d":"0.0000"}},{"$f":"'Итого 6 дней 2 нед'!F130+'Итого за 1 нед'!F130","v":{"v":0,"d":"0.0000"}},{"$f":"'Итого 6 дней 2 нед'!G130+'Итого за 1 нед'!G130","v":{"$error":"#REF!"}},{"$f":"'Итого 6 дней 2 нед'!H130+'Итого за 1 нед'!H130","v":{"v":0,"d":"0.0000"}},{"v":0,"d":"0.000"}]
[null,"Овощи очищенные "]
[110,"капуста св.очищенная","кг",{"$f":"'Итого 6 дней 2 нед'!D132+'Итого за 1 нед'!D132","v":{"v":0,"d":"0.0000"}},{"$f":"'Итого 6 дней 2 нед'!E132+'Итого за 1 нед'!E132","v":{"v":0,"d":"0.0000"}},{"$f":"'Итого 6 дней 2 нед'!F132+'Итого за 1 нед'!F132","v":{"v":0,"d":"0.0000"}},{"$f":"'Итого 6 дней 2 нед'!G132+'Итого за 1 нед'!G132","v":{"$error":"#REF!"}},{"$f":"'Итого 6 дней 2 нед'!H132+'Итого за 1 нед'!H132","v":{"v":0,"d":"0.0000"}},{"v":0,"d":"0.000"}]
[111,"картофель св. очищенный","кг",{"$f":"'Итого 6 дней 2 нед'!D133+'Итого за 1 нед'!D133","v":{"v":0,"d":"0.0000"}},{"$f":"'Итого 6 дней 2 нед'!E133+'Итого за 1 нед'!E133","v":{"v":0,"d":"0.0000"}},{"$f":"'Итого 6 дней 2 нед'!F133+'Итого за 1 нед'!F133","v":{"v":0,"d":"0.0000"}},{"$f":"'Итого 6 дней 2 нед'!G133+'Итого за 1 нед'!G133","v":{"$error":"#REF!"}},{"$f":"'Итого 6 дней 2 нед'!H133+'Итого за 1 нед'!H133","v":{"v":0,"d":"0.0000"}},{"v":0,"d":"0.000"}]
[112,"лук репчатый св.очищенный","кг",{"$f":"'Итого 6 дней 2 нед'!D134+'Итого за 1 нед'!D134","v":{"v":0,"d":"0.0000"}},{"$f":"'Итого 6 дней 2 нед'!E134+'Итого за 1 нед'!E134","v":{"v":0,"d":"0.0000"}},{"$f":"'Итого 6 дней 2 нед'!F134+'Итого за 1 нед'!F134","v":{"v":0,"d":"0.0000"}},{"$f":"'Итого 6 дней 2 нед'!G134+'Итого за 1 нед'!G134","v":{"$error":"#REF!"}},{"$f":"'Итого 6 дней 2 нед'!H134+'Итого за 1 нед'!H134","v":{"v":0,"d":"0.0000"}},{"v":0,"d":"0.000"}]
[113,"морковь св.очищенная","кг",{"$f":"'Итого 6 дней 2 нед'!D135+'Итого за 1 нед'!D135","v":{"v":0,"d":"0.0000"}},{"$f":"'Итого 6 дней 2 нед'!E135+'Итого за 1 нед'!E135","v":{"v":0,"d":"0.0000"}},{"$f":"'Итого 6 дней 2 нед'!F135+'Итого за 1 нед'!F135","v":{"v":0,"d":"0.0000"}},{"$f":"'Итого 6 дней 2 нед'!G135+'Итого за 1 нед'!G135","v":{"$error":"#REF!"}},{"$f":"'Итого 6 дней 2 нед'!H135+'Итого за 1 нед'!H135","v":{"v":0,"d":"0.0000"}},{"v":0,"d":"0.000"}]
[114,"свекла св.очищенная","кг",{"$f":"'Итого 6 дней 2 нед'!D136+'Итого за 1 нед'!D136","v":{"v":0,"d":"0.0000"}},{"$f":"'Итого 6 дней 2 нед'!E136+'Итого за 1 нед'!E136","v":{"v":0,"d":"0.0000"}},{"$f":"'Итого 6 дней 2 нед'!F136+'Итого за 1 нед'!F136","v":{"v":0,"d":"0.0000"}},{"$f":"'Итого 6 дней 2 нед'!G136+'Итого за 1 нед'!G136","v":{"$error":"#REF!"}},{"$f":"'Итого 6 дней 2 нед'!H136+'Итого за 1 нед'!H136","v":{"v":0,"d":"0.0000"}},{"$f":"D136+E136+F136+H136","v":{"v":0,"d":"0.000"}}]
[null,"Полуфабрикаты",null,{"$f":"'Итого 6 дней 2 нед'!D137+'Итого за 1 нед'!D137","v":{"v":0,"d":"0.0000"}},{"$f":"'Итого 6 дней 2 нед'!E137+'Итого за 1 нед'!E137","v":{"v":0,"d":"0.0000"}}]
[115,"сырники ПФ","шт",{"$f":"'Итого 6 дней 2 нед'!D138+'Итого за 1 нед'!D138","v":{"v":1,"d":"1.0000"}},{"$f":"'Итого 6 дней 2 нед'!E138+'Итого за 1 нед'!E138","v":{"v":1,"d":"1.0000"}},{"$f":"'Итого 6 дней 2 нед'!F138+'Итого за 1 нед'!F138","v":{"v":0,"d":"0.0000"}},{"$f":"'Итого 6 дней 2 нед'!G138+'Итого за 1 нед'!G138","v":{"$error":"#REF!"}},{"$f":"'Итого 6 дней 2 нед'!H138+'Итого за 1 нед'!H138","v":{"v":0,"d":"0.0000"}},{"v":2,"d":"2.000"}]
[116,"пельмени ПФ","кг",{"$f":"'Итого 6 дней 2 нед'!D139+'Итого за 1 нед'!D139","v":{"v":0.138,"d":"0.1380"}},{"$f":"'Итого 6 дней 2 нед'!E139+'Итого за 1 нед'!E139","v":{"v":0.36,"d":"0.3600"}},{"$f":"'Итого 6 дней 2 нед'!F139+'Итого за 1 нед'!F139","v":{"v":0,"d":"0.0000"}},{"$f":"'Итого 6 дней 2 нед'!G139+'Итого за 1 нед'!G139","v":{"$error":"#REF!"}},{"$f":"'Итого 6 дней 2 нед'!H139+'Итого за 1 нед'!H139","v":{"v":0,"d":"0.0000"}},0.498]
[117,"биточки рыбные","шт",{"$f":"'Итого 6 дней 2 нед'!D140+'Итого за 1 нед'!D140","v":{"v":1,"d":"1.0000"}},{"$f":"'Итого 6 дней 2 нед'!E140+'Итого за 1 нед'!E140","v":{"v":2,"d":"2.0000"}},{"$f":"'Итого 6 дней 2 нед'!F140+'Итого за 1 нед'!F140","v":{"v":0,"d":"0.0000"}},{"$f":"'Итого 6 дней 2 нед'!G140+'Итого за 1 нед'!G140","v":{"$error":"#REF!"}},{"$f":"'Итого 6 дней 2 нед'!H140+'Итого за 1 нед'!H140","v":{"v":0,"d":"0.0000"}},{"v":3,"d":"3.000"}]
[118,"фрикадельки мясные ","кг",{"$f":"'Итого 6 дней 2 нед'!D141+'Итого за 1 нед'!D141","v":{"v":0,"d":"0.0000"}},{"$f":"'Итого 6 дней 2 нед'!E141+'Итого за 1 нед'!E141","v":{"v":0,"d":"0.0000"}},{"$f":"'Итого 6 дней 2 нед'!F141+'Итого за 1 нед'!F141","v":{"v":0,"d":"0.0000"}},{"$f":"'Итого 6 дней 2 нед'!G141+'Итого за 1 нед'!G141","v":{"$error":"#REF!"}},{"$f":"'Итого 6 дней 2 нед'!H141+'Итого за 1 нед'!H141","v":{"v":0,"d":"0.0000"}},{"v":0,"d":"0.000"}]
[119,"фрикадельки куриные","кг",{"$f":"'Итого 6 дней 2 нед'!D142+'Итого за 1 нед'!D142","v":{"v":0,"d":"0.0000"}},{"$f":"'Итого 6 дней 2 нед'!E142+'Итого за 1 нед'!E142","v":{"v":0,"d":"0.0000"}},{"$f":"'Итого 6 дней 2 нед'!F142+'Итого за 1 нед'!F142","v":{"v":0,"d":"0.0000"}},{"$f":"'Итого 6 дней 2 нед'!G142+'Итого за 1 нед'!G142","v":{"$error":"#REF!"}},{"$f":"'Итого 6 дней 2 нед'!H142+'Итого за 1 нед'!H142","v":{"v":0,"d":"0.0000"}},{"v":0,"d":"0.000"}]
[120,"хинкали п/ф из говядины","кг",{"$f":"'Итого 6 дней 2 нед'!D143+'Итого за 1 нед'!D143","v":{"v":0,"d":"0.0000"}},{"$f":"'Итого 6 дней 2 нед'!E143+'Итого за 1 нед'!E143","v":{"v":0,"d":"0.0000"}},{"$f":"'Итого 6 дней 2 нед'!F143+'Итого за 1 нед'!F143","v":{"v":0,"d":"0.0000"}},{"$f":"'Итого 6 дней 2 нед'!G143+'Итого за 1 нед'!G143","v":{"$error":"#REF!"}},{"$f":"'Итого 6 дней 2 нед'!H143+'Итого за 1 нед'!H143","v":{"v":0,"d":"0.0000"}},{"v":0,"d":"0.000"}]
[121,"котлеты из говядины \"Домашние\"  ","шт",{"$f":"'Итого 6 дней 2 нед'!D144+'Итого за 1 нед'!D144","v":{"v":1,"d":"1.0000"}},{"$f":"'Итого 6 дней 2 нед'!E144+'Итого за 1 нед'!E144","v":{"v":1,"d":"1.0000"}},{"$f":"'Итого 6 дней 2 нед'!F144+'Итого за 1 нед'!F144","v":{"v":0,"d":"0.0000"}},{"$f":"'Итого 6 дней 2 нед'!G144+'Итого за 1 нед'!G144","v":{"$error":"#REF!"}},{"$f":"'Итого 6 дней 2 нед'!H144+'Итого за 1 нед'!H144","v":{"v":0,"d":"0.0000"}},{"v":2,"d":"2.000"}]
[122,"бифштекс из говядины","шт",{"$f":"'Итого 6 дней 2 нед'!D145+'Итого за 1 нед'!D145","v":{"v":0,"d":"0.0000"}},{"$f":"'Итого 6 дней 2 нед'!E145+'Итого за 1 нед'!E145","v":{"v":0,"d":"0.0000"}},{"$f":"'Итого 6 дней 2 нед'!F145+'Итого за 1 нед'!F145","v":{"v":0,"d":"0.0000"}},{"$f":"'Итого 6 дней 2 нед'!G145+'Итого за 1 нед'!G145","v":{"$error":"#REF!"}},{"$f":"'Итого 6 дней 2 нед'!H145+'Итого за 1 нед'!H145","v":{"v":0,"d":"0.0000"}},{"v":0,"d":"0.000"}]
[123,"котлеты из мяса кур","шт",{"$f":"'Итого 6 дней 2 нед'!D146+'Итого за 1 нед'!D146","v":{"v":0,"d":"0.0000"}},{"$f":"'Итого 6 дней 2 нед'!E146+'Итого за 1 нед'!E146","v":{"v":0,"d":"0.0000"}},{"$f":"'Итого 6 дней 2 нед'!F146+'Итого за 1 нед'!F146","v":{"v":0,"d":"0.0000"}},{"$f":"'Итого 6 дней 2 нед'!G146+'Итого за 1 нед'!G146","v":{"$error":"#REF!"}},{"$f":"'Итого 6 дней 2 нед'!H146+'Итого за 1 нед'!H146","v":{"v":0,"d":"0.0000"}},{"v":0,"d":"0.000"}]
[124,"котлеты \"Аппетитные\" мясо-куриные  ","шт",{"$f":"'Итого 6 дней 2 нед'!D147+'Итого за 1 нед'!D147","v":{"v":0,"d":"0.0000"}},{"$f":"'Итого 6 дней 2 нед'!E147+'Итого за 1 нед'!E147","v":{"v":0,"d":"0.0000"}},{"$f":"'Итого 6 дней 2 нед'!F147+'Итого за 1 нед'!F147","v":{"v":0,"d":"0.0000"}},{"$f":"'Итого 6 дней 2 нед'!G147+'Итого за 1 нед'!G147","v":{"$error":"#REF!"}},{"$f":"'Итого 6 дней 2 нед'!H147+'Итого за 1 нед'!H147","v":{"v":0,"d":"0.0000"}},{"v":0,"d":"0.000"}]
[125,"ежики мясные с рисом ","шт",{"$f":"'Итого 6 дней 2 нед'!D148+'Итого за 1 нед'!D148","v":{"v":0,"d":"0.0000"}},{"$f":"'Итого 6 дней 2 нед'!E148+'Итого за 1 нед'!E148","v":{"v":0,"d":"0.0000"}},{"$f":"'Итого 6 дней 2 нед'!F148+'Итого за 1 нед'!F148","v":{"v":0,"d":"0.0000"}},{"$f":"'Итого 6 дней 2 нед'!G148+'Итого за 1 нед'!G148","v":{"$error":"#REF!"}},{"$f":"'Итого 6 дней 2 нед'!H148+'Итого за 1 нед'!H148","v":{"v":0,"d":"0.0000"}},{"v":0,"d":"0.000"}]